{"text_format":"1","workbook":"xlsx","n_sheets":25,"sheets":["CEV CEVE","Anexo Calculos","Vivienda Objeto","Referencia","R1","R2","R4","R5","R6","R7","Versiones","Resumen","Resultados","CEV-CEVE","Gráfico1","Gráfico2","Gráfico3","Gráfico4","Gráfico5","Gráfico6","Gráfico7","Gráfico8","Gráfico9","CO2eq","Zona"],"not_rendered":{"charts":9,"images":6,"macros":1,"external_links":0,"defined_names":6,"comments":1,"pivot_tables":0},"unopened":[],"bounds":{"document_bytes":16777216,"sheet_cells":100000,"rows_first":2000,"rows_last":500,"rows_between":2000,"halvings":0,"cell_chars":16384,"cell_head_chars":4096},"cells_cut":0,"cells_raw":0,"read":"whole","date_system":"1900"}

{"sheet":"CEV CEVE","index":0,"n_rows":176,"n_cols":18,"rows_kept":176,"cut":false,"hidden":false,"merged":[[19,5,19,7],[19,8,19,9],[32,5,32,7],[32,8,32,9],[6,2,6,3],[8,5,8,7],[10,6,10,14],[6,5,6,7],[20,5,20,7],[20,8,20,9],[36,5,36,7],[36,8,36,9],[175,11,175,13],[27,4,27,14],[28,4,28,14]]}
[null,null,"Sistema de Certificación Térmica de Viviendas de Chile"]
[]
[null,null,"1.- Características de la vivienda"]
[]
[null,null,"1.1.- Datos generales e identificación del proyecto"]
[]
[null,1,"Ubicación del proyecto",null,null,{"$f":"+CONCATENATE(\"Zona \",'CEV-CEVE'!E10)","v":"Zona "}]
[]
[null,2,"Comuna",null,null,{"$f":"+'CEV-CEVE'!E9","v":0}]
[]
[null,3,"Rol vivienda",null,null,{"$f":"+'CEV-CEVE'!E19","v":0}]
[]
[null,null,"1.2.- Datos provenientes del cálculo de la demanda"]
[]
[null,4,"Superficie de la vivienda",null,null,null,null,null,{"$f":"+'CEV-CEVE'!D56","v":0},null,"[m2]"]
[null,5,"Volumen de la vivienda ",null,null,null,null,null,{"$f":"+'CEV-CEVE'!F56","v":0},null,"[m3]"]
[null,6,"Área ventanas",null,null,null,null,null,{"$f":"+SUM('CEV-CEVE'!H169:H177)","v":0},null,"[m2]"]
[null,7,"Potencia referencial del sistema de calefacción",null,null,null,null,null,10,null,"[kW]","Potencia efectiva",null,null," [KW]"]
[]
[null,null,null,null,null,"Edificio Objeto",null,null,"Referencia"]
[null,8,"Demanda de calefacción",null,null,{"$f":"+Resumen!C8","v":0},null,null,{"$f":"+Resumen!C7","v":"Prueba no Oficial"},null,"(kWh/año)"]
[]
[]
[null,null,"2.- Definición de los equipos y sistemas "]
[]
[null,null,"2.1.- Descripción general de los sistemas de calefacción y agua caliente sanitaria"]
[]
[null,9,"Sistema de calefacción",null,"No posee"]
[null,10,"Sistema de agua caliente",null,"Calefont 7 litros tiro forzado"]
[]
[null,null,"2.2.- Demanda de Agua Caliente Sanitaria (ACS)"]
[]
[null,11,"Demanda de ACS",null,null,{"$f":"'Vivienda Objeto'!H23","v":0},null,null,{"$f":"Referencia!G8","v":0},null,"(kWh/año)"]
[]
[null,null,"2.3.- Demanda de iluminación"]
[]
[null,12,"Demanda de iluminación",null,null,{"$f":"+'CEV-CEVE'!G195","v":0},null,null,{"$f":"+F37","v":0},null,"(kWh/año)"]
[]
[null,null,"2.4.- Sistema de calefacción"]
[]
[null,null,"Tipo de energético utilizado en el sistema de calefacción"]
[null,13]
[]
[null,null,"Identificación del equipo principal de calefacción",null,null,null,null,null,null,null,null,null,null,"Por defecto",null,null,"Propuesto"]
[null,14,null,null,null,null,null,null,null,null,null,null,null,{"$f":"'R2'!D4","v":0.45},"(-)",null,0,"(-)"]
[]
[null,15]
[]
[null,null,"Sistema de distribución"]
[null,15,null,null,null,null,null,null,null,null,null,null,null,{"$f":"'R2'!D25","v":1}]
[]
[null,null,"Sistema de control"]
[null,16,null,null,null,null,null,null,null,null,null,null,null,{"$f":"'R2'!D32","v":1}]
[]
[null,17,"Rendimiento del sistema completo",null,null,null,null,null,null,null,null,null,null,{"$f":"IF(Q45=0,N45*N50*N53,Q45*N50*N53)","v":0.45},"(-)"]
[]
[null,null,"2.5.- Sistema de agua caliente sanitaria"]
[]
[]
[null,null,"Tipo de energético a utilizar"]
[null,18]
[]
[null,null,"Rendimiento de generación",null,null,null,null,null,null,null,null,null,null,"Por defecto",null,null,"Propuesto"]
[null,19,null,null,null,null,null,null,null,null,null,null,null,{"$f":"'R2'!D61","v":0.7},"(-)",null,0,"(-)"]
[]
[null,null,"Corrección por distribución"]
[null,20,null,null,null,null,null,null,null,null,null,null,null,{"$f":"'R2'!D73","v":0.9}]
[]
[null,null,"Cálculo de la corrección por estanque de almacenamiento para ACS"]
[null,null,"¿Tiene estanque de almacenamiento?"]
[null,21]
[null,22,"Volumen de estanque de almacenamiento (litros)",null,null,null,null,null,null,null,null,null,null,null," ( l )"]
[null,23,"Espesor de la aislación del estanque (mm)",null,null,null,null,null,null,null,null,null,null,null," ( mm )"]
[null,24,"Conductividad térmica del material de aislación  (W/mK)",null,null,null,null,null,null,null,null,null,null,null," ( W / m K )"]
[null,null,"Ubicación del estanque de almacenamiento",null,null,null,null,null,null,null,null,null,null,null,null,null,"Pérdidas totales"]
[null,25,null,null,null,null,null,null,null,null,null,null,null,null,null,null,{"$f":"'R2'!B220","v":0},"(kWh/año)"]
[]
[null,null,null,null,null,null,null,null,null,null,null,null,null,null,null,null,"Propuesto"]
[null,26,"Corrección por estanque de almacenamiento",null,null,null,null,null,null,null,null,null,null,{"$f":"IF(Q79=\"\",'R2'!B220,IF(Q79=0,'R2'!B220,Q79))","v":0},"(kWh/año)",null,null,"(kWh/año)"]
[]
[null,27,"Rendimiento del sistema completo",null,null,null,null,null,null,null,null,null,null,{"$f":"'R2'!C344","v":{"$error":"#DIV/0!"}},"(-)"]
[]
[null,null,"2.6.-Sistema de iluminación"]
[]
[null,null,"El cálculo se realiza en base a valores por defecto"]
[]
[null,null,"2.7.- Consumo de energía en ventiladores "]
[null,null,null,null,null,null,null,null,null,null,null,null,null,"Por defecto",null,null,"Propuesta"]
[null,28,"Potencia de los ventiladores involucrados en el sistema de ventilación sin incluir recuperador de calor (si existe)",null,null,null,null,null,null,null,null,null,null,{"$f":"'R2'!E269","v":{"$error":"#N/A"}},"(W)",null,0,"(W)"]
[null,null,null,null,null,null,null,null,null,null,null,null,null,"Por defecto",null,null,"Propuesta"]
[null,29,"Potencia de los ventiladores del recuperador de calor (si existe)",null,null,null,null,null,null,null,null,null,null,{"$f":"'R2'!E270","v":{"$error":"#N/A"}},"(W)",null,0,"(W)"]
[]
[null,null,"Resultados",null,null,null,null,null,null,null,null,null,null,"Por defecto",null,null,"Propuesta"]
[null,30,"Consumo de energía en los ventiladores",null,null,null,null,null,null,null,null,null,null,{"$f":"'R2'!B271","v":{"$error":"#N/A"}}," (kWh/año)",null,0," (kWh/año)"]
[]
[null,31,"Valor a usar para el consumo de energia en los ventiladroes",null,null,null,null,null,null,null,null,null,null,{"$f":"'R2'!B273","v":{"$error":"#N/A"}}," (kWh/año)"]
[]
[null,null,"2.8.- Sistemas de captación de energías renovables no convencionales"]
[]
[null,null,null,null,null,null,null,null,null,null,{"$f":"'R1'!D77","v":1}]
[]
[null,null,"Sistema solar para aporte en calefacción y agua caliente sanitaria"]
[]
[null,32,"¿Dispone de un sistema de colectores solares - térmicos?",null,null,null,null,null,null,{"$f":"'R4'!F3","v":3}]
[]
[null,33,"Tipo de colector:"]
[null,34,"Tipo de servicio"]
[]
[null,35,"Superficie total de colectores solares (bruta)",null,null,null,null,8,"(m2)"]
[null,36,"Angulo de inclinación de los colectores",null,null,null,null,2,"(grados)"]
[null,37,"Angulo de azimut de los colectores ",null,null,null,null,2,"(grados)"]
[null,38,"Factor de corrección por obstrucciones ",null,null,null,null,2,"(-)"]
[]
[null,null,"Propiedades del colector",null,null,null,null,"Por defecto",null,"A modificar",null,"A usar"]
[null,39,"Rendimiento óptico del colector",null,null,null,null,{"$f":"'R4'!G3","v":0},null,0,null,{"$f":"IF(J115>0,J115,H115)","v":0}]
[null,40,"Coeficiente de pérdidas térmicas",null,null,null,null,{"$f":"'R4'!H3","v":0},null,0,null,{"$f":"IF(J116>0,J116,H116)","v":0}]
[null,41,"Relación Área Neta / Área Bruta",null,null,null,null,{"$f":"'R4'!I3","v":0},null,0,null,{"$f":"IF(J117>0,J117,H117)","v":0}]
[]
[null,null,"Pérdidas por distribución para circuitos extendidos"]
[null,42,"Calor aportado por el sistema solar antes de la corrección por pérdidas adicionales  en cañerías",null,null,null,null,null,null,null,null,null,null,{"$f":"'R2'!D226","v":{"$error":"#DIV/0!"}},"[kWh/año]"]
[]
[null,43,"Espesor de aislación de las cañerías",null,null,null,null,null,null,null,null,null,null,35," ( mm )"]
[null,44,"Distancia entre la placa mas alejada y el estanque solar",null,null,null,null,null,null,null,null,null,null,4," ( m )"]
[null,45,"Distancia entre el estanque solar y el primer punto de consumo",null,null,null,null,null,null,null,null,null,null,4," ( m )"]
[null,null,null,null,null,null,null,null,null,null,null,null,null,"Por defecto",null,null,"Propuesto"]
[null,46,"Factor de corrección por pérdidas de las cañerías",null,null,null,null,null,null,null,null,null,null,{"$f":"'R2'!B238","v":{"$error":"#DIV/0!"}},null,null,0]
[null,47,"Factor de corrección a usar",null,null,null,null,null,null,null,null,null,null,{"$f":"'R2'!B240","v":{"$error":"#DIV/0!"}}]
[]
[null,null,"Resultados"]
[]
[null,48,"Porcentaje de aporte solar al ACS",null,null,null,null,null,null,null,null,{"$f":"'R4'!B150*N127","v":{"$error":"#DIV/0!"}},"(%)"]
[null,49,"Porcentaje de aporte solar a la calefacción",null,null,null,null,null,null,null,null,{"$f":"'R4'!B151*N127","v":{"$error":"#DIV/0!"}},"(%)"]
[]
[null,null,"Sistema fotovoltaico para aporte de consumo en vivienda"]
[]
[null,50,"¿Dispone de un sistema de paneles fotovoltaicos para generar electricidad?",null,null,null,null,null,null,{"$f":"'R1'!D81","v":1}]
[]
[null,51]
[null,52,"Potencia nominal total de los captadores solares",null,null,null,null,750,"(W)"]
[null,53,"Angulo de inclinación de los paneles",null,null,null,null,60,"(grados)"]
[null,54,"Angulo de azimut de los paneles",null,null,null,null,10,"(grados)"]
[null,55,"Corrección por elementos de sombra",null,null,null,null,1,"(-)"]
[null,null,null,null,null,null,null,"Por defecto",null,"Propuesto"]
[null,56,"Eficiencia nominal de inversor",null,null,null,null,{"$f":"'R5'!I2","v":0.92},"(-)"]
[]
[null,57,"Aporte solar fotovoltaico",null,null,null,null,null,null,null,null,{"$f":"'R5'!I4","v":2028.8599867018033}," (kWh/año)"]
[]
[]
[]
[]
[null,null,"3.- Resultados del consumo de energía de la vivienda "]
[null,null,"Todos los resultados están en energía primaria"]
[null,58,"Aporte de energía solar térmica a la calefacción",null,null,null,null,null,null,{"$f":"'R2'!C302","v":{"$error":"#DIV/0!"}},"(kWh/año)"]
[null,59,"Aporte de energía solar térmica  al agua caliente sanitaria",null,null,null,null,null,null,{"$f":"'R2'!C303","v":{"$error":"#DIV/0!"}},"(kWh/año)"]
[]
[null,null,"Consumos sin incluir fotovoltaicos"]
[null,60,"Consumo de energía primaria en calefacción",null,null,null,null,null,null,{"$f":"'R2'!H302","v":{"$error":"#DIV/0!"}},"(kWh/año)"]
[null,61,"Consumo de energía primaria en agua caliente sanitaria",null,null,null,null,null,null,{"$f":"'R2'!H303","v":{"$error":"#DIV/0!"}},"(kWh/año)"]
[null,62,"Consumo de energía primaria en iluminación",null,null,null,null,null,null,{"$f":"'R2'!H304","v":0},"(kWh/año)"]
[null,63,"Consumo de energía primaria en ventiladores",null,null,null,null,null,null,{"$f":"'R2'!H305","v":{"$error":"#N/A"}},"(kWh/año)"]
[]
[null,64,"Generación de energía primaria en fotovoltaicos",null,null,null,null,null,null,{"$f":"'R2'!H312","v":0},"(kWh/año)"]
[null,65,"Aporte de energía solar fotovoltaica a consumos básicos",null,null,null,null,null,null,{"$f":"'R2'!B324","v":{"$error":"#N/A"}},"(kWh/año)"]
[null,66,"Aporte de energía solar fotovoltaica a consumo de electrodomésticos",null,null,null,null,null,null,{"$f":"'R2'!C326","v":{"$error":"#N/A"}},"(kWh/año)"]
[]
[null,null,"Balance general de energía"]
[null,67,"Total consumo de energía primaria antes de fotovoltaicos",null,null,null,null,null,null,{"$f":"SUM(J157:J160)","v":{"$error":"#DIV/0!"}},"(kWh/año)"]
[null,68,"Aporte de fotovoltaicos a consumos básicos",null,null,null,null,null,null,{"$f":"'R2'!H314","v":{"$error":"#N/A"}},"(kWh/año)"]
[null,69,"Consumos básicos a suplir con energía externa",null,null,null,null,null,null,{"$f":"J167-J168","v":{"$error":"#DIV/0!"}},"(kWh/año)"]
[null,null,"Resumen de consumos finales de referencia y objeto"]
[null,70,"Consumo total de energía primaria ",null,null,null,null,null,null,{"$f":"'R2'!H317","v":{"$error":"#DIV/0!"}},"(kWh/año)"]
[null,71,"Consumo de energía de referencia",null,null,null,null,null,null,{"$f":"'R2'!O308","v":{"$error":"#VALUE!"}},"(kWh/año)"]
[null,72,"Coeficiente energético : C",null,null,null,null,null,null,{"$f":"'R2'!F325","v":{"$error":"#DIV/0!"}},null,null,null,"Ahorro",{"$f":"'R2'!F326","v":{"$error":"#DIV/0!"}}]
[]
[]
[null,73,"Aporte fotovoltaico al consumo de electrodomésticos",null,null,null,null,null,null,{"$f":"'R2'!H315","v":{"$error":"#N/A"}},"(kWh/año)","Porcentaje del consumo medio",null,null,{"$f":"'R2'!K315","v":{"$error":"#N/A"}}]

{"sheet":"Anexo Calculos","index":1,"n_rows":102,"n_cols":15,"rows_kept":102,"cut":false,"hidden":false,"merged":[[11,3,11,16],[5,3,5,16],[6,3,6,16],[7,3,7,16],[8,3,8,16],[10,3,10,16],[12,3,12,16],[14,3,14,16],[15,3,15,16],[16,3,16,16],[17,3,17,16]]}
[]
[null,null,"Procedimientos de cálculo "]
[]
[null,null,"Índice con link a las secciones correspondientes"]
[null,null,"Bombas de calor"]
[null,null,null,"Bomba de calor Aire - Aire con flujo de refrigerante variable"]
[null,null,null,"Bomba de calor Aire - Aire convencional"]
[null,null,null,"Bomba de calor Aire - Agua"]
[null,null,null,"Bomba de calor agua - agua"]
[null,null,"Calderas"]
[null,null,null,"Caldera de Condensación (corrige el valor por defecto debido a temperatura de uso diferente)"]
[null,null,null,"Caldera a leña"]
[null,null,null,"Caldera a pellet"]
[null,null,"Equipos localizados"]
[null,null,null,"Equipo localizado sin evacuación de gases al exterior"]
[null,null,null,"Equipo localizado a gas con evacuación de gases al exterior"]
[null,null,null,"Calefactor localizado a leña"]
[null,null,null,"Calefactor localizado a pellet"]
[]
[]
[]
[]
[null,null,"Bombas de calor"]
[]
[null,null,"Bomba de calor Aire - Aire con flujo de refrigerante variable"]
[null,"A1","COP nominal",null,null,null,null,null,null,null,null,null,null,4.2," ( - )"]
[null,"A2","Temperatura a la cual se tiene el COP nominal",null,null,null,null,null,null,null,null,null,null,7," ( C)"]
[]
[null,"A3","COP nominal a 7 C",null,null,null,null,null,null,null,null,null,null,{"$f":"'R2'!B89","v":4.1937094358462303}]
[null,"A4","SCOP",null,null,null,null,null,null,null,null,null,null,{"$f":"'R2'!B102","v":3.3130304543185223}]
[]
[]
[null,null,"Bomba de calor Aire - Aire convencional"]
[null,"A5","COP nominal",null,null,null,null,null,null,null,null,null,null,2.7," ( - )"]
[null,"A6","Temperatura a la cual se tiene el COP nominal",null,null,null,null,null,null,null,null,null,null,7," ( C)"]
[]
[null,"A7","COP nominal a 7 C",null,null,null,null,null,null,null,null,null,null,{"$f":"'R2'!B110","v":2.6784385695154009}]
[null,"A8","SCOP",null,null,null,null,null,null,null,null,null,null,{"$f":"'R2'!B123","v":2.0088289271365509}]
[]
[]
[null,null,"Bomba de calor Aire - Agua"]
[null,"A9","COP nominal",null,null,null,null,null,null,null,null,null,null,3.8," ( - )"]
[null,"A10","Temperatura a la cual se tiene el COP nominal",null,null,null,null,null,null,null,null,null,null,7," ( C)"]
[null,"A11","Temperatura de suministro del agua (entre 35 a 55 C) ",null,null,null,null,null,null,null,null,null,null,40," ( C)"]
[]
[null,"A12","SCOP",null,null,null,null,null,null,null,null,null,null,{"$f":"'R2'!B146","v":2.0555976331360943}]
[]
[]
[null,null,"Bomba de calor agua - agua"]
[null,"A13","COP nominal",null,null,null,null,null,null,null,null,null,null,6.6," ( - )"]
[null,"A14","Temperatura a la cual se tiene el COP nominal",null,null,null,null,null,null,null,null,null,null,10," ( C )"]
[null,"A15","Temperatura de uso del agua",null,null,null,null,null,null,null,null,null,null,35," ( C )"]
[]
[null,null,"Tipo de bomba de calor"]
[null,"A16"]
[]
[null,null,"Forma de entregar el calor al recinto"]
[null,"A17"]
[]
[null,"A18","Porcentaje del flujo nominal ",null,null,null,null,null,null,null,null,null,null,100," ( % )"]
[]
[null,"A19","SCOP",null,null,null,null,null,null,null,null,null,null,{"$f":"'R2'!B188","v":3.8628045456}]
[]
[]
[null,null,"Calderas"]
[]
[null,null,"Caldera de Condensación (corrige el valor por defecto debido a temperatura de uso diferente)"]
[null,"A20","Temperatura de uso",null,null,null,null,null,null,null,null,null,null,80]
[null,"A21","Rendimiento estacional corregido",null,null,null,null,null,null,null,null,null,null,{"$f":"'CEV CEVE'!$N$45*(1-((N68-40)/300))","v":0.39}]
[]
[]
[null,null,"Caldera a leña"]
[null,"A22","Rendimiento nominal",null,null,null,null,null,null,null,null,null,null,0.75]
[null,"A23","Rendimiento estacional",null,null,null,null,null,null,null,null,null,null,{"$f":"N73*0.84","v":0.63}]
[]
[]
[null,null,"Caldera a pellet"]
[null,"A24","Rendimiento nominal",null,null,null,null,null,null,null,null,null,null,0.75]
[null,"A25","Rendimiento estacional",null,null,null,null,null,null,null,null,null,null,{"$f":"N78*0.87","v":0.65249999999999997}]
[]
[]
[]
[null,null,"Equipos localizados"]
[]
[null,null,"Equipo localizado sin evacuación de gases al exterior"]
[null,"A26","Rendimiento nominal",null,null,null,null,null,null,null,null,null,null,1]
[null,"A27","Rendimiento estacional",null,null,null,null,null,null,null,null,null,null,{"$f":"N86*0.45","v":0.45}]
[]
[]
[null,null,"Equipo localizado a gas con evacuación de gases al exterior"]
[null,"A28","Rendimiento nominal",null,null,null,null,null,null,null,null,null,null,0.75]
[null,"A29","Rendimiento estacional",null,null,null,null,null,null,null,null,null,null,{"$f":"N91*0.87","v":0.65249999999999997}]
[]
[]
[null,null,"Calefactor localizado a leña"]
[null,"A30","Rendimiento nominal",null,null,null,null,null,null,null,null,null,null,0.75]
[null,"A31","Rendimiento estacional",null,null,null,null,null,null,null,null,null,null,{"$f":"N96*0.75","v":0.5625}]
[]
[]
[null,null,"Calefactor localizado a pellet"]
[null,"A32","Rendimiento nominal",null,null,null,null,null,null,null,null,null,null,0.75]
[null,"A33","Rendimiento estacional",null,null,null,null,null,null,null,null,null,null,{"$f":"N101*0.82","v":0.61499999999999999}]

{"sheet":"Vivienda Objeto","index":2,"n_rows":55,"n_cols":15,"rows_kept":55,"cut":false,"hidden":true,"merged":[[1,2,1,3]]}
[null,null,"Sistema de Certificación Termica de Viviendas de Chile"]
[null,null,"Ubicación del proyecto",null,null,{"$f":"'R1'!#REF!","v":{"$error":"#REF!"}}]
[]
[]
[null,null,"Dimensiones de la vivienda"]
[null,null,null,"Area (m²)",null,"Altura (m)",null,"Volumen (m³)"]
[]
[]
[null,null,"Area total (At)",{"$f":"'CEV CEVE'!I15","v":0},null,"Volumen total ",null,{"$f":"'CEV CEVE'!I16","v":0}]
[]
[null,null,"Ventilación"]
[]
[null,null,"Renovaciones por hora (Naire)",null,null,null,null,1,"(ren/hr)"]
[null,null,"Pérdidas especificas por ventilación (Qinf)",null,null,null,null,{"$f":"H13*0.33*H9","v":0},"(W/K)"]
[]
[null,null,"Demanda de calefacción a utilizar en certificación"]
[null,null,"Demanda de calefacción",null,null,null,null,{"$f":"'CEV CEVE'!F21","v":0},"(kWh/año)"]
[]
[null,null,"Demanda ACS"]
[]
[null,null,"Número ocupantes (N)",null,null,null,null,{"$f":"IF(D9<350,7.704*(D9/100)-3.6518*(D9/100)^2+0.99408*(D9/100)^3-0.1122751*(D9/100)^4,8)","v":0}]
[]
[null,null,"Demanda anual ACS",null,null,null,null,{"$f":"'R1'!J31*H21","v":0},"(kWh/año)"]
[null,null,null,null,null,null,null,{"$f":"H23/D9","v":{"$error":"#DIV/0!"}},"(kWh/m2 año)"]
[null,null,null,null,null,null,null,{"$f":"100*H23/Referencia!G8","v":{"$error":"#DIV/0!"}},"% de demanda de referencia"]
[]
[null,null,"Demanda iluminación"]
[]
[null,null,"Av/Apiso",null,null,null,null,{"$f":"'CEV CEVE'!I17/'CEV CEVE'!I15","v":{"$error":"#DIV/0!"}},"[-]"]
[null,null,"Fv",null,null,null,null,{"$f":"0.5*0.65","v":0.32500000000000001},"[-]"]
[null,null,"Ilumn Exterior necesaria",null,null,null,null,{"$f":"300/(H29*H30*0.4)","v":{"$error":"#DIV/0!"}},"[Lux]"]
[null,null,"Horas de iluminación natural al año",null,null,null,null,{"$f":"IF(L32<0,0,L32)","v":{"$error":"#DIV/0!"}},"[h]",null,null,{"$f":"IF(H31>9000,'R1'!J44+'R1'!K44*(H31/1000)+'R1'!L44*(H31/1000)^2+'R1'!M44*(H31/1000)^3+'R1'!N44*(H31/1000)^4,'R1'!J55+'R1'!K55*(H31/1000)+'R1'!L55*(H31/1000)^2+'R1'!M55*(H31/1000)^3+'R1'!N55*(H31/1000)^4)","v":{"$error":"#DIV/0!"}},null,{"$f":"IF(L32<0,0,L32)","v":{"$error":"#DIV/0!"}}]
[]
[null,null,"Demanda Iluminación",null,null,null,null,{"$f":"H35*D9","v":{"$error":"#DIV/0!"}},"(kWh/año)"]
[null,null,null,null,null,null,null,{"$f":"(5475-N32)*0.67/1000","v":{"$error":"#DIV/0!"}},"(kWh/ m2 año)"]
[null,null,null,null,null,null,null,{"$f":"100*H34/Referencia!G17","v":{"$error":"#DIV/0!"}},"% de demanda de referencia"]
[]
[null,null,"Demanda energética (calefacción - Agua caliente sanitaria - iluminación)"]
[]
[null,null,"Demanda vivienda",null,null,null,null,{"$f":"H17+H23+H34","v":{"$error":"#DIV/0!"}},"(kWh/año)"]
[null,null,null,null,null,null,null,{"$f":"H40/D9","v":{"$error":"#DIV/0!"}},"(kWh/ m2 año)"]
[]
[]
[]
[null,null,"Sistema de iluminación"]
[]
[]
[null,null,"Generación de CO2 equivalente"]
[null,null,null,null,null,null,null,null,null,"Factor",null,null,null,"total"]
[null,null,"Generación por la calefacción",null,null,null,null,null,null,{"$f":"'R2'!F37","v":0.22800000000000001},null,"kgCO2/kWh",null,{"$f":"#REF!*J50","v":{"$error":"#REF!"}},"kgCO2/ año"]
[null,null,"Generación por agua caliente sanitaria",null,null,null,null,null,null,{"$f":"'R2'!F50","v":0.22800000000000001},null,null,null,{"$f":"J51*#REF!","v":{"$error":"#REF!"}},"kgCO2/ año"]
[null,null,"Genración por iluminación",null,null,null,null,null,null,{"$f":"'R2'!E37","v":0.307},null,null,null,{"$f":"J52*#REF!","v":{"$error":"#REF!"}},"kgCO2/ año"]
[]
[null,null,null,null,null,null,null,null,null,"% Ref",null,"kgCO2/m2año",null,"kgCO2/año"]
[null,null,"Total",null,null,null,null,null,null,{"$f":"100*N55/Referencia!M51","v":{"$error":"#REF!"}},null,{"$f":"N55/D9","v":{"$error":"#REF!"}},null,{"$f":"N50+N51+N52","v":{"$error":"#REF!"}}]

{"sheet":"Referencia","index":3,"n_rows":51,"n_cols":14,"rows_kept":51,"cut":false,"hidden":true,"merged":[]}
[]
[null,"Edificio de referencia"]
[]
[null,"Area total (At)",{"$f":"'Vivienda Objeto'!D9","v":0},null,"Volumen total ",null,{"$f":"'Vivienda Objeto'!H9","v":0}]
[null,"Pérdidas especificas por ventilación (Qinf)",null,null,null,null,{"$f":"'Vivienda Objeto'!H14","v":0},"(W/K)"]
[]
[null,"Demanda ACS"]
[null,"Demanda anual por zona",null,null,null,null,{"$f":"'Vivienda Objeto'!H23","v":0},"(kWh/año)"]
[null,"Demanda ACS",null,null,null,null,{"$f":"G8/C4","v":{"$error":"#DIV/0!"}},"(kWh/m2 año)"]
[]
[null,"Demanda iluminación"]
[null,"Av/Apiso",null,null,null,null,{"$f":"'Vivienda Objeto'!H29","v":{"$error":"#DIV/0!"}},"[-]"]
[null,"Fv",null,null,null,null,{"$f":"'Vivienda Objeto'!H30","v":0.32500000000000001},"[-]"]
[null,"Ilumn Exterior necesaria",null,null,null,null,{"$f":"300/(G12*G13*0.4)","v":{"$error":"#DIV/0!"}},"[Lux]"]
[null,"Horas de iluminación natural al año",null,null,null,null,{"$f":"K15","v":{"$error":"#DIV/0!"}},"[h]",{"$f":"IF(G14>9000,'R1'!J44+'R1'!K44*(G14/1000)+'R1'!L44*(G14/1000)^2+'R1'!M44*(G14/1000)^3+'R1'!N44*(G14/1000)^4,'R1'!J55+'R1'!K55*(G14/1000)+'R1'!L55*(G14/1000)^2+'R1'!M55*(G14/1000)^3+'R1'!N55*(G14/1000)^4)","v":{"$error":"#DIV/0!"}},null,{"$f":"IF(I15<0,0,I15)","v":{"$error":"#DIV/0!"}}]
[]
[null,"Demanda Iluminación",null,null,null,null,{"$f":"G18*C4","v":{"$error":"#DIV/0!"}},"(kWh/año)"]
[null,null,null,null,null,null,{"$f":"(5475-G15)*0.67/1000","v":{"$error":"#DIV/0!"}},"(kWh/ m2 año)"]
[]
[null,"Consumo Energético"]
[]
[null,"Sistema de calefacción"]
[null,"Rendimiento global",null,null,null,null,null,null,null,null,null,null,{"$f":"'R2'!$B$4*'R2'!$B$29*'R2'!$B$34","v":0.36000000000000004}]
[]
[null,"Sistema de agua caliente sanitaria"]
[null,"Rendimiento del sistema completo",null,null,null,null,null,null,null,null,null,null,{"$f":"'R2'!B61","v":0.7},"[-]"]
[]
[null,"Consumo total de energía en la vivienda"]
[null,null,null,null,null,null,null,null,null,null,"kWh/m2 año",null,"kWh/año"]
[null,"Consumo de energía en calefacción",null,null,null,null,null,null,null,null,{"$f":"M30/'CEV CEVE'!I15","v":{"$error":"#VALUE!"}},null,{"$f":"'CEV CEVE'!I21","v":"Prueba no Oficial"}]
[null,"Consumo de energia en agua caliente sanitaria",null,null,null,null,null,null,null,null,{"$f":"M31/C4","v":{"$error":"#DIV/0!"}},null,{"$f":"G8/M26","v":0}]
[null,"Consumo de energía en iluminación",null,null,null,null,null,null,null,null,{"$f":"M32/C4","v":{"$error":"#DIV/0!"}},null,{"$f":"G17","v":{"$error":"#DIV/0!"}}]
[]
[null,"Consumo total de energía",null,null,null,null,null,null,null,null,{"$f":"K30+K31+K32","v":{"$error":"#VALUE!"}},null,{"$f":"M30+M31+M32","v":{"$error":"#VALUE!"}}]
[]
[null,"Consumo de energía primaria"]
[null,null,null,null,null,null,null,null,null,null,"kWh/m2 año",null,"kWh/año"]
[null,"Consumo de energía en calefacción",null,null,null,null,null,null,null,null,{"$f":"M38/C4","v":{"$error":"#VALUE!"}},null,{"$f":"M30*'R2'!B53","v":{"$error":"#VALUE!"}}]
[null,"Consumo de energia en agua caliente sanitaria",null,null,null,null,null,null,null,null,{"$f":"M39/C4","v":{"$error":"#DIV/0!"}},null,{"$f":"M31*'R2'!B53","v":0}]
[null,"Consumo de energía en iluminación",null,null,null,null,null,null,null,null,{"$f":"M40/C4","v":{"$error":"#DIV/0!"}},null,{"$f":"M32*'R2'!B37","v":{"$error":"#DIV/0!"}}]
[]
[null,"Consumo total de energía",null,null,null,null,null,null,null,null,{"$f":"K38+K39+K40","v":{"$error":"#VALUE!"}},null,{"$f":"M38+M39+M40","v":{"$error":"#VALUE!"}}]
[]
[null,"Generación de CO2 equivalente"]
[]
[null,null,null,null,null,null,null,null,"Factor",null,null,null,"total"]
[null,"Generación por la calefacción",null,null,null,null,null,null,{"$f":"'R2'!E41","v":0.26},null,"kgCO2/kWh",null,{"$f":"M38*I47","v":{"$error":"#VALUE!"}},"kgCO2/ año"]
[" ","Generación por agua caliente sanitaria",null,null,null,null,null,null,{"$f":"'R2'!E53","v":0.22800000000000001},null,null,null,{"$f":"I48*M39","v":0},"kgCO2/ año"]
[null,"Genración por iluminación",null,null,null,null,null,null,{"$f":"'R2'!E50","v":0.307},null,null,null,{"$f":"I49*M40","v":{"$error":"#DIV/0!"}},"kgCO2/ año"]
[]
[null,"Total",null,null,null,null,null,null,null,null,null,null,{"$f":"M47+M48+M49","v":{"$error":"#VALUE!"}},"kgCO2/ año"]

{"sheet":"R1","index":4,"n_rows":84,"n_cols":18,"rows_kept":84,"cut":false,"hidden":true,"merged":[]}
["Radiación solar","N","NE / NO","E / O","SE / SO","S","Techo","Ref","Zona Numero","Zona num","N","NE / NO","E / O","SE / SO","S","Techo","Ref","Indice clima"]
["Zona A",108,94,72,48,44,121,{"$f":"(B2+2*C2+2*D2+2*E2+F2)/8","v":72.5},1,{"$f":"IF(J3=\"Zona A\",1,IF(J3=\"Zona B\",2,IF(J3=\"Zona C\",3,IF(J3=\"Zona D\",4,IF(J3=\"Zona E\",5,IF(J3=\"Zona F\",6,IF(J3=\"Zona G\",7,IF(J3=\"Zona H\",8,IF(J3=\"Zona I\",9,10)))))))))","v":10},{"$f":"CHOOSE(J2,B2,B3,B4,B5,B6,B7,B8,B9,B10,B11)","v":156.4},{"$f":"CHOOSE(J2,C2,C3,C4,C5,C6,C7,C8,C9,C10,C11)","v":135.1},{"$f":"CHOOSE(J2,D2,D3,D4,D5,D6,D7,D8,D9,D10,D11)","v":96.3},{"$f":"CHOOSE(J2,E2,E3,E4,E5,E6,E7,E8,E9,E10,E11)","v":62.4},{"$f":"CHOOSE(J2,F2,F3,F4,F5,F6,F7,F8,F9,F10,F11)","v":56},{"$f":"CHOOSE(J2,G2,G3,G4,G5,G6,G7,G8,G9,G10,G11)","v":157.6},{"$f":"CHOOSE(J2,H2,H3,H4,H5,H6,H7,H8,H9,H10,H11)","v":100},{"$f":"IF(K5=1,10,K6)","v":10}]
["Zona B",160,135,94,50,40,154,{"$f":"(B3+2*C3+2*D3+2*E3+F3)/8","v":94.75},2,{"$f":"'CEV CEVE'!F7","v":"Zona "}]
["Zona C",97.098245442934143,83.926489718372551,59.814097380796397,38.730719012878517,34.767028428814967,97.304576987172027,{"$f":"(B4+2*C4+2*D4+2*E4+F4)/8","v":62.100985761980503},3]
["Zona D",91.120877881564851,80.601524024590972,60.981344207490658,42.010515487850533,36.740909737150353,106.35875673371312,61.881069382322437,4,null,{"$f":"IF('R6'!P2=19,1,0)","v":0},"Calama? (1/0)"]
["Zona E",110.06648414794161,95.477780055626567,68.659609644709306,43.517353752191504,37.274738958369177,116.32091506524714,70.331338751420702,5,null,{"$f":"J2","v":10}]
["Zona F",88.34665501784265,79.898198342007461,62.498013328308986,44.10436172994666,37.484124230528863,107.30492187499999,{"$f":"(B7+2*C7+2*D7+2*E7+F7)/8","v":62.353990756112225},6]
["Zona G",73,68,55,41,34,86,{"$f":"(B8+2*C8+2*D8+2*E8+F8)/8","v":54.375},7]
["Zona H",123,117,97,64,47,153,{"$f":"(B9+2*C9+2*D9+2*E9+F9)/8","v":90.75},8]
["Zona I",102.88521108817783,95.94243612758919,74.577612038116257,51.411903275858343,40.466287270886177,115.51063183867508,{"$f":"(B10+2*C10+2*D10+2*E10+F10)/8","v":73.401925155273943},9]
["Calama",156.4,135.1,96.3,62.4,56,157.6,{"$f":"(B11+2*C11+2*D11+2*E11+F11)/8","v":100},2]
[]
[]
["Grados dia","a","b","c","d",null,"TEC",null,null,{"$f":"CHOOSE(J2,B15,B16,B17,B18,B19,B20,B21,B22,B23,B24)","v":-43.7},{"$f":"CHOOSE(J2,C15,C16,C17,C18,C19,C20,C21,C22,C23,C24)","v":9.3460000000000001},{"$f":"CHOOSE(J2,D15,D16,D17,D18,D19,D20,D21,D22,D23,D24)","v":-8.4136000000000002E-2},{"$f":"CHOOSE(J2,E15,E16,E17,E18,E19,E20,E21,E22,E23,E24)","v":-2.60247E-3},null,{"$f":"CHOOSE(J2,G15,G16,G17,G18,G19,G20,G21,G22,G23,G24)","v":1}]
["Zona A",305.2,-57.55,3.45,-6.4140000000000003E-2,null,12.9]
["Zona B",82.6,-23.76,2.0259999999999998,-4.4999999999999998E-2,null,7]
["Zona C",173,-42.646000000000001,3.2236099999999999,-6.9237599999999996E-2,null,7]
["Zona D",-26.49,0.21115999999999999,0.62392300000000001,-1.7510899999999999E-2,null,3]
["Zona E",-51.66,2.9800599999999999,0.67113599999999995,-2.1220204999999999E-2,null,5]
["Zona F",-44.88,1.3364149999999999,0.83624851,-2.4565453000000001E-2,null,3]
["Zona G",-49.28,4.2789999999999999,0.63019999999999998,-0.02,null,3]
["Zona H",-19.350000000000001,9.6630000000000003,0.15110000000000001,-8.9999999999999993E-3,null,-1]
["Zona I",-83.24,28.248000000000001,-0.69877,4.4790000000000003E-3,null,-1]
["Calama",-43.7,9.3460000000000001,-8.4136000000000002E-2,-2.60247E-3,null,1]
[]
[]
[]
[]
[]
["ACS"]
["Zona A",446.7,null,null,null,null,null,null,null,{"$f":"CHOOSE(J2,B31,B32,B33,B34,B35,B36,B37,B38,B39,B40)","v":512.70000000000005}]
["Zona B",575.4]
["Zona C",501.7]
["Zona D",468.6]
["Zona E",522.9]
["Zona F",544.29999999999995]
["Zona G",562.5]
["Zona H",603.20000000000005]
["Zona I",638.29999999999995]
["Calama",512.70000000000005]
[]
["Horas de iluminación natural"]
["Mayor a 9000 Lux","A","B","C","D","E"]
["Zona A",6239,-370.82,7.7278560000000001,-5.6210209999999997E-2,0,null,null,null,{"$f":"CHOOSE($R$2,B44,B45,B46,B47,B48,B49,B50,B51,B52,B53)","v":6239},{"$f":"CHOOSE($R$2,C44,C45,C46,C47,C48,C49,C50,C51,C52,C53)","v":-370.82},{"$f":"CHOOSE($R$2,D44,D45,D46,D47,D48,D49,D50,D51,D52,D53)","v":7.7278560000000001},{"$f":"CHOOSE($R$2,E44,E45,E46,E47,E48,E49,E50,E51,E52,E53)","v":-5.6210209999999997E-2},{"$f":"CHOOSE($R$2,F44,F45,F46,F47,F48,F49,F50,F51,F52,F53)","v":0}]
["Zona B",6239,-370.82,7.7278560000000001,-5.6210209999999997E-2,0]
["Zona C",5142,-240.93,1.7691602,6.6269229999999998E-2,-9.3751218199999997E-4]
["Zona D",5396,-268.45999999999998,2.2305538999999999,7.6387700000000003E-2,-1.1460776999999999E-3]
["Zona E",5249,-244.94,-9.3270000000000006E-2,0.15679582,-2.0014360000000001E-3]
["Zona F",4883,-209.83,-1.4649513000000001,0.18268620799999999,-2.1985709999999999E-3]
["Zona G",4891,-240.98,0.99201859999999997,0.120279,-1.6921373499999999E-3]
["Zona H",5396,-268.45999999999998,2.2305538999999999,7.6387700000000003E-2,-1.1460776999999999E-3]
["Zona I",5669,-492.31599999999997,18.660875999999998,-0.3558077,2.7162800000000002E-3]
["Calama",6239,-370.82,7.7278560000000001,-5.6210209999999997E-2,0]
["Menor a 9000 lux"]
["Zona A",4642,-464.98,122.33710000000001,-14.61139,0.56778790000000001,null,null,null,{"$f":"CHOOSE($R$2,B55,B56,B57,B58,B59,B60,B61,B61,B62,B63,B64)","v":4576},{"$f":"CHOOSE($R$2,C55,C56,C57,C58,C59,C60,C61,C62,C63,C64)","v":-464.98},{"$f":"CHOOSE($R$2,D55,D56,D57,D58,D59,D60,D61,D62,D63,D64)","v":122.33710000000001},{"$f":"CHOOSE($R$2,E55,E56,E57,E58,E59,E60,E61,E62,E63,E64)","v":-14.61139},{"$f":"CHOOSE($R$2,F55,F56,F57,F58,F59,F60,F61,F62,F63,F64)","v":0.56778790000000001}]
["Zona B",4642,-464.98,122.33710000000001,-14.61139,0.56778790000000001]
["Zona C",4541,-349.25,67.706520999999995,-8.6662160000000004,0.38965319999999998]
["Zona D",4554,-387.84,92.247686999999999,-13.263945,0.66112806000000002]
["Zona E",4555,-408.23,99.542490000000001,-13.808214,0.65482125400000002]
["Zona F",4558,-482.04899999999998,131.87249700000001,-19.454992099999998,0.95638882000000003]
["Zona G",4576,-551.96,153.7439,-21.687403100000001,1.0061530000000001]
["Zona H",4554,-387.84,92.247686999999999,-13.263945,0.66112806000000002]
["Zona I",4576,-551.96,153.7439,-21.687403100000001,1.0061530000000001]
["Calama",4642,-464.98,122.33710000000001,-14.61139,0.56778790000000001]
[]
[]
["Tipo de certificado"]
["Pre Calificación Energética",2,{"$f":"CHOOSE($B68,A68,A69)","v":"Calificación Energética"},null,"Pre Calificación Energética",null,null,null,{"$f":"CHOOSE($B68,E68,E69)","v":"Calificación Energética"}]
["Calificación Energética",null,null,null,"Calificación Energética"]
[]
["Tipo de metodologia de cálculo a utilizar"]
["Cálculo Estático de la Demanda",null,null,1,null,{"$f":"CHOOSE($D72,A72,A73)","v":"Cálculo Estático de la Demanda"}]
["Cálculo Dinámico de la Demanda (CCTE)"]
[]
[]
["Dispone de sista solar para calentar agua"]
["No",null,null,1,null,{"$f":"CHOOSE($D77,A77,A78)","v":"No"}]
["Si"]
[]
["Existencia de paneles fotovoltaicos"]
["No",null,null,1,null,{"$f":"CHOOSE($D81,A81,A82)","v":"No"}]
["Si"]
[]
["Valor minimo sobre el cual se calcula calefaccion",null,null,null,30,"kWh/m2 año"]

{"sheet":"R2","index":5,"n_rows":344,"n_cols":17,"rows_kept":344,"cut":false,"hidden":true,"merged":[]}
["Sistema de Calefacción",null,null,"Factor de energía primaria de la electricidad",null,null,null,1.9]
["Rendimientos"]
["Rendimientos generales"]
["Sistema por defecto - No se dispone de sistema de calefacción",0.45,1,{"$f":"CHOOSE(C4,B4,B5,B6,B7,B8,B9,B10,B11,B12,B13,B14,B15,B16, B17,B18,B19,B20,B21)","v":0.45}]
["Caldera a gas sin condensación encendido piloto control on/of",0.70499999999999996]
["Caldera a gas sin condensación encendido electrónico control on/of",0.745]
["Caldera a gas sin condensación encendido piloto control modulado",0.71]
["Caldera a gas sin condensación encendido electrónico control modulado",0.75]
["Caldera a gas con condensación encendido electrónico control modulado",0.85299999999999998]
["Caldera a petróleo",0.8]
["Equipo localizado sin evacuación de gases al exterior",0.45]
["Calefactor electrico por resistencia fijo",1]
["Equipo localizado a gas con evacuación de gases",0.62]
["Calefactor localizado a leña",0.45]
["Calefactor a pellet",0.6]
["Caldera a leña",0.55000000000000004]
["Caldera a pellet",0.65]
["Bomba de calor tradicional agua - agua o agua - aire ",2.4]
["Bomba de calor de flujo de refrigerante variable agua - agua o agua - aire",2.7]
["Bomba de calor tradicional aire - agua o aire - aire",2.2000000000000002]
["Bomba de calor de flujo de refrigerante variable aire - agua o aire - aire",2.5]
[]
[]
["Rendimiento de distribución"]
["Sistema unitario autocontenido",1,1,{"$f":"CHOOSE(C25,B25,B26,B27,B28,B29)","v":1}]
["Vivienda unifamiliar con sistema centralizado",0.97]
["Edificio con sistema centralizado",0.95]
["Sistema de calefacción distrital",0.8]
["Valor por defecto si no tiene sistema de calefacción",1]
[]
["Rendimiento de control"]
["Control automático ",1,1,{"$f":"CHOOSE(C32,B32,B33,B34)","v":1}]
["Control manual",0.8]
["Sin sistema de calefacción",0.8]
[]
["Tipo de combustible a utilizar","FEP",null,null,"FCO2"]
["Electricidad",{"$f":"H1","v":1.9},4,{"$f":"CHOOSE(C37,B37,B38,B39,B40,B41,B42,B43,B44)","v":1.1000000000000001},0.307,{"$f":"CHOOSE(C37,E37,E38,E39,E40,E41,E42,E43,E44,E45)","v":0.22800000000000001}]
["Petróleo",1.1000000000000001,null,null,0.24]
["Gas natural",1.1000000000000001,null,null,0.20200000000000001]
["Gas licuado",1.1000000000000001,null,null,0.22800000000000001]
["Kerosene domestico",1.1000000000000001,null,null,0.26]
["Leña",1.1000000000000001,null,null,0.43]
["Pellets de madera",1.1000000000000001,null,null,0.43]
["Carbón",1.1000000000000001,null,null,0.5]
[]
[]
["Sistema de agua caliente sanitaria"]
[]
["Tipo de combustible a utilizar","FEP"]
["Electricidad",{"$f":"H1","v":1.9},4,{"$f":"CHOOSE(C50,B50,B51,B52,B53,B54,B55,B56,B57)","v":1.1000000000000001},0.307,{"$f":"CHOOSE(C50,E50,E51,E52,E53,E54,E55,E56,E57,E58)","v":0.22800000000000001}]
["Petróleo",1.1000000000000001,null,null,0.24]
["Gas natural",1.1000000000000001,null,null,0.20200000000000001]
["Gas licuado",1.1000000000000001,null,null,0.22800000000000001]
["Kerosene domestico",1.1000000000000001,null,null,0.26]
["Leña",1.1000000000000001,null,null,0]
["Pellets de madera",1.1000000000000001,null,null,0]
["Carbón",1.1000000000000001,null,null,0.5]
[]
[]
["Rendimiento de generación"]
["Sistema por defecto - No se dispone de sistema de ACS",0.7,1,{"$f":"CHOOSE(C61,B61,B62,B63,B64,B65,B66, B67,B68,B69,B70)","v":0.7}]
["Sistema de calentamiento de agua directo a gas",0.7]
["Sistema de calentamiento de agua directo a electricidad",1]
["Sistema de calentamiento de agua con estanque eléctrico",1]
["Sistema de calentamiento de agua con caldera convencional",0.7]
["Sistema de calentamiento de agua con caldera a condensación",0.8]
["Calentamiento de agua con bomba de calor tradicional agua - agua",1.8]
["Calentamiento de agua con bomba de calor de flujo de refrigerante varaible  agua - agua",2]
["Calentamiento de agua con bomba de calor  aire - agua",1.8]
["Calentamiento de agua con bomba de calor  de flujo de refrigerante variable aire - agua",2]
[]
["Rendimiento de distribución"]
["Red de cañerías con aislación",1,2,{"$f":"CHOOSE(C73,B73,B74,B75)","v":0.9}]
["Red de cañerías sin aislación",0.9]
["No tiene sistema de ACS",1]
[]
[]
["Rendimiento de control"]
["Sistema de control por potencia",0.92,2,{"$f":"CHOOSE(C79,B79,B80)","v":1}]
["Control automático basado en la medición de la temperatura del agua",1]
[]
["Formulas y datos para la hoja Anexo Cálculos"]
[]
["Bomba de calor aire - aire flujo de refrigerante variable"]
["COP nominal",{"$f":"'Anexo Calculos'!N26","v":4.2}]
["Temperatura para COP nominal",{"$f":"'Anexo Calculos'!N27","v":7}]
[]
["COPte/COP7",{"$f":"0.9+0.0145*B86","v":1.0015000000000001}]
["COP nominal a 7 C",{"$f":"B85/B88","v":4.1937094358462303}]
["Zona térmica",{"$f":"'R1'!K6","v":10}]
[null,"Zona"]
[null,"A",1.1000000000000001,{"$f":"CHOOSE(B90,C92,C93,C94,C95,C96,C97,C98,C99,C100,C101)","v":0.79}]
[null,"B",0.96]
[null,"C",1.06]
[null,"D",0.95]
[null,"E",0.98]
[null,"F",0.97]
[null,"G",0.96]
[null,"H",0.83]
[null,"I",0.86]
[null,"Cal",0.79]
["SCOP",{"$f":"B89*D92","v":3.3130304543185223}]
[]
[]
["Bomba de calor aire - aire convencional"]
["COP nominal",{"$f":"'Anexo Calculos'!N34","v":2.7}]
["Temperatura para COP nominal",{"$f":"'Anexo Calculos'!N35","v":7}]
[]
["COPte/COP7",{"$f":"0.888+0.0252*B107-0.00115*B107*B107","v":1.0080500000000001}]
["COP nominal a 7 C",{"$f":"B106/B109","v":2.6784385695154009}]
["Zona térmica",{"$f":"'R1'!K6","v":10}]
[null,"Zona"]
[null,"A",1.05,{"$f":"CHOOSE(B111,C113,C114,C115,C116,C117,C118,C119,C120,C121,C122)","v":0.75}]
[null,"B",0.93]
[null,"C",1.02]
[null,"D",0.86]
[null,"E",0.95]
[null,"F",0.95]
[null,"G",0.93]
[null,"H",0.8]
[null,"I",0.83]
[null,"Cal",0.75]
["SCOP",{"$f":"B110*D113","v":2.0088289271365509}]
[]
[]
["Bomba de calor aire - agua"]
["COP nominal",{"$f":"'Anexo Calculos'!N42","v":3.8}]
["Temperatura para COP nominal",{"$f":"'Anexo Calculos'!N43","v":7}]
["Temperatura de uso",{"$f":"IF(C129<35,35,C129)","v":40},{"$f":"'Anexo Calculos'!N44","v":40}]
["COPte/COP7",{"$f":"C130","v":1.014},{"$f":"0.867+0.0245*B128-0.0005*B128*B128","v":1.014}]
["COP nominal a 7 C",{"$f":"B127/B130","v":3.7475345167652856}]
["Zona térmica",{"$f":"'R1'!K6","v":10}]
[null,"Zona"]
[null,"A",0.96,{"$f":"CHOOSE(B132,C134,C135,C136,C137,C138,C139,C140,C141,C142,C143)","v":0.6}]
[null,"B",0.76]
[null,"C",0.89]
[null,"D",0.76]
[null,"E",0.79]
[null,"F",0.78]
[null,"G",0.76]
[null,"H",0.65]
[null,"I",0.66]
[null,"Cal",0.6]
["COP corrección 1",{"$f":"B131*D134","v":2.2485207100591711}]
["Corrección 2",{"$f":"1.5902-0.0169*B129","v":0.91420000000000012}]
["SCOP",{"$f":"B144*B145","v":2.0555976331360943}]
[]
[]
["Bomba de calor agua - agua"]
["COP nominal",{"$f":"'Anexo Calculos'!N50","v":6.6}]
["Temperatura para COP nominal",{"$f":"'Anexo Calculos'!N51","v":10}]
["Temperatura de uso",{"$f":"'Anexo Calculos'!N52","v":35}]
["COPte/COP10",{"$f":"C153","v":1},{"$f":"0.805+0.0195*B151","v":1}]
["COP nominal a 10 C",{"$f":"B150/B153","v":6.6}]
[]
["Tipo de bomba de calor",null,2]
["Se extrae el agua de una napa a mas de 15 m de profundidad"]
["Se extrae el agua de una napa a menos de 15 m de profundidad"]
["Se extrae el agua de un cuerpo de agua superficial"]
[]
["Lado condensador",null,1]
["Sistema de calefacción por radiadores, losa o cielo radiante"]
["Circuito de agua caliente con ventiloconvectores"]
[]
["Zona térmica",{"$f":"'R1'!K6","v":10}]
[null,"Zona",{"$f":"CHOOSE(B165,C167,C168,C169,C170,C171,C172,C173,C174,C175,C176)","v":0.98},{"$f":"CHOOSE(B165,D167,D168,D169,D170,D171,D172,D173,D174,D175,D176)","v":0.91},{"$f":"CHOOSE(B165,E167,E168,E169,E170,E171,E172,E173,E174,E175,E176)","v":0.86},{"$f":"CHOOSE(C156,C166,D166,E166)","v":0.91}]
[null,"A",1.1000000000000001,1.05,0.94]
[null,"B",1.04,0.97,0.9]
[null,"C",1.04,0.99,0.9]
[null,"D",1.02,0.92,0.9]
[null,"E",0.99,0.91,0.86]
[null,"F",0.99,0.91,0.84]
[null,"G",0.98,0.9,0.84]
[null,"H",0.94,0.83,0.8]
[null,"I",0.88,0.81,0.8]
[null,"Cal",0.98,0.91,0.86]
[]
["F1",{"$f":"F166","v":0.91}]
["F2",{"$f":"1.686-0.0196*B152","v":1}]
[null,null,{"$f":"IF(C156=2,2,1)","v":2},{"$f":"C161","v":1}]
[null,{"$f":"IF(C180=1,0.74,0.77)","v":0.77},{"$f":"IF(C180=1,0.66,0.68)","v":0.68}]
["F3",{"$f":"IF(D1900,B181,C181)","v":0.68}]
["F4",0.95]
[]
["% del flujo nominal",{"$f":"'Anexo Calculos'!N60","v":100}]
["DT",{"$f":"10.7-0.225*B185+0.0012*B185*B185","v":0.19999999999999929}]
["F5",{"$f":"1-0.022*B186","v":0.99560000000000004}]
["SCOP",{"$f":"B154*B178*B179*B182*B183*B187","v":3.8628045456}]
[]
["Perdidas en el estanque de almacenamiento",1]
["ubicación del estanque"]
["Local acondicionado"]
["Local interior pero no acondicionado"]
["Exterior"]
[]
["Tiene estanque ",2]
["Si. Hay un estanque de almacenamiento"]
["No hay estanque de almacenamiento o e tiene el sistema por defecto"]
[]
["Volumen de estanque de almacenamiento (litros)",{"$f":"'CEV CEVE'!N72","v":0}]
["Espesor de la aislación del estanque (m)",{"$f":"'CEV CEVE'!N73/1000","v":0}]
["Conductividad térmica del material de aislación  (W/mK)",{"$f":"'CEV CEVE'!N74","v":0}]
[]
["RSE",{"$f":"IF(B190=3,0,0.1)","v":0.1}]
["Ti",65]
["Te",{"$f":"IF(B190=1,20,C207)","v":20}]
[null,"Zona",{"$f":"CHOOSE(B165,C208,C209,C210,C211,C212,C213,C214,C215,C216,C217)","v":11.4}]
[null,"A",17.7]
[null,"B",14.9]
[null,"C",14.8]
[null,"D",13.9]
[null,"E",12.2]
[null,"F",12]
[null,"G",11.5]
[null,"H",9.5]
[null,"I",6.7]
[null,"CAL",11.4]
[]
["FPACS",{"$f":"0.05782*(B205-B206)/(POWER((B200/1000)/1.23,0.3333)*(B201/B202))","v":{"$error":"#DIV/0!"}}]
["Valor a considerar",{"$f":"IF(B196=1,B219*B200,0)","v":0}]
[]
["Pérdidas por distribución en sistemas solares"]
["Espesor de aislación e las cañerías",{"$f":"'CEV CEVE'!N122","v":35}]
["Distancia entre la placa mas alejada y el estanque solar",{"$f":"'CEV CEVE'!N123","v":4}]
["Distancia entre el estanque solar y el primer punto de consumo",{"$f":"'CEV CEVE'!N124","v":4}]
["Aporte solar",{"$f":"'R4'!N149","v":{"$error":"#DIV/0!"}},"(J año)",{"$f":"B226/3600000","v":{"$error":"#DIV/0!"}},"( kWh al año)"]
[]
["Área de colectores",{"$f":"'CEV CEVE'!H109","v":8},"(m2)"]
["ri",{"$f":"0.0075+0.0123*(B228/1000)-0.0006*(B228/1000)*(B228/1000)","v":7.5983615999999999E-3},"m",{"$f":"B229*1000","v":7.5983615999999996},"mm"]
["Ri a usar",{"$f":"IF(B229<0.01,0.01,B229)","v":0.01},"m",{"$f":"B230*1000","v":10},"mm"]
["re",{"$f":"B230+B223/1000","v":4.5000000000000005E-2},"m",{"$f":"B231*1000","v":45.000000000000007},"mm"]
["Lec",{"$f":"2*(B224+B225)","v":16},"m"]
["Lex",{"$f":"5+1.2*B228","v":14.6},"m"]
["Ltot",{"$f":"IF(C234>0,C234,0)","v":1.4000000000000004},{"$f":"B232-B233","v":1.4000000000000004}]
["A",{"$f":"3.14*2*B231*B234","v":0.3956400000000001},"m2"]
["R",{"$f":"(B231/0.043)*LN(B231/B230)","v":1.5740344849984269}]
["Qper",{"$f":"(30*B235*3500)/(1000*B236)","v":26.392179076077568}]
["F calculado",{"$f":"IF(B226=0,0,C238)","v":{"$error":"#DIV/0!"}},{"$f":"1-(B237/D226)","v":{"$error":"#DIV/0!"}}]
["F de calculo detallado externo",{"$f":"'CEV CEVE'!Q126","v":0}]
["F a usar",{"$f":"IF(B239=0,B238,B239)","v":{"$error":"#DIV/0!"}}]
[]
[]
["Consumo de los ventiladores",null,null,null,null,null,null,null,null,"(ren/h)"]
["favor Linkear aca lo solicitado  en las 4 proximas filas columna B"]
["Número de selelccion de pregunta de identificación",{"$f":"+VLOOKUP('CEV-CEVE'!E227,'R2'!P246:Q251,2,0)","v":{"$error":"#N/A"}},null,null,null,null,null,null,null,null,null,null,null,null,null,"Identificación Ventilación"]
["Número de selección de la pregunta de control automático",{"$f":"+IF('CEV-CEVE'!F232=\"SI\",2,1)","v":1},null,null,null,null,null,null,null,null,null,null,null,null,null,"NO existen ventiladores para la ventilación de la vivienda ni control automatico",1]
["Renovaciones de aire naturales (infiltraciones)",{"$f":"+'CEV-CEVE'!F235","v":0},null,null,null,null,null,null,null,null,null,null,null,null,null,"Tiene sistema de ventilación natural controlada automaticamente y sin ventiladores",2]
["Flujo de ventilación minimo Fmin",{"$f":"+'CEV-CEVE'!F236","v":0},null,null,null,null,null,null,null,null,null,null,null,null,null,"Extractor en vivienda unifamiliar sin ductos",3]
[null,null,null,null,null,null,null,null,null,null,null,null,null,null,null,"Extractor en vivienda unifamiliar con ductos",4]
["Identificación",null,null,"Factor de potencias","Existencia",null,null,null,null,null,null,null,null,null,null,"Extractor colectivo en edificio",5]
["NO existen ventiladores para la ventilación de la vivienda",{"$f":"B245","v":{"$error":"#N/A"}},{"$f":"CHOOSE(B251,D251,D252,D253,D254,D255,D256)","v":{"$error":"#N/A"}},0,{"$f":"IF(B251=1,1,0)","v":{"$error":"#N/A"}},null,null,null,null,null,null,null,null,null,null,"Recuperador de calor",6]
["Tiene sistema de ventilación natural controlada sin ventiladores",null,null,0,{"$f":"IF(B$251=2,1,0)","v":{"$error":"#N/A"}}]
["Extractor en vivienda unifamiliar sin ductos",null,null,0.45,{"$f":"IF(B$251=3,1,0)","v":{"$error":"#N/A"}}]
["Extractor en vivienda unifamiliar con ductos",null,null,0.67500000000000004,{"$f":"IF(B$251=2,1,0)","v":{"$error":"#N/A"}}]
["Extractor colectivo en edificio",null,null,0.89900000000000002,{"$f":"IF(B$251=2,1,0)","v":{"$error":"#N/A"}},{"$f":"D255*B263","v":0}]
["Recuperador de calor",null,null,2.19,{"$f":"IF(B$251=2,1,0)","v":{"$error":"#N/A"}}]
[]
[]
["Existencia de control automático de la ventilación",{"$f":"B246","v":1}]
["No existe control automático de la ventilación"]
["Existe un control automático de la ventilación comandada por medidor de CO2"]
[]
["Área de la vivienda",{"$f":"'CEV CEVE'!I15","v":0}]
[]
["Potencia ventiladores por defecto",{"$f":"C251*B263","v":{"$error":"#N/A"}}]
["Potencia de ventiladores de recuperador de calor por defecto",{"$f":"D256*B263","v":0}]
[]
["Consumos",null,null,null,"Filtro","Porpuesto","A usar"]
["Ventiladores exepto recuperador (sin control)",{"$f":"G269*8.76","v":{"$error":"#N/A"}},"kWh/año",null,{"$f":"IF(B251=6,0,B265)","v":{"$error":"#N/A"}},{"$f":"'CEV CEVE'!Q89","v":0},{"$f":"IF(F269=0,E269,F269)","v":{"$error":"#N/A"}}]
["Ventiladores del recuperador de calor (sin control)",{"$f":"G270*8.76","v":{"$error":"#N/A"}},"kWh/año",null,{"$f":"IF(B251=6,B266,0)","v":{"$error":"#N/A"}},{"$f":"'CEV CEVE'!Q91","v":0},{"$f":"IF(F270=0,E270,F270)","v":{"$error":"#N/A"}}]
["Total consumo ventiladores",{"$f":"H273*I273+H274*I274","v":{"$error":"#N/A"}},"kWh/año",null,null,null,null,"RV"]
["Propuesto",{"$f":"'CEV CEVE'!Q94","v":0},null,null,"RVN","%UV","Con control","A usar","Existe"]
["A usar",{"$f":"IF(B272=0,B271,B272)","v":{"$error":"#N/A"}},null,null,{"$f":"B247/B248","v":{"$error":"#DIV/0!"}},{"$f":"0.7155-0.7629*E273+0.2015*E273*E273","v":{"$error":"#DIV/0!"}},{"$f":"B269*F273","v":{"$error":"#N/A"}},{"$f":"IF(B259=1,B269,G273)","v":{"$error":"#N/A"}},{"$f":"IF(B251=3,1,IF(B251=4,1,IF(B251=5,1,0)))","v":{"$error":"#N/A"}}]
[null,null,null,null,null,null,{"$f":"B270","v":{"$error":"#N/A"}},{"$f":"G274","v":{"$error":"#N/A"}},{"$f":"IF(B251=6,1,0)","v":{"$error":"#N/A"}}]
[]
["Botones"]
[1]
[]
[]
[]
[]
[]
[]
[]
[]
[]
["Consumos de los electrodomésticos",{"$f":"'R1'!K6","v":10},{"$f":"CHOOSE(B287,C289,C290,C291,C292,C293,C294,C295,C296,C297,C298)","v":1364}]
[null,"Zona"]
[null,"A",1358]
[null,"B",1364]
[null,"C",1348]
[null,"D",1650]
[null,"E",1305]
[null,"F",1215]
[null,"G",1372]
[null,"H",1364]
[null,"I",1301]
[null,"Cal",1364]
[]
["Consumos  de la vivienda","Edificio Objeto",null,null,null,null,null,null,null,null,null,"Edificio de referencia"]
[null,"Demanda","Aporte solar termico","Demanda despues de aporte solar termico","Rendimiento","Consumo","FEP","Comnsumo de energia primaria","Consumo de energia primaria electrica","kWh/m2",null,"Demanda","Rend","FEP","Consumo EP (kWh/año)","Consumo EP (kWh/m2 año)"]
["Calefacción",{"$f":"'CEV CEVE'!F21","v":0},{"$f":"'R4'!D151","v":{"$error":"#DIV/0!"}},{"$f":"B302-C302","v":{"$error":"#DIV/0!"}},{"$f":"'CEV CEVE'!N55","v":0.45},{"$f":"D302/E302","v":{"$error":"#DIV/0!"}},{"$f":"D37","v":1.1000000000000001},{"$f":"F302*G302","v":{"$error":"#DIV/0!"}},{"$f":"IF(G302=1.9,H302,0)","v":0},{"$f":"H302/$F$310","v":{"$error":"#DIV/0!"}},null,{"$f":"'CEV CEVE'!I21","v":"Prueba no Oficial"},0.45,1.1000000000000001,{"$f":"L302*N302/M302","v":{"$error":"#VALUE!"}},{"$f":"O302/$F$310","v":{"$error":"#VALUE!"}}]
["ACS",{"$f":"'CEV CEVE'!F33","v":0},{"$f":"'R4'!D150","v":{"$error":"#DIV/0!"}},{"$f":"B303-C303","v":{"$error":"#DIV/0!"}},{"$f":"'CEV CEVE'!N81","v":{"$error":"#DIV/0!"}},{"$f":"D303/E303","v":{"$error":"#DIV/0!"}},{"$f":"D50","v":1.1000000000000001},{"$f":"F303*G303","v":{"$error":"#DIV/0!"}},{"$f":"IF(G303=1.9,H303,0)","v":0},{"$f":"H303/$F$310","v":{"$error":"#DIV/0!"}},null,{"$f":"'CEV CEVE'!I33","v":0},0.7,1.1000000000000001,{"$f":"L303*N303/M303","v":0},{"$f":"O303/$F$310","v":{"$error":"#DIV/0!"}}]
["ILUMINACION",{"$f":"'CEV CEVE'!F37","v":0},null,{"$f":"B304","v":0},1,{"$f":"D304/E304","v":0},{"$f":"H1","v":1.9},{"$f":"F304*G304","v":0},{"$f":"IF(G304=1.9,H304,0)","v":0},{"$f":"H304/$F$310","v":{"$error":"#DIV/0!"}},null,{"$f":"'CEV CEVE'!I37","v":0},1,1.9,{"$f":"L304*N304/M304","v":0},{"$f":"O304/$F$310","v":{"$error":"#DIV/0!"}}]
["ventilacion",{"$f":"B273","v":{"$error":"#N/A"}},null,{"$f":"B305","v":{"$error":"#N/A"}},1,{"$f":"D305/E305","v":{"$error":"#N/A"}},{"$f":"G304","v":1.9},{"$f":"F305*G305","v":{"$error":"#N/A"}},{"$f":"IF(G305=1.9,H305,0)","v":{"$error":"#N/A"}},{"$f":"H305/$F$310","v":{"$error":"#N/A"}}]
["Total consumos basicos",null,null,null,null,null,null,{"$f":"SUM(H302:H305)","v":{"$error":"#DIV/0!"}},{"$f":"SUM(I302:I305)","v":{"$error":"#N/A"}},{"$f":"H306/$F$310","v":{"$error":"#DIV/0!"}}]
["electrodomesticos",{"$f":"C287","v":1364},null,{"$f":"B307","v":1364},1,{"$f":"D307/E307","v":1364},{"$f":"G305","v":1.9},{"$f":"F307*G307","v":2591.6}]
["Total",{"$f":"SUM(B302:B307)","v":{"$error":"#N/A"}},{"$f":"SUM(C302:C307)","v":{"$error":"#DIV/0!"}},{"$f":"SUM(D302:D307)","v":{"$error":"#DIV/0!"}},null,{"$f":"SUM(F302:F307)","v":{"$error":"#DIV/0!"}},null,{"$f":"SUM(H302:H307)","v":{"$error":"#DIV/0!"}},{"$f":"SUM(I302:I307)","v":{"$error":"#N/A"}},{"$f":"SUM(J302:J307)","v":{"$error":"#DIV/0!"}},null,"Total",null,null,{"$f":"SUM(O302:O304)","v":{"$error":"#VALUE!"}},{"$f":"SUM(P302:P304)","v":{"$error":"#VALUE!"}}]
[]
["Calculos adicionales para indicadores",null,null,null,"Area casa",{"$f":"'CEV CEVE'!I15","v":0}]
["Consumo de energía en calefacción",{"$f":"H302","v":{"$error":"#DIV/0!"}},null,null,"Aporte solar fotovoltaico",null,null,{"$f":"IF('R1'!D81=1,0,I311)","v":0},{"$f":"'CEV CEVE'!$L$146","v":2028.8599867018033}]
["Energético usado para la calefacción",{"$f":"IF(C37=1,1,0)","v":0},null,null,"Aporte solar fotovoltaico Energia primaria",null,null,{"$f":"H311*G305","v":0}]
["Consumo de energía en ACS",{"$f":"H303","v":{"$error":"#DIV/0!"}}]
["Energético usado para la calefacción",{"$f":"IF(C50=1,1,0)","v":0},null,null,"Aporte fotovoltaico  EP a consumo basico",null,null,{"$f":"IF(J314<0,I306,H312)","v":{"$error":"#N/A"}},{"$f":"H314/F310","v":{"$error":"#N/A"}},{"$f":"I306-H312","v":{"$error":"#N/A"}}]
["Consumo de energía en iluminación",{"$f":"H304","v":0},null,null,"Remanente fotovoltaico EP",null,null,{"$f":"J315","v":{"$error":"#N/A"}},{"$f":"H315/F310","v":{"$error":"#N/A"}},{"$f":"H312-H314","v":{"$error":"#N/A"}},{"$f":"H315/H307","v":{"$error":"#N/A"}}]
["Consumo de energía eléctrica en ventiladores",{"$f":"#REF!","v":{"$error":"#REF!"}}]
[null,null,null,null,"Consumo final energia primaria despues de PV",null,null,{"$f":"H306-H314","v":{"$error":"#DIV/0!"}},"kWh/año"]
["Total consumo de electricidad en consumos básicos",{"$f":"I306","v":{"$error":"#N/A"}},null,null,null,null,null,{"$f":"H317/F310","v":{"$error":"#DIV/0!"}},"kWh/m2 año"]
[]
["Consumo de electricidad en electrodomésticos",{"$f":"C287","v":1364}]
["Aporte solar",{"$f":"'CEV CEVE'!L146","v":2028.8599867018033}]
[]
["Porcentaje de aporte solar para consumos básicos",{"$f":"H314/I306","v":{"$error":"#N/A"}},{"$f":"IF(B323<1,B323,1)","v":{"$error":"#N/A"}}]
["Aporte solar a consumos básicos",{"$f":"B323*B318","v":{"$error":"#N/A"}},null,null,"Indicadores finales"]
["Remanente solar para otros consumos",{"$f":"H315","v":{"$error":"#N/A"}},null,null,"C",{"$f":"H317/O308","v":{"$error":"#DIV/0!"}}]
["Porcentaje de aporte solar para electrodomésticos",{"$f":"B325/B320","v":{"$error":"#N/A"}},{"$f":"B320*B326","v":{"$error":"#N/A"}},null,"% ahorro",{"$f":"1-F325","v":{"$error":"#DIV/0!"}}]
["Porcentaje de aporte solar total",{"$f":"B321/(B318+B320)","v":{"$error":"#N/A"}}]
[]
[]
["Varaibles auxiliares para el cálculo"]
[]
[]
[null,"DE",{"$f":"B303","v":0},"kWh/año"]
[null,"PACS",{"$f":"'CEV CEVE'!N79","v":0}]
[]
[null,"Ren defecto",{"$f":"'CEV CEVE'!N64","v":0.7}]
[null,"Rend impuesto",{"$f":"'CEV CEVE'!Q64","v":0}]
[null,"Rend a usar",{"$f":"IF(C337=0,C336,C337)","v":0.7}]
[]
[null,"Rend dist",{"$f":"'CEV CEVE'!N67","v":0.9}]
[null,"Rend 2",{"$f":"C338*C340","v":0.63}]
[]
[null,"CE",{"$f":"(C333+C334)/C341","v":0}]
[null,"Rend Tot",{"$f":"C333/C343","v":{"$error":"#DIV/0!"}}]

{"sheet":"R4","index":6,"n_rows":151,"n_cols":28,"rows_kept":151,"cut":false,"hidden":true,"merged":[[11,1,11,7]]}
["Sistema solar para calefacción"]
["Tipo de colector","A","B","A/A"]
["Tubos al vacio",0.6,3,0.72,2,{"$f":"IF('R1'!D77=1,3,'R4'!E3)","v":3},{"$f":"CHOOSE($F3,B3,B4,B5)","v":0},{"$f":"CHOOSE($F3,C3,C4,C5)","v":0},{"$f":"CHOOSE($F3,D3,D4,D5)","v":0},"Referencia"]
["Plano",0.75,6,0.9,null,null,{"$f":"'CEV CEVE'!L115","v":0},{"$f":"'CEV CEVE'!L116","v":0},{"$f":"'CEV CEVE'!L117","v":0},"A usar"]
["No hay",0,0,0]
[]
["Area neta",{"$f":"'CEV CEVE'!H109*'R4'!I4*G9","v":0},"m2",null,"Area indicada planilla",null,{"$f":"'CEV CEVE'!$H$109","v":8},{"$f":"G7*'R4'!I4","v":0}]
["FRp/Fr",0.86,null,null,"Existe sistema",null,{"$f":"'R1'!D77","v":1},{"$f":"'R1'!F77","v":"No"}]
["Ta/Tan",0.84,null,null,"Factor multiplicador",null,{"$f":"IF(G8=1,0,1)","v":0}]
["ropiso",0.2]
["Inclinacion colectores",{"$f":"'CEV CEVE'!H110","v":2},"grados"]
[null,"Datos de temperatura del aire",null,null,null,null,null,null,null,null,null,null,"Clima seleccionado"]
["Tempertura del aire","Zona A","Zona B","Zona C","Zona D","Zona E","Zona F","Zona G","Zona H","Zona I","Calama"]
["Ene",20.8,19.399999999999999,18,19.899999999999999,16.8,16.899999999999999,16.5,15.5,11.7,15.5,null,{"$f":"(CHOOSE('R1'!$R$2,B14,C14,D14,E14,F14,G14,H14,I14,J14,K14))","v":15.5}]
["Feb",20.8,18.899999999999999,17.899999999999999,19.2,16.3,16.600000000000001,15.6,14.6,10.6,14.6,null,{"$f":"(CHOOSE('R1'!$R$2,B15,C15,D15,E15,F15,G15,H15,I15,J15,K15))","v":14.6}]
["Mar",19.7,17.399999999999999,16.7,17.2,14.6,14.8,14.1,13.2,8.9,13.2,null,{"$f":"(CHOOSE('R1'!$R$2,B16,C16,D16,E16,F16,G16,H16,I16,J16,K16))","v":13.2}]
["Abr",18.100000000000001,15.2,14.9,13.9,12.1,12,11.2,11.5,6.7,11.5,null,{"$f":"(CHOOSE('R1'!$R$2,B17,C17,D17,E17,F17,G17,H17,I17,J17,K17))","v":11.5}]
["May",17,13.1,13.5,10.8,11,9.9,9.4,7.5,4.2,7.5,null,{"$f":"(CHOOSE('R1'!$R$2,B18,C18,D18,E18,F18,G18,H18,I18,J18,K18))","v":7.5}]
["Jun",15.8,11.4,12.3,8.4,9,7.9,7.4,4.0999999999999996,2.6,4.0999999999999996,null,{"$f":"(CHOOSE('R1'!$R$2,B19,C19,D19,E19,F19,G19,H19,I19,J19,K19))","v":4.0999999999999996}]
["Jul",15.1,10.8,11.8,8.1,6.4,7.7,6.9,4.3,2.5,4.3,null,{"$f":"(CHOOSE('R1'!$R$2,B20,C20,D20,E20,F20,G20,H20,I20,J20,K20))","v":4.3}]
["Ago",15.2,11.7,12.1,9.3000000000000007,8.6,8.1,7.5,4.3,2.9,4.3,null,{"$f":"(CHOOSE('R1'!$R$2,B21,C21,D21,E21,F21,G21,H21,I21,J21,K21))","v":4.3}]
["Sep",16,13.2,12.9,11.4,10,9.6999999999999993,9.1999999999999993,6.2,4.5999999999999996,6.2,null,{"$f":"(CHOOSE('R1'!$R$2,B22,C22,D22,E22,F22,G22,H22,I22,J22,K22))","v":6.2}]
["Oct",16.899999999999999,14.4,14.1,13.7,11.7,11.5,11.2,8.6,7.1,8.6,null,{"$f":"(CHOOSE('R1'!$R$2,B23,C23,D23,E23,F23,G23,H23,I23,J23,K23))","v":8.6}]
["Nov",18.3,16.100000000000001,15.8,16.399999999999999,14.2,13.3,13.7,11.1,8.5,11.1,null,{"$f":"(CHOOSE('R1'!$R$2,B24,C24,D24,E24,F24,G24,H24,I24,J24,K24))","v":11.1}]
["Dic",19.7,18,17.3,18.8,16.2,15.4,15.9,14,10.199999999999999,14,null,{"$f":"(CHOOSE('R1'!$R$2,B25,C25,D25,E25,F25,G25,H25,I25,J25,K25))","v":14}]
[]
["FCSombras",{"$f":"'CEV CEVE'!H112","v":2},null,null,"kWh/m2 dia","J/m2dia","J/m2mes"]
["Radiación solar","A usar","N","Rad solar por comuna","HT","HT","HT"]
["Ene",{"$f":"D29/C29","v":6.918787096774194},31,{"$f":"'R6'!Q5","v":214.48240000000001},{"$f":"'R7'!AY8*B$27","v":17.503919704747052},{"$f":"E29*3600*1000","v":63014110.937089384},{"$f":"F29*C29","v":1953437439.0497708}]
["Feb",5.7852107142857134,28,{"$f":"'R6'!R5","v":161.98589999999999},{"$f":"'R7'!AY9*B$27","v":14.869046641443735},53528567.909197442,1498799901.4575284,null,null,null,null,null,null,null,null,null,null,null,null,null,null,null,null,null,null,null,null,{"$f":"'R6'!AC5","v":0}]
["Mar",4.6366999999999994,31,{"$f":"'R6'!S5","v":143.73769999999999},{"$f":"'R7'!AY10*B$27","v":12.30619346136057},44302296.460898049,1373371190.2878394]
["Abr",3.1664316666666665,30,{"$f":"'R6'!T5","v":94.992949999999993},{"$f":"'R7'!AY11*B$27","v":7.9015608164082627},28445618.939069748,853368568.17209244]
["May",1.7659583870967741,31,{"$f":"'R6'!U5","v":54.744709999999998},{"$f":"'R7'!AY12*B$27","v":4.3133190558149845},15527948.600933943,481366406.62895221]
["Jun",1.4498823333333335,30,{"$f":"'R6'!V5","v":43.496470000000002},{"$f":"'R7'!AY13*B$27","v":3.5290521314506043},12704587.673222175,381137630.19666523]
["Jul",1.5401519354838709,31,{"$f":"'R6'!W5","v":47.744709999999998},{"$f":"'R7'!AY14*B$27","v":3.8032835576524393},13691820.807548782,424446445.03401226]
["Ago",2.3868693548387094,31,{"$f":"'R6'!X5","v":73.992949999999993},{"$f":"'R7'!AY15*B$27","v":5.7795260797101662},20806293.886956599,644995110.49565458]
["Sep",3.6413733333333336,30,{"$f":"'R6'!Y5","v":109.24120000000001},{"$f":"'R7'!AY16*B$27","v":8.9301461001323155},32148525.960476335,964455778.81429005]
["Oct",5.1285774193548379,31,{"$f":"'R6'!Z5","v":158.98589999999999},{"$f":"'R7'!AY17*B$27","v":13.129604995725625},47266577.984612256,1465263917.52298]
["Nov",6.1995299999999993,30,{"$f":"'R6'!AA5","v":185.98589999999999},{"$f":"'R7'!AY18*B$27","v":15.998447385026877},57594410.586096756,1727832317.5829027]
["Dic",6.7009870967741936,31,{"$f":"'R6'!AB5","v":207.73060000000001},{"$f":"'R7'!AY19*B$27","v":17.455873709640521},62841145.354705878,1948075505.9958823]
[null,null,null,null,{"$f":"((SUM(E29:E40))/12)*365*B7","v":0},"kWh/año"]
[]
[null,null,null,null,null,null,null,null,null,null,null,null,{"$f":"'R1'!J2","v":10}]
[null,"Zona A","Zona B","Zona C","Zona D","Zona E","Zona F","Zona G","Zona H","Zona I","Calama",null,"Zona selec"]
["Lat",-20,-27.5,-33,-33,-37,-39,-40,-34,-53,-22,null,{"$f":"(CHOOSE(M43,B45,C45,D45,E45,F45,G45,H45,I45,J45,K45))/57.3","v":-0.38394415357766143}]
[]
["Tipo de servicio"]
["Solo ACS",0,null,1,{"$f":"CHOOSE(D48,B48,B49)","v":0}]
["ACS + Calefacción",1]
[]
[]
["Perfil mensual de carga de calefacción (se considera el perfil fijo para la certificación)"]
["Mes","Zona A","Zona B","Zona C","Zona D","Zona E","Zona F","Zona G","Zona H","Zona I","Calama",null,"Zona elegida"]
["Ene",0,0,0,0,0,0,0,0,3.8124327117395294E-2,0,null,{"$f":"(CHOOSE('R1'!$R$2,B54,C54,D54,E54,F54,G54,H54,I54,J54,K54))","v":0}]
["Feb",0,0,0,0,0,0,0,0,4.0430756288710325E-2,0,null,{"$f":"(CHOOSE('R1'!$R$2,B55,C55,D55,E55,F55,G55,H55,I55,J55,K55))","v":0}]
["Mar",0,0,0,0,0,0,4.7495327205257641E-2,4.7529638606201768E-2,6.0195572937340611E-2,0,null,{"$f":"(CHOOSE('R1'!$R$2,B56,C56,D56,E56,F56,G56,H56,I56,J56,K56))","v":0}]
["Abr",0,7.0582405572124557E-2,0,0,8.7764594583941036E-2,7.9982333022525415E-2,8.3145599351015967E-2,6.7040386709229835E-2,8.3311397186323549E-2,7.0582405572124557E-2,null,{"$f":"(CHOOSE('R1'!$R$2,B57,C57,D57,E57,F57,G57,H57,I57,J57,K57))","v":7.0582405572124557E-2}]
["May",0,0.13111072004149454,0.13525775970624138,0.15356645978667349,0.12390318893137295,0.12946295660139703,0.1127472744314538,0.11433406257057817,0.10758600710591887,0.13111072004149454,null,{"$f":"(CHOOSE('R1'!$R$2,B58,C58,D58,E58,F58,G58,H58,I58,J58,K58))","v":0.13111072004149454}]
["Jun",0,0.18897615916121738,0.20060366621487827,0.23021401718847129,0.16443296937206825,0.16734553663444082,0.1524317717154775,0.15615171730314809,0.12457224513330911,0.18897615916121738,null,{"$f":"(CHOOSE('R1'!$R$2,B59,C59,D59,E59,F59,G59,H59,I59,J59,K59))","v":0.18897615916121738}]
["Jul",0.3898533247328716,0.20812107515328904,0.25289577145274006,0.24888748556938042,0.18598683432535762,0.18209746282573491,0.15949988763367484,0.15563597016082545,0.12980210113469071,0.20812107515328904,null,{"$f":"(CHOOSE('R1'!$R$2,B60,C60,D60,E60,F60,G60,H60,I60,J60,K60))","v":0.20812107515328904}]
["Ago",0.38312252853577128,0.18316414426763986,0.23554517403466271,0.19964577145845461,0.17691670936970322,0.17003811486807022,0.15677843005059225,0.15546573989489548,0.12079644230514784,0.18316414426763986,null,{"$f":"(CHOOSE('R1'!$R$2,B61,C61,D61,E61,F61,G61,H61,I61,J61,K61))","v":0.18316414426763986}]
["Sep",0.22702414673135723,0.13002241446381269,0.17569762859147756,0.11967793817281222,0.15271788403169229,0.13194614843532743,0.13193176897483538,0.13094921070461849,0.10416953925734652,0.13002241446381269,null,{"$f":"(CHOOSE('R1'!$R$2,B62,C62,D62,E62,F62,G62,H62,I62,J62,K62))","v":0.13002241446381269}]
["Oct",0,8.8023081340421999E-2,0,4.8008327824207928E-2,0.10827781938586464,9.5359146750421231E-2,9.9019398264625483E-2,0.10075272115608264,7.9468741338703838E-2,8.8023081340421999E-2,null,{"$f":"(CHOOSE('R1'!$R$2,B63,C63,D63,E63,F63,G63,H63,I63,J63,K63))","v":8.8023081340421999E-2}]
["Nov",0,0,0,0,0,4.3768300862083068E-2,5.6950542373067167E-2,7.2140552894420201E-2,6.3834884184107654E-2,0,null,{"$f":"(CHOOSE('R1'!$R$2,B64,C64,D64,E64,F64,G64,H64,I64,J64,K64))","v":0}]
["Dic",0,0,0,0,0,0,0,0,4.7707986011005676E-2,0,null,{"$f":"(CHOOSE('R1'!$R$2,B65,C65,D65,E65,F65,G65,H65,I65,J65,K65))","v":0}]
[]
["Demanda calefacción",{"$f":"'CEV CEVE'!F21","v":0},"kWh/año"]
[]
[null,"Carga calefacción","Carga calefacción mes"]
["Mes","L[kWh/mes]","J"]
["Ene",{"$f":"B$67*M54","v":0},{"$f":"B71*3600*1000","v":0}]
["Feb",0,0]
["Mar",0,0]
["Abr",0,0]
["May",0,0]
["Jun",0,0]
["Jul",0,0]
["Ago",0,0]
["Sep",0,0]
["Oct",0,0]
["Nov",0,0]
["Dic",0,0]
[]
["Agua caiente Sanitaria"]
[null,"Zona A","Zona B","Zona C","Zona D","Zona E","Zona F","Zona G","Zona H","Zona I","Calama",null,"Elegido"]
["Ene",18.7,12.5,16,20.7,15.7,14.8,12.7,12.4,9.6,14.5,null,{"$f":"(CHOOSE('R1'!$R$2,B86,C86,D86,E86,F86,G86,H86,I86,J86,K86))","v":14.5}]
["Feb",19.600000000000001,11.4,16.899999999999999,20.3,16.399999999999999,15.8,11.8,10.5,10.199999999999999,14.2,null,{"$f":"(CHOOSE('R1'!$R$2,B87,C87,D87,E87,F87,G87,H87,I87,J87,K87))","v":14.2}]
["Mar",19.7,11.4,16.899999999999999,20,16,15.5,11.8,10.5,9.8000000000000007,14.2,null,{"$f":"(CHOOSE('R1'!$R$2,B88,C88,D88,E88,F88,G88,H88,I88,J88,K88))","v":14.2}]
["Abr",18.7,9.8000000000000007,16,18.399999999999999,14.7,13.9,10.7,8,8.6,13.7,null,{"$f":"(CHOOSE('R1'!$R$2,B89,C89,D89,E89,F89,G89,H89,I89,J89,K89))","v":13.7}]
["May",17.3,8.1,14.5,16.100000000000001,13,11.7,10.199999999999999,6.1,6.5,12.4,null,{"$f":"(CHOOSE('R1'!$R$2,B90,C90,D90,E90,F90,G90,H90,I90,J90,K90))","v":12.4}]
["Jun",15.8,6.9,13,13.4,11.4,9.8000000000000007,8.8000000000000007,4.8,4.3,11.5,null,{"$f":"(CHOOSE('R1'!$R$2,B91,C91,D91,E91,F91,G91,H91,I91,J91,K91))","v":11.5}]
["Jul",14.8,6.8,12,11.6,10.199999999999999,8.5,8.8000000000000007,4.5,2.5,11.5,null,{"$f":"(CHOOSE('R1'!$R$2,B92,C92,D92,E92,F92,G92,H92,I92,J92,K92))","v":11.5}]
["Ago",14.3,8,11.6,10.8,9.8000000000000007,8,9.3000000000000007,5.5,2,12.6,null,{"$f":"(CHOOSE('R1'!$R$2,B93,C93,D93,E93,F93,G93,H93,I93,J93,K93))","v":12.6}]
["Sep",14.4,9.1999999999999993,11.8,11.5,10.1,8.4,9.6999999999999993,6.6,2.9,13.3,null,{"$f":"(CHOOSE('R1'!$R$2,B94,C94,D94,E94,F94,G94,H94,I94,J94,K94))","v":13.3}]
["Oct",15,10.8,12.6,13.6,11.1,9.6999999999999993,10.3,8.8000000000000007,4.5,14.3,null,{"$f":"(CHOOSE('R1'!$R$2,B95,C95,D95,E95,F95,G95,H95,I95,J95,K95))","v":14.3}]
["Nov",16,11.6,13.6,17,12.5,11.2,11.3,10.3,6.4,14.6,null,{"$f":"(CHOOSE('R1'!$R$2,B96,C96,D96,E96,F96,G96,H96,I96,J96,K96))","v":14.6}]
["Dic",17.3,12.2,14.8,19.3,14.2,13.1,12.2,11.5,8.1999999999999993,14.7,null,{"$f":"(CHOOSE('R1'!$R$2,B97,C97,D97,E97,F97,G97,H97,I97,J97,K97))","v":14.7}]
[null,{"$f":"AVERAGE(B86:B97)","v":16.8},9.8916666666666657,14.141666666666666,16.058333333333334,12.924999999999999,11.700000000000001,10.633333333333333]
[null,"Ocupantes",{"$f":"'Vivienda Objeto'!H21","v":0}]
[]
["Tconsumo",40,"J","J"]
[null,"Tred","Qconsumo ACS","Q Calef","Qtotal",null,"Q perdido","Q abs",null,"FC ACS Prima"]
["Ene",{"$f":"M86","v":14.5},{"$f":"C$99*41*C29*4180*(43-M86)","v":0},{"$f":"C71*E$48","v":0},{"$f":"C103+D103*E$48","v":0},null,{"$f":"B$7*H$4*B$8*(100-M14)*C29*24*3600","v":0},{"$f":"B$7*G$4*B$8*B$9*G29","v":0},null,{"$f":"(11.6+1.18*50+3.86*M86-2.32*M14)/(100-M14)","v":1.0723076923076922}]
["Feb",14.2,0,0,0,null,0,0,null,1.0718969555035127]
["Mar",14.2,0,0,0,null,0,0,null,1.0920276497695853]
["Abr",13.7,0,0,0,null,0,0,null,1.0938079096045197]
["May",12.4,0,0,0,null,0,0,null,1.0925837837837837]
["Jun",11.5,0,0,0,null,0,0,null,1.0998748696558915]
["Jul",11.5,0,0,0,null,0,0,null,1.0973249738766979]
["Ago",12.6,0,0,0,null,0,0,null,1.141692789968652]
["Sep",13.3,0,0,0,null,0,0,null,1.1466311300639658]
["Oct",14.3,0,0,0,null,0,0,null,1.1580525164113786]
["Nov",14.6,0,0,0,null,0,0,null,1.138402699662542]
["Dic",14.7,0,0,0,null,0,0,null,1.1030465116279069]
[null,null,{"$f":"SUM(C103:C114)","v":0},{"$f":"SUM(D103:D114)","v":0},{"$f":"SUM(E103:E114)","v":0},null,{"$f":"SUM(G103:G114)","v":0},{"$f":"SUM(H103:H114)","v":0}]
[null,null,{"$f":"100*C115/E115","v":{"$error":"#DIV/0!"}},{"$f":"100*D115/E115","v":{"$error":"#DIV/0!"}}]
[null,null,{"$f":"C115/(3600*1000)","v":0},{"$f":"D115/(3600*1000)","v":0}]
[]
["ACS",null,null,null,null,null,"J/mes",null,null,"J/mes"]
[null,"X","Y","fp","fp corr","f","Qsol disp","Qsol/QACS","% Qsol ACS","Qsol ACS"]
["Ene",{"$f":"G103*J103/C103","v":{"$error":"#DIV/0!"}},{"$f":"H103/C103","v":{"$error":"#DIV/0!"}},{"$f":"1.029*C121-0.065*B121-0.245*C121^2+0.0018*B121^2+0.0215*C121^3","v":{"$error":"#DIV/0!"}},{"$f":"IF(D121<0,0,D121)","v":{"$error":"#DIV/0!"}},{"$f":"IF(E121>0.9,0.9,E121)","v":{"$error":"#DIV/0!"}},{"$f":"C103*F121","v":{"$error":"#DIV/0!"}},{"$f":"G121/C103","v":{"$error":"#DIV/0!"}},{"$f":"IF(H121>0.9,0.9,H121)","v":{"$error":"#DIV/0!"}},{"$f":"C103*I121","v":{"$error":"#DIV/0!"}}]
["Feb",{"$error":"#DIV/0!"},{"$error":"#DIV/0!"},{"$error":"#DIV/0!"},{"$error":"#DIV/0!"},{"$error":"#DIV/0!"},{"$error":"#DIV/0!"},{"$error":"#DIV/0!"},{"$error":"#DIV/0!"},{"$error":"#DIV/0!"}]
["Mar",{"$error":"#DIV/0!"},{"$error":"#DIV/0!"},{"$error":"#DIV/0!"},{"$error":"#DIV/0!"},{"$error":"#DIV/0!"},{"$error":"#DIV/0!"},{"$error":"#DIV/0!"},{"$error":"#DIV/0!"},{"$error":"#DIV/0!"}]
["Abr",{"$error":"#DIV/0!"},{"$error":"#DIV/0!"},{"$error":"#DIV/0!"},{"$error":"#DIV/0!"},{"$error":"#DIV/0!"},{"$error":"#DIV/0!"},{"$error":"#DIV/0!"},{"$error":"#DIV/0!"},{"$error":"#DIV/0!"}]
["May",{"$error":"#DIV/0!"},{"$error":"#DIV/0!"},{"$error":"#DIV/0!"},{"$error":"#DIV/0!"},{"$error":"#DIV/0!"},{"$error":"#DIV/0!"},{"$error":"#DIV/0!"},{"$error":"#DIV/0!"},{"$error":"#DIV/0!"}]
["Jun",{"$error":"#DIV/0!"},{"$error":"#DIV/0!"},{"$error":"#DIV/0!"},{"$error":"#DIV/0!"},{"$error":"#DIV/0!"},{"$error":"#DIV/0!"},{"$error":"#DIV/0!"},{"$error":"#DIV/0!"},{"$error":"#DIV/0!"}]
["Jul",{"$error":"#DIV/0!"},{"$error":"#DIV/0!"},{"$error":"#DIV/0!"},{"$error":"#DIV/0!"},{"$error":"#DIV/0!"},{"$error":"#DIV/0!"},{"$error":"#DIV/0!"},{"$error":"#DIV/0!"},{"$error":"#DIV/0!"}]
["Ago",{"$error":"#DIV/0!"},{"$error":"#DIV/0!"},{"$error":"#DIV/0!"},{"$error":"#DIV/0!"},{"$error":"#DIV/0!"},{"$error":"#DIV/0!"},{"$error":"#DIV/0!"},{"$error":"#DIV/0!"},{"$error":"#DIV/0!"}]
["Sep",{"$error":"#DIV/0!"},{"$error":"#DIV/0!"},{"$error":"#DIV/0!"},{"$error":"#DIV/0!"},{"$error":"#DIV/0!"},{"$error":"#DIV/0!"},{"$error":"#DIV/0!"},{"$error":"#DIV/0!"},{"$error":"#DIV/0!"}]
["Oct",{"$error":"#DIV/0!"},{"$error":"#DIV/0!"},{"$error":"#DIV/0!"},{"$error":"#DIV/0!"},{"$error":"#DIV/0!"},{"$error":"#DIV/0!"},{"$error":"#DIV/0!"},{"$error":"#DIV/0!"},{"$error":"#DIV/0!"}]
["Nov",{"$error":"#DIV/0!"},{"$error":"#DIV/0!"},{"$error":"#DIV/0!"},{"$error":"#DIV/0!"},{"$error":"#DIV/0!"},{"$error":"#DIV/0!"},{"$error":"#DIV/0!"},{"$error":"#DIV/0!"},{"$error":"#DIV/0!"}]
["Dic",{"$error":"#DIV/0!"},{"$error":"#DIV/0!"},{"$error":"#DIV/0!"},{"$error":"#DIV/0!"},{"$error":"#DIV/0!"},{"$error":"#DIV/0!"},{"$error":"#DIV/0!"},{"$error":"#DIV/0!"},{"$error":"#DIV/0!"}]
[null,null,null,null,null,null,null,null,null,{"$f":"SUM(J121:J132)","v":{"$error":"#DIV/0!"}}]
[]
["CALEFA",null,null,null,null,null,"J/mes",null,null,null,"J/mes"]
[null,"X","Y","fp","f","f cor","Qsol disp total","Q sol disp calefa","Q sol dip cal corr","Qsol/Qcalefa","% Qsol calefa","Q sol calefa",null,"Q sol total","Rend sistema solar"]
["Ene",{"$f":"G103*J103/E103","v":{"$error":"#DIV/0!"}},{"$f":"H103/E103","v":{"$error":"#DIV/0!"}},{"$f":"1.029*C137-0.065*B137-0.245*C137^2+0.0018*B137^2+0.0215*C137^3","v":{"$error":"#DIV/0!"}},{"$f":"IF(D137>0.9,0.9,D137)","v":{"$error":"#DIV/0!"}},{"$f":"IF(E137<0,0,E137)","v":{"$error":"#DIV/0!"}},{"$f":"E103*F137","v":{"$error":"#DIV/0!"}},{"$f":"G137-J121","v":{"$error":"#DIV/0!"}},{"$f":"IF(H137<0,0,H137)","v":{"$error":"#DIV/0!"}},{"$f":"I137/(D103+0.0001)","v":{"$error":"#DIV/0!"}},{"$f":"IF(J137>0.9,0.9,J137)","v":{"$error":"#DIV/0!"}},{"$f":"D103*K137","v":{"$error":"#DIV/0!"}},null,{"$f":"L137+J121","v":{"$error":"#DIV/0!"}},{"$f":"100*N137/(G29*B$7)","v":{"$error":"#DIV/0!"}}]
["Feb",{"$error":"#DIV/0!"},{"$error":"#DIV/0!"},{"$error":"#DIV/0!"},{"$error":"#DIV/0!"},{"$error":"#DIV/0!"},{"$error":"#DIV/0!"},{"$error":"#DIV/0!"},{"$error":"#DIV/0!"},{"$error":"#DIV/0!"},{"$error":"#DIV/0!"},{"$error":"#DIV/0!"},null,{"$error":"#DIV/0!"},{"$error":"#DIV/0!"}]
["Mar",{"$error":"#DIV/0!"},{"$error":"#DIV/0!"},{"$error":"#DIV/0!"},{"$error":"#DIV/0!"},{"$error":"#DIV/0!"},{"$error":"#DIV/0!"},{"$error":"#DIV/0!"},{"$error":"#DIV/0!"},{"$error":"#DIV/0!"},{"$error":"#DIV/0!"},{"$error":"#DIV/0!"},null,{"$error":"#DIV/0!"},{"$error":"#DIV/0!"}]
["Abr",{"$error":"#DIV/0!"},{"$error":"#DIV/0!"},{"$error":"#DIV/0!"},{"$error":"#DIV/0!"},{"$error":"#DIV/0!"},{"$error":"#DIV/0!"},{"$error":"#DIV/0!"},{"$error":"#DIV/0!"},{"$error":"#DIV/0!"},{"$error":"#DIV/0!"},{"$error":"#DIV/0!"},null,{"$error":"#DIV/0!"},{"$error":"#DIV/0!"}]
["May",{"$error":"#DIV/0!"},{"$error":"#DIV/0!"},{"$error":"#DIV/0!"},{"$error":"#DIV/0!"},{"$error":"#DIV/0!"},{"$error":"#DIV/0!"},{"$error":"#DIV/0!"},{"$error":"#DIV/0!"},{"$error":"#DIV/0!"},{"$error":"#DIV/0!"},{"$error":"#DIV/0!"},null,{"$error":"#DIV/0!"},{"$error":"#DIV/0!"}]
["Jun",{"$error":"#DIV/0!"},{"$error":"#DIV/0!"},{"$error":"#DIV/0!"},{"$error":"#DIV/0!"},{"$error":"#DIV/0!"},{"$error":"#DIV/0!"},{"$error":"#DIV/0!"},{"$error":"#DIV/0!"},{"$error":"#DIV/0!"},{"$error":"#DIV/0!"},{"$error":"#DIV/0!"},null,{"$error":"#DIV/0!"},{"$error":"#DIV/0!"}]
["Jul",{"$error":"#DIV/0!"},{"$error":"#DIV/0!"},{"$error":"#DIV/0!"},{"$error":"#DIV/0!"},{"$error":"#DIV/0!"},{"$error":"#DIV/0!"},{"$error":"#DIV/0!"},{"$error":"#DIV/0!"},{"$error":"#DIV/0!"},{"$error":"#DIV/0!"},{"$error":"#DIV/0!"},null,{"$error":"#DIV/0!"},{"$error":"#DIV/0!"}]
["Ago",{"$error":"#DIV/0!"},{"$error":"#DIV/0!"},{"$error":"#DIV/0!"},{"$error":"#DIV/0!"},{"$error":"#DIV/0!"},{"$error":"#DIV/0!"},{"$error":"#DIV/0!"},{"$error":"#DIV/0!"},{"$error":"#DIV/0!"},{"$error":"#DIV/0!"},{"$error":"#DIV/0!"},null,{"$error":"#DIV/0!"},{"$error":"#DIV/0!"}]
["Sep",{"$error":"#DIV/0!"},{"$error":"#DIV/0!"},{"$error":"#DIV/0!"},{"$error":"#DIV/0!"},{"$error":"#DIV/0!"},{"$error":"#DIV/0!"},{"$error":"#DIV/0!"},{"$error":"#DIV/0!"},{"$error":"#DIV/0!"},{"$error":"#DIV/0!"},{"$error":"#DIV/0!"},null,{"$error":"#DIV/0!"},{"$error":"#DIV/0!"}]
["Oct",{"$error":"#DIV/0!"},{"$error":"#DIV/0!"},{"$error":"#DIV/0!"},{"$error":"#DIV/0!"},{"$error":"#DIV/0!"},{"$error":"#DIV/0!"},{"$error":"#DIV/0!"},{"$error":"#DIV/0!"},{"$error":"#DIV/0!"},{"$error":"#DIV/0!"},{"$error":"#DIV/0!"},null,{"$error":"#DIV/0!"},{"$error":"#DIV/0!"}]
["Nov",{"$error":"#DIV/0!"},{"$error":"#DIV/0!"},{"$error":"#DIV/0!"},{"$error":"#DIV/0!"},{"$error":"#DIV/0!"},{"$error":"#DIV/0!"},{"$error":"#DIV/0!"},{"$error":"#DIV/0!"},{"$error":"#DIV/0!"},{"$error":"#DIV/0!"},{"$error":"#DIV/0!"},null,{"$error":"#DIV/0!"},{"$error":"#DIV/0!"}]
["Dic",{"$error":"#DIV/0!"},{"$error":"#DIV/0!"},{"$error":"#DIV/0!"},{"$error":"#DIV/0!"},{"$error":"#DIV/0!"},{"$error":"#DIV/0!"},{"$error":"#DIV/0!"},{"$error":"#DIV/0!"},{"$error":"#DIV/0!"},{"$error":"#DIV/0!"},{"$error":"#DIV/0!"},null,{"$error":"#DIV/0!"},{"$error":"#DIV/0!"}]
[null,null,null,null,null,null,null,null,null,null,{"$f":"SUM(L137:L148)","v":{"$error":"#DIV/0!"}},{"$f":"SUM(L137:L148)","v":{"$error":"#DIV/0!"}},null,{"$f":"SUM(N137:N148)","v":{"$error":"#DIV/0!"}}]
["% Qsol ACS",{"$f":"100*J133/C115","v":{"$error":"#DIV/0!"}},"%",{"$f":"J133/3600000","v":{"$error":"#DIV/0!"}}]
["% Q sol CALEF",{"$f":"100*(K149)/(D115+0.0001)","v":{"$error":"#DIV/0!"}},"%",{"$f":"L149/3600000","v":{"$error":"#DIV/0!"}}]

{"sheet":"R5","index":7,"n_rows":23,"n_cols":21,"rows_kept":23,"cut":false,"hidden":true,"merged":[]}
["Sistema solar para electricidad",null,null,null,null,null,null,null,"Defecto","Propiuesto",null,null,null,"Existe sistema",null,{"$f":"'R1'!D81","v":1},"Si"]
["Potencia nominal",{"$f":"'CEV CEVE'!H139","v":750},"W",null,"Eficiencia nominal  inversor",null,null,null,0.92,{"$f":"'CEV CEVE'!J144","v":0},null,null,null,"Factor multiplicador",null,{"$f":"IF(P1=1,0,1)","v":0}]
["Ta/Tan",0.87,null,null,"Eficiencia inversor a usar",null,null,null,{"$f":"IF(J2=0,I2,J2)","v":0.92}]
["ropiso",0.2,null,null,"Aporte solar maximo [kWh/año]",null,null,null,{"$f":"F23*I3*J8","v":2028.8599867018033}]
[]
[]
[null,null,null,null,null,null,null,null,true,"Sistema on grid"]
[null,null,null,null,null,null,null,null,"Factor on grid",{"$f":"IF(I7=TRUE,1,0.5)","v":1}]
["FCSombras",{"$f":"'CEV CEVE'!H112","v":2},null,null,"kWh/m2 dia","kWh/año"]
["Radiación solar","A usar","N","Rad solar por comuna","HT","HT"]
["Ene",{"$f":"D11/C11","v":6.918787096774194},31,{"$f":"'R6'!Q5","v":214.48240000000001},{"$f":"'R7'!BR8*B$9","v":11.162612021855361},{"$f":"E11*C11*B$2/1000","v":259.53072950813714}]
["Feb",5.7852107142857134,28,{"$f":"'R6'!R5","v":161.98589999999999},{"$f":"'R7'!BR9*B$9","v":10.516064687490775},220.83735843730631]
["Mar",4.6366999999999994,31,{"$f":"'R6'!S5","v":143.73769999999999},{"$f":"'R7'!BR10*B$9","v":9.9997476943850927},232.49413389445343]
["Abr",3.1664316666666665,30,{"$f":"'R6'!T5","v":94.992949999999993},{"$f":"'R7'!BR11*B$9","v":7.5158364578257038},169.10632030107834]
["May",1.7659583870967741,31,{"$f":"'R6'!U5","v":54.744709999999998},{"$f":"'R7'!BR12*B$9","v":4.6804426760961011},108.82029221923435]
["Jun",1.4498823333333335,30,{"$f":"'R6'!V5","v":43.496470000000002},{"$f":"'R7'!BR13*B$9","v":4.0858378269312396},91.931351105952899]
["Jul",1.5401519354838709,31,{"$f":"'R6'!W5","v":47.744709999999998},{"$f":"'R7'!BR14*B$9","v":4.2748624052510422},99.390550922086717]
["Ago",2.3868693548387094,31,{"$f":"'R6'!X5","v":73.992949999999993},{"$f":"'R7'!BR15*B$9","v":5.8307769892442458},135.56556499992874]
["Sep",3.6413733333333336,30,{"$f":"'R6'!Y5","v":109.24120000000001},{"$f":"'R7'!BR16*B$9","v":7.7400900999281488},174.15202724838335]
["Oct",5.1285774193548379,31,{"$f":"'R6'!Z5","v":158.98589999999999},{"$f":"'R7'!BR17*B$9","v":9.7606820624601003},226.93585795219735]
["Nov",6.1995299999999993,30,{"$f":"'R6'!AA5","v":185.98589999999999},{"$f":"'R7'!BR18*B$9","v":10.468467592562913},235.54052083266552,null,null,null,null,null,null,null,null,null,null,null,null,null,null," "]
["Dic",6.7009870967741936,31,{"$f":"'R6'!AB5","v":207.73060000000001},{"$f":"'R7'!BR19*B$9","v":10.794747820200707},250.97788681966642,null,null,null,null,null,null,null,null,null,null,null,null,null,null," "]
[null,null,null,null,null,{"$f":"SUM(F11:F22)","v":2205.2825942410905},null,null,null,null,null,null,null,null,null,null,null,null,null,null," "]

{"sheet":"R6","index":8,"n_rows":347,"n_cols":33,"rows_kept":347,"cut":false,"hidden":true,"merged":[]}
["Radiación solar",null,null,null,null,null,null,null,null,null,null,null,null,null,null,"Indice",null,null,null,null,null,null,null,null,null,null,null,null,null,"lugar","indice"]
[null,"Ene","Feb","Mar","Abr","May","Jun","Jul","Ago","Sep","Oct","Nov","Dic","Total",null,{"$f":"AF2","v":62},null,null,null,null,null,null,null,null,null,null,null,null,null,"Aisén",13,{"$f":"VLOOKUP(AG2,AD2:AE347,2,FALSE)","v":62},"Concepción"]
["Algarrobo",193.94120000000001,151.06280000000001,133.4873,88.546090000000007,61,48,56.970599999999997,79.453909999999993,107.3617,146.4539,175.39510000000001,194.94120000000001,1436.6138000000001,null,null,null,null,null,null,null,null,null,null,null,null,null,null,null,"Algarrobo",1]
["Alhué",219.93610000000001,174.6223,151.69759999999999,99.174120000000002,65.964730000000003,49.133470000000003,61.14817,83.04316,114.8629,160.78729999999999,197.1276,219.96199999999999,1597.4594500000001,null,{"$f":"INDEX($A$3:$M$347,$P$2,1)","v":"Concepción"},"Ene","Feb","Mar","Abr","May","Jun","Jul","Ago","Sep","Oct","Nov","Dic",null,"Alhué",2]
["Alto Biobío",239.47929999999999,205.14750000000001,165.6626,103.8565,69.436199999999999,48.772390000000001,54.601260000000003,76.166319999999999,102.9627,161.80449999999999,196.10380000000001,225.6593,1649.65237,null,null,{"$f":"INDEX($A$3:$M$347,$P$2,2)","v":214.48240000000001},{"$f":"INDEX($A$3:$M$347,$P$2,3)","v":161.98589999999999},{"$f":"INDEX($A$3:$M$347,$P$2,4)","v":143.73769999999999},{"$f":"INDEX($A$3:$M$347,$P$2,5)","v":94.992949999999993},{"$f":"INDEX($A$3:$M$347,$P$2,6)","v":54.744709999999998},{"$f":"INDEX($A$3:$M$347,$P$2,7)","v":43.496470000000002},{"$f":"INDEX($A$3:$M$347,$P$2,8)","v":47.744709999999998},{"$f":"INDEX($A$3:$M$347,$P$2,9)","v":73.992949999999993},{"$f":"INDEX($A$3:$M$347,$P$2,10)","v":109.24120000000001},{"$f":"INDEX($A$3:$M$347,$P$2,11)","v":158.98589999999999},{"$f":"INDEX($A$3:$M$347,$P$2,12)","v":185.98589999999999},{"$f":"INDEX($A$3:$M$347,$P$2,13)","v":207.73060000000001},null,"Alto Biobío",3]
["Alto del Carmen",258.3535,224.0959,202.18279999999999,152.81440000000001,126.8327,105.35550000000001,114.7859,136.91900000000001,168.52340000000001,223.07390000000001,242.1464,289.59780000000001,2244.6812000000004,null,null,null,null,null,null,null,null,null,null,null,null,null,null,null,"Alto del Carmen",4]
["Alto Hospicio",215.89699999999999,192.99539999999999,198.83529999999999,150.5078,136.95859999999999,119.93559999999999,121.2557,132.71109999999999,157.0248,199.1848,214.59700000000001,229.80770000000001,2069.7107999999998,null,null,null,null,null,null,null,null,null,null,null,null,null,null,null,"Alto Hospicio",5]
["Ancud",174.56909999999999,149.3382,109.5329,70.515569999999997,43.36083,30.152570000000001,36.82582,58.454990000000002,84.996390000000005,118.6855,142.6071,170.81809999999999,1189.8570699999998,null,null,null,null,null,null,null,null,null,null,null,null,null,null,null,"Ancud",6]
["Andacollo",219.75620000000001,184.8306,167.65129999999999,124.01990000000001,95.96678,80.674139999999994,91.718549999999993,111.5766,143.6052,192.7775,210.46190000000001,232.55950000000001,1855.59817,null,null,null,null,null,null,null,null,null,null,null,null,null,null,null,"Andacollo",7]
["Angol",211.64230000000001,170.32859999999999,144.72659999999999,91.416349999999994,56.927700000000002,43.871679999999998,48.27617,72.395420000000001,106.5894,153.87110000000001,179.42240000000001,203.45429999999999,1482.9220199999995,null,null,null,null,null,null,null,null,null,null,null,null,null,null,null,"Angol",8]
["Antofagasta",244.71860000000001,220.74109999999999,210.94280000000001,164.3767,146.44550000000001,131.90690000000001,142.65459999999999,158.9922,176.56370000000001,228.87190000000001,250.60570000000001,283.16770000000002,2359.9874,null,null,null,null,null,null,null,null,null,null,null,null,null,null,null,"Antártica",325]
["Antuco",237.0737,200.95410000000001,164.55439999999999,104.87739999999999,68.84496,48.156300000000002,51.568399999999997,72.747559999999993,102.6413,158.9298,192.77420000000001,227.012,1630.1341200000002,null,null,null,null,null,null,null,null,null,null,null,null,null,null,null,"Antofagasta",9]
["Arauco",205.6216,156.87350000000001,138.41820000000001,90.311390000000003,52.984859999999998,41.654739999999997,45.688330000000001,70.244219999999999,104.8198,151.642,177.7022,199.6463,1435.6071400000001,null,null,null,null,null,null,null,null,null,null,null,null,null,null,null,"Antuco",10]
["Arica",228.66239999999999,200.46510000000001,208.59139999999999,178.1686,161.04179999999999,143.51259999999999,155.4401,170.93960000000001,191.7269,229.72730000000001,235.27760000000001,238.11019999999999,2341.6635999999999,null,null,null,null,null,null,null,null,null,null,null,null,null,null,null,"Arauco",11]
["Aysén",161.3484,129.62649999999999,104.742,60.715359999999997,35.257770000000001,26.50675,31.48047,52.504489999999997,85.857200000000006,127.2175,145.63300000000001,165.27119999999999,1126.1606400000001,null,null,null,null,null,null,null,null,null,null,null,null,null,null,null,"Arica",12]
["Buin",243.12389999999999,194.46530000000001,168.07910000000001,111.7268,76.681970000000007,56.729579999999999,70.681970000000007,93.012749999999997,127.9777,178.1626,218.6832,246.29419999999999,1785.61907,null,null,null,null,null,null,null,null,null,null,null,null,null,null,null,"Buin",14]
["Bulnes",217.99270000000001,166.6618,146.6618,96.661779999999993,56.330889999999997,44,49,74.330889999999997,111.6618,160.99270000000001,188.99270000000001,210.3236,1523.6106599999998,null,null,null,null,null,null,null,null,null,null,null,null,null,null,null,"Bulnes",15]
["Cabildo",243.97049999999999,200.79060000000001,169.6414,120.20659999999999,90.959860000000006,67.083879999999994,78.967420000000004,100.1288,133.68610000000001,183.43539999999999,220.20140000000001,252.6575,1861.72946,null,null,null,null,null,null,null,null,null,null,null,null,null,null,null,"Cabildo",16]
["Cabo de Hornos",131.00200000000001,92.886309999999995,71.981009999999998,37.906059999999997,19.598590000000002,10.277799999999999,14.04806,30.73188,63.037129999999998,100.2287,131.67740000000001,144.76009999999999,848.13504000000012,null,null,null,null,null,null,null,null,null,null,null,null,null,null,null,"Cabo de Hornos",17]
["Cabrero",216.17019999999999,165.50720000000001,144.95359999999999,95.169970000000006,56.0002,43.506790000000002,48.013570000000001,73.446579999999997,109.6768,159.6634,187.17019999999999,208.88,1508.1585100000002,null,null,null,null,null,null,null,null,null,null,null,null,null,null,null,"Cabrero",18]
["Calama",235.3783,218.024,215.75620000000001,180.8399,168.4143,153.82320000000001,161.96449999999999,177.5164,193.08090000000001,246.77809999999999,263.4117,290.9502,2505.9376999999995,null,null,null,null,null,null,null,null,null,null,null,null,null,null,null,"Calama",19]
["Calbuco",181.6139,155.35239999999999,113.3181,73.300110000000004,44.811160000000001,31.180420000000002,38.180419999999998,60.888269999999999,88.760159999999999,122.94880000000001,145.66489999999999,176.76,1232.7786400000002,null,null,null,null,null,null,null,null,null,null,null,null,null,null,null,"Calbuco",20]
["Caldera",202.1027,170.09389999999999,158.2961,114.4704,96.753460000000004,82.871849999999995,95.504850000000005,117.88,143.5882,179.88409999999999,187.3014,211.40960000000001,1760.1565600000001,null,null,null,null,null,null,null,null,null,null,null,null,null,null,null,"Caldera",21]
["Calera",205,158,142,94,66,51,61,86,117,154,186,205,1525,null,null,null,null,null,null,null,null,null,null,null,null,null,null,null,"Calera",22]
["Calera de Tango",245,195,170,110,75,57,69,92,126,180,221,248,1788,null,null,null,null,null,null,null,null,null,null,null,null,null,null,null,"Calera de Tango",23]
["Calle Larga",248.6986,207.88939999999999,173.90110000000001,124.1571,93.636799999999994,68.091899999999995,83.147450000000006,103.96420000000001,138.74250000000001,186.142,225.68899999999999,254.21680000000001,1908.2768500000002,null,null,null,null,null,null,null,null,null,null,null,null,null,null,null,"Calle Larga",24]
["Camarones",226.7672,195.97550000000001,206.24189999999999,181.17959999999999,167.9821,149.72989999999999,161.5342,178.4845,199.458,240.0625,248.89510000000001,244.53809999999999,2400.8486000000003,null,null,null,null,null,null,null,null,null,null,null,null,null,null,null,"Camarones",25]
["Camiña",229.49029999999999,197.5368,208.3339,184.126,169.9033,151.66399999999999,163.3494,181.41419999999999,200.17760000000001,242.70689999999999,250.67609999999999,255.5642,2434.9426999999996,null,null,null,null,null,null,null,null,null,null,null,null,null,null,null,"Camiña",26]
["Canela",210.06649999999999,172.16659999999999,153.62739999999999,109.05459999999999,81.424940000000007,66.991380000000007,76.448549999999997,96.564390000000003,125.56780000000001,171.3715,197.19130000000001,219.51150000000001,1679.9864599999999,null,null,null,null,null,null,null,null,null,null,null,null,null,null,null,"Canela",27]
["Cañete",205.29949999999999,159.00489999999999,139.03389999999999,90.252099999999999,53.870139999999999,41.551169999999999,46.183199999999999,70.686940000000007,103.9725,150.37549999999999,175.51769999999999,199.47620000000001,1435.2237500000001,null,null,null,null,null,null,null,null,null,null,null,null,null,null,null,"Cañete",28]
["Carahue",194.89089999999999,164.7362,140.07470000000001,87.987620000000007,55.388089999999998,40.48516,46.818429999999999,70.219080000000005,100.4877,138.5899,162.13730000000001,185.9212,1387.7362800000001,null,null,null,null,null,null,null,null,null,null,null,null,null,null,null,"Carahue",29]
["Cartagena",194.07429999999999,150.06809999999999,133.0557,88.030950000000004,61.024760000000001,48.018569999999997,57.018569999999997,80.030950000000004,109.0371,147.04329999999999,176.06190000000001,195.07429999999999,1438.5384999999997,null,null,null,null,null,null,null,null,null,null,null,null,null,null,null,"Cartagena",30]
["Casablanca",200.38120000000001,156.6568,138.18340000000001,91.524439999999998,63.183219999999999,49.401780000000002,58.93235,81.552869999999999,110.2148,150.70249999999999,181.28530000000001,201.73070000000001,1483.7493600000003,null,null,null,null,null,null,null,null,null,null,null,null,null,null,null,"Casablanca",31]
["Castro",168.26140000000001,145.4041,106.5532,67.844949999999997,42.422469999999997,29.422470000000001,35.422469999999997,55.981670000000001,83.981669999999994,118.4165,143.54089999999999,166.1001,1163.3519000000001,null,null,null,null,null,null,null,null,null,null,null,null,null,null,null,"Castro",32]
["Catemu",245.99440000000001,196.3014,171.21729999999999,115.1786,82.364069999999998,62.970570000000002,75.580129999999997,100.4297,134.99510000000001,185.23509999999999,223.53649999999999,250.30449999999999,1844.1073699999997,null,null,null,null,null,null,null,null,null,null,null,null,null,null,null,"Catemu",33]
["Cauquenes",222.3391,175.04830000000001,151.5909,98.333789999999993,58.904170000000001,44.423699999999997,51.99803,76.917379999999994,113.345,162.51560000000001,195.32980000000001,215.90020000000001,1566.64597,null,null,null,null,null,null,null,null,null,null,null,null,null,null,null,"Cauquenes",34]
["Cerrillos",245,195,170,110,75,57,69,92,126,180,221,248,1788,null,null,null,null,null,null,null,null,null,null,null,null,null,null,null,"Cerrillos",35]
["Cerro Navia",245,195,170,110,75,57,69,92,126,180,221,248,1788,null,null,null,null,null,null,null,null,null,null,null,null,null,null,null,"Cerro Navia",36]
["Chaitén",170.64150000000001,144.80459999999999,111.1236,66.789140000000003,41.031109999999998,30.625260000000001,33.260629999999999,55.6036,87.303240000000002,126.3263,154.12710000000001,166.29079999999999,1187.92688,null,null,null,null,null,null,null,null,null,null,null,null,null,null,null,"Chaitén",37]
["Chanco",220.18860000000001,172.2877,149.6438,98.634649999999993,59.996940000000002,44.362290000000002,52.72457,77,112.6377,161.27539999999999,193.6438,214.6438,1557.0392500000003,null,null,null,null,null,null,null,null,null,null,null,null,null,null,null,"Chanco",38]
["Chañaral",233.1069,196.18700000000001,181.51570000000001,133.89340000000001,116.32559999999999,100.8693,113.7931,137.3073,165.2165,208.84190000000001,219.9829,248.12819999999999,2055.1678000000002,null,null,null,null,null,null,null,null,null,null,null,null,null,null,null,"Chañaral",39]
["Chépica",218.57839999999999,177.57069999999999,151.99619999999999,96.003839999999997,58.011510000000001,39.187420000000003,52.597540000000002,75.011510000000001,109.5899,153.5899,191.58600000000001,213.5899,1537.3128199999999,null,null,null,null,null,null,null,null,null,null,null,null,null,null,null,"Chépica",40]
["Chiguayante",218.14009999999999,164.91210000000001,146.29810000000001,96.456050000000005,55.842030000000001,44.228020000000001,48.842030000000001,75.456050000000005,111.0701,161.91210000000001,188.91210000000001,211.75409999999999,1523.8228800000002,null,null,null,null,null,null,null,null,null,null,null,null,null,null,null,"Chiguayante",41]
["Chile Chico",193.17910000000001,148.5566,120.68810000000001,68.591319999999996,39.540610000000001,29.455719999999999,35.17015,57.765709999999999,95.717740000000006,140.83600000000001,168.7413,186.09540000000001,1284.3377500000001,null,null,null,null,null,null,null,null,null,null,null,null,null,null,null,"Chile Chico",42]
["Chillán",219.0899,169.22819999999999,147.94130000000001,97.063860000000005,57.026069999999997,44.110840000000003,49.830800000000004,75.090289999999996,111.86709999999999,161.0231,189.91650000000001,211.76179999999999,1533.94976,null,null,null,null,null,null,null,null,null,null,null,null,null,null,null,"Chillán",43]
["Chillán Viejo",217.8657,167.19470000000001,146.8271,96.444670000000002,56.42098,44.014859999999999,49.382429999999999,74.435839999999999,111.4447,160.49809999999999,188.8657,210.27180000000001,1523.6665800000001,null,null,null,null,null,null,null,null,null,null,null,null,null,null,null,"Chillán Viejo",44]
["Chimbarongo",227.03579999999999,182.52969999999999,157.0436,100.6306,63.907600000000002,44.13306,57.468089999999997,79.829599999999999,113.8031,159.56620000000001,198.54470000000001,221.1832,1605.6752499999998,null,null,null,null,null,null,null,null,null,null,null,null,null,null,null,"Chimbarongo",45]
["Cholchol",199.66560000000001,167.44479999999999,140.09719999999999,87.85051,54.899120000000003,40.876649999999998,46.85051,70.678560000000004,101.2824,143.12,167.9742,191.58170000000001,1412.3212500000002,null,null,null,null,null,null,null,null,null,null,null,null,null,null,null,"Cholchol",46]
["Chonchi",167.804,145.88550000000001,106.5429,67.65307,42.139850000000003,29.528449999999999,34.960889999999999,56.761069999999997,84.193299999999994,118.7796,144.60470000000001,166.55369999999999,1165.4070299999998,null,null,null,null,null,null,null,null,null,null,null,null,null,null,null,"Chonchi",47]
["Cisnes",167.31530000000001,140.85239999999999,108.1005,63.700360000000003,38.21481,28.914480000000001,32.491109999999999,55.232039999999998,88.695329999999998,128.9332,153.32060000000001,168.8758,1174.6459300000001,null,null,null,null,null,null,null,null,null,null,null,null,null,null,null,"Cisnes",48]
["Cobquecura",222.19980000000001,169.83090000000001,150.45820000000001,98.913560000000004,58.913559999999997,45.741619999999998,51.913559999999997,77.913560000000004,114.1143,164.85589999999999,192.83090000000001,214.45820000000001,1562.1440599999999,null,null,null,null,null,null,null,null,null,null,null,null,null,null,null,"Cobquecura",49]
["Cochamó",187.8998,156.2175,125.07470000000001,79.322739999999996,48.556220000000003,39.088509999999999,41.39049,61.538069999999998,86.090220000000002,133.19800000000001,165.93610000000001,187.81039999999999,1312.1227500000002,null,null,null,null,null,null,null,null,null,null,null,null,null,null,null,"Cochamó",50]
["Cochrane",174.46170000000001,137.37819999999999,114.4692,64.237660000000005,38.014409999999998,27.23104,33.426279999999998,54.402259999999998,91.699920000000006,133.20079999999999,154.96129999999999,169.0727,1192.5554699999998,null,null,null,null,null,null,null,null,null,null,null,null,null,null,null,"Cochrane",51]
["Codegua",240.97900000000001,195.99809999999999,166.07230000000001,111.1382,77.169839999999994,56.530650000000001,69.524860000000004,92.454470000000001,126.28319999999999,177.23,214.91759999999999,240.67310000000001,1768.9713200000001,null,null,null,null,null,null,null,null,null,null,null,null,null,null,null,"Codegua",52]
["Coelemu",215.5087,163.5087,145.3391,96.169550000000001,56.169550000000001,44.084780000000002,49.084780000000002,75.169550000000001,111.1696,160.3391,186.5087,209.4239,1512.4760099999999,null,null,null,null,null,null,null,null,null,null,null,null,null,null,null,"Coelemu",53]
["Coihueco",230.28219999999999,189.22540000000001,157.70920000000001,101.8385,64.143060000000006,46.50873,52.151530000000001,74.536569999999998,107.6465,158.9468,191.80029999999999,219.38290000000001,1594.1716900000001,null,null,null,null,null,null,null,null,null,null,null,null,null,null,null,"Coihaique",71]
["Coinco",218.59569999999999,173.8766,150.8766,98.876570000000001,65.876570000000001,48.438290000000002,60.438290000000002,82.157430000000005,113.8766,159.59569999999999,196.31489999999999,219.03399999999999,1587.9572500000004,null,null,null,null,null,null,null,null,null,null,null,null,null,null,null,"Coihueco",54]
["Colbún",233.4803,197.42840000000001,162.9306,107.0774,71.145899999999997,46.191929999999999,55.353400000000001,75.839259999999996,106.0043,152.2535,188.50200000000001,224.5557,1620.76269,null,null,null,null,null,null,null,null,null,null,null,null,null,null,null,"Coinco",55]
["Colchane",208.83539999999999,183.1172,183.48390000000001,175.6918,174.93940000000001,148.14609999999999,162.8819,180.61529999999999,203.44550000000001,243.6523,271.73320000000001,238.53380000000001,2375.0758000000001,null,null,null,null,null,null,null,null,null,null,null,null,null,null,null,"Colbún",56]
["Colina",247.31219999999999,201.6977,172.4958,116.0943,82.532830000000004,62.173470000000002,74.75103,95.952740000000006,130.67599999999999,184.55850000000001,223.97499999999999,251.11770000000001,1843.33727,null,null,null,null,null,null,null,null,null,null,null,null,null,null,null,"Colchane",57]
["Collipulli",218.9786,181.58850000000001,149.85239999999999,94.408339999999995,60.091450000000002,43.8108,51.053530000000002,73.83287,107.7016,160.45769999999999,184.56229999999999,211.53200000000001,1537.8700899999999,null,null,null,null,null,null,null,null,null,null,null,null,null,null,null,"Colina",58]
["Coltauco",215.62719999999999,171.58189999999999,148.58189999999999,96.467429999999993,63.295670000000001,47.033320000000003,59.033320000000003,80.193119999999993,111.4102,156.4555,192.61529999999999,214.77510000000001,1557.06996,null,null,null,null,null,null,null,null,null,null,null,null,null,null,null,"Collipulli",59]
["Combarbalá",260.29660000000001,217.315,181.05199999999999,135.23670000000001,105.2533,82.961950000000002,94.413640000000001,112.1991,148.5162,204.86269999999999,236.97380000000001,274.404,2053.4849899999999,null,null,null,null,null,null,null,null,null,null,null,null,null,null,null,"Coltauco",60]
["Concepción",214.48240000000001,161.98589999999999,143.73769999999999,94.992949999999993,54.744709999999998,43.496470000000002,47.744709999999998,73.992949999999993,109.24120000000001,158.98589999999999,185.98589999999999,207.73060000000001,1497.1213899999998,null,null,null,null,null,null,null,null,null,null,null,null,null,null,null,"Combarbalá",61]
["Conchalí",246.6585,196.6585,171.2439,111.2439,75.829269999999994,57.621949999999998,69.829269999999994,93.243899999999996,127.2439,181.6585,222.86590000000001,250.07320000000001,1804.1706899999997,null,null,null,null,null,null,null,null,null,null,null,null,null,null,null,"Concepción",62]
["Concón",188,146,129,87,62,49,57,81,108,144,171,189,1411,null,null,null,null,null,null,null,null,null,null,null,null,null,null,null,"Conchalí",63]
["Constitución",218.65690000000001,174.09119999999999,151.1294,97.399929999999998,59.386119999999998,42.952019999999997,53.386119999999998,76.872039999999998,112.22020000000001,158.86840000000001,194.33260000000001,215.18100000000001,1554.4759300000001,null,null,null,null,null,null,null,null,null,null,null,null,null,null,null,"Concón",64]
["Contulmo",204.21530000000001,162.61369999999999,137.82040000000001,88.612570000000005,53.605159999999998,41.002470000000002,46.602690000000003,70.002470000000002,102.6101,147.19929999999999,174.00739999999999,197.00989999999999,1425.3014600000001,null,null,null,null,null,null,null,null,null,null,null,null,null,null,null,"Constitución",65]
["Copiapó",241.5712,210.49260000000001,193.2244,145.5478,124.5119,109.0312,119.80629999999999,139.3639,165.82509999999999,216.70240000000001,236.18389999999999,272.08319999999998,2174.3438999999998,null,null,null,null,null,null,null,null,null,null,null,null,null,null,null,"Contulmo",66]
["Coquimbo",195.32910000000001,168.18129999999999,155.36779999999999,115.3066,89.106610000000003,75.253950000000003,86.212680000000006,105.92919999999999,132.87639999999999,176.53299999999999,189.46850000000001,211.101,1700.6661399999998,null,null,null,null,null,null,null,null,null,null,null,null,null,null,null,"Copiapó",67]
["Coronel",214.0986,162.29519999999999,143.8349,94.1066,54.76341,43.303150000000002,47.76341,73.665139999999994,109.3796,158.73660000000001,185.64330000000001,208.40610000000001,1495.9960099999998,null,null,null,null,null,null,null,null,null,null,null,null,null,null,null,"Coquimbo",68]
["Corral",197.72929999999999,165.18969999999999,126.004,80.414900000000003,50.810040000000001,36.838430000000002,43.414099999999998,66.401589999999999,95.395799999999994,131.66970000000001,158.8246,191.4024,1344.09456,null,null,null,null,null,null,null,null,null,null,null,null,null,null,null,"Coronel",69]
["Coyhaique",197.08590000000001,153.70330000000001,122.8772,71.647300000000001,41.505600000000001,31.375720000000001,37.821660000000001,61.676049999999996,101.5283,148.51130000000001,179.61789999999999,200.04259999999999,1347.39283,null,null,null,null,null,null,null,null,null,null,null,null,null,null,null,"Corral",70]
["Cunco",204.39189999999999,177.63210000000001,144.4931,89.605339999999998,58.757820000000002,42.625039999999998,49.367570000000001,71.27046,100.116,146.94309999999999,167.61060000000001,195.399,1448.2120300000001,null,null,null,null,null,null,null,null,null,null,null,null,null,null,null,"Cunco",72]
["Curacautín",230.92019999999999,198.28280000000001,159.01920000000001,98.973489999999998,65.967169999999996,46.560899999999997,53.671019999999999,77.018969999999996,107.8519,164.32769999999999,191.4417,221.39840000000001,1615.43345,null,null,null,null,null,null,null,null,null,null,null,null,null,null,null,"Curacautín",73]
["Curacaví",223.11680000000001,176.08699999999999,154.53139999999999,101.3279,70.184799999999996,53.999130000000001,65.020319999999998,88.566059999999993,120.0699,165.4385,201.654,225.20959999999999,1645.2054099999998,null,null,null,null,null,null,null,null,null,null,null,null,null,null,null,"Curacaví",74]
["Curaco de Vélez",172,147,109,69,43,30,36,57,85,121,145,168,1182,null,null,null,null,null,null,null,null,null,null,null,null,null,null,null,"Curaco de Vélez",75]
["Curanilahue",208.2167,166.15770000000001,141.9504,91.477850000000004,56.465989999999998,42.244120000000002,46.995359999999998,70.012029999999996,105.23050000000001,150.75559999999999,174.30410000000001,199.0104,1452.8207500000003,null,null,null,null,null,null,null,null,null,null,null,null,null,null,null,"Curanilahue",76]
["Curarrehue",216.64580000000001,187.0633,149.47749999999999,95.287170000000003,62.927520000000001,47.661439999999999,52.607880000000002,74.514309999999995,98.795010000000005,150.834,177.54570000000001,209.8329,1523.1925299999998,null,null,null,null,null,null,null,null,null,null,null,null,null,null,null,"Curarrehue",77]
["Curepto",218.57919999999999,175.81010000000001,151.613,96.611580000000004,58.412759999999999,40.799770000000002,53.004869999999997,75.435379999999995,111.0035,155.40989999999999,192.01009999999999,214.0017,1542.6918600000001,null,null,null,null,null,null,null,null,null,null,null,null,null,null,null,"Curepto",78]
["Curicó",231.2002,193.15029999999999,161.89429999999999,106.7423,70.561729999999997,45.803319999999999,58.621679999999998,78.303200000000004,111.31659999999999,150.2165,186.8434,220.2595,1614.9130299999997,null,null,null,null,null,null,null,null,null,null,null,null,null,null,null,"Curicó",79]
["Dalcahue",172.41399999999999,147.70070000000001,108.73,69.606020000000001,42.895060000000001,30.124780000000001,36.48124,57.654820000000001,84.910799999999995,118.7097,143.57230000000001,169.6122,1182.4116199999999,null,null,null,null,null,null,null,null,null,null,null,null,null,null,null,"Dalcahue",80]
["Diego de Almagro",258.33120000000002,230.86519999999999,215.49860000000001,166.1566,144.72790000000001,132.12389999999999,142.47120000000001,156.09289999999999,179.96360000000001,235.7774,261.64420000000001,304.92610000000002,2428.5788000000002,null,null,null,null,null,null,null,null,null,null,null,null,null,null,null,"Diego de Almagro",81]
["Doñihue",220,175,152,100,67,49,61,83,115,161,198,221,1602,null,null,null,null,null,null,null,null,null,null,null,null,null,null,null,"Doñihue",82]
["El Bosque",247.0523,197.0523,171.53919999999999,111.53919999999999,76.026129999999995,57.769599999999997,70.026129999999995,93.539190000000005,127.53919999999999,182.0523,223.30879999999999,250.56530000000001,1808.00965,null,null,null,null,null,null,null,null,null,null,null,null,null,null,null,"El Bosque",83]
["El Carmen",220.95500000000001,174.56270000000001,150.50200000000001,97.413430000000005,58.647210000000001,44.380389999999998,50.043590000000002,74.010540000000006,110.5245,161.77029999999999,190.80330000000001,211.73179999999999,1545.3447600000002,null,null,null,null,null,null,null,null,null,null,null,null,null,null,null,"El Carmen",84]
["El Monte",221.55549999999999,174.517,153.11680000000001,100.24850000000001,68.418580000000006,52.473930000000003,63.164000000000001,87.191670000000002,119.0827,164.554,199.6644,222.6551,1626.6421800000003,null,null,null,null,null,null,null,null,null,null,null,null,null,null,null,"El Monte",85]
["El Quisco",193.18770000000001,149.59389999999999,132.18770000000001,88,61,48,56.593850000000003,80,109,147,175.18770000000001,194.18770000000001,1433.9385499999999,null,null,null,null,null,null,null,null,null,null,null,null,null,null,null,"El Quisco",86]
["El Tabo",193.97120000000001,149.98560000000001,132.97120000000001,88,61,48,56.985610000000001,80,109,147,175.97120000000001,194.97120000000001,1437.85601,null,null,null,null,null,null,null,null,null,null,null,null,null,null,null,"El Tabo",87]
["Empedrado",219.922,174.93600000000001,151.4074,98.024379999999994,59.352119999999999,43.449069999999999,53.094810000000003,77,112.67230000000001,160.4659,195.4074,215.96799999999999,1561.69938,null,null,null,null,null,null,null,null,null,null,null,null,null,null,null,"Empedrado",88]
["Ercilla",205.98990000000001,169.67330000000001,142.94130000000001,90.619900000000001,56.81711,42.204790000000003,48.304679999999998,71.006619999999998,103.6112,152.23060000000001,176.43279999999999,200.55699999999999,1460.3892000000001,null,null,null,null,null,null,null,null,null,null,null,null,null,null,null,"Ercilla",89]
["Estación Central",245,195,170,110,75,57,69,92,126,180,221,248,1788,null,null,null,null,null,null,null,null,null,null,null,null,null,null,null,"Estación Central",90]
["Florida",214.30549999999999,162.30549999999999,143.7364,95.157430000000005,54.873080000000002,43.294370000000001,47.588520000000003,73.588740000000001,109.4516,158.7364,186.01140000000001,207.3151,1496.3640399999999,null,null,null,null,null,null,null,null,null,null,null,null,null,null,null,"Florida",91]
["Freire",198.59389999999999,168.00139999999999,138.1814,85.787379999999999,53.561979999999998,40.12865,45.695529999999998,69.440380000000005,98.507499999999993,137.80279999999999,161.89009999999999,190.702,1388.2930199999998,null,null,null,null,null,null,null,null,null,null,null,null,null,null,null,"Freire",92]
["Freirina",207.97290000000001,177.91120000000001,165.0701,120.78530000000001,97.992519999999999,80.615110000000001,95.761740000000003,118.28019999999999,146.6558,187.86160000000001,193.22200000000001,218.21119999999999,1810.3396699999998,null,null,null,null,null,null,null,null,null,null,null,null,null,null,null,"Freirina",93]
["Fresia",184.63720000000001,158.2619,116.1431,75.428719999999998,47.087879999999998,32.750540000000001,39.74879,62.463149999999999,90.461399999999998,125.1052,148.2654,179.56829999999999,1259.9215799999999,null,null,null,null,null,null,null,null,null,null,null,null,null,null,null,"Fresia",94]
["Frutillar",177.91640000000001,152.25360000000001,111.5566,72.203429999999997,45.08455,32.03434,39.03434,60.08455,88.084549999999993,119.60680000000001,141.95070000000001,171.69130000000001,1211.5011600000003,null,null,null,null,null,null,null,null,null,null,null,null,null,null,null,"Frutillar",95]
["Futaleufú",186.4222,155.09819999999999,120.75879999999999,71.212729999999993,43.655169999999998,33.45626,34.47748,58.808920000000001,95.158320000000003,138.34,170.9778,182.2508,1290.6166800000001,null,null,null,null,null,null,null,null,null,null,null,null,null,null,null,"Futaleufú",96]
["Futrono",192.56309999999999,160.28710000000001,126.99,82.06635,51.708629999999999,40.724989999999998,44.439909999999998,65.28886,90.816419999999994,134.70849999999999,163.48679999999999,190.71690000000001,1343.79756,null,null,null,null,null,null,null,null,null,null,null,null,null,null,null,"Futrono",97]
["Galvarino",201.31989999999999,167.19329999999999,140.0968,88.006799999999998,55.089689999999997,40.999699999999997,47,70.999409999999997,101.9162,145.11340000000001,169.83070000000001,194.11099999999999,1421.6768999999999,null,null,null,null,null,null,null,null,null,null,null,null,null,null,null,"Galvarino",98]
["General Lagos",208.5719,183.4179,189.36949999999999,185.42140000000001,187.61080000000001,163.5395,178.64750000000001,194.72120000000001,211.16929999999999,246.78389999999999,261.56689999999998,229.0797,2439.8994999999995,null,null,null,null,null,null,null,null,null,null,null,null,null,null,null,"General Lagos",99]
["Gorbea",201,170,137.95179999999999,84.475880000000004,53.951749999999997,39,45.475879999999997,68.951750000000004,98.475880000000004,135.95179999999999,160,192.57239999999999,1387.8071399999999,null,null,null,null,null,null,null,null,null,null,null,null,null,null,null,"Gorbea",100]
["Graneros",220.0753,175.06219999999999,152.05240000000001,100.036,67.02946,49.022919999999999,61.02946,83.02946,115.0393,161.05240000000001,198.06549999999999,221.08179999999999,1602.5761999999997,null,null,null,null,null,null,null,null,null,null,null,null,null,null,null,"Graneros",101]
["Guaitecas",176.14189999999999,148.78729999999999,108.91719999999999,67.023880000000005,39.8797,30.585550000000001,32.887590000000003,57.102809999999998,89.616159999999994,130.84309999999999,159.2747,178.33619999999999,1219.39609,null,null,null,null,null,null,null,null,null,null,null,null,null,null,null,"Guaitecas",102]
["Hijuelas",205,158,142,94,66,51,61,86,117,154,186,205,1525,null,null,null,null,null,null,null,null,null,null,null,null,null,null,null,"Hijuelas",103]
["Hualaihué",172.11080000000001,146.24260000000001,114.3428,71.462029999999999,44.505629999999996,33.829680000000003,36.884250000000002,57.114750000000001,83.884240000000005,123.0261,149.88550000000001,167.71469999999999,1201.00308,null,null,null,null,null,null,null,null,null,null,null,null,null,null,null,"Hualaihué",104]
["Hualañé",218.69220000000001,177.10239999999999,152.2706,96.487200000000001,58.270650000000003,40.270650000000003,52.794809999999998,75.849069999999998,110.38460000000001,154.8604,192.16810000000001,214.16810000000001,1543.3187800000003,null,null,null,null,null,null,null,null,null,null,null,null,null,null,null,"Hualañé",105]
["Hualpén",222,168,149,98,57,45,50,77,113,165,192,216,1552,null,null,null,null,null,null,null,null,null,null,null,null,null,null,null,"Hualpén",106]
["Hualqui",214.07570000000001,162.0676,143.3852,94.016159999999999,54.690559999999998,43.00808,47.690559999999998,73.694599999999994,108.6986,158.38919999999999,185.38919999999999,207.07980000000001,1492.1852600000002,null,null,null,null,null,null,null,null,null,null,null,null,null,null,null,"Hualqui",107]
["Huara",227.31729999999999,198.00290000000001,205.83189999999999,173.95779999999999,159.67750000000001,143.959,153.12870000000001,168.39699999999999,189.99340000000001,232.96170000000001,240.7251,248.64760000000001,2342.5999000000002,null,null,null,null,null,null,null,null,null,null,null,null,null,null,null,"Huara",108]
["Huasco",191.43129999999999,164.1156,153.11320000000001,111.4141,91.751639999999995,75.764200000000002,89.751639999999995,111.3732,136.85570000000001,171.9171,175.316,201.4228,1674.2264799999998,null,null,null,null,null,null,null,null,null,null,null,null,null,null,null,"Huasco",109]
["Huechuraba",251.50710000000001,201.64279999999999,174.9128,115.02460000000001,78.454139999999995,59.589109999999998,72.407899999999998,96.936610000000002,130.97839999999999,186.57570000000001,228.32740000000001,256.12529999999998,1852.4818600000001,null,null,null,null,null,null,null,null,null,null,null,null,null,null,null,"Huechuraba",110]
["Illapel",255.66329999999999,212.11410000000001,177.22290000000001,130.31370000000001,99.28143,75.588239999999999,87.298150000000007,105.8922,140.15039999999999,195.04159999999999,232.34030000000001,268.13499999999999,1979.0413200000003,null,null,null,null,null,null,null,null,null,null,null,null,null,null,null,"Illapel",111]
["Independencia",249.72069999999999,199.72069999999999,173.54050000000001,113.54049999999999,77.36036,58.770269999999996,71.36036,95.540539999999993,129.54050000000001,184.72069999999999,226.3108,253.90090000000001,1834.0268300000002,null,null,null,null,null,null,null,null,null,null,null,null,null,null,null,"Independencia",112]
["Iquique",216.2175,192.14779999999999,197.25299999999999,148.4872,134.87260000000001,119.2942,120.1371,131.49780000000001,157.2278,201.6815,217.29599999999999,231.28190000000001,2067.3944000000001,null,null,null,null,null,null,null,null,null,null,null,null,null,null,null,"Iquique",113]
["Isla de Maipo",237.29429999999999,188.79050000000001,164.0309,108.27119999999999,73.767349999999993,54.759639999999997,68.015429999999995,90.511570000000006,124.76739999999999,173.77510000000001,213.0386,239.55009999999999,1736.5720900000001,null,null,null,null,null,null,null,null,null,null,null,null,null,null,null,"Isla de Maipo",114]
["Isla de Pascua",197,161,150,114,92,75,85,103,128,162,174,189,1630,null,null,null,null,null,null,null,null,null,null,null,null,null,null,null,"Isla  de Pascua",115]
["Juan Fernández",177,138,149,97,74,56,66,89,118,161,173,177,1475,null,null,null,null,null,null,null,null,null,null,null,null,null,null,null,"Juan Fernández",116]
["La Cisterna",249.88589999999999,199.88589999999999,173.6644,113.6644,77.442949999999996,58.832210000000003,71.442949999999996,95.664429999999996,129.6644,184.88589999999999,226.4966,254.10740000000001,1835.63744,null,null,null,null,null,null,null,null,null,null,null,null,null,null,null,"La Cisterna",117]
["La Cruz",205,158,142,94,66,51,61,86,117,154,186,205,1525,null,null,null,null,null,null,null,null,null,null,null,null,null,null,null,"La Cruz",118]
["La Estrella",214.49279999999999,169.49279999999999,148.49279999999999,96,63,46,57.746400000000001,80,113,156.25360000000001,191.74639999999999,212.74639999999999,1548.9712,null,null,null,null,null,null,null,null,null,null,null,null,null,null,null,"La Estrella",119]
["La Florida",253,203,176,116,79,60,73,98,132,188,230,258,1866,null,null,null,null,null,null,null,null,null,null,null,null,null,null,null,"La Florida",120]
["La Granja",253,203,176,116,79,60,73,98,132,188,230,258,1866,null,null,null,null,null,null,null,null,null,null,null,null,null,null,null,"La Granja",121]
["La Higuera",236.47559999999999,199.63759999999999,179.86770000000001,134.1104,108.18519999999999,90.092160000000007,104.14100000000001,125.9016,158.55789999999999,210.25800000000001,226.12649999999999,250.6994,2024.0530600000002,null,null,null,null,null,null,null,null,null,null,null,null,null,null,null,"La Higuera",122]
["La Ligua",203.55359999999999,160.46369999999999,142.46209999999999,96.559610000000006,70.322329999999994,54.942659999999997,63.882089999999998,87.295540000000003,115.53279999999999,155.95060000000001,185.92590000000001,205.62860000000001,1542.5195299999998,null,null,null,null,null,null,null,null,null,null,null,null,null,null,null,"La Ligua",123]
["La Pintana",252.9299,202.9299,175.94739999999999,115.9474,78.964950000000002,59.973709999999997,72.964950000000002,97.947429999999997,131.94739999999999,187.9299,229.9211,257.91239999999999,1865.3164400000001,null,null,null,null,null,null,null,null,null,null,null,null,null,null,null,"La Pintana",124]
["La Reina",253,203,176,116,79,60,73,98,132,188,230,258,1866,null,null,null,null,null,null,null,null,null,null,null,null,null,null,null,"La Reina",125]
["La Serena",213.71639999999999,179.9177,163.58170000000001,119.7837,95.210139999999996,79.394409999999993,92.581680000000006,112.2983,141.8783,189.2199,201.68090000000001,224.72380000000001,1813.98693,null,null,null,null,null,null,null,null,null,null,null,null,null,null,null,"La Serena",126]
["La Unión",191.51230000000001,160.8947,121.9764,78.435770000000005,49.632480000000001,36.216940000000001,42.807189999999999,65.210160000000002,93.079480000000004,128.93520000000001,154.4622,185.31700000000001,1308.47982,null,null,null,null,null,null,null,null,null,null,null,null,null,null,null,"La Unión",127]
["Lago Ranco",190.6242,158.88720000000001,126.5968,81.72099,51.131869999999999,40.652389999999997,43.89235,64.282129999999995,88.440659999999994,133.102,163.50559999999999,189.42320000000001,1332.2593899999999,null,null,null,null,null,null,null,null,null,null,null,null,null,null,null,"Lago Ranco",128]
["Lago Verde",192.20859999999999,156.8742,122.371,71.815749999999994,42.750169999999997,32.586550000000003,36.106529999999999,60.776629999999997,100.44929999999999,145.23169999999999,174.7869,192.10140000000001,1328.05873,null,null,null,null,null,null,null,null,null,null,null,null,null,null,null,"Lago Verde",129]
["Laguna Blanca",171.31710000000001,118.17,95.918120000000002,50.262079999999997,26.119859999999999,14.832369999999999,18.989180000000001,31.360749999999999,74.096819999999994,111.7336,165.0966,176.6388,1054.5352800000001,null,null,null,null,null,null,null,null,null,null,null,null,null,null,null,"Laguna Blanca",130]
["Laja",214.1429,163.1704,143.11340000000001,93.513270000000006,54.874870000000001,42.786189999999998,47.268059999999998,72.936019999999999,108.2681,157.99510000000001,185.05430000000001,207.11340000000001,1490.2360100000001,null,null,null,null,null,null,null,null,null,null,null,null,null,null,null,"Laja",131]
["Lampa",250.79839999999999,199.97059999999999,174.97399999999999,114.98260000000001,78.323480000000004,60.323480000000004,73.156499999999994,96.154780000000002,131.81389999999999,184.97399999999999,226.80189999999999,253.79839999999999,1846.07204,null,null,null,null,null,null,null,null,null,null,null,null,null,null,null,"Lampa",132]
["Lanco",192.25530000000001,161.25579999999999,128.76490000000001,80.882720000000006,51.256329999999998,39.253799999999998,44.255319999999998,67.255319999999998,95.509119999999996,134.50960000000001,159.5076,188.999,1343.70481,null,null,null,null,null,null,null,null,null,null,null,null,null,null,null,"Lanco",133]
["Las Cabras",215,170.4939,148.5061,96,63,46.493929999999999,58.493929999999999,80,112.0121,156,192,213.4939,1551.49386,null,null,null,null,null,null,null,null,null,null,null,null,null,null,null,"Las Cabras",134]
["Las Condes",253,203,176,116,79,60,73,98,132,188,230,258,1866,null,null,null,null,null,null,null,null,null,null,null,null,null,null,null,"Las Condes",135]
["Lautaro",206.00319999999999,173.13390000000001,144.018,89.876729999999995,57.344090000000001,42.26811,48.470999999999997,72.470960000000005,102.6738,150.31139999999999,171.09379999999999,198.29679999999999,1455.9617900000003,null,null,null,null,null,null,null,null,null,null,null,null,null,null,null,"Lautaro",136]
["Lebu",200.11940000000001,154.33029999999999,136.04470000000001,88.769900000000007,53.018949999999997,40.831319999999998,44.831319999999998,68.74212,101.9575,146.4606,171.792,193.72649999999999,1400.6246100000001,null,null,null,null,null,null,null,null,null,null,null,null,null,null,null,"Lebu",137]
["Licantén",214.18770000000001,171.2593,148.99770000000001,95.768479999999997,59.506869999999999,42.226860000000002,53.511539999999997,76.782219999999995,111,155.4838,190.22919999999999,211.71770000000001,1530.6713699999998,null,null,null,null,null,null,null,null,null,null,null,null,null,null,null,"Licantén",138]
["Limache",215.98070000000001,169.8792,149.63990000000001,99.307469999999995,69.212879999999998,53.12941,64.276849999999996,87.193380000000005,117.5856,161.21019999999999,195.76929999999999,217.93629999999999,1601.1211900000001,null,null,null,null,null,null,null,null,null,null,null,null,null,null,null,"Limache",139]
["Linares",224.00909999999999,181.738,154.8526,98.362480000000005,60.842379999999999,42.57714,51.956960000000002,76.038349999999994,110.1764,157.4965,190.3408,215.1044,1563.4951099999998,null,null,null,null,null,null,null,null,null,null,null,null,null,null,null,"Linares",140]
["Litueche",213.23840000000001,168.29679999999999,147.36660000000001,95.877279999999999,62.98151,46.049869999999999,57.315060000000003,80.022549999999995,112.93940000000001,156.5489,191.0393,211.9983,1543.6739700000001,null,null,null,null,null,null,null,null,null,null,null,null,null,null,null,"Litueche",141]
["Llaillay",253.1979,201.73509999999999,176.80959999999999,117.2064,82.065969999999993,62.603200000000001,76.173419999999993,102.066,137.52869999999999,189.7022,229.73509999999999,256.7681,1885.59169,null,null,null,null,null,null,null,null,null,null,null,null,null,null,null,"Llaillay",142]
["Llanquihue",177.88339999999999,152,111.11660000000001,72,45,32,39,60,88,119.11660000000001,141.88339999999999,171.11660000000001,1209.1166000000001,null,null,null,null,null,null,null,null,null,null,null,null,null,null,null,"Llanquihue",143]
["Lo Barnechea",235.5351,201.13800000000001,169.30029999999999,116.4331,85.31832,59.61833,72.811000000000007,91.095299999999995,122.0458,165.3545,200.59819999999999,232.9359,1752.1838499999999,null,null,null,null,null,null,null,null,null,null,null,null,null,null,null,"Lo Barnechea",144]
["Lo Espejo",245,195,170,110,75,57,69,92,126,180,221,248,1788,null,null,null,null,null,null,null,null,null,null,null,null,null,null,null,"Lo Espejo",145]
["Lo Prado",245,195,170,110,75,57,69,92,126,180,221,248,1788,null,null,null,null,null,null,null,null,null,null,null,null,null,null,null,"Lo Prado",146]
["Lolol",219.04599999999999,177.49959999999999,152.54640000000001,96.546440000000004,58.546439999999997,40.546439999999997,53.09198,76.000900000000001,110.54640000000001,155.04689999999999,192.50040000000001,214.54640000000001,1546.4642999999999,null,null,null,null,null,null,null,null,null,null,null,null,null,null,null,"Lolol",147]
["Loncoche",195.8485,164.8536,132.8338,82.517309999999995,52.580640000000002,39.213990000000003,44.89987,68.168289999999999,96.918130000000005,135.38740000000001,159.83009999999999,190.1952,1363.2468299999996,null,null,null,null,null,null,null,null,null,null,null,null,null,null,null,"Loncoche",148]
["Longaví",222.94,181.54159999999999,153.95509999999999,98.424959999999999,60.779170000000001,42.337290000000003,51.166710000000002,74.212100000000007,108.3827,155.7508,186.84010000000001,211.93299999999999,1548.2635300000002,null,null,null,null,null,null,null,null,null,null,null,null,null,null,null,"Longaví",149]
["Lonquimay",240.84559999999999,204.70259999999999,163.50069999999999,103.7582,68.47551,50.05162,53.112540000000003,76.9465,104.244,166.4975,201.5855,232.27699999999999,1665.9972699999998,null,null,null,null,null,null,null,null,null,null,null,null,null,null,null,"Lonquimay",150]
["Los Alamos",204.36600000000001,159.33449999999999,138.53120000000001,89.94641,54.102550000000001,41.433019999999999,45.857129999999998,69.620620000000002,103.37050000000001,149.26349999999999,173.81710000000001,197.17869999999999,1426.82123,null,null,null,null,null,null,null,null,null,null,null,null,null,null,null,"Los Álamos",151]
["Los Andes",222.5205,192.03309999999999,160.50559999999999,114.99720000000001,88.153989999999993,61.234229999999997,75.773139999999998,93.487340000000003,123.3883,158.7473,192.20519999999999,223.0712,1706.1171000000002,null,null,null,null,null,null,null,null,null,null,null,null,null,null,null,"Los Andes",152]
["Los Angeles",214.63820000000001,165.48269999999999,144.35169999999999,93.511099999999999,55.421489999999999,43.21537,48.12576,72.670950000000005,108.7664,158.42150000000001,185.6223,207.4426,1497.6700699999999,null,null,null,null,null,null,null,null,null,null,null,null,null,null,null,"Los Ángeles",153]
["Los Lagos",189.1498,159.5137,124.5689,79.950749999999999,50.488370000000003,38.145209999999999,43.18291,65.332880000000003,93.318799999999996,131.7405,155.47659999999999,183.98519999999999,1314.8536200000001,null,null,null,null,null,null,null,null,null,null,null,null,null,null,null,"Los Lagos",154]
["Los Muermos",185.2115,158.67179999999999,116.1242,75.27901,46.222569999999997,32.144460000000002,39.852269999999997,62.85295,90.513369999999995,124.864,148.4186,180.19749999999999,1260.35223,null,null,null,null,null,null,null,null,null,null,null,null,null,null,null,"Los Muermos",155]
["Los Sauces",208.5395,169.78380000000001,143.38249999999999,90.010419999999996,56.10163,43.057290000000002,47.802970000000002,71.692099999999996,105.12560000000001,150.62379999999999,175.93209999999999,199.91249999999999,1461.9642099999996,null,null,null,null,null,null,null,null,null,null,null,null,null,null,null,"Los Sauces",156]
["Los Vilos",210.59219999999999,169.88290000000001,150.17250000000001,104.4141,76.84845,60.354089999999999,70.506919999999994,93.275599999999997,122.3222,165.6627,194.75739999999999,217.23849999999999,1636.02756,null,null,null,null,null,null,null,null,null,null,null,null,null,null,null,"Los Vilos",157]
["Lota",208,158,140,91,53,42,46,71,107,154,181,203,1454,null,null,null,null,null,null,null,null,null,null,null,null,null,null,null,"Lota",158]
["Lumaco",201.3398,167.22890000000001,140.2636,88.661280000000005,54.633180000000003,40.706809999999997,47,70.090810000000005,101.827,143.11060000000001,168.536,190.4119,1413.8098800000002,null,null,null,null,null,null,null,null,null,null,null,null,null,null,null,"Lumaco",159]
["Machalí",233.4092,202.45959999999999,166.15770000000001,114.413,82.746480000000005,55.195059999999998,67.292910000000006,84.010080000000002,112.51349999999999,144.2689,178.35149999999999,217.8338,1658.65173,null,null,null,null,null,null,null,null,null,null,null,null,null,null,null,"Machalí",160]
["Macul",253,203,176,116,79,60,73,98,132,188,230,258,1866,null,null,null,null,null,null,null,null,null,null,null,null,null,null,null,"Macul",161]
["Máfil",191.06450000000001,161.60910000000001,125.4915,79.791060000000002,50.092120000000001,38.034959999999998,43.092120000000001,66.571569999999994,94.425709999999995,132.71209999999999,157.23830000000001,187.03720000000001,1327.1602399999999,null,null,null,null,null,null,null,null,null,null,null,null,null,null,null,"Máfil",162]
["Maipú",245,195,170,110,75,57,69,92,126,180,221,248,1788,null,null,null,null,null,null,null,null,null,null,null,null,null,null,null,"Maipú",163]
["Malloa",223.56909999999999,179.63069999999999,154.75380000000001,99.815340000000006,63.815339999999999,45.876890000000003,58.815339999999999,80.815340000000006,114.7538,160.63069999999999,197.63069999999999,220.63069999999999,1600.7377499999998,null,null,null,null,null,null,null,null,null,null,null,null,null,null,null,"Malloa",164]
["Marchigue",217.36760000000001,173.3853,151.36760000000001,97.017700000000005,61.302010000000003,43.621729999999999,55.785110000000003,78.302009999999996,112.3197,156.51150000000001,192.1634,214.18109999999999,1553.32476,null,null,null,null,null,null,null,null,null,null,null,null,null,null,null,"Marchihue",165]
["María Elena",230.4555,204.9752,200.47659999999999,162.21260000000001,150.7423,136.0215,143.54509999999999,157.8476,173.04589999999999,227.9426,239.02010000000001,262.66730000000001,2288.9522999999999,null,null,null,null,null,null,null,null,null,null,null,null,null,null,null,"María Elena",166]
["María Pinto",205.60570000000001,160.63849999999999,141.70429999999999,92.835700000000003,64.868560000000002,50.901420000000002,59.901420000000002,84.835700000000003,114.8028,153.77000000000001,185.67140000000001,206.60570000000001,1522.1412,null,null,null,null,null,null,null,null,null,null,null,null,null,null,null,"María Pinto",167]
["Mariquina",195.74590000000001,162.66829999999999,127.8013,79.839590000000001,50.19003,38.066600000000001,43.138869999999997,66.117760000000004,94.382540000000006,132.74279999999999,158.2843,192.45859999999999,1341.43659,null,null,null,null,null,null,null,null,null,null,null,null,null,null,null,"Mariquina",168]
["Maule",216.38059999999999,174.38059999999999,150,95.380560000000003,56.690280000000001,38.690280000000001,51,74,109.3806,153.07079999999999,189.07079999999999,210.69030000000001,1518.7348199999999,null,null,null,null,null,null,null,null,null,null,null,null,null,null,null,"Maule",169]
["Maullín",179.9366,154.16829999999999,112.7568,72.728080000000006,44.404290000000003,30.81052,38.35886,60.734400000000001,87.771199999999993,121.383,144.19489999999999,175.24879999999999,1222.4957500000003,null,null,null,null,null,null,null,null,null,null,null,null,null,null,null,"Maullín",170]
["Mejillones",229.41399999999999,201.0932,203.09889999999999,154.19460000000001,131.60820000000001,116.6786,126.16889999999999,143.10900000000001,169.98150000000001,215.02029999999999,228.05879999999999,240.63550000000001,2159.0614999999998,null,null,null,null,null,null,null,null,null,null,null,null,null,null,null,"Mejillones",171]
["Melipeuco",225.9349,197.84549999999999,156.84049999999999,98.101950000000002,66.311779999999999,47.639330000000001,52.869959999999999,75.260750000000002,101.30240000000001,155.6069,180.7063,215.9178,1574.33807,null,null,null,null,null,null,null,null,null,null,null,null,null,null,null,"Melipeuco",172]
["Melipilla",215.12020000000001,168.88929999999999,148.48410000000001,97.499539999999996,66.229200000000006,50.8795,61.312669999999997,85.249769999999998,116.5795,160.30420000000001,193.81489999999999,215.54390000000001,1579.9067800000003,null,null,null,null,null,null,null,null,null,null,null,null,null,null,null,"Melipilla",173]
["Molina",228.61070000000001,193.17310000000001,161.65299999999999,107.79819999999999,71.880870000000002,45.874000000000002,58.65,76.722070000000002,107.7841,143.68510000000001,177.31479999999999,214.36510000000001,1587.5110399999999,null,null,null,null,null,null,null,null,null,null,null,null,null,null,null,"Molina",174]
["Monte Patria",261.77809999999999,221.3877,185.00030000000001,139.15440000000001,107.5869,84.863699999999994,94.803690000000003,112.8963,146.86250000000001,203.88159999999999,236.12549999999999,278.5788,2072.9194900000002,null,null,null,null,null,null,null,null,null,null,null,null,null,null,null,"Monte Patria",175]
["Mostazal",241.77080000000001,195.30609999999999,166.86600000000001,114.0248,79.202749999999995,59.146210000000004,72.968239999999994,96.382069999999999,131.1737,181.2868,219.22049999999999,244.88929999999999,1802.2372700000003,null,null,null,null,null,null,null,null,null,null,null,null,null,null,null,"Mostazal",176]
["Mulchén",222.03720000000001,179.184,150.09450000000001,95.581869999999995,59.468530000000001,43.662649999999999,50.470019999999998,74.327680000000001,109.0924,160.91200000000001,187.21129999999999,211.35169999999999,1543.3938499999997,null,null,null,null,null,null,null,null,null,null,null,null,null,null,null,"Mulchén",177]
["Nacimiento",223.57509999999999,177.3845,151.8689,97.380309999999994,60.363759999999999,45.592230000000001,51.472540000000002,76.412930000000003,112.38549999999999,163.0429,191.6294,215.5642,1566.67227,null,null,null,null,null,null,null,null,null,null,null,null,null,null,null,"Nacimiento",178]
["Nancagua",217.46180000000001,175.3854,151.46180000000001,96.53819,59.614559999999997,41.229120000000002,54.152749999999997,76.614559999999997,110.07640000000001,154.07640000000001,191.53819999999999,214.07640000000001,1542.2255799999998,null,null,null,null,null,null,null,null,null,null,null,null,null,null,null,"Nancagua",179]
["Natales",138.8879,102.0526,86.831909999999993,47.810250000000003,29.262519999999999,16.747910000000001,20.500520000000002,36.103439999999999,70.316649999999996,103.02809999999999,127.22790000000001,143.6233,922.39299999999992,null,null,null,null,null,null,null,null,null,null,null,null,null,null,null,"Natales",180]
["Navidad",205.18199999999999,161.48500000000001,141.78800000000001,93.394009999999994,62.565669999999997,46.868659999999998,57,80.434330000000003,111.697,153.9597,185.3537,205.48500000000001,1505.2130700000002,null,null,null,null,null,null,null,null,null,null,null,null,null,null,null,"Navidad",181]
["Negrete",212.9845,161.99610000000001,141.99029999999999,91.99418,53.998060000000002,41.998060000000002,46.996119999999998,71.99418,107.9903,156.98840000000001,183.9845,205.9845,1478.8992000000003,null,null,null,null,null,null,null,null,null,null,null,null,null,null,null,"Negrete",182]
["Ninhue",221.94579999999999,170.90799999999999,150.3604,98.2821,58.2821,44.966940000000001,50.763199999999998,77.182599999999994,113.5973,164.0831,193.64250000000001,214.8794,1558.8934400000001,null,null,null,null,null,null,null,null,null,null,null,null,null,null,null,"Ninhue",183]
["Nogales",205,158.3526,142,94.352590000000006,66.705169999999995,51.705170000000003,61.352589999999999,86.352590000000006,116.6474,154.3526,186,205,1527.8207099999997,null,null,null,null,null,null,null,null,null,null,null,null,null,null,null,"Nogales",184]
["Nueva Imperial",195.83699999999999,166.98599999999999,138.21619999999999,86.408879999999996,53.037469999999999,40.575859999999999,45.669130000000003,69.876660000000001,98.957750000000004,137.36799999999999,163.74250000000001,188.78919999999999,1385.4646499999999,null,null,null,null,null,null,null,null,null,null,null,null,null,null,null,"Nueva Imperial",185]
["Ñiquén",219.34100000000001,172.99590000000001,149.5324,97.105220000000003,57.130519999999997,44.029330000000002,50.742919999999998,75.054630000000003,111.4008,158.84710000000001,190.173,211.26509999999999,1537.6179200000001,null,null,null,null,null,null,null,null,null,null,null,null,null,null,null,"Ñiquén",186]
["Ñuñoa",253,203,176,116,79,60,73,98,132,188,230,258,1866,null,null,null,null,null,null,null,null,null,null,null,null,null,null,null,"Ñuñoa",187]
["O'Higgins",160.8931,123.1176,105.8386,59.782960000000003,35.370159999999998,24.583030000000001,29.733930000000001,49.737549999999999,86.992660000000001,123.5667,143.53059999999999,155.6848,1098.83169,null,null,null,null,null,null,null,null,null,null,null,null,null,null,null,"O'Higgins",188]
["Olivar",220,175,152,100,67,49,61,83,115,161,198,221,1602,null,null,null,null,null,null,null,null,null,null,null,null,null,null,null,"Olivar",189]
["Ollague",220.9914,199.2516,198.78729999999999,179.29470000000001,172.0925,150.44390000000001,163.01499999999999,177.506,200.04910000000001,246.53219999999999,268.95749999999998,265.61020000000002,2442.5314000000003,null,null,null,null,null,null,null,null,null,null,null,null,null,null,null,"Ollagüe",190]
["Olmué",226.2851,178.5249,157.20359999999999,103.8824,72.081450000000004,54.800899999999999,67.081450000000004,89.800899999999999,121.5611,167.6833,205.00450000000001,228.56559999999999,1672.4751999999996,null,null,null,null,null,null,null,null,null,null,null,null,null,null,null,"Olmué",191]
["Osorno",185.75919999999999,158.05969999999999,117.532,76.861680000000007,47.993639999999999,33.828850000000003,40.658639999999998,63.227290000000004,91.044470000000004,125.4303,149.96860000000001,180.62729999999999,1270.9916699999999,null,null,null,null,null,null,null,null,null,null,null,null,null,null,null,"Osorno",192]
["Ovalle",210.4117,174.6046,159.47640000000001,115.9464,88.313400000000001,74.218599999999995,83.598479999999995,103.4958,133.24279999999999,180.58070000000001,202.23920000000001,223.3622,1749.49028,null,null,null,null,null,null,null,null,null,null,null,null,null,null,null,"Ovalle",193]
["Padre Hurtado",245,195,170,110,75,57,69,92,126,180,221,248,1788,null,null,null,null,null,null,null,null,null,null,null,null,null,null,null,"Padre Hurtado",194]
["Padre Las Casas",198,167.2372,138,86,53.525530000000003,40.237229999999997,45.762770000000003,69.237229999999997,98.237229999999997,138,161.42339999999999,189.94890000000001,1385.6094899999998,null,null,null,null,null,null,null,null,null,null,null,null,null,null,null,"Padre Las Casas",195]
["Paihuano",259.9914,225.67930000000001,192.7397,148.28559999999999,116.63030000000001,90.573899999999995,102.9979,123.08499999999999,155.79669999999999,208.9717,241.01140000000001,283.88749999999999,2149.6504000000004,null,null,null,null,null,null,null,null,null,null,null,null,null,null,null,"Paiguano",196]
["Paillaco",187.08699999999999,156.74209999999999,119.3143,76.787970000000001,48.524369999999998,35.785989999999998,42.262180000000001,64.340999999999994,91.769649999999999,127.2771,151.4264,181.23660000000001,1282.5546599999998,null,null,null,null,null,null,null,null,null,null,null,null,null,null,null,"Paillaco",197]
["Paine",242.68539999999999,194.6292,167.68539999999999,112.5729,77.572909999999993,57.57291,71.572909999999993,94.202070000000006,129.2021,179.2021,218.94370000000001,246,1791.8416,null,null,null,null,null,null,null,null,null,null,null,null,null,null,null,"Paine",198]
["Palena",183.63390000000001,154.2672,118.83199999999999,69.330609999999993,42.504109999999997,32.48518,33.705419999999997,57.792430000000003,95.748320000000007,137.77010000000001,168.4931,180.4923,1275.05467,null,null,null,null,null,null,null,null,null,null,null,null,null,null,null,"Palena",199]
["Palmilla",218.90190000000001,175.90190000000001,152.90190000000001,97.633949999999999,60.366050000000001,42.732089999999999,55.366050000000001,77.366050000000001,111.634,156.2679,192.63399999999999,215.63399999999999,1557.33979,null,null,null,null,null,null,null,null,null,null,null,null,null,null,null,"Palmilla",200]
["Panguipulli",201.49690000000001,169.55070000000001,136.23060000000001,87.274389999999997,55.815199999999997,42.700629999999997,47.567549999999997,69.767920000000004,96.754549999999995,141.90729999999999,170.1593,198.03800000000001,1417.26304,null,null,null,null,null,null,null,null,null,null,null,null,null,null,null,"Panguipulli",201]
["Panquehue",259,207,181,120,84,64,78,104,140,194,235,263,1929,null,null,null,null,null,null,null,null,null,null,null,null,null,null,null,"Panquehue",202]
["Papudo",184.45490000000001,144.44720000000001,129.1593,86.439530000000005,61.151629999999997,48.719769999999997,56.863720000000001,80.151629999999997,107.4395,142.1593,168.87909999999999,186.167,1396.0325799999996,null,null,null,null,null,null,null,null,null,null,null,null,null,null,null,"Papudo",203]
["Paredones",217.1532,174.1258,151.61009999999999,96.746009999999998,60.027410000000003,42.255870000000002,54.027410000000003,77.703869999999995,111.6024,155.97450000000001,191.86410000000001,213.63560000000001,1546.7262700000001,null,null,null,null,null,null,null,null,null,null,null,null,null,null,null,"Paredones",204]
["Parral",224.10239999999999,180.25040000000001,153.83600000000001,99.540710000000004,60.249760000000002,43.9283,51.784050000000001,74.950950000000006,110.4349,158.7423,191.15049999999999,214.9297,1563.8999699999999,null,null,null,null,null,null,null,null,null,null,null,null,null,null,null,"Parral",205]
["Pedro Aguirre Cerda",246.38579999999999,196.38579999999999,171.0394,111.0394,75.692909999999998,57.519689999999997,69.692909999999998,93.039370000000005,127.0394,181.38579999999999,222.5591,249.73230000000001,1801.51188,null,null,null,null,null,null,null,null,null,null,null,null,null,null,null,"Pedro Aguirre Cerda",206]
["Pelarco",221.81389999999999,178.6146,153.4496,97.012119999999996,58.572850000000003,39.638530000000003,53.105690000000003,76.105689999999996,110.925,155.70820000000001,192.20500000000001,215.5274,1552.6785799999998,null,null,null,null,null,null,null,null,null,null,null,null,null,null,null,"Pelarco",207]
["Pelluhue",222.92140000000001,172.8486,150.71860000000001,99.663560000000004,60.160420000000002,44.987960000000001,52.44238,77.945520000000002,114.18510000000001,163.95179999999999,195.0761,216.1002,1571.0016400000002,null,null,null,null,null,null,null,null,null,null,null,null,null,null,null,"Pelluhue",208]
["Pemuco",218.9623,170.18770000000001,147.8663,96.635369999999995,57.664639999999999,44.205570000000002,49.729149999999997,74.193820000000002,110.7637,160.71729999999999,189.09280000000001,210.52979999999999,1530.54845,null,null,null,null,null,null,null,null,null,null,null,null,null,null,null,"Pemuco",209]
["Pencahue",218.0204,175.97559999999999,151.05029999999999,96.460999999999999,57.468069999999997,39.536569999999998,51.987119999999997,74.627880000000005,110.4372,154.63570000000001,191.21879999999999,212.6764,1534.0950399999999,null,null,null,null,null,null,null,null,null,null,null,null,null,null,null,"Pencahue",210]
["Penco",213.45699999999999,161.16560000000001,143.01990000000001,94.582790000000003,54.437089999999998,43.29139,47.437089999999998,73.582790000000003,108.7285,158.16560000000001,185.16560000000001,206.6027,1489.6360500000001,null,null,null,null,null,null,null,null,null,null,null,null,null,null,null,"Penco",211]
["Peñaflor",245,195,170,110,75,57,69,92,126,180,221,248,1788,null,null,null,null,null,null,null,null,null,null,null,null,null,null,null,"Peñaflor",212]
["Peñalolén",253,203,176,116,79,60,73,98,132,188,230,258,1866,null,null,null,null,null,null,null,null,null,null,null,null,null,null,null,"Peñalolén",213]
["Peralillo",220,177,154,98,60,42,55,77,112,157,193,216,1561,null,null,null,null,null,null,null,null,null,null,null,null,null,null,null,"Peralillo",214]
["Perquenco",203.8475,169.45740000000001,141.45740000000001,88.304929999999999,56.152470000000001,41.304929999999999,47.304929999999999,71.304929999999999,101.3049,146.91480000000001,168.3049,195.3049,1430.9639900000002,null,null,null,null,null,null,null,null,null,null,null,null,null,null,null,"Perquenco",215]
["Petorca",247.0463,203.298,171.44290000000001,121.206,91.798109999999994,69.465419999999995,80.319270000000003,100.536,132.66149999999999,189.0437,224.92519999999999,257.81040000000002,1889.5527999999997,null,null,null,null,null,null,null,null,null,null,null,null,null,null,null,"Petorca",216]
["Peumo",215.8578,172.28659999999999,149.28659999999999,96.428880000000007,62.142229999999998,45.713349999999998,57.713349999999998,79.142229999999998,111,155.5711,192,214.4289,1551.5710400000003,null,null,null,null,null,null,null,null,null,null,null,null,null,null,null,"Peumo",217]
["Pica",223.2456,197.77520000000001,199.56790000000001,178.19130000000001,171.1498,149.52189999999999,161.64959999999999,177.66720000000001,199.19229999999999,245.67400000000001,266.39769999999999,257.30340000000001,2427.3359,null,null,null,null,null,null,null,null,null,null,null,null,null,null,null,"Pica",218]
["Pichidegua",217.3177,173.79230000000001,151.29949999999999,97.015309999999999,61.256419999999999,43.987520000000004,56.274569999999997,78.256420000000006,111.7942,155.8458,192.28700000000001,214.76169999999999,1553.8884400000002,null,null,null,null,null,null,null,null,null,null,null,null,null,null,null,"Pichidegua",219]
["Pichilemu",215.4956,171.17,149.81389999999999,96.515209999999996,61.652290000000001,44.137219999999999,55.652430000000003,78.811139999999995,112.4055,156.3261,191.2766,212.79169999999999,1546.0476899999999,null,null,null,null,null,null,null,null,null,null,null,null,null,null,null,"Pichilemu",220]
["Pinto",233.4623,195.90719999999999,160.9083,103.2552,66.830770000000001,47.329529999999998,51.409350000000003,73.011920000000003,104.4362,157.5934,191.03299999999999,222.38310000000001,1607.5602700000002,null,null,null,null,null,null,null,null,null,null,null,null,null,null,null,"Pinto",221]
["Pirque",244.92,197.85820000000001,169.38910000000001,116,80.469089999999994,60.734540000000003,74.469089999999994,98.734539999999996,133.4691,185.06180000000001,223.38910000000001,249.18549999999999,1833.6800599999999,null,null,null,null,null,null,null,null,null,null,null,null,null,null,null,"Pirque",222]
["Pitrufquén",200.86109999999999,169.93090000000001,138.04320000000001,84.58596,54.036360000000002,39.058250000000001,45.54815,69.021079999999998,98.515510000000006,136.14259999999999,160.06139999999999,192.3158,1388.1203100000002,null,null,null,null,null,null,null,null,null,null,null,null,null,null,null,"Pitrufquén",223]
["Placilla",217.08250000000001,174.24760000000001,151.08250000000001,96.917479999999998,60.752429999999997,43.504869999999997,55.669910000000002,77.752430000000004,110.83499999999999,154.83500000000001,191.91749999999999,214.83500000000001,1549.4322199999999,null,null,null,null,null,null,null,null,null,null,null,null,null,null,null,"Placilla",224]
["Portezuelo",221,169,149,98,58,45,50,77,113,164,192,214,1550,null,null,null,null,null,null,null,null,null,null,null,null,null,null,null,"Portezuelo",225]
["Porvenir",162.46,114.64870000000001,90.549449999999993,47.912410000000001,24.883089999999999,13.66817,17.87763,32.5764,73.26164,113.8263,160.7997,173.3777,1025.8411899999999,null,null,null,null,null,null,null,null,null,null,null,null,null,null,null,"Porvenir",226]
["Pozo Almonte",221.5651,197.39570000000001,199.7483,162.34819999999999,150.23490000000001,137.69589999999999,144.8117,158.8981,178.6902,226.9067,237.173,248.54089999999999,2264.0087000000003,null,null,null,null,null,null,null,null,null,null,null,null,null,null,null,"Pozo Almonte",227]
["Primavera",171.06479999999999,120.1087,95.657269999999997,50.499980000000001,26.358930000000001,14.56073,18.760190000000001,32.98677,75.62912,116.27849999999999,166.93899999999999,179.74639999999999,1068.5903899999998,null,null,null,null,null,null,null,null,null,null,null,null,null,null,null,"Primavera",228]
["Providencia",253,203,176,116,79,60,73,98,132,188,230,258,1866,null,null,null,null,null,null,null,null,null,null,null,null,null,null,null,"Providencia",229]
["Puchuncaví",190.38839999999999,147.74850000000001,131.04929999999999,88.042100000000005,62.538530000000002,49.269269999999999,57.604979999999998,81.706389999999999,109.37779999999999,145.4128,173.18559999999999,191.28700000000001,1427.61067,null,null,null,null,null,null,null,null,null,null,null,null,null,null,null,"Puchuncaví",230]
["Pucón",205.99440000000001,174.7338,141.25290000000001,90.352999999999994,58.304229999999997,45.034750000000003,50.123869999999997,71.763229999999993,99.127120000000005,147.67509999999999,175.4186,202.27279999999999,1462.0537999999999,null,null,null,null,null,null,null,null,null,null,null,null,null,null,null,"Pucón",231]
["Pudahuel",245,195,170,110,75,57,69,92,126,180,221,248,1788,null,null,null,null,null,null,null,null,null,null,null,null,null,null,null,"Pudahuel",232]
["Puente Alto",253,203,176,116,79,60,73,98,132,188,230,258,1866,null,null,null,null,null,null,null,null,null,null,null,null,null,null,null,"Puente Alto",233]
["Puerto Montt",177.047,150.35679999999999,112.4218,72.853149999999999,44.144509999999997,32.395890000000001,38.129600000000003,59.457259999999998,84.935220000000001,121.01130000000001,145.94630000000001,173.30179999999999,1212.00063,null,null,null,null,null,null,null,null,null,null,null,null,null,null,null,"Puerto Montt",234]
["Puerto Octay",183.17750000000001,154.39189999999999,117.193,75.614109999999997,46.874519999999997,34.554459999999999,40.601979999999998,61.707160000000002,87.521550000000005,124.8798,150.62049999999999,179.7474,1256.8838800000001,null,null,null,null,null,null,null,null,null,null,null,null,null,null,null,"Puerto Octay",235]
["Puerto Varas",187.55410000000001,157.14279999999999,122.8912,79.195930000000004,48.98265,38.185969999999998,42.132440000000003,61.988889999999998,86.504390000000001,129.88849999999999,159.95169999999999,186.92359999999999,1301.3421700000001,null,null,null,null,null,null,null,null,null,null,null,null,null,null,null,"Puerto Varas",236]
["Pumanque",218.82660000000001,175.35499999999999,152.81530000000001,97.367429999999999,60.471609999999998,42.471609999999998,54.861600000000003,77.529529999999994,111.9195,156.3561,192.4366,214.81530000000001,1555.2261799999999,null,null,null,null,null,null,null,null,null,null,null,null,null,null,null,"Pumanque",237]
["Punitaqui",228.55260000000001,186.07220000000001,165.10230000000001,119.4298,90.880949999999999,75.616110000000006,84.762029999999996,104.8484,135.97200000000001,187.8005,214.55260000000001,239.02510000000001,1832.6145900000001,null,null,null,null,null,null,null,null,null,null,null,null,null,null,null,"Punitaqui",238]
["Punta Arenas",140.64269999999999,97.049949999999995,78.957660000000004,40.785150000000002,21.62632,11.43178,14.85289,26.805859999999999,62.0625,93.489680000000007,135.91239999999999,148.82650000000001,872.44339000000002,null,null,null,null,null,null,null,null,null,null,null,null,null,null,null,"Punta Arenas",239]
["Puqueldón",169.38120000000001,145.79509999999999,107.4632,68.127070000000003,42.56353,29.66807,35.56353,56.231610000000003,84.231610000000003,119.67230000000001,143.8997,166.4632,1169.0601200000001,null,null,null,null,null,null,null,null,null,null,null,null,null,null,null,"Puqueldón",240]
["Purén",204.69380000000001,163.50450000000001,138.36269999999999,88.700490000000002,53.76361,41.126249999999999,46.700490000000002,70.292789999999997,102.96169999999999,147.70500000000001,174.12620000000001,197.18940000000001,1429.1269299999999,null,null,null,null,null,null,null,null,null,null,null,null,null,null,null,"Purén",241]
["Purranque",183.7011,157.14619999999999,116.5718,75.787629999999993,46.908290000000001,33.5182,40.427419999999998,62.538469999999997,90.183689999999999,124.1478,148.4862,178.64619999999999,1258.0629999999996,null,null,null,null,null,null,null,null,null,null,null,null,null,null,null,"Purranque",242]
["Putaendo",250.73500000000001,214.21109999999999,176.63380000000001,129.0162,100.1035,68.451490000000007,82.478290000000001,100.25960000000001,134.21549999999999,179.46950000000001,216.4522,257.48200000000003,1909.5081799999998,null,null,null,null,null,null,null,null,null,null,null,null,null,null,null,"Putaendo",243]
["Putre",205.00659999999999,181.5617,186.75020000000001,180.4195,179.96950000000001,155.33000000000001,169.3107,186.13140000000001,207.23099999999999,247.75970000000001,265.91039999999998,229.952,2395.3326999999999,null,null,null,null,null,null,null,null,null,null,null,null,null,null,null,"Putre",244]
["Puyehue",188.86689999999999,158.47040000000001,122.995,79.582740000000001,49.29195,37.659829999999999,42.223909999999997,63.361690000000003,88.284120000000001,130.37,159.28290000000001,187.2294,1307.6188400000001,null,null,null,null,null,null,null,null,null,null,null,null,null,null,null,"Puyehue",245]
["Queilén",165.68969999999999,144.7825,106.614,66.858339999999998,41.853430000000003,29.855889999999999,34.853430000000003,56.026820000000001,83.772769999999994,120.5138,143.72139999999999,165.52850000000001,1160.0705800000001,null,null,null,null,null,null,null,null,null,null,null,null,null,null,null,"Queilén",246]
["Quellón",168.75569999999999,145.7458,106.7474,66.874210000000005,41.285490000000003,30.442599999999999,34.0578,56.801380000000002,86.189880000000002,122.6904,148.84440000000001,168.8921,1177.32716,null,null,null,null,null,null,null,null,null,null,null,null,null,null,null,"Quellón",247]
["Quemchi",175.18960000000001,149.17949999999999,109.7967,70.392840000000007,42.403869999999998,30.19642,37.175370000000001,57.579239999999999,85.589269999999999,119.05629999999999,143.2517,171.2106,1191.0214099999998,null,null,null,null,null,null,null,null,null,null,null,null,null,null,null,"Quemchi",248]
["Quilaco",238.31180000000001,200.79640000000001,161.36959999999999,101.9785,67.415030000000002,47.663170000000001,54.703290000000003,78.050780000000003,110.37520000000001,167.9162,196.4358,224.4325,1649.4482700000003,null,null,null,null,null,null,null,null,null,null,null,null,null,null,null,"Quilaco",249]
["Quilicura",245.90620000000001,195.77670000000001,170.77670000000001,110.77670000000001,75.517809999999997,57.517809999999997,69.647270000000006,92.647270000000006,126.9062,180.77670000000001,221.90620000000001,248.90620000000001,1797.06176,null,null,null,null,null,null,null,null,null,null,null,null,null,null,null,"Quilicura",250]
["Quilleco",223.0909,179.3989,152.041,97.62227,60.671750000000003,45.049469999999999,50.768389999999997,74.896829999999994,110.6328,162.23490000000001,190.0025,212.80019999999999,1559.2099099999998,null,null,null,null,null,null,null,null,null,null,null,null,null,null,null,"Quilleco",251]
["Quillón",220,168,148,98,57,44,49,75,113,163,191,213,1539,null,null,null,null,null,null,null,null,null,null,null,null,null,null,null,"Quillón",252]
["Quillota",201.13640000000001,155.27269999999999,139.0455,92.409090000000006,65.090909999999994,50.545450000000002,60.090910000000001,84.863640000000004,114.9545,151.72730000000001,182.5909,201.36359999999999,1499.0908999999999,null,null,null,null,null,null,null,null,null,null,null,null,null,null,null,"Quillota",253]
["Quilpué",218.93129999999999,173.09540000000001,151.9006,100.5076,69.305850000000007,53.118189999999998,64.668260000000004,86.671949999999995,116.87390000000001,162.62569999999999,198.01169999999999,221.2063,1616.9167500000003,null,null,null,null,null,null,null,null,null,null,null,null,null,null,null,"Quilpué",254]
["Quinchao",175.84610000000001,149.88460000000001,110.92310000000001,70.442300000000003,43.48077,30.48077,36.48077,57.961530000000003,86.442300000000003,123.4038,148.36539999999999,172.32689999999999,1206.0383400000001,null,null,null,null,null,null,null,null,null,null,null,null,null,null,null,"Quinchao",255]
["Quinta de Tilcoco",220.31219999999999,176.6327,152.7362,98.568579999999997,62.989449999999998,45.499409999999997,57.94764,79.898399999999995,113.1571,158.28489999999999,195.23560000000001,218.18639999999999,1579.4485800000002,null,null,null,null,null,null,null,null,null,null,null,null,null,null,null,"Quinta de Tilcoco",256]
["Quinta Normal",245,195,170,110,75,57,69,92,126,180,221,248,1788,null,null,null,null,null,null,null,null,null,null,null,null,null,null,null,"Quinta Normal",257]
["Quintero",188,146,129,87,62,49,57,81,108,144,171,189,1411,null,null,null,null,null,null,null,null,null,null,null,null,null,null,null,"Quintero",258]
["Quirihue",223.4898,173.12039999999999,152.31379999999999,98.841610000000003,58.841610000000003,45.017539999999997,51.683219999999999,77.841610000000003,114.6657,164.8416,196.12039999999999,216.47219999999999,1573.2494899999999,null,null,null,null,null,null,null,null,null,null,null,null,null,null,null,"Quirihue",259]
["Rancagua",220,175,152,100,67,49,61,83,115,161,198,221,1602,null,null,null,null,null,null,null,null,null,null,null,null,null,null,null,"Rancagua",260]
["Ranquil",220.07339999999999,168.07339999999999,148.30449999999999,97.768929999999997,57.535550000000001,44.651090000000003,49.651090000000003,76.302180000000007,112.7689,163.30449999999999,191.07339999999999,213.18889999999999,1542.6958399999999,null,null,null,null,null,null,null,null,null,null,null,null,null,null,null,"Ránquil",261]
["Rauco",218.37710000000001,177.37710000000001,151.7037,95.851860000000002,57.703719999999997,39.346690000000002,52.525199999999998,74.851860000000002,109.5252,153.52520000000001,191.37710000000001,213.37710000000001,1535.5418299999999,null,null,null,null,null,null,null,null,null,null,null,null,null,null,null,"Rauco",262]
["Recoleta",253,203,176,116,79,60,73,98,132,188,230,258,1866,null,null,null,null,null,null,null,null,null,null,null,null,null,null,null,"Recoleta",263]
["Renaico",207.2578,162.06219999999999,138.92330000000001,89.903030000000001,53.833689999999997,41.600079999999998,45.805300000000003,69.950559999999996,104.2411,152.39879999999999,177.8092,200.09039999999999,1443.87546,null,null,null,null,null,null,null,null,null,null,null,null,null,null,null,"Renaico",264]
["Renca",245,195,170,110,75,57,69,92,126,180,221,248,1788,null,null,null,null,null,null,null,null,null,null,null,null,null,null,null,"Renca",265]
["Rengo",230.23089999999999,190.88030000000001,159.4913,107.27460000000001,71.875540000000001,49.510770000000001,61.704250000000002,82.249319999999997,115,154.0891,193.2715,222.81870000000001,1638.3962799999999,null,null,null,null,null,null,null,null,null,null,null,null,null,null,null,"Rengo",266]
["Requínoa",232.7483,193.1215,161.03319999999999,109.5774,75.368819999999999,52.335340000000002,64.223010000000002,84.884690000000006,117.0371,156.8922,196.32409999999999,226.61969999999999,1670.16536,null,null,null,null,null,null,null,null,null,null,null,null,null,null,null,"Requínoa",267]
["Retiro",216.00020000000001,172.4708,149.2527,95.638499999999993,56.25271,41.875529999999998,50.648859999999999,74.103949999999998,109.5988,155.3169,188.39660000000001,209.471,1519.02655,null,null,null,null,null,null,null,null,null,null,null,null,null,null,null,"Retiro",268]
["Rinconada",258.3415,207.21950000000001,180.56100000000001,120.5121,84.951130000000006,64.438980000000001,78.585310000000007,104.2195,140.1463,193.4879,234.41470000000001,262.48790000000002,1929.3658200000002,null,null,null,null,null,null,null,null,null,null,null,null,null,null,null,"Rinconada",269]
["Río Bueno",183.58629999999999,154.54400000000001,118.217,76.875349999999997,48.068260000000002,35.888030000000001,41.446910000000003,62.47475,88.683170000000004,125.95950000000001,152.10499999999999,179.97309999999999,1267.8213699999999,null,null,null,null,null,null,null,null,null,null,null,null,null,null,null,"Río Bueno",270]
["Río Claro",219.35220000000001,177.33260000000001,152.66730000000001,96.215220000000002,57.843429999999998,38.39134,52.11739,75.11739,109.31310000000001,154.23480000000001,191.23480000000001,213.43039999999999,1537.2499700000001,null,null,null,null,null,null,null,null,null,null,null,null,null,null,null,"Río Claro",271]
["Río Hurtado",256.91140000000001,218.10310000000001,187.4058,141.2304,109.9545,87.902010000000004,99.573189999999997,118.9579,152.8228,209.80760000000001,238.01060000000001,275.9196,2096.5989000000004,null,null,null,null,null,null,null,null,null,null,null,null,null,null,null,"Río Hurtado",272]
["Río Ibáñez",190.58799999999999,148.5607,119.5258,68.613740000000007,39.716239999999999,29.508790000000001,36.731749999999998,59.214379999999998,97.291839999999993,143.0164,171.46199999999999,188.6808,1292.9104400000001,null,null,null,null,null,null,null,null,null,null,null,null,null,null,null,"Río Ibáñez",273]
["Río Negro",183.59139999999999,157.10130000000001,116.6395,75.942269999999994,46.927750000000003,33.627339999999997,40.570399999999999,62.504640000000002,90.233670000000004,124.1255,148.55070000000001,178.6446,1258.4590699999999,null,null,null,null,null,null,null,null,null,null,null,null,null,null,null,"Río Negro",274]
["Río Verde",145.02209999999999,100.5423,82.184359999999998,42.78875,22.53246,12.25413,15.84693,27.06155,63.842889999999997,95.332520000000002,140.10759999999999,152.0247,899.54028999999991,null,null,null,null,null,null,null,null,null,null,null,null,null,null,null,"Río Verde",275]
["Romeral",239.31909999999999,201.88480000000001,166.18129999999999,111.5553,76.328620000000001,48.802529999999997,60.989069999999998,77.919659999999993,109.3749,146.1609,185.2996,223.31399999999999,1647.1297800000002,null,null,null,null,null,null,null,null,null,null,null,null,null,null,null,"Romeral",276]
["Saavedra",196.65629999999999,163.28129999999999,138.25,87.40625,54.40625,40.84375,46.5625,71.40625,100.9688,140.375,166.375,192.78129999999999,1399.3126999999999,null,null,null,null,null,null,null,null,null,null,null,null,null,null,null,"Saavedra",277]
["Sagrada Familia",216.4109,175.3152,150.3597,95.161749999999998,56.283839999999998,38.102319999999999,51.193080000000002,74.141919999999999,108.2129,152.28880000000001,189.33500000000001,211.33500000000001,1518.14041,null,null,null,null,null,null,null,null,null,null,null,null,null,null,null,"Sagrada Familia",278]
["Salamanca",257.41480000000001,219.16900000000001,179.9683,134.97399999999999,103.2012,70.879850000000005,85.741739999999993,104.2253,137.28659999999999,185.61760000000001,223.47229999999999,271.73770000000002,1973.6883899999998,null,null,null,null,null,null,null,null,null,null,null,null,null,null,null,"Salamanca",279]
["San Antonio",197.62370000000001,153.62260000000001,135.71780000000001,89.359470000000002,61.455849999999998,48.003459999999997,57.454700000000003,80.005769999999998,109.45820000000001,148.36179999999999,178.71889999999999,198.17250000000001,1457.9547500000003,null,null,null,null,null,null,null,null,null,null,null,null,null,null,null,"San Antonio",280]
["San Bernardo",245.1789,195.42099999999999,170.01310000000001,110.73950000000001,75.573710000000005,57.00656,69.573710000000005,92.497380000000007,126.73950000000001,179.93680000000001,221.0197,248.34469999999999,1792.0445600000003,null,null,null,null,null,null,null,null,null,null,null,null,null,null,null,"San Bernardo",281]
["San Carlos",219.74459999999999,171.77209999999999,148.86160000000001,97.248180000000005,57.248260000000002,44.247950000000003,50.554639999999999,75.24803,111.7864,160.23699999999999,190.589,212.00550000000001,1539.5432599999999,null,null,null,null,null,null,null,null,null,null,null,null,null,null,null,"San Carlos",282]
["San Clemente",232.4752,195.6688,163.52680000000001,108.3342,72.397210000000001,46.006459999999997,57.315429999999999,76.036320000000003,106.09529999999999,142.6446,175.76570000000001,218.19970000000001,1594.4657200000001,null,null,null,null,null,null,null,null,null,null,null,null,null,null,null,"San Clemente",283]
["San Esteban",240.19280000000001,205.1814,170.5351,124.29349999999999,94.598550000000003,64.950980000000001,79.743620000000007,98.247349999999997,128.2877,167.67310000000001,202.89099999999999,243.38480000000001,1819.9799000000003,null,null,null,null,null,null,null,null,null,null,null,null,null,null,null,"San Esteban",284]
["San Fabián",241.1302,201.69970000000001,166.04159999999999,109.5551,71.415880000000001,48.490920000000003,54.843449999999997,75.255250000000004,105.9439,159.0205,195.5206,230.62639999999999,1659.5435000000002,null,null,null,null,null,null,null,null,null,null,null,null,null,null,null,"San Fabián",285]
["San Felipe",258.32760000000002,207.1182,180.4811,120.4641,84.983059999999995,64.554230000000004,78.585949999999997,104.1888,140.10230000000001,193.60650000000001,234.4494,262.60649999999998,1929.46774,null,null,null,null,null,null,null,null,null,null,null,null,null,null,null,"San Felipe",286]
["San Fernando",237.99010000000001,200.7166,164.4802,112.42829999999999,78.670050000000003,50.674239999999998,62.800870000000003,80.244240000000005,111.2604,146.55789999999999,186.96279999999999,224.03739999999999,1656.8231000000003,null,null,null,null,null,null,null,null,null,null,null,null,null,null,null,"San Fernando",287]
["San Gregorio",173.1026,120.21,96.938149999999993,51.185029999999998,26.90203,15.06902,19.527920000000002,32.683819999999997,75.523499999999999,115.07689999999999,167.77420000000001,179.34030000000001,1073.33347,null,null,null,null,null,null,null,null,null,null,null,null,null,null,null,"San Gregorio",288]
["San Ignacio",218.05350000000001,168.45820000000001,147.40469999999999,96.351169999999996,56.70234,44,49.351170000000003,74,111,160.70230000000001,189.05350000000001,209.70230000000001,1524.77918,null,null,null,null,null,null,null,null,null,null,null,null,null,null,null,"San Ignacio",289]
["San Javier",217.6635,174.71440000000001,150.6045,96.264020000000002,57.305340000000001,40.546169999999996,51.568600000000004,74.932190000000006,110.5748,156.12090000000001,191.7235,212.54830000000001,1534.5662199999999,null,null,null,null,null,null,null,null,null,null,null,null,null,null,null,"San Javier",290]
["San Joaquín",253,203,176,116,79,60,73,98,132,188,230,258,1866,null,null,null,null,null,null,null,null,null,null,null,null,null,null,null,"San Joaquín",291]
["San José de Maipo",231.38210000000001,203.6326,166.88740000000001,117.179,88.058899999999994,56.141840000000002,70.334199999999996,84.771420000000006,111.6511,142.59530000000001,171.69229999999999,218.6397,1662.9658599999998,null,null,null,null,null,null,null,null,null,null,null,null,null,null,null,"San José de Maipo",292]
["San Juan de la Costa",193.14609999999999,164.15819999999999,122.9088,79.411060000000006,49.545990000000003,35.422739999999997,42.463039999999999,65.706140000000005,93.989549999999994,129.6652,157.12889999999999,189.32820000000001,1322.8739199999998,null,null,null,null,null,null,null,null,null,null,null,null,null,null,null,"San Juan de la Costa",293]
["San Miguel",252.80279999999999,202.80279999999999,175.85210000000001,115.85209999999999,78.901409999999998,59.92606,72.901409999999998,97.852109999999996,131.85210000000001,187.80279999999999,229.7782,257.75349999999997,1864.0773899999999,null,null,null,null,null,null,null,null,null,null,null,null,null,null,null,"San Miguel",294]
["San Nicolás",219.21340000000001,169,148.10669999999999,97.10669,57.10669,44.10669,50,75.213380000000001,112.1067,161.3201,190.21340000000001,212.21340000000001,1535.70715,null,null,null,null,null,null,null,null,null,null,null,null,null,null,null,"San Nicolás",295]
["San Pablo",187.73150000000001,159.7105,118.9444,77.807360000000003,48.655670000000001,34.162619999999997,40.98507,63.807519999999997,91.807519999999997,126.64060000000001,151.89830000000001,182.86250000000001,1285.0135599999999,null,null,null,null,null,null,null,null,null,null,null,null,null,null,null,"San Pablo",296]
["San Pedro",206.11019999999999,161.62260000000001,142.0361,92.929969999999997,62.865989999999996,48.231740000000002,58.603209999999997,80.915019999999998,111.4919,152.82,185.51480000000001,205.94460000000001,1509.0861300000001,null,null,null,null,null,null,null,null,null,null,null,null,null,null,null,"San Pedro",297]
["San Pedro de Atacama",234.24100000000001,220.8177,216.964,176.41569999999999,161.79419999999999,148.8322,155.26820000000001,169.3194,183.9836,240.51480000000001,263.38780000000003,294.0942,2465.6328000000003,null,null,null,null,null,null,null,null,null,null,null,null,null,null,null,"San Pedro de Atacama",298]
["San Pedro de la Paz",222,168,149,98,57,45,50,77,113,165,192,216,1552,null,null,null,null,null,null,null,null,null,null,null,null,null,null,null,"San Pedro de la Paz",299]
["San Rafael",215.78909999999999,174.57820000000001,150,94.789100000000005,56,38,51,74,108,151.78909999999999,188.57820000000001,210.78909999999999,1513.3127999999999,null,null,null,null,null,null,null,null,null,null,null,null,null,null,null,"San Rafael",300]
["San Ramón",253,203,176,116,79,60,73,98,132,188,230,258,1866,null,null,null,null,null,null,null,null,null,null,null,null,null,null,null,"San Ramón",301]
["San Rosendo",214.8742,163,143.8742,94,55,43,47.874189999999999,73.874189999999999,108.8742,158.8742,185.8742,207.8742,1496.9935799999998,null,null,null,null,null,null,null,null,null,null,null,null,null,null,null,"San Rosendo",302]
["San Vicente",217.3409,174.26840000000001,151.16050000000001,97.143450000000001,61.198889999999999,44.16339,56.217370000000003,78.198890000000006,111.2159,155.34229999999999,192.32390000000001,215.30539999999999,1553.8792900000001,null,null,null,null,null,null,null,null,null,null,null,null,null,null,null,"San Vicente",303]
["Santa Bárbara",227.81020000000001,187.20570000000001,156.44630000000001,99.157060000000001,63.131929999999997,45.648820000000001,51.923639999999999,75.588949999999997,110.3094,163.72499999999999,191.08099999999999,214.9546,1586.9825999999998,null,null,null,null,null,null,null,null,null,null,null,null,null,null,null,"Santa Bárbara",304]
["Santa Cruz",219.08320000000001,176.74289999999999,152.80350000000001,97.161360000000002,59.519269999999999,41.597969999999997,54.469140000000003,76.519270000000006,111.1112,155.60239999999999,192.44110000000001,215.1112,1552.1625100000001,null,null,null,null,null,null,null,null,null,null,null,null,null,null,null,"Santa Cruz",305]
["Santa Juana",213.69319999999999,164.42619999999999,143.96629999999999,93.45872,55.503869999999999,43.01972,47.861190000000001,73.059979999999996,108.55159999999999,157.27850000000001,183.83750000000001,206.63499999999999,1491.29178,null,null,null,null,null,null,null,null,null,null,null,null,null,null,null,"Santa Juana",306]
["Santa María",251.60589999999999,213.5712,176.4812,128.76240000000001,99.745059999999995,69.750709999999998,85.256960000000007,104.4115,140.27430000000001,185.6482,224.86850000000001,257.93340000000001,1938.30933,null,null,null,null,null,null,null,null,null,null,null,null,null,null,null,"Santa María",307]
["Santiago",250.68629999999999,200.68629999999999,174.2647,114.2647,77.843170000000001,59.132370000000002,71.843170000000001,96.264750000000006,130.2647,185.68629999999999,227.39709999999999,255.1079,1843.44146,null,null,null,null,null,null,null,null,null,null,null,null,null,null,null,"Santiago",308]
["Santo Domingo",198.11850000000001,155.1352,136.7243,90.370509999999996,61.959620000000001,48,57.451270000000001,80.508349999999993,109.95959999999999,149.87889999999999,179.7243,199.1756,1467.0061499999999,null,null,null,null,null,null,null,null,null,null,null,null,null,null,null,"Santo Domingo",309]
["Sierra Gorda",243.518,218.0283,207.30940000000001,164.84299999999999,152.43860000000001,138.93889999999999,148.88800000000001,163.65889999999999,178.70750000000001,234.40889999999999,251.6574,282.17669999999998,2384.5735999999997,null,null,null,null,null,null,null,null,null,null,null,null,null,null,null,"Sierra Gorda",310]
["Talagante",242.8826,193.64920000000001,168.0977,110.36709999999999,75.428529999999995,56.141089999999998,69.459270000000004,91.815550000000002,126.4285,177.48480000000001,218.2696,245.7903,1775.8142400000002,null,null,null,null,null,null,null,null,null,null,null,null,null,null,null,"Talagante",311]
["Talca",215.21209999999999,173.22620000000001,150,94.212090000000003,56.09901,38.09901,51,74,108.19799999999999,151.31110000000001,187.3252,210.1131,1508.7958100000001,null,null,null,null,null,null,null,null,null,null,null,null,null,null,null,"Talca",312]
["Talcahuano",222.22290000000001,168.22290000000001,149.44569999999999,98.445740000000001,57.22287,45.22287,50.22287,77.22287,113.4457,165.22290000000001,192.44569999999999,216.22290000000001,1555.56592,null,null,null,null,null,null,null,null,null,null,null,null,null,null,null,"Talcahuano",313]
["Taltal",249.82730000000001,220.1516,205.13740000000001,161.2518,143.8742,129.1369,139.61019999999999,157.1019,176.61330000000001,227.92930000000001,249.28980000000001,285.25400000000002,2345.1777000000002,null,null,null,null,null,null,null,null,null,null,null,null,null,null,null,"Taltal",314]
["Temuco",200.1052,167.79079999999999,139.15989999999999,86.916300000000007,54.094529999999999,40.761749999999999,46.15455,70.219899999999996,99.892610000000005,141.45060000000001,165.91589999999999,192.74879999999999,1405.21084,null,null,null,null,null,null,null,null,null,null,null,null,null,null,null,"Temuco",315]
["Teno",225.6095,181.7611,156.27420000000001,99.799580000000006,62.749200000000002,42.770409999999998,56.28472,78.798820000000006,112.81019999999999,158.23419999999999,197.18379999999999,219.65940000000001,1591.9351300000001,null,null,null,null,null,null,null,null,null,null,null,null,null,null,null,"Teno",316]
["Teodoro Schmidt",195.2747,164.0333,136.77809999999999,85.141800000000003,53.231619999999999,40.151539999999997,45.802520000000001,69.547929999999994,98.977029999999999,137.9408,163.86080000000001,194.2901,1385.0302399999998,null,null,null,null,null,null,null,null,null,null,null,null,null,null,null,"Teodoro Schmidt",317]
["Tierra Amarilla",262.80599999999998,228.56190000000001,207.2336,157.60669999999999,133.28479999999999,115.78749999999999,123.40479999999999,144.90870000000001,173.81209999999999,232.18029999999999,254.20869999999999,298.46159999999998,2332.2566999999999,null,null,null,null,null,null,null,null,null,null,null,null,null,null,null,"Tierra Amarilla",318]
["Tiltil",252.4958,201.40889999999999,176.33369999999999,116.402,79.883459999999999,61.432389999999998,74.643029999999996,98.346260000000001,134.14490000000001,187.07480000000001,228.62129999999999,255.70650000000001,1866.4930400000001,null,null,null,null,null,null,null,null,null,null,null,null,null,null,null,"Tiltil",319]
["Timaukel",135.03819999999999,96.600610000000003,75.471019999999996,40.34075,21.450959999999998,11.251910000000001,15.065939999999999,30.68852,63.827719999999999,100.04600000000001,135.06469999999999,147.37809999999999,872.2244300000001,null,null,null,null,null,null,null,null,null,null,null,null,null,null,null,"Timaukel",320]
["Tirúa",203.03749999999999,161.1491,140.9462,90.384339999999995,55.69,41.416879999999999,47,71.195030000000003,104.8951,147.02760000000001,171.70320000000001,197.84289999999999,1432.2878499999997,null,null,null,null,null,null,null,null,null,null,null,null,null,null,null,"Tirúa",321]
["Tocopilla",230.80449999999999,203.6283,203.8476,159.0926,140.89070000000001,123.92010000000001,131.3503,145.4571,167.07839999999999,217.52950000000001,231.95959999999999,248.91319999999999,2204.4719000000005,null,null,null,null,null,null,null,null,null,null,null,null,null,null,null,"Tocopilla",322]
["Toltén",197.55459999999999,164.82640000000001,136.1249,83.562460000000002,53.317160000000001,39.535939999999997,45.426549999999999,68.426550000000006,98.317160000000001,137.36250000000001,162.47190000000001,198.6266,1385.5527200000001,null,null,null,null,null,null,null,null,null,null,null,null,null,null,null,"Toltén",323]
["Tomé",214.10669999999999,162.10669999999999,144.10669999999999,95.404439999999994,55.404440000000001,43.702219999999997,48.404440000000001,74.404439999999994,110.1067,159.10669999999999,185.40440000000001,207.80889999999999,1500.0667800000001,null,null,null,null,null,null,null,null,null,null,null,null,null,null,null,"Tomé",324]
["Torres del Paine",165.9118,117.28449999999999,93.433109999999999,50.766249999999999,29.67915,16.618870000000001,21.214030000000001,37.002249999999997,76.209370000000007,111.8235,153.1662,170.7801,1043.88913,null,null,null,null,null,null,null,null,null,null,null,null,null,null,null,"Torres del Paine",325]
["Tortel",149.03899999999999,116.8994,97.127480000000006,54.762920000000001,32.064709999999998,22.285150000000002,26.364270000000001,46.212499999999999,79.031459999999996,118.96769999999999,132.06059999999999,154.09110000000001,1028.9062900000001,null,null,null,null,null,null,null,null,null,null,null,null,null,null,null,"Tortel",326]
["Traiguén",203.76089999999999,165.9597,140.13030000000001,88.820899999999995,54.743009999999998,41,46.566380000000002,70.132760000000005,102.2106,147.15940000000001,172.1558,195.72569999999999,1428.36545,null,null,null,null,null,null,null,null,null,null,null,null,null,null,null,"Traiguén",327]
["Treguaco",218.4479,166.44499999999999,147.30350000000001,97.153199999999998,57.153199999999998,44.578780000000002,49.587629999999997,76.153199999999998,112.15470000000001,162.29900000000001,189.44499999999999,211.8691,1532.5902099999998,null,null,null,null,null,null,null,null,null,null,null,null,null,null,null,"Treguaco",328]
["Tucapel",224.74260000000001,181.82429999999999,154.07550000000001,99.004580000000004,62.04316,45.38288,51.621699999999997,74.594489999999993,109.9393,163.0437,191.32169999999999,215.42599999999999,1573.01991,null,null,null,null,null,null,null,null,null,null,null,null,null,null,null,"Tucapel",329]
["Valdivia",195.9246,165.13390000000001,126.3704,80.244479999999996,50.265259999999998,37.096310000000003,43.134569999999997,65.527569999999997,94.583510000000004,131.5523,157.7963,190.6841,1338.3132999999998,null,null,null,null,null,null,null,null,null,null,null,null,null,null,null,"Valdivia",330]
["Vallenar",241.6026,203.88659999999999,186.79050000000001,138.88630000000001,112.2359,93.871120000000005,108.90940000000001,132.86600000000001,166.12299999999999,218.00389999999999,230.13159999999999,254.61779999999999,2087.92472,null,null,null,null,null,null,null,null,null,null,null,null,null,null,null,"Vallenar",331]
["Valparaíso",193.024,151.24090000000001,133.24090000000001,88.674660000000003,60.891550000000002,48,56.783110000000001,79,106.1084,145.78309999999999,174.3493,194.24090000000001,1431.33682,null,null,null,null,null,null,null,null,null,null,null,null,null,null,null,"Valparaíso",332]
["Vichuquén",213.23439999999999,170.59379999999999,148.51560000000001,95.71875,59.640630000000002,42.28125,53.640630000000002,77,111,155.35939999999999,189.79689999999999,211.15629999999999,1527.9376600000001,null,null,null,null,null,null,null,null,null,null,null,null,null,null,null,"Vichuquén",333]
["Victoria",208.31469999999999,174.79429999999999,145.6823,91.539389999999997,58.321379999999998,43.026260000000001,49.8155,72.581569999999999,104.63339999999999,154.5635,177.0085,202.94130000000001,1483.2220999999997,null,null,null,null,null,null,null,null,null,null,null,null,null,null,null,"Victoria",334]
["Vicuña",255.28280000000001,220.18870000000001,194.6584,147.97130000000001,119.34950000000001,95.895930000000007,107.88290000000001,127.9556,162.61539999999999,216.8,239.7217,280.42989999999998,2168.7521299999999,null,null,null,null,null,null,null,null,null,null,null,null,null,null,null,"Vicuña",335]
["Vilcún",205.8664,178.3015,146.48439999999999,90.216220000000007,58.811129999999999,42.238019999999999,49.202869999999997,72.181420000000003,101.5241,148.83529999999999,167.52699999999999,195.79810000000001,1456.9864600000001,null,null,null,null,null,null,null,null,null,null,null,null,null,null,null,"Vilcún",336]
["Villa Alegre",214.7955,172.63900000000001,148.91210000000001,94.650540000000007,56.014180000000003,39.647880000000001,50.534289999999999,73.767150000000001,108.65049999999999,153.29839999999999,188.054,209.31559999999999,1510.2791400000001,null,null,null,null,null,null,null,null,null,null,null,null,null,null,null,"Villa Alegre",337]
["Villa Alemana",216.00530000000001,170.6199,149.7987,99.156279999999995,68.335089999999994,52.5139,63.770859999999999,85.770859999999999,115.592,160.67019999999999,195.3126,218.13380000000001,1595.67949,null,null,null,null,null,null,null,null,null,null,null,null,null,null,null,"Villa Alemana",338]
["Villarrica",197.10249999999999,169.41409999999999,136.48679999999999,84.822620000000001,55.986339999999998,39.42597,47.125160000000001,68.58717,98.236980000000003,138.5677,160.16470000000001,188.3537,1384.2737400000001,null,null,null,null,null,null,null,null,null,null,null,null,null,null,null,"Villarrica",339]
["Viña del Mar",192.32470000000001,150.32470000000001,132.60390000000001,88.441559999999996,61.279220000000002,48.279220000000002,57,79.558440000000004,106.55840000000001,145.44159999999999,173.88310000000001,193.32470000000001,1429.0195400000002,null,null,null,null,null,null,null,null,null,null,null,null,null,null,null,"Viña del Mar",340]
["Vitacura",253,203,176,116,79,60,73,98,132,188,230,258,1866,null,null,null,null,null,null,null,null,null,null,null,null,null,null,null,"Vitacura",341]
["Yerbas Buenas",213.1926,171.79509999999999,148.1926,93.397540000000006,55.397539999999999,38.602460000000001,49.795070000000003,73.397540000000006,107.39749999999999,151,185.79509999999999,207.59010000000001,1495.5531500000002,null,null,null,null,null,null,null,null,null,null,null,null,null,null,null,"Yerbas Buenas",342]
["Yumbel",215.024,163.57830000000001,143.9324,94.606920000000002,55.24333,43.151730000000001,47.537300000000002,73.537300000000002,108.99250000000001,158.9324,186.08410000000001,208.024,1498.64428,null,null,null,null,null,null,null,null,null,null,null,null,null,null,null,"Yumbel",343]
["Yungay",221.07859999999999,175.24879999999999,150.24539999999999,97.154880000000006,59.662170000000003,44.676389999999998,50.477719999999998,73.971199999999996,110.0613,161.58160000000001,189.8167,212.33699999999999,1546.31176,null,null,null,null,null,null,null,null,null,null,null,null,null,null,null,"Yungay",344]
["Zapallar",193.19220000000001,150.61850000000001,134.58619999999999,90.063019999999995,64.051400000000001,50.525579999999998,59.033369999999998,83.055350000000004,111.07089999999999,147.61080000000001,176.14830000000001,194.17019999999999,1454.12582,null,null,null,null,null,null,null,null,null,null,null,null,null,null,null,"Zapallar",345]

{"sheet":"R7","index":9,"n_rows":222,"n_cols":70,"rows_kept":222,"cut":false,"hidden":true,"merged":[]}
["Zona",{"$f":"'R1'!R2","v":10},null,null,null,null,null,null,null,null,null,null,null,null,null,null,null,null,null,null,null,null,null,null,null,null,null,null,null,null,null,null,null,"Solar Termico",null,null,null,null,null,null,null,null,null,null,null,null,null,null,null,null,null,null,"Solar Fotovoltaico"]
["lat",{"$f":"'R4'!M45*57.3","v":-22},null,null,null,null,null,null,null,null,null,null,null,null,null,null,null,null,null,null,null,null,null,null,null,null,null,null,null,null,null,null,null,"inc",{"$f":"'R4'!B11","v":2},null,null,null,null,null,null,null,null,null,null,null,null,null,null,null,null,null,"inc",{"$f":"'CEV CEVE'!H140","v":60}]
[null,null,null,null,null,null,null,null,null,null,null,null,null,null,null,null,null,null,null,null,null,null,null,null,null,null,null,null,null,null,null,null,null,"gama",{"$f":"180-'CEV CEVE'!H111","v":178},null,null,null,null,null,null,null,null,null,null,null,null,null,null,null,null,null,"gama",{"$f":"180-'CEV CEVE'!H141","v":170}]
[]
["perfiles"]
["Z1",null,null,"Z2",null,null,"Z3",null,null,"Z4",null,null,"Z5",null,null,"Z6",null,null,"Z7",null,null,"Zona H",null,null,"Zona I",null,null,"Calama",null,null,"a usar",null,null,"hora","Dia","Pib","Pid","HS","W","Dec","Rb'","Alfa","F1","F2","Rb","Itot",null,null,"Factores","Ht,h","Ht,i",null,"hora","Dia","Pib","Pid","HS","W","Dec","Rb'","Alfa","F1","F2","Rb","Itot",null,null,"Factores","Ht,h","Ht,i"]
["Enero",null,null,"Enero",null,null,"Enero",null,null,"Enero",null,null,"Enero",null,null,"Enero",null,null,"Enero",null,null,"Enero",null,null,"Enero",null,null,"Enero"]
[0,0,null,7.3235749832886896E-7,0,null,7.3235749832886896E-7,0,null,0,0,null,1.0003828344332237E-3,2.7960586283589119E-3,null,4.1681090748025947E-6,5.41854179724337E-5,null,4.5413816560243867E-6,1.4229662522209744E-4,null,0,0,null,3.5788886771119825E-4,2.3674699369359629E-3,null,0,0,null,{"$f":"CHOOSE($B$1,A8,D8,G8,J8,M8,P8,S8,V8,Y8,AB8)","v":0},{"$f":"CHOOSE($B$1,B8,E8,H8,K8,N8,Q8,T8,V8,Y8,AB8)","v":0},null,5,15,{"$f":"AE8","v":0},{"$f":"AF8","v":0},{"$f":"AH8-0.5","v":4.5},{"$f":"15*(AL8-12)","v":-112.5},{"$f":"23.45*SIN(360*(284+AI8)/365/57.3)","v":-21.273216030587367},{"$f":"((SIN(AN8/57.3)*SIN($B$2/57.3)*COS($AI$2/57.3))-SIN(AN8/57.3)*COS($B$2/57.3)*SIN($AI$2/57.3)*COS($AI$3/57.3)+COS(AN8/57.3)*COS($B$2/57.3)*COS($AI$2/57.3)*COS(AM8/57.3)+COS(AN8/57.3)*SIN($B$2/57.3)*SIN($AI$2/57.3)*COS($AI$3/57.3)*COS(AM8/57.3)+COS(AN8/57.3)*SIN($AI$2/57.3)*SIN($AI$3/57.3)*SIN(AM8/57.3))/(COS($B$2/57.3)*COS(AN8/57.3)*COS(AM8/57.3)+SIN($B$2/57.3)*SIN(AN8/57.3))","v":1.0890121032722937},{"$f":"57.3*ASIN(SIN($B$2/57.3)*SIN(AN8/57.3)+COS($B$2/57.3)*COS(AM8/57.3)*COS(AN8/57.6))","v":-11.23894552036241},{"$f":"IF(AP8<0,0,1)","v":0},{"$f":"IF(AO8<0,0,1)","v":1},{"$f":"AO8*AR8*AQ8","v":0},{"$f":"AJ8*AS8+((1+COS($AI$2/57.3))/2)*AK8+((1-COS($AI$2/57.3))/2)*(AJ8+AK8)*0.2","v":0},null,"E",{"$f":"AT24","v":1.2649557978816877},{"$f":"'R4'!B29","v":6.918787096774194},{"$f":"AW8*AX8","v":8.7519598523735258},null,5,15,{"$f":"AE8","v":0},{"$f":"AF8","v":0},{"$f":"BA8-0.5","v":4.5},{"$f":"15*(BE8-12)","v":-112.5},{"$f":"23.45*SIN(360*(284+BB8)/365/57.3)","v":-21.273216030587367},{"$f":"((SIN(BG8/57.3)*SIN($B$2/57.3)*COS($BB$2/57.3))-SIN(BG8/57.3)*COS($B$2/57.3)*SIN($BB$2/57.3)*COS($BB$3/57.3)+COS(BG8/57.3)*COS($B$2/57.3)*COS($BB$2/57.3)*COS(BF8/57.3)+COS(BG8/57.3)*SIN($B$2/57.3)*SIN($BB$2/57.3)*COS($BB$3/57.3)*COS(BF8/57.3)+COS(BG8/57.3)*SIN($BB$2/57.3)*SIN($BB$3/57.3)*SIN(BF8/57.3))/(COS($B$2/57.3)*COS(BG8/57.3)*COS(BF8/57.3)+SIN($B$2/57.3)*SIN(BG8/57.3))","v":3.2249692305105735},{"$f":"57.3*ASIN(SIN($B$2/57.3)*SIN(BG8/57.3)+COS($B$2/57.3)*COS(BF8/57.3)*COS(BG8/57.6))","v":-11.23894552036241},{"$f":"IF(BI8<0,0,1)","v":0},{"$f":"IF(BH8<0,0,1)","v":1},{"$f":"BH8*BK8*BJ8","v":0},{"$f":"BC8*BL8+((1+COS($BB$2/57.3))/2)*BD8+((1-COS($BB$2/57.3))/2)*(BC8+BD8)*0.2","v":0},null,"E",{"$f":"BM24","v":0.8066885037595537},{"$f":"'R4'!B29","v":6.918787096774194},{"$f":"BP8*BQ8","v":5.5813060109276806}]
[0,5.0000000000000001E-4,null,1.4736027054753855E-6,2.1033449452428654E-3,null,1.4736027054753855E-6,2.1033449452428654E-3,null,3.7643953240030996E-6,2.1519618560290371E-3,null,7.7410033908192752E-3,7.8048091296897279E-3,null,7.8981921705773548E-4,4.444693179093703E-3,null,1.6060965262049177E-3,5.8825057136078461E-3,null,3.7643953240030996E-6,2.1519618560290371E-3,null,4.1433714930565035E-3,1.3195921540630588E-2,null,0,5.0000000000000001E-4,null,0,0,null,6,15,0,0,5.5,-97.5,-21.273216030587367,0.37711851216584602,1.3259764041896531,1,1,0.37711851216584602,0,null,"F",{"$f":"AT42","v":1.2850911899135191},{"$f":"'R4'!B30","v":5.7852107142857134},7.4345233207218673,null,6,15,0,0,5.5,-97.5,-21.273216030587367,-19.513588286031865,1.3259764041896531,1,0,0,0,null,"F",{"$f":"BM42","v":0.90887481950509819},{"$f":"'R4'!B30","v":5.7852107142857134},5.2580323437453877]
[8.0000000000000002E-3,1.2848386422470571E-2,null,9.2399862069200249E-3,1.6293794073228833E-2,null,9.2399862069200249E-3,1.6293794073228833E-2,null,1.1061480955039267E-2,1.4886269410953116E-2,null,1.7658238232398711E-2,1.4515805593028779E-2,null,1.1156289145525727E-2,1.6805887153745935E-2,null,1.0676425793024013E-2,1.9202962683070618E-2,null,1.1061480955039267E-2,1.4886269410953116E-2,null,1.3383041443299069E-2,2.2172026552978945E-2,null,8.0000000000000002E-3,1.2848386422470571E-2,null,8.0000000000000002E-3,8.0000000000000002E-3,null,7,15,8.0000000000000002E-3,8.0000000000000002E-3,6.5,-82.5,-21.273216030587367,0.9540723271119278,14.410393377341826,1,1,0.9540723271119278,1.5631116817083734E-2,null,"M",{"$f":"AT60","v":1.3270422349257631},{"$f":"'R4'!B31","v":4.6366999999999994},6.1530967306802848,null,7,15,8.0000000000000002E-3,8.0000000000000002E-3,6.5,-82.5,-21.273216030587367,-1.0559484777465513,14.410393377341826,1,0,0,6.8001603130058682E-3,null,"M",{"$f":"BM60","v":1.0783259316308036},{"$f":"'R4'!B31","v":4.6366999999999994},4.9998738471925464]
[0.03,2.1994624750244877E-2,null,2.5632206835259533E-2,2.4976961126519169E-2,null,2.5632206835259533E-2,2.4976961126519169E-2,null,3.0833468285701604E-2,2.3088121989488539E-2,null,3.2032759689357218E-2,2.2970065993364222E-2,null,2.9792119185714484E-2,2.3942551902929984E-2,null,2.8370841340515349E-2,2.6846250612202957E-2,null,3.0833468285701604E-2,2.3088121989488539E-2,null,3.1580967991817338E-2,2.712758776455073E-2,null,0.03,2.1994624750244877E-2,null,0.03,0.03,null,8,15,0.03,0.03,7.5,-67.5,-21.273216030587367,0.98197382863851956,27.832709830222559,1,1,0.98197382863851956,5.9453733109861753E-2,null,"A",{"$f":"AT78","v":1.247707458775877},{"$f":"'R4'!B32","v":3.1664316666666665},3.9507804082041313,null,8,15,0.03,0.03,7.5,-67.5,-21.273216030587367,-0.14831425041932192,27.832709830222559,1,0,0,2.5500601173772001E-2,null,"A",{"$f":"BM78","v":1.1867990926419862},{"$f":"'R4'!B32","v":3.1664316666666665},3.7579182289128519]
[4.8000000000000001E-2,3.0531317833376113E-2,null,4.6123875244752172E-2,3.3745568807997617E-2,null,4.6123875244752172E-2,3.3745568807997617E-2,null,4.9837297441355656E-2,2.8911861188440947E-2,null,4.6878987858679375E-2,3.2203667918474524E-2,null,4.6755068861752305E-2,3.2298677220645305E-2,null,4.3069706728792623E-2,3.4876297324381939E-2,null,4.9837297441355656E-2,2.8911861188440947E-2,null,3.8772624986923895E-2,3.6705831261615793E-2,null,4.8000000000000001E-2,3.0531317833376113E-2,null,4.8000000000000001E-2,4.8000000000000001E-2,null,9,15,4.8000000000000001E-2,4.8000000000000001E-2,8.5,-52.5,-21.273216030587367,0.99149571721603025,41.480161821110116,1,1,0.99149571721603025,9.5583023627499333E-2,null,"M",{"$f":"AT96","v":1.2212402872374748},{"$f":"'R4'!B33","v":1.7659583870967741},2.1566595279074923,null,9,15,4.8000000000000001E-2,4.8000000000000001E-2,8.5,-52.5,-21.273216030587367,0.17233075810807813,41.480161821110116,1,1,0.17233075810807813,4.907283826722296E-2,null,"M",{"$f":"BM96","v":1.3251848713691161},{"$f":"'R4'!B33","v":1.7659583870967741},2.3402213380480505]
[6.5000000000000002E-2,3.6423584337821689E-2,null,6.1409640949872314E-2,3.8800300261463472E-2,null,6.1409640949872314E-2,3.8800300261463472E-2,null,7.0316037587086655E-2,3.2509183457813805E-2,null,5.3790516644182704E-2,4.1084059503409071E-2,null,6.3688011978137837E-2,3.5371268293620611E-2,null,5.834615772271598E-2,3.9306415129833738E-2,null,7.0316037587086655E-2,3.2509183457813805E-2,null,4.6918753005946008E-2,4.1742363022774238E-2,null,6.5000000000000002E-2,3.6423584337821689E-2,null,6.5000000000000002E-2,6.5000000000000002E-2,null,10,15,6.5000000000000002E-2,6.5000000000000002E-2,9.5,-37.5,-21.273216030587367,0.99602066668021116,55.280694245822346,1,1,0.99602066668021116,0.12972946621074377,null,"J",{"$f":"AT114","v":1.2170132880153046},{"$f":"'R4'!B34","v":1.4498823333333335},1.7645260657253021,null,10,15,6.5000000000000002E-2,6.5000000000000002E-2,9.5,-37.5,-21.273216030587367,0.33437799259590678,55.280694245822346,1,1,0.33437799259590678,7.6985872061906616E-2,null,"J",{"$f":"BM114","v":1.4090239369762325},{"$f":"'R4'!B34","v":1.4498823333333335},2.0429189134656198]
[8.1000000000000003E-2,3.8642225093490273E-2,null,7.3546269412178317E-2,4.4995312339827377E-2,null,7.3546269412178317E-2,4.4995312339827377E-2,null,7.5117525876563229E-2,3.8867839860958764E-2,null,6.0453658803368941E-2,4.5167626791118257E-2,null,7.3994356350433055E-2,4.009234650568036E-2,null,6.7914091975016674E-2,4.5004335314258986E-2,null,7.5117525876563229E-2,3.8867839860958764E-2,null,6.752125951188645E-2,4.1369407764072025E-2,null,8.1000000000000003E-2,3.8642225093490273E-2,null,8.1000000000000003E-2,8.1000000000000003E-2,null,11,15,8.1000000000000003E-2,8.1000000000000003E-2,10.5,-22.5,-21.273216030587367,0.9984046689171403,69.194266720202179,1,1,0.9984046689171403,0.16185597745919503,null,"J",{"$f":"AT132","v":1.2347105081089154},{"$f":"'R4'!B35","v":1.5401519354838709},1.9016417788262197,null,11,15,8.1000000000000003E-2,8.1000000000000003E-2,10.5,-22.5,-21.273216030587367,0.42991971397071543,69.194266720202179,1,1,0.42991971397071543,0.10367512000081236,null,"J",{"$f":"BM132","v":1.3878054193101426},{"$f":"'R4'!B35","v":1.5401519354838709},2.1374312026255211]
[8.5000000000000006E-2,4.2000000000000003E-2,null,7.4953128166468097E-2,4.7855900728299941E-2,null,7.4953128166468097E-2,4.7855900728299941E-2,null,8.3551966553267812E-2,3.8636244094900463E-2,null,6.6346574543333203E-2,4.7555784445983892E-2,null,7.9227417293847718E-2,4.1583140184768073E-2,null,7.1943811297795646E-2,4.6807263831700668E-2,null,8.3551966553267812E-2,3.8636244094900463E-2,null,6.8202557166489403E-2,4.4407030200080855E-2,null,8.5000000000000006E-2,4.2000000000000003E-2,null,8.5000000000000006E-2,8.5000000000000006E-2,null,12,15,8.5000000000000006E-2,8.5000000000000006E-2,11.5,-7.5,-21.273216030587367,0.99958145507957419,83.306828591603931,1,1,0.99958145507957419,0.16994889205876465,null,"A",{"$f":"AT150","v":1.2106917515183215},{"$f":"'R4'!B36","v":2.3868693548387094},2.8897630398550831,null,12,15,8.5000000000000006E-2,8.5000000000000006E-2,11.5,-7.5,-21.273216030587367,0.48994914044551802,83.306828591603931,1,1,0.48994914044551802,0.11389738026355638,null,"A",{"$f":"BM150","v":1.2214277621487699},{"$f":"'R4'!B36","v":2.3868693548387094},2.9153884946221229]
[8.5000000000000006E-2,4.2000000000000003E-2,null,7.4953128166468097E-2,4.7855900728299941E-2,null,7.4953128166468097E-2,4.7855900728299941E-2,null,8.3551966553267812E-2,3.8636244094900463E-2,null,6.6346574543333203E-2,4.7555784445983892E-2,null,7.9227417293847718E-2,4.1583140184768073E-2,null,7.1943811297795646E-2,4.6807263831700668E-2,null,8.3551966553267812E-2,3.8636244094900463E-2,null,6.8202557166489403E-2,4.4407030200080855E-2,null,8.5000000000000006E-2,4.2000000000000003E-2,null,8.5000000000000006E-2,8.5000000000000006E-2,null,13,15,8.5000000000000006E-2,8.5000000000000006E-2,12.5,7.5,-21.273216030587367,0.99988189064284616,83.306828591603931,1,1,0.99988189064284616,0.16997442908164276,null,"S",{"$f":"AT168","v":1.2262057859304432},{"$f":"'R4'!B37","v":3.6413733333333336},4.4650730500661577,null,13,15,8.5000000000000006E-2,8.5000000000000006E-2,12.5,7.5,-21.273216030587367,0.52684927242886981,83.306828591603931,1,1,0.52684927242886981,0.11703389148214129,null,"S",{"$f":"BM168","v":1.0627982070768376},{"$f":"'R4'!B37","v":3.6413733333333336},3.8700450499640744]
[8.1000000000000003E-2,3.8642225093490273E-2,null,7.3546269412178317E-2,4.4995312339827377E-2,null,7.3546269412178317E-2,4.4995312339827377E-2,null,7.5117525876563229E-2,3.8867839860958764E-2,null,6.0453658803368941E-2,4.5167626791118257E-2,null,7.3994356350433055E-2,4.009234650568036E-2,null,6.7914091975016674E-2,4.5004335314258986E-2,null,7.5117525876563229E-2,3.8867839860958764E-2,null,6.752125951188645E-2,4.1369407764072025E-2,null,8.1000000000000003E-2,3.8642225093490273E-2,null,8.1000000000000003E-2,8.1000000000000003E-2,null,14,15,8.1000000000000003E-2,8.1000000000000003E-2,13.5,22.5,-21.273216030587367,0.99934054225409796,69.194266720202179,1,1,0.99934054225409796,0.16193178319948862,null,"O",{"$f":"AT186","v":1.2800435600499618},{"$f":"'R4'!B38","v":5.1285774193548379},6.5648024978628126,null,14,15,8.1000000000000003E-2,8.1000000000000003E-2,13.5,22.5,-21.273216030587367,0.54486565870953096,69.194266720202179,1,1,0.54486565870953096,0.11298574152465643,null,"O",{"$f":"BM186","v":0.95159741818696864},{"$f":"'R4'!B38","v":5.1285774193548379},4.8803410312300501]
[6.5000000000000002E-2,3.6423584337821689E-2,null,6.1409640949872314E-2,3.8800300261463472E-2,null,6.1409640949872314E-2,3.8800300261463472E-2,null,7.0316037587086655E-2,3.2509183457813805E-2,null,5.3790516644182704E-2,4.1084059503409071E-2,null,6.3688011978137837E-2,3.5371268293620611E-2,null,5.834615772271598E-2,3.9306415129833738E-2,null,7.0316037587086655E-2,3.2509183457813805E-2,null,4.6918753005946008E-2,4.1742363022774238E-2,null,6.5000000000000002E-2,3.6423584337821689E-2,null,6.5000000000000002E-2,6.5000000000000002E-2,null,15,15,6.5000000000000002E-2,6.5000000000000002E-2,14.5,37.5,-21.273216030587367,0.99771381636466239,55.280694245822346,1,1,0.99771381636466239,0.1298395209402331,null,"N",{"$f":"AT204","v":1.2902951824595477},{"$f":"'R4'!B39","v":6.1995299999999993},7.9992236925134383,null,15,15,6.5000000000000002E-2,6.5000000000000002E-2,14.5,37.5,-21.273216030587367,0.54233422169008361,55.280694245822346,1,1,0.54233422169008361,9.0503026953028115E-2,null,"N",{"$f":"BM204","v":0.84429526049256265},{"$f":"'R4'!B39","v":6.1995299999999993},5.2342337962814565]
[4.8000000000000001E-2,3.0531317833376113E-2,null,4.6123875244752172E-2,3.3745568807997617E-2,null,4.6123875244752172E-2,3.3745568807997617E-2,null,4.9837297441355656E-2,2.8911861188440947E-2,null,4.6878987858679375E-2,3.2203667918474524E-2,null,4.6755068861752305E-2,3.2298677220645305E-2,null,4.3069706728792623E-2,3.4876297324381939E-2,null,4.9837297441355656E-2,2.8911861188440947E-2,null,3.8772624986923895E-2,3.6705831261615793E-2,null,4.8000000000000001E-2,3.0531317833376113E-2,null,4.8000000000000001E-2,4.8000000000000001E-2,null,16,15,4.8000000000000001E-2,4.8000000000000001E-2,15.5,52.5,-21.273216030587367,0.99423390665917388,41.480161821110116,1,1,0.99423390665917388,9.5714456720770225E-2,null,"D",{"$f":"AT222","v":1.3024852501240938},{"$f":"'R4'!B40","v":6.7009870967741936},8.7279368548202605,null,16,15,4.8000000000000001E-2,4.8000000000000001E-2,15.5,52.5,-21.273216030587367,0.50864098299298033,41.480161821110116,1,1,0.50864098299298033,6.5215729061698272E-2,null,"D",{"$f":"BM222","v":0.80545952889516981},{"$f":"'R4'!B40","v":6.7009870967741936},5.3973739101003533]
[0.03,2.1994624750244877E-2,null,2.5632206835259533E-2,2.4976961126519169E-2,null,2.5632206835259533E-2,2.4976961126519169E-2,null,3.0833468285701604E-2,2.3088121989488539E-2,null,3.2032759689357218E-2,2.2970065993364222E-2,null,2.9792119185714484E-2,2.3942551902929984E-2,null,2.8370841340515349E-2,2.6846250612202957E-2,null,3.0833468285701604E-2,2.3088121989488539E-2,null,3.1580967991817338E-2,2.712758776455073E-2,null,0.03,2.1994624750244877E-2,null,0.03,0.03,null,17,15,0.03,0.03,16.5,67.5,-21.273216030587367,0.98649731006810248,27.832709830222559,1,1,0.98649731006810248,5.9589437552749244E-2,null,null,{"$f":"SUM(AW8:AW19)","v":15.107482294940908},null,{"$f":"SUM(AY8:AY19)","v":62.759986819556588},null,17,15,0.03,0.03,16.5,67.5,-21.273216030587367,0.40726931617980827,27.832709830222559,1,1,0.40726931617980827,3.7718680659166254E-2,null,null,{"$f":"SUM(BP8:BP19)","v":12.988280751993242},null,{"$f":"SUM(BR8:BR19)","v":48.415084167115722}]
[8.0000000000000002E-3,1.2848386422470571E-2,null,9.2399862069200249E-3,1.6293794073228833E-2,null,9.2399862069200249E-3,1.6293794073228833E-2,null,1.1061480955039267E-2,1.4886269410953116E-2,null,1.7658238232398711E-2,1.4515805593028779E-2,null,1.1156289145525727E-2,1.6805887153745935E-2,null,1.0676425793024013E-2,1.9202962683070618E-2,null,1.1061480955039267E-2,1.4886269410953116E-2,null,1.3383041443299069E-2,2.2172026552978945E-2,null,8.0000000000000002E-3,1.2848386422470571E-2,null,8.0000000000000002E-3,8.0000000000000002E-3,null,18,15,8.0000000000000002E-3,8.0000000000000002E-3,17.5,82.5,-21.273216030587367,0.96317786293340735,14.410393377341826,1,1,0.96317786293340735,1.5703961103655573E-2,null,null,null,null,null,null,18,15,8.0000000000000002E-3,8.0000000000000002E-3,17.5,82.5,-21.273216030587367,6.2412710697649074E-2,14.410393377341826,1,1,6.2412710697649074E-2,7.2994619985870604E-3]
[0,5.0000000000000001E-4,null,1.4736027054753855E-6,2.1033449452428654E-3,null,1.4736027054753855E-6,2.1033449452428654E-3,null,3.7643953240030996E-6,2.1519618560290371E-3,null,7.7410033908192752E-3,7.8048091296897279E-3,null,7.8981921705773548E-4,4.444693179093703E-3,null,1.6060965262049177E-3,5.8825057136078461E-3,null,3.7643953240030996E-6,2.1519618560290371E-3,null,4.1433714930565035E-3,1.3195921540630588E-2,null,0,5.0000000000000001E-4,null,0,0,null,19,15,0,0,18.5,97.5,-21.273216030587367,0.47465717744461816,1.3259764041896531,1,1,0.47465717744461816,0,null,null,null,null,null,null,19,15,0,0,18.5,97.5,-21.273216030587367,-7.5336829011005237,1.3259764041896531,1,0,0,0]
[0,0,null,7.3235749832886896E-7,0,null,7.3235749832886896E-7,0,null,0,0,null,1.0003828344332237E-3,2.7960586283589119E-3,null,4.1681090748025947E-6,5.41854179724337E-5,null,4.5413816560243867E-6,1.4229662522209744E-4,null,0,0,null,3.5788886771119825E-4,2.3674699369359629E-3,null,0,0,null,0,0,null,20,15,0,0,19.5,112.5,-21.273216030587367,1.078166824340733,-11.23894552036241,0,1,0,0,null,null,null,null,null,null,20,15,0,0,19.5,112.5,-21.273216030587367,1.8929291097855965,-11.23894552036241,0,1,0,0]
[null,null,null,null,null,null,null,null,null,null,null,null,null,null,null,null,null,null,null,null,null,null,null,null,null,null,null,null,null,null,null,null,null,null,null,null,null,-0.5,null,null,null,null,null,null,null,{"$f":"SUM(AT8:AT23)","v":1.2649557978816877},null,null,null,null,null,null,null,null,null,null,-0.5,null,null,null,null,null,null,null,{"$f":"SUM(BM8:BM23)","v":0.8066885037595537}]
["febrero",null,null,"febrero",null,null,"febrero",null,null,"febrero",null,null,"febrero",null,null,"febrero",null,null,"febrero",null,null,"febrero",null,null,"febrero",null,null,"febrero",null,null,null,null,null,null,null,null,null,-0.5,null,null,null,null,null,null,null,null,null,null,null,null,null,null,null,null,null,null,-0.5]
[0,0,null,0,0,null,0,0,null,0,0,null,3.1945222983683914E-4,1.6695899559397019E-3,null,0,0,null,0,0,null,0,0,null,3.5480086532420419E-6,1.6320839804913388E-4,null,0,0,null,{"$f":"CHOOSE($B$1,A26,D26,G26,J26,M26,P26,S26,V26,Y26,AB26)","v":0},{"$f":"CHOOSE($B$1,B26,E26,H26,K26,N26,Q26,T26,V26,Y26,AB26)","v":0},null,5,45,{"$f":"AE26","v":0},{"$f":"AF26","v":0},4.5,{"$f":"15*(AL26-12)","v":-112.5},{"$f":"23.45*SIN(360*(284+AI26)/365/57.3)","v":-13.627728336645527},{"$f":"((SIN(AN26/57.3)*SIN($B$2/57.3)*COS($AI$2/57.3))-SIN(AN26/57.3)*COS($B$2/57.3)*SIN($AI$2/57.3)*COS($AI$3/57.3)+COS(AN26/57.3)*COS($B$2/57.3)*COS($AI$2/57.3)*COS(AM26/57.3)+COS(AN26/57.3)*SIN($B$2/57.3)*SIN($AI$2/57.3)*COS($AI$3/57.3)*COS(AM26/57.3)+COS(AN26/57.3)*SIN($AI$2/57.3)*SIN($AI$3/57.3)*SIN(AM26/57.3))/(COS($B$2/57.3)*COS(AN26/57.3)*COS(AM26/57.3)+SIN($B$2/57.3)*SIN(AN26/57.3))","v":1.0523255071922513},{"$f":"57.3*ASIN(SIN($B$2/57.3)*SIN(AN26/57.3)+COS($B$2/57.3)*COS(AM26/57.3)*COS(AN26/57.6))","v":-14.867585734884811},{"$f":"IF(AP26<0,0,1)","v":0},{"$f":"IF(AO26<0,0,1)","v":1},{"$f":"AO26*AR26*AQ26","v":0},{"$f":"AJ26*AS26+((1+COS($AI$2/57.3))/2)*AK26+((1-COS($AI$2/57.3))/2)*(AJ26+AK26)*0.2","v":0},null,null,null,null,null,null,5,45,{"$f":"AE26","v":0},{"$f":"AF26","v":0},4.5,{"$f":"15*(BE26-12)","v":-112.5},{"$f":"23.45*SIN(360*(284+BB26)/365/57.3)","v":-13.627728336645527},{"$f":"((SIN(BG26/57.3)*SIN($B$2/57.3)*COS($BB$2/57.3))-SIN(BG26/57.3)*COS($B$2/57.3)*SIN($BB$2/57.3)*COS($BB$3/57.3)+COS(BG26/57.3)*COS($B$2/57.3)*COS($BB$2/57.3)*COS(BF26/57.3)+COS(BG26/57.3)*SIN($B$2/57.3)*SIN($BB$2/57.3)*COS($BB$3/57.3)*COS(BF26/57.3)+COS(BG26/57.3)*SIN($BB$2/57.3)*SIN($BB$3/57.3)*SIN(BF26/57.3))/(COS($B$2/57.3)*COS(BG26/57.3)*COS(BF26/57.3)+SIN($B$2/57.3)*SIN(BG26/57.3))","v":2.2166597374632833},{"$f":"57.3*ASIN(SIN($B$2/57.3)*SIN(BG26/57.3)+COS($B$2/57.3)*COS(BF26/57.3)*COS(BG26/57.6))","v":-14.867585734884811},{"$f":"IF(BI26<0,0,1)","v":0},{"$f":"IF(BH26<0,0,1)","v":1},{"$f":"BH26*BK26*BJ26","v":0},{"$f":"BC26*BL26+((1+COS($BB$2/57.3))/2)*BD26+((1-COS($BB$2/57.3))/2)*(BC26+BD26)*0.2","v":0}]
[0,3.2192769652668237E-4,null,0,9.4005465677611435E-4,null,0,9.4005465677611435E-4,null,0,8.4662748659759704E-4,null,6.9706887510623296E-3,6.2715102857590597E-3,null,1.0175461141531947E-4,1.430308771749209E-3,null,2.1500573564404139E-4,1.7321588843435445E-3,null,0,8.4662748659759704E-4,null,5.7823649490869149E-4,5.5491931939636143E-3,null,0,3.2192769652668237E-4,null,0,0,null,6,45,0,0,5.5,-97.5,-13.627728336645527,1.3567656792494078,-1.6785739930551702,0,1,0,0,null,null,null,null,null,null,6,45,0,0,5.5,-97.5,-13.627728336645527,13.210550835928242,-1.6785739930551702,0,1,0,0]
[4.1660170525331958E-3,1.0131633803561069E-2,null,6.3060864095285506E-3,1.4649180638713837E-2,null,6.3060864095285506E-3,1.4649180638713837E-2,null,7.8060384458731209E-3,1.3287964780915554E-2,null,1.6035899197753001E-2,1.1979458618881444E-2,null,7.2073454678568474E-3,1.3833850873437113E-2,null,4.868958672600311E-3,1.7030982457212136E-2,null,7.8060384458731209E-3,1.3287964780915554E-2,null,7.5296770630558663E-3,2.0543939413196488E-2,null,4.1660170525331958E-3,1.0131633803561069E-2,null,4.1660170525331958E-3,4.1660170525331958E-3,null,7,45,4.1660170525331958E-3,4.1660170525331958E-3,6.5,-82.5,-13.627728336645527,0.96471952474365041,11.88868229081768,1,1,0.96471952474365041,8.1842938081591043E-3,null,null,null,null,null,null,7,45,4.1660170525331958E-3,4.1660170525331958E-3,6.5,-82.5,-13.627728336645527,-0.91187478790120857,11.88868229081768,1,0,0,3.54119797799274E-3]
[2.4163241217638871E-2,2.1832366878180926E-2,null,2.2646479721898462E-2,2.7064435735126673E-2,null,2.2646479721898462E-2,2.7064435735126673E-2,null,3.0217820025452126E-2,2.1406648673466359E-2,null,2.9040015912337496E-2,2.1394258298223744E-2,null,2.8628858633105422E-2,2.1879492400576746E-2,null,2.6704154462206281E-2,2.7515629543851113E-2,null,3.0217820025452126E-2,2.1406648673466359E-2,null,2.8074186449587292E-2,2.9436488943908871E-2,null,2.4163241217638871E-2,2.1832366878180926E-2,null,2.4163241217638871E-2,2.4163241217638871E-2,null,8,45,2.4163241217638871E-2,2.4163241217638871E-2,7.5,-67.5,-13.627728336645527,0.99048101144063883,25.676461818771429,1,1,0.99048101144063883,4.8092057590887242E-2,null,null,null,null,null,null,8,45,2.4163241217638871E-2,2.4163241217638871E-2,7.5,-67.5,-13.627728336645527,3.2242524608693986E-2,25.676461818771429,1,1,3.2242524608693986E-2,2.1318323144807461E-2]
[4.7860956515997879E-2,3.0801505761998148E-2,null,4.2914556723065683E-2,3.6832118705543759E-2,null,4.2914556723065683E-2,3.6832118705543759E-2,null,4.5951283116524487E-2,3.3084697633980739E-2,null,4.3605229372728455E-2,3.189399007889869E-2,null,5.3619004947553894E-2,2.7373914965762271E-2,null,4.2775037810572306E-2,3.7136436687062353E-2,null,4.5951283116524487E-2,3.3084697633980739E-2,null,4.2864675209368194E-2,3.7922299155402031E-2,null,4.7860956515997879E-2,3.0801505761998148E-2,null,4.7860956515997879E-2,4.7860956515997879E-2,null,9,45,4.7860956515997879E-2,4.7860956515997879E-2,8.5,-52.5,-13.627728336645527,0.99808144539632249,39.572427184448777,1,1,0.99808144539632249,9.5621343781382817E-2,null,null,null,null,null,null,9,45,4.7860956515997879E-2,4.7860956515997879E-2,8.5,-52.5,-13.627728336645527,0.32206108188578209,39.572427184448777,1,1,0.32206108188578209,5.60969235659542E-2]
[6.9760469375777054E-2,3.649934163218449E-2,null,5.4163455300880924E-2,4.5020944144010366E-2,null,5.4163455300880924E-2,4.5020944144010366E-2,null,6.2786229704092325E-2,3.8327916036820342E-2,null,5.7172908039949601E-2,4.0829611413485727E-2,null,6.5329742935454987E-2,3.6131913671193019E-2,null,5.5367509886438099E-2,4.4898850335431728E-2,null,6.2786229704092325E-2,3.8327916036820342E-2,null,5.4804906997078753E-2,4.5330541223371414E-2,null,6.9760469375777054E-2,3.649934163218449E-2,null,6.9760469375777054E-2,6.9760469375777054E-2,null,10,45,6.9760469375777054E-2,6.9760469375777054E-2,9.5,-37.5,-13.627728336645527,1.0015439436845166,53.457718517484629,1,1,1.0015439436845166,0.1396158980075512,null,null,null,null,null,null,10,45,6.9760469375777054E-2,6.9760469375777054E-2,9.5,-37.5,-13.627728336645527,0.46389243755531223,53.457718517484629,1,1,0.46389243755531223,9.1659151091959462E-2]
[8.4011293216385896E-2,3.9672065327610445E-2,null,7.0005294746449828E-2,5.1287655442702557E-2,null,7.0005294746449828E-2,5.1287655442702557E-2,null,7.8085878105458001E-2,4.0450352468567985E-2,null,6.5011542472077993E-2,4.7077012096992908E-2,null,8.1310961139594878E-2,3.7780502496462171E-2,null,6.1809606622965189E-2,5.0890747268685387E-2,null,7.8085878105458001E-2,4.0450352468567985E-2,null,5.8747927280381695E-2,5.2024450882488055E-2,null,8.4011293216385896E-2,3.9672065327610445E-2,null,8.4011293216385896E-2,8.4011293216385896E-2,null,11,45,8.4011293216385896E-2,8.4011293216385896E-2,10.5,-22.5,-13.627728336645527,1.0033609668593964,67.079426114406473,1,1,1.0033609668593964,0.16828959464351168,null,null,null,null,null,null,11,45,8.4011293216385896E-2,8.4011293216385896E-2,10.5,-22.5,-13.627728336645527,0.54844130024951454,67.079426114406473,1,1,0.54844130024951454,0.11748654563403371]
[9.1046360231660156E-2,3.9714673405091924E-2,null,7.6391910975853267E-2,5.1745212658296652E-2,null,7.6391910975853267E-2,5.1745212658296652E-2,null,8.347998491363183E-2,4.4232514072061427E-2,null,6.9908805429482357E-2,5.0820027846590635E-2,null,8.2381846364570632E-2,4.2990502721267532E-2,null,7.6838810369463453E-2,5.2216111263524018E-2,null,8.347998491363183E-2,4.4232514072061427E-2,null,6.218949567402652E-2,5.4237225612560017E-2,null,9.1046360231660156E-2,3.9714673405091924E-2,null,9.1046360231660156E-2,9.1046360231660156E-2,null,12,45,9.1046360231660156E-2,9.1046360231660156E-2,11.5,-7.5,-13.627728336645527,1.00429450536043,79.089322860429249,1,1,1.00429450536043,0.18246708310135265,null,null,null,null,null,null,12,45,9.1046360231660156E-2,9.1046360231660156E-2,11.5,-7.5,-13.627728336645527,0.60439100385576849,79.089322860429249,1,1,0.60439100385576849,0.13241883174419838]
[9.1046360231660156E-2,3.9714673405091924E-2,null,7.6391910975853267E-2,5.1745212658296652E-2,null,7.6391910975853267E-2,5.1745212658296652E-2,null,8.347998491363183E-2,4.4232514072061427E-2,null,6.9908805429482357E-2,5.0820027846590635E-2,null,8.2381846364570632E-2,4.2990502721267532E-2,null,7.6838810369463453E-2,5.2216111263524018E-2,null,8.347998491363183E-2,4.4232514072061427E-2,null,6.218949567402652E-2,5.4237225612560017E-2,null,9.1046360231660156E-2,3.9714673405091924E-2,null,9.1046360231660156E-2,9.1046360231660156E-2,null,13,45,9.1046360231660156E-2,9.1046360231660156E-2,12.5,7.5,-13.627728336645527,1.0046113072434444,79.089322860429249,1,1,1.0046113072434444,0.18249592675971563,null,null,null,null,null,null,13,45,9.1046360231660156E-2,9.1046360231660156E-2,12.5,7.5,-13.627728336645527,0.6433012818817252,79.089322860429249,1,1,0.6433012818817252,0.13596147093406369]
[8.4011293216385896E-2,3.9672065327610445E-2,null,7.0005294746449828E-2,5.1287655442702557E-2,null,7.0005294746449828E-2,5.1287655442702557E-2,null,7.8085878105458001E-2,4.0450352468567985E-2,null,6.5011542472077993E-2,4.7077012096992908E-2,null,8.1310961139594878E-2,3.7780502496462171E-2,null,6.1809606622965189E-2,5.0890747268685387E-2,null,7.8085878105458001E-2,4.0450352468567985E-2,null,5.8747927280381695E-2,5.2024450882488055E-2,null,8.4011293216385896E-2,3.9672065327610445E-2,null,8.4011293216385896E-2,8.4011293216385896E-2,null,14,45,8.4011293216385896E-2,8.4011293216385896E-2,13.5,22.5,-13.627728336645527,1.0043511927321698,67.079426114406473,1,1,1.0043511927321698,0.1683727847996597,null,null,null,null,null,null,14,45,8.4011293216385896E-2,8.4011293216385896E-2,13.5,22.5,-13.627728336645527,0.67006293851607623,67.079426114406473,1,1,0.67006293851607623,0.12770413674790304]
[6.9760469375777054E-2,3.649934163218449E-2,null,5.4163455300880924E-2,4.5020944144010366E-2,null,5.4163455300880924E-2,4.5020944144010366E-2,null,6.2786229704092325E-2,3.8327916036820342E-2,null,5.7172908039949601E-2,4.0829611413485727E-2,null,6.5329742935454987E-2,3.6131913671193019E-2,null,5.5367509886438099E-2,4.4898850335431728E-2,null,6.2786229704092325E-2,3.8327916036820342E-2,null,5.4804906997078753E-2,4.5330541223371414E-2,null,6.9760469375777054E-2,3.649934163218449E-2,null,6.9760469375777054E-2,6.9760469375777054E-2,null,15,45,6.9760469375777054E-2,6.9760469375777054E-2,14.5,37.5,-13.627728336645527,1.0033498240935392,53.457718517484629,1,1,1.0033498240935392,0.13974187707252111,null,null,null,null,null,null,15,45,6.9760469375777054E-2,6.9760469375777054E-2,14.5,37.5,-13.627728336645527,0.68569449292240769,53.457718517484629,1,1,0.68569449292240769,0.10713216658288013]
[4.7860956515997879E-2,3.0801505761998148E-2,null,4.2914556723065683E-2,3.6832118705543759E-2,null,4.2914556723065683E-2,3.6832118705543759E-2,null,4.5951283116524487E-2,3.3084697633980739E-2,null,4.3605229372728455E-2,3.189399007889869E-2,null,5.3619004947553894E-2,2.7373914965762271E-2,null,4.2775037810572306E-2,3.7136436687062353E-2,null,4.5951283116524487E-2,3.3084697633980739E-2,null,4.2864675209368194E-2,3.7922299155402031E-2,null,4.7860956515997879E-2,3.0801505761998148E-2,null,4.7860956515997879E-2,4.7860956515997879E-2,null,16,45,4.7860956515997879E-2,4.7860956515997879E-2,15.5,52.5,-13.627728336645527,1.0010495550053637,39.572427184448777,1,1,1.0010495550053637,9.576340034631585E-2,null,null,null,null,null,null,16,45,4.7860956515997879E-2,4.7860956515997879E-2,15.5,52.5,-13.627728336645527,0.68661058834860078,39.572427184448777,1,1,0.68661058834860078,7.3544611642699653E-2]
[2.4163241217638871E-2,2.1832366878180926E-2,null,2.2646479721898462E-2,2.7064435735126673E-2,null,2.2646479721898462E-2,2.7064435735126673E-2,null,3.0217820025452126E-2,2.1406648673466359E-2,null,2.9040015912337496E-2,2.1394258298223744E-2,null,2.8628858633105422E-2,2.1879492400576746E-2,null,2.6704154462206281E-2,2.7515629543851113E-2,null,3.0217820025452126E-2,2.1406648673466359E-2,null,2.8074186449587292E-2,2.9436488943908871E-2,null,2.4163241217638871E-2,2.1832366878180926E-2,null,2.4163241217638871E-2,2.4163241217638871E-2,null,17,45,2.4163241217638871E-2,2.4163241217638871E-2,16.5,67.5,-13.627728336645527,0.99556293619981873,25.676461818771429,1,1,0.99556293619981873,4.8214853364693194E-2,null,null,null,null,null,null,17,45,2.4163241217638871E-2,2.4163241217638871E-2,16.5,67.5,-13.627728336645527,0.65641528332250454,25.676461818771429,1,1,0.65641528332250454,3.6400360075088366E-2]
[4.1660170525331958E-3,1.0131633803561069E-2,null,6.3060864095285506E-3,1.4649180638713837E-2,null,6.3060864095285506E-3,1.4649180638713837E-2,null,7.8060384458731209E-3,1.3287964780915554E-2,null,1.6035899197753001E-2,1.1979458618881444E-2,null,7.2073454678568474E-3,1.3833850873437113E-2,null,4.868958672600311E-3,1.7030982457212136E-2,null,7.8060384458731209E-3,1.3287964780915554E-2,null,7.5296770630558663E-3,2.0543939413196488E-2,null,4.1660170525331958E-3,1.0131633803561069E-2,null,4.1660170525331958E-3,4.1660170525331958E-3,null,18,45,4.1660170525331958E-3,4.1660170525331958E-3,17.5,82.5,-13.627728336645527,0.97618919205594867,11.88868229081768,1,1,0.97618919205594867,8.232076637769023E-3,null,null,null,null,null,null,18,45,4.1660170525331958E-3,4.1660170525331958E-3,17.5,82.5,-13.627728336645527,0.49685403574283243,11.88868229081768,1,1,0.49685403574283243,5.6111003635173178E-3]
[0,3.2192769652668237E-4,null,0,9.4005465677611435E-4,null,0,9.4005465677611435E-4,null,0,8.4662748659759704E-4,null,6.9706887510623296E-3,6.2715102857590597E-3,null,1.0175461141531947E-4,1.430308771749209E-3,null,2.1500573564404139E-4,1.7321588843435445E-3,null,0,8.4662748659759704E-4,null,5.7823649490869149E-4,5.5491931939636143E-3,null,0,3.2192769652668237E-4,null,0,0,null,19,45,0,0,18.5,97.5,-13.627728336645527,1.2760148894057282,-1.6785739930551702,0,1,0,0,null,null,null,null,null,null,19,45,0,0,18.5,97.5,-13.627728336645527,3.2925678563487923,-1.6785739930551702,0,1,0,0]
[0,0,null,0,0,null,0,0,null,0,0,null,3.1945222983683914E-4,1.6695899559397019E-3,null,0,0,null,0,0,null,0,0,null,3.5480086532420419E-6,1.6320839804913388E-4,null,0,0,null,0,0,null,20,45,0,0,19.5,112.5,-13.627728336645527,1.0437415597014352,-14.867585734884811,0,1,0,0,null,null,null,null,null,null,20,45,0,0,19.5,112.5,-13.627728336645527,1.1623611321328822,-14.867585734884811,0,1,0,0]
[null,null,null,null,null,null,null,null,null,null,null,null,null,null,null,null,null,null,null,null,null,null,null,null,null,null,null,null,null,null,null,null,null,null,null,null,null,-0.5,null,null,null,null,null,null,null,{"$f":"SUM(AT26:AT41)","v":1.2850911899135191},null,null,null,null,null,null,null,null,null,null,-0.5,null,null,null,null,null,null,null,{"$f":"SUM(BM26:BM41)","v":0.90887481950509819}]
["marzo",null,null,"marzo",null,null,"marzo",null,null,"marzo",null,null,"marzo",null,null,"marzo",null,null,"marzo",null,null,"marzo",null,null,"marzo",null,null,"marzo",null,null,null,null,null,null,null,null,null,-0.5,null,null,null,null,null,null,null,null,null,null,null,null,null,null,null,null,null,null,-0.5]
[0,0,null,0,0,null,0,0,null,0,0,null,0,0,null,0,0,null,0,0,null,0,0,null,0,0,null,0,0,null,{"$f":"CHOOSE($B$1,A44,D44,G44,J44,M44,P44,S44,V44,Y44,AB44)","v":0},{"$f":"CHOOSE($B$1,B44,E44,H44,K44,N44,Q44,T44,V44,Y44,AB44)","v":0},null,5,74,{"$f":"AE44","v":0},{"$f":"AF44","v":0},4.5,{"$f":"15*(AL44-12)","v":-112.5},{"$f":"23.45*SIN(360*(284+AI44)/365/57.3)","v":-2.8294455675668595},{"$f":"((SIN(AN44/57.3)*SIN($B$2/57.3)*COS($AI$2/57.3))-SIN(AN44/57.3)*COS($B$2/57.3)*SIN($AI$2/57.3)*COS($AI$3/57.3)+COS(AN44/57.3)*COS($B$2/57.3)*COS($AI$2/57.3)*COS(AM44/57.3)+COS(AN44/57.3)*SIN($B$2/57.3)*SIN($AI$2/57.3)*COS($AI$3/57.3)*COS(AM44/57.3)+COS(AN44/57.3)*SIN($AI$2/57.3)*SIN($AI$3/57.3)*SIN(AM44/57.3))/(COS($B$2/57.3)*COS(AN44/57.3)*COS(AM44/57.3)+SIN($B$2/57.3)*SIN(AN44/57.3))","v":1.0223786372476094},{"$f":"57.3*ASIN(SIN($B$2/57.3)*SIN(AN44/57.3)+COS($B$2/57.3)*COS(AM44/57.3)*COS(AN44/57.6))","v":-19.621490253075766},{"$f":"IF(AP44<0,0,1)","v":0},{"$f":"IF(AO44<0,0,1)","v":1},{"$f":"AO44*AR44*AQ44","v":0},{"$f":"AJ44*AS44+((1+COS($AI$2/57.3))/2)*AK44+((1-COS($AI$2/57.3))/2)*(AJ44+AK44)*0.2","v":0},null,null,null,null,null,null,5,74,{"$f":"AE44","v":0},{"$f":"AF44","v":0},4.5,{"$f":"15*(BE44-12)","v":-112.5},{"$f":"23.45*SIN(360*(284+BB44)/365/57.3)","v":-2.8294455675668595},{"$f":"((SIN(BG44/57.3)*SIN($B$2/57.3)*COS($BB$2/57.3))-SIN(BG44/57.3)*COS($B$2/57.3)*SIN($BB$2/57.3)*COS($BB$3/57.3)+COS(BG44/57.3)*COS($B$2/57.3)*COS($BB$2/57.3)*COS(BF44/57.3)+COS(BG44/57.3)*SIN($B$2/57.3)*SIN($BB$2/57.3)*COS($BB$3/57.3)*COS(BF44/57.3)+COS(BG44/57.3)*SIN($BB$2/57.3)*SIN($BB$3/57.3)*SIN(BF44/57.3))/(COS($B$2/57.3)*COS(BG44/57.3)*COS(BF44/57.3)+SIN($B$2/57.3)*SIN(BG44/57.3))","v":1.393587649053823},{"$f":"57.3*ASIN(SIN($B$2/57.3)*SIN(BG44/57.3)+COS($B$2/57.3)*COS(BF44/57.3)*COS(BG44/57.6))","v":-19.621490253075766},{"$f":"IF(BI44<0,0,1)","v":0},{"$f":"IF(BH44<0,0,1)","v":1},{"$f":"BH44*BK44*BJ44","v":0},{"$f":"BC44*BL44+((1+COS($BB$2/57.3))/2)*BD44+((1-COS($BB$2/57.3))/2)*(BC44+BD44)*0.2","v":0}]
[0,1.905945499015997E-5,null,0,4.7182989811065342E-5,null,0,4.7182989811065342E-5,null,0,4.2458024235239926E-5,null,1.7519004311198467E-3,4.2083695138857066E-3,null,1.7690713785498615E-5,8.7412938704816632E-5,null,6.742402991556274E-6,1.1293525010856757E-4,null,0,4.2458024235239926E-5,null,1.3778179787996068E-4,3.5985363681589742E-4,null,0,1.905945499015997E-5,null,0,0,null,6,74,0,0,5.5,-97.5,-2.8294455675668595,1.0435035408736886,-5.8705083577529003,0,1,0,0,null,null,null,null,null,null,6,74,0,0,5.5,-97.5,-2.8294455675668595,2.746340717944693,-5.8705083577529003,0,1,0,0]
[1.0432807306547868E-3,4.2597310959865157E-3,null,5.2126349564950473E-4,5.5021771633017372E-3,null,5.2126349564950473E-4,5.5021771633017372E-3,null,6.9809018615320663E-4,5.5344712963769525E-3,null,1.228615389302745E-2,1.0995079444876073E-2,null,1.5744271398256435E-3,6.4079633601341213E-3,null,1.4169919572210648E-3,8.7905500018873976E-3,null,6.9809018615320663E-4,5.5344712963769525E-3,null,1.7752150998490116E-3,9.2846759069419877E-3,null,1.0432807306547868E-3,4.2597310959865157E-3,null,1.0432807306547868E-3,1.0432807306547868E-3,null,7,74,1.0432807306547868E-3,1.0432807306547868E-3,6.5,-82.5,-2.8294455675668595,0.99146374793436565,8.0174004651748945,1,1,0.99146374793436565,2.0774651205705342E-3,null,null,null,null,null,null,7,74,1.0432807306547868E-3,1.0432807306547868E-3,6.5,-82.5,-2.8294455675668595,-0.5499824806096042,8.0174004651748945,1,0,0,8.8680952749030568E-4]
[1.8892596435835435E-2,1.9965037052162779E-2,null,1.4912394930023767E-2,2.7035976335332522E-2,null,1.4912394930023767E-2,2.7035976335332522E-2,null,1.6963164281979633E-2,2.4086027409983665E-2,null,2.3106043294791531E-2,2.2294837225599086E-2,null,1.7884536828568151E-2,2.0587893089610086E-2,null,1.3251158819085663E-2,3.2075581401986797E-2,null,1.6963164281979633E-2,2.4086027409983665E-2,null,1.6692747348461566E-2,2.9933523030898003E-2,null,1.8892596435835435E-2,1.9965037052162779E-2,null,1.8892596435835435E-2,1.8892596435835435E-2,null,8,74,1.8892596435835435E-2,1.8892596435835435E-2,7.5,-67.5,-2.8294455675668595,1.005469323036531,21.899728533501776,1,1,1.005469323036531,3.7885070435338244E-2,null,null,null,null,null,null,8,74,1.8892596435835435E-2,1.8892596435835435E-2,7.5,-67.5,-2.8294455675668595,0.35035502645773503,21.899728533501776,1,1,0.35035502645773503,2.2678201685707961E-2]
[4.9388984727356797E-2,2.7787514279863729E-2,null,4.2080706916530486E-2,3.8966730151583542E-2,null,4.2080706916530486E-2,3.8966730151583542E-2,null,4.3857413502848344E-2,3.3829105252784E-2,null,4.1436253675182395E-2,3.3788827445424524E-2,null,4.3365378158816414E-2,3.1315474992807291E-2,null,2.7888607816049397E-2,4.7553595070659566E-2,null,4.3857413502848344E-2,3.3829105252784E-2,null,3.8293614036661081E-2,4.3184057380235681E-2,null,4.9388984727356797E-2,2.7787514279863729E-2,null,4.9388984727356797E-2,4.9388984727356797E-2,null,9,74,4.9388984727356797E-2,4.9388984727356797E-2,8.5,-52.5,-2.8294455675668595,1.0086238178390234,35.614959109250407,1,1,1.0086238178390234,9.9194866461184888E-2,null,null,null,null,null,null,9,74,4.9388984727356797E-2,4.9388984727356797E-2,8.5,-52.5,-2.8294455675668595,0.56174799212822824,35.614959109250407,1,1,0.56174799212822824,6.9725789734172497E-2]
[7.4429770753164232E-2,3.5288580914281185E-2,null,6.0564984445098932E-2,4.7195347260777759E-2,null,6.0564984445098932E-2,4.7195347260777759E-2,null,6.3679787421892897E-2,4.3432487669517003E-2,null,5.539052145697175E-2,4.5320902457230826E-2,null,6.9228966193769448E-2,3.8963276797449362E-2,null,4.752719868748019E-2,6.0969864651895495E-2,null,6.3679787421892897E-2,4.3432487669517003E-2,null,5.6209337605842132E-2,5.1785883745086671E-2,null,7.4429770753164232E-2,3.5288580914281185E-2,null,7.4429770753164232E-2,7.4429770753164232E-2,null,10,74,7.4429770753164232E-2,7.4429770753164232E-2,9.5,-37.5,-2.8294455675668595,1.0100259324715171,48.873831850609434,1,1,1.0100259324715171,0.14959216918366133,null,null,null,null,null,null,10,74,7.4429770753164232E-2,7.4429770753164232E-2,9.5,-37.5,-2.8294455675668595,0.66278524503972447,48.873831850609434,1,1,0.66278524503972447,0.1125977504946105]
[9.0055058489642667E-2,3.9952083014828041E-2,null,7.1454144450781215E-2,5.2888761364646319E-2,null,7.1454144450781215E-2,5.2888761364646319E-2,null,8.2668879870712281E-2,4.7676218969907563E-2,null,6.6994957573541736E-2,5.2785521685480549E-2,null,8.6752138513417176E-2,4.3569106163015056E-2,null,5.3226214816093124E-2,7.0945249877903016E-2,null,8.2668879870712281E-2,4.7676218969907563E-2,null,6.4136616431957713E-2,5.7745161972655543E-2,null,9.0055058489642667E-2,3.9952083014828041E-2,null,9.0055058489642667E-2,9.0055058489642667E-2,null,11,74,9.0055058489642667E-2,9.0055058489642667E-2,10.5,-22.5,-2.8294455675668595,1.0108202439438498,60.941004890252707,1,1,1.0108202439438498,0.18106807937207822,null,null,null,null,null,null,11,74,9.0055058489642667E-2,9.0055058489642667E-2,10.5,-22.5,-2.8294455675668595,0.7268174517324768,60.941004890252707,1,1,0.7268174517324768,0.14200219246789753]
[9.6172277202620809E-2,4.2745159509749671E-2,null,8.3138674856135727E-2,5.569165564032745E-2,null,8.3138674856135727E-2,5.569165564032745E-2,null,8.9838072597067553E-2,4.7692787954974981E-2,null,7.2947610560151116E-2,5.669302134271742E-2,null,9.3591160336846405E-2,4.6654574773250537E-2,null,5.7275027812522666E-2,7.8960281434115528E-2,null,8.9838072597067553E-2,4.7692787954974981E-2,null,7.0771215240459831E-2,5.9690316766254983E-2,null,9.6172277202620809E-2,4.2745159509749671E-2,null,9.6172277202620809E-2,9.6172277202620809E-2,null,12,74,9.6172277202620809E-2,9.6172277202620809E-2,11.5,-7.5,-2.8294455675668595,1.0113275198394962,69.500433486646543,1,1,1.0113275198394962,0.19341637470617581,null,null,null,null,null,null,12,74,9.6172277202620809E-2,9.6172277202620809E-2,11.5,-7.5,-2.8294455675668595,0.77516602945755475,69.500433486646543,1,1,0.77516602945755475,0.15629784509362951]
[9.6172277202620809E-2,4.2745159509749671E-2,null,8.3138674856135727E-2,5.569165564032745E-2,null,8.3138674856135727E-2,5.569165564032745E-2,null,8.9838072597067553E-2,4.7692787954974981E-2,null,7.2947610560151116E-2,5.669302134271742E-2,null,9.3591160336846405E-2,4.6654574773250537E-2,null,5.7275027812522666E-2,7.8960281434115528E-2,null,8.9838072597067553E-2,4.7692787954974981E-2,null,7.0771215240459831E-2,5.9690316766254983E-2,null,9.6172277202620809E-2,4.2745159509749671E-2,null,9.6172277202620809E-2,9.6172277202620809E-2,null,13,74,9.6172277202620809E-2,9.6172277202620809E-2,12.5,7.5,-2.8294455675668595,1.011668744242292,69.500433486646543,1,1,1.011668744242292,0.19344919103402977,null,null,null,null,null,null,13,74,9.6172277202620809E-2,9.6172277202620809E-2,12.5,7.5,-2.8294455675668595,0.81707593307208304,69.500433486646543,1,1,0.81707593307208304,0.16032841596158104]
[9.0055058489642667E-2,3.9952083014828041E-2,null,7.1454144450781215E-2,5.2888761364646319E-2,null,7.1454144450781215E-2,5.2888761364646319E-2,null,8.2668879870712281E-2,4.7676218969907563E-2,null,6.6994957573541736E-2,5.2785521685480549E-2,null,8.6752138513417176E-2,4.3569106163015056E-2,null,5.3226214816093124E-2,7.0945249877903016E-2,null,8.2668879870712281E-2,4.7676218969907563E-2,null,6.4136616431957713E-2,5.7745161972655543E-2,null,9.0055058489642667E-2,3.9952083014828041E-2,null,9.0055058489642667E-2,9.0055058489642667E-2,null,14,74,9.0055058489642667E-2,9.0055058489642667E-2,13.5,22.5,-2.8294455675668595,1.0118922709168836,60.941004890252707,1,1,1.0118922709168836,0.18116462082383725,null,null,null,null,null,null,14,74,9.0055058489642667E-2,9.0055058489642667E-2,13.5,22.5,-2.8294455675668595,0.85848607432776614,60.941004890252707,1,1,0.85848607432776614,0.15385961797696698]
[7.4429770753164232E-2,3.5288580914281185E-2,null,6.0564984445098932E-2,4.7195347260777759E-2,null,6.0564984445098932E-2,4.7195347260777759E-2,null,6.3679787421892897E-2,4.3432487669517003E-2,null,5.539052145697175E-2,4.5320902457230826E-2,null,6.9228966193769448E-2,3.8963276797449362E-2,null,4.752719868748019E-2,6.0969864651895495E-2,null,6.3679787421892897E-2,4.3432487669517003E-2,null,5.6209337605842132E-2,5.1785883745086671E-2,null,7.4429770753164232E-2,3.5288580914281185E-2,null,7.4429770753164232E-2,7.4429770753164232E-2,null,15,74,7.4429770753164232E-2,7.4429770753164232E-2,14.5,37.5,-2.8294455675668595,1.0120049312559214,48.873831850609434,1,1,1.0120049312559214,0.14973946560950535,null,null,null,null,null,null,15,74,7.4429770753164232E-2,7.4429770753164232E-2,14.5,37.5,-2.8294455675668595,0.90585006580897542,48.873831850609434,1,1,0.90585006580897542,0.13068900938262482]
[4.9388984727356797E-2,2.7787514279863729E-2,null,4.2080706916530486E-2,3.8966730151583542E-2,null,4.2080706916530486E-2,3.8966730151583542E-2,null,4.3857413502848344E-2,3.3829105252784E-2,null,4.1436253675182395E-2,3.3788827445424524E-2,null,4.3365378158816414E-2,3.1315474992807291E-2,null,2.7888607816049397E-2,4.7553595070659566E-2,null,4.3857413502848344E-2,3.3829105252784E-2,null,3.8293614036661081E-2,4.3184057380235681E-2,null,4.9388984727356797E-2,2.7787514279863729E-2,null,4.9388984727356797E-2,4.9388984727356797E-2,null,16,74,4.9388984727356797E-2,4.9388984727356797E-2,15.5,52.5,-2.8294455675668595,1.0119599815120384,35.614959109250407,1,1,1.0119599815120384,9.9359636197879395E-2,null,null,null,null,null,null,16,74,4.9388984727356797E-2,4.9388984727356797E-2,15.5,52.5,-2.8294455675668595,0.97150267799696455,35.614959109250407,1,1,0.97150267799696455,8.9963157656506393E-2]
[1.8892596435835435E-2,1.9965037052162779E-2,null,1.4912394930023767E-2,2.7035976335332522E-2,null,1.4912394930023767E-2,2.7035976335332522E-2,null,1.6963164281979633E-2,2.4086027409983665E-2,null,2.3106043294791531E-2,2.2294837225599086E-2,null,1.7884536828568151E-2,2.0587893089610086E-2,null,1.3251158819085663E-2,3.2075581401986797E-2,null,1.6963164281979633E-2,2.4086027409983665E-2,null,1.6692747348461566E-2,2.9933523030898003E-2,null,1.8892596435835435E-2,1.9965037052162779E-2,null,1.8892596435835435E-2,1.8892596435835435E-2,null,17,74,1.8892596435835435E-2,1.8892596435835435E-2,16.5,67.5,-2.8294455675668595,1.0115351366843521,21.899728533501776,1,1,1.0115351366843521,3.7999669404641508E-2,null,null,null,null,null,null,17,74,1.8892596435835435E-2,1.8892596435835435E-2,16.5,67.5,-2.8294455675668595,1.0953711016298724,21.899728533501776,1,1,1.0953711016298724,3.6753489732145192E-2]
[1.0432807306547868E-3,4.2597310959865157E-3,null,5.2126349564950473E-4,5.5021771633017372E-3,null,5.2126349564950473E-4,5.5021771633017372E-3,null,6.9809018615320663E-4,5.5344712963769525E-3,null,1.228615389302745E-2,1.0995079444876073E-2,null,1.5744271398256435E-3,6.4079633601341213E-3,null,1.4169919572210648E-3,8.7905500018873976E-3,null,6.9809018615320663E-4,5.5344712963769525E-3,null,1.7752150998490116E-3,9.2846759069419877E-3,null,1.0432807306547868E-3,4.2597310959865157E-3,null,1.0432807306547868E-3,1.0432807306547868E-3,null,18,74,1.0432807306547868E-3,1.0432807306547868E-3,17.5,82.5,-2.8294455675668595,1.008871772214349,8.0174004651748945,1,1,1.008871772214349,2.0956265768606115E-3,null,null,null,null,null,null,18,74,1.0432807306547868E-3,1.0432807306547868E-3,17.5,82.5,-2.8294455675668595,1.5881079188924463,8.0174004651748945,1,1,1.5881079188924463,2.5436519174710701E-3]
[0,1.905945499015997E-5,null,0,4.7182989811065342E-5,null,0,4.7182989811065342E-5,null,0,4.2458024235239926E-5,null,1.7519004311198467E-3,4.2083695138857066E-3,null,1.7690713785498615E-5,8.7412938704816632E-5,null,6.742402991556274E-6,1.1293525010856757E-4,null,0,4.2458024235239926E-5,null,1.3778179787996068E-4,3.5985363681589742E-4,null,0,1.905945499015997E-5,null,0,0,null,19,74,0,0,18.5,97.5,-2.8294455675668595,1.0197644362960134,-5.8705083577529003,0,1,0,0,null,null,null,null,null,null,19,74,0,0,18.5,97.5,-2.8294455675668595,-0.16934636830698171,-5.8705083577529003,0,0,0,0]
[0,0,null,0,0,null,0,0,null,0,0,null,0,0,null,0,0,null,0,0,null,0,0,null,0,0,null,0,0,null,0,0,null,20,74,0,0,19.5,112.5,-2.8294455675668595,1.0156405900526382,-19.621490253075766,0,1,0,0,null,null,null,null,null,null,20,74,0,0,19.5,112.5,-2.8294455675668595,0.5660064263228336,-19.621490253075766,0,1,0,0]
[null,null,null,null,null,null,null,null,null,null,null,null,null,null,null,null,null,null,null,null,null,null,null,null,null,null,null,null,null,null,null,null,null,null,null,null,null,-0.5,null,null,null,null,null,null,null,{"$f":"SUM(AT44:AT59)","v":1.3270422349257631},null,null,null,null,null,null,null,null,null,null,-0.5,null,null,null,null,null,null,null,{"$f":"SUM(BM44:BM59)","v":1.0783259316308036}]
["abril",null,null,"abril",null,null,"abril",null,null,"abril",null,null,"abril",null,null,"abril",null,null,"abril",null,null,"abril",null,null,"abril",null,null,"abril",null,null,null,null,null,null,null,null,null,-0.5,null,null,null,null,null,null,null,null,null,null,null,null,null,null,null,null,null,null,-0.5]
[0,0,null,0,0,null,0,0,null,0,0,null,0,0,null,0,0,null,0,0,null,0,0,null,0,0,null,0,0,null,{"$f":"CHOOSE($B$1,A62,D62,G62,J62,M62,P62,S62,V62,Y62,AB62)","v":0},{"$f":"CHOOSE($B$1,B62,E62,H62,K62,N62,Q62,T62,V62,Y62,AB62)","v":0},null,5,105,{"$f":"AE62","v":0},{"$f":"AF62","v":0},4.5,{"$f":"15*(AL62-12)","v":-112.5},{"$f":"23.45*SIN(360*(284+AI62)/365/57.3)","v":9.4042992133082119},{"$f":"((SIN(AN62/57.3)*SIN($B$2/57.3)*COS($AI$2/57.3))-SIN(AN62/57.3)*COS($B$2/57.3)*SIN($AI$2/57.3)*COS($AI$3/57.3)+COS(AN62/57.3)*COS($B$2/57.3)*COS($AI$2/57.3)*COS(AM62/57.3)+COS(AN62/57.3)*SIN($B$2/57.3)*SIN($AI$2/57.3)*COS($AI$3/57.3)*COS(AM62/57.3)+COS(AN62/57.3)*SIN($AI$2/57.3)*SIN($AI$3/57.3)*SIN(AM62/57.3))/(COS($B$2/57.3)*COS(AN62/57.3)*COS(AM62/57.3)+SIN($B$2/57.3)*SIN(AN62/57.3))","v":1.0012501042452455},{"$f":"57.3*ASIN(SIN($B$2/57.3)*SIN(AN62/57.3)+COS($B$2/57.3)*COS(AM62/57.3)*COS(AN62/57.6))","v":-24.280956678076073},{"$f":"IF(AP62<0,0,1)","v":0},{"$f":"IF(AO62<0,0,1)","v":1},{"$f":"AO62*AR62*AQ62","v":0},{"$f":"AJ62*AS62+((1+COS($AI$2/57.3))/2)*AK62+((1-COS($AI$2/57.3))/2)*(AJ62+AK62)*0.2","v":0},null,null,null,null,null,null,5,105,{"$f":"AE62","v":0},{"$f":"AF62","v":0},4.5,{"$f":"15*(BE62-12)","v":-112.5},{"$f":"23.45*SIN(360*(284+BB62)/365/57.3)","v":9.4042992133082119},{"$f":"((SIN(BG62/57.3)*SIN($B$2/57.3)*COS($BB$2/57.3))-SIN(BG62/57.3)*COS($B$2/57.3)*SIN($BB$2/57.3)*COS($BB$3/57.3)+COS(BG62/57.3)*COS($B$2/57.3)*COS($BB$2/57.3)*COS(BF62/57.3)+COS(BG62/57.3)*SIN($B$2/57.3)*SIN($BB$2/57.3)*COS($BB$3/57.3)*COS(BF62/57.3)+COS(BG62/57.3)*SIN($BB$2/57.3)*SIN($BB$3/57.3)*SIN(BF62/57.3))/(COS($B$2/57.3)*COS(BG62/57.3)*COS(BF62/57.3)+SIN($B$2/57.3)*SIN(BG62/57.3))","v":0.81288235947162801},{"$f":"57.3*ASIN(SIN($B$2/57.3)*SIN(BG62/57.3)+COS($B$2/57.3)*COS(BF62/57.3)*COS(BG62/57.6))","v":-24.280956678076073},{"$f":"IF(BI62<0,0,1)","v":0},{"$f":"IF(BH62<0,0,1)","v":1},{"$f":"BH62*BK62*BJ62","v":0},{"$f":"BC62*BL62+((1+COS($BB$2/57.3))/2)*BD62+((1-COS($BB$2/57.3))/2)*(BC62+BD62)*0.2","v":0}]
[0,0,null,0,0,null,0,0,null,0,0,null,1.1672856227010683E-18,4.5591015234070967E-4,null,0,0,null,0,0,null,0,0,null,0,0,null,0,0,null,0,0,null,6,105,0,0,5.5,-97.5,9.4042992133082119,0.98607312457987384,-10.399765394370428,0,1,0,0,null,null,null,null,null,null,6,105,0,0,5.5,-97.5,9.4042992133082119,0.82793478999637204,-10.399765394370428,0,1,0,0]
[2.3216544111077215E-4,2.025778453599109E-3,null,1.5929191611826674E-4,1.6808615732062944E-3,null,1.5929191611826674E-4,1.6808615732062944E-3,null,5.6292491473122591E-5,1.4260764506524393E-3,null,5.1484487935060594E-3,8.5177360169020264E-3,null,6.1288672340980904E-5,1.0769295282772354E-3,null,1.8725075081708962E-5,8.5433155060297137E-4,null,5.6292491473122591E-5,1.4260764506524393E-3,null,1.8445138906186399E-5,3.2278993085826192E-4,null,2.3216544111077215E-4,2.025778453599109E-3,null,2.3216544111077215E-4,2.3216544111077215E-4,null,7,105,2.3216544111077215E-4,2.3216544111077215E-4,6.5,-82.5,9.4042992133082119,1.0983412364522669,3.3429405651043247,1,1,1.0983412364522669,4.871198963371016E-4,null,null,null,null,null,null,7,105,2.3216544111077215E-4,2.3216544111077215E-4,6.5,-82.5,9.4042992133082119,0.89624164941868933,3.3429405651043247,1,1,0.89624164941868933,4.0542161521575773E-4]
[1.5701827939441065E-2,2.0169189430362541E-2,null,1.2746360087389226E-2,2.4534066132440524E-2,null,1.2746360087389226E-2,2.4534066132440524E-2,null,8.235495574214876E-3,2.1458903076982491E-2,null,1.4138774602468597E-2,2.035472033804071E-2,null,6.1446271784143421E-3,2.2377369824154145E-2,null,5.7562412923086604E-3,2.4173058639636803E-2,null,8.235495574214876E-3,2.1458903076982491E-2,null,3.3671454033971397E-3,1.5075318638666645E-2,null,1.5701827939441065E-2,2.0169189430362541E-2,null,1.5701827939441065E-2,1.5701827939441065E-2,null,8,105,1.5701827939441065E-2,1.5701827939441065E-2,7.5,-67.5,9.4042992133082119,1.0308840435475672,16.797815444941953,1,1,1.0308840435475672,3.1885722700599611E-2,null,null,null,null,null,null,8,105,1.5701827939441065E-2,1.5701827939441065E-2,7.5,-67.5,9.4042992133082119,0.88975803218223748,16.797815444941953,1,1,0.88975803218223748,2.7317695928490388E-2]
[4.3925544934745347E-2,3.1062843055228544E-2,null,3.9379820529608048E-2,4.0806853855716078E-2,null,3.9379820529608048E-2,4.0806853855716078E-2,null,2.8571169522413002E-2,4.0281401525178506E-2,null,2.6503947514733679E-2,4.0815078394306696E-2,null,2.9389497279100875E-2,4.1834951023396724E-2,null,1.8436798959962329E-2,4.9416947718598496E-2,null,2.8571169522413002E-2,4.0281401525178506E-2,null,2.3847173945856129E-2,4.0626549274718024E-2,null,4.3925544934745347E-2,3.1062843055228544E-2,null,4.3925544934745347E-2,4.3925544934745347E-2,null,9,105,4.3925544934745347E-2,4.3925544934745347E-2,8.5,-52.5,9.4042992133082119,1.0239427411003816,29.723443266934499,1,1,1.0239427411003816,8.889476152539226E-2,null,null,null,null,null,null,9,105,4.3925544934745347E-2,4.3925544934745347E-2,8.5,-52.5,9.4042992133082119,0.91003253668518302,29.723443266934499,1,1,0.91003253668518302,7.7311268506296701E-2]
[6.8007196817280541E-2,4.1017694328338045E-2,null,5.7555819733274172E-2,6.1710683878692302E-2,null,5.7555819733274172E-2,6.1710683878692302E-2,null,5.6480133111366335E-2,5.2835194288481636E-2,null,4.7031024129878779E-2,5.7127766040253582E-2,null,5.0871349147938186E-2,5.4722028875875822E-2,null,4.2091628149296539E-2,6.9458325381214187E-2,null,5.6480133111366335E-2,5.2835194288481636E-2,null,5.0979014320503113E-2,6.3659855772120716E-2,null,6.8007196817280541E-2,4.1017694328338045E-2,null,6.8007196817280541E-2,6.8007196817280541E-2,null,10,105,6.8007196817280541E-2,6.8007196817280541E-2,9.5,-37.5,9.4042992133082119,1.0216206108518076,41.657412307210251,1,1,1.0216206108518076,0.13747232415863217,null,null,null,null,null,null,10,105,6.8007196817280541E-2,6.8007196817280541E-2,9.5,-37.5,9.4042992133082119,0.93466701626642079,41.657412307210251,1,1,0.93466701626642079,0.12137156383330711]
[8.4548174616977306E-2,4.7075592582437722E-2,null,6.1672520190455625E-2,6.7463445057671795E-2,null,6.1672520190455625E-2,6.7463445057671795E-2,null,7.6635972419381609E-2,6.4271952139437705E-2,null,6.190370288001773E-2,7.0160124541309918E-2,null,7.9957201936043693E-2,5.8078897015237524E-2,null,6.1942548370293254E-2,7.4858168907902006E-2,null,7.6635972419381609E-2,6.4271952139437705E-2,null,6.3878590221941089E-2,7.8603959448713304E-2,null,8.4548174616977306E-2,4.7075592582437722E-2,null,8.4548174616977306E-2,8.4548174616977306E-2,null,11,105,8.4548174616977306E-2,8.4548174616977306E-2,10.5,-22.5,9.4042992133082119,1.0207297167889831,51.635056650494427,1,1,1.0207297167889831,0.17083355988557336,null,null,null,null,null,null,11,105,8.4548174616977306E-2,8.4548174616977306E-2,10.5,-22.5,9.4042992133082119,0.96378594202007439,51.635056650494427,1,1,0.96378594202007439,0.1533539848152336]
[9.6014987729327511E-2,5.0219004671151479E-2,null,6.6252162778855817E-2,6.6038114266571885E-2,null,6.6252162778855817E-2,6.6038114266571885E-2,null,8.4943805952623297E-2,6.4803603447794983E-2,null,7.1533414878238555E-2,7.6309351718002932E-2,null,8.4756980532804505E-2,7.0728878986415999E-2,null,7.0558423542264576E-2,8.2434802412838487E-2,null,8.4943805952623297E-2,6.4803603447794983E-2,null,8.1702742784952653E-2,7.791841511936673E-2,null,9.6014987729327511E-2,5.0219004671151479E-2,null,9.6014987729327511E-2,9.6014987729327511E-2,null,12,105,9.6014987729327511E-2,9.6014987729327511E-2,11.5,-7.5,9.4042992133082119,1.0205605785170289,57.7659004538882,1,1,1.0205605785170289,0.1939865548163027,null,null,null,null,null,null,12,105,9.6014987729327511E-2,9.6014987729327511E-2,11.5,-7.5,9.4042992133082119,0.99936233059295387,57.7659004538882,1,1,0.99936233059295387,0.17756842553537441]
[9.6014987729327511E-2,5.0219004671151479E-2,null,6.6252162778855817E-2,6.6038114266571885E-2,null,6.6252162778855817E-2,6.6038114266571885E-2,null,8.4943805952623297E-2,6.4803603447794983E-2,null,7.1533414878238555E-2,7.6309351718002932E-2,null,8.4756980532804505E-2,7.0728878986415999E-2,null,7.0558423542264576E-2,8.2434802412838487E-2,null,8.4943805952623297E-2,6.4803603447794983E-2,null,8.1702742784952653E-2,7.791841511936673E-2,null,9.6014987729327511E-2,5.0219004671151479E-2,null,9.6014987729327511E-2,9.6014987729327511E-2,null,13,105,9.6014987729327511E-2,9.6014987729327511E-2,12.5,7.5,9.4042992133082119,1.0209338652110183,57.7659004538882,1,1,1.0209338652110183,0.19402239593364559,null,null,null,null,null,null,13,105,9.6014987729327511E-2,9.6014987729327511E-2,12.5,7.5,9.4042992133082119,1.0452101926963129,57.7659004538882,1,1,1.0452101926963129,0.18197050745264434]
[8.4548174616977306E-2,4.7075592582437722E-2,null,6.1672520190455625E-2,6.7463445057671795E-2,null,6.1672520190455625E-2,6.7463445057671795E-2,null,7.6635972419381609E-2,6.4271952139437705E-2,null,6.190370288001773E-2,7.0160124541309918E-2,null,7.9957201936043693E-2,5.8078897015237524E-2,null,6.1942548370293254E-2,7.4858168907902006E-2,null,7.6635972419381609E-2,6.4271952139437705E-2,null,6.3878590221941089E-2,7.8603959448713304E-2,null,8.4548174616977306E-2,4.7075592582437722E-2,null,8.4548174616977306E-2,8.4548174616977306E-2,null,14,105,8.4548174616977306E-2,8.4548174616977306E-2,13.5,22.5,9.4042992133082119,1.021910414585282,51.635056650494427,1,1,1.021910414585282,0.17093338572902472,null,null,null,null,null,null,14,105,8.4548174616977306E-2,8.4548174616977306E-2,13.5,22.5,9.4042992133082119,1.108801745213938,51.635056650494427,1,1,1.108801745213938,0.16561480626588962]
[6.8007196817280541E-2,4.1017694328338045E-2,null,5.7555819733274172E-2,6.1710683878692302E-2,null,5.7555819733274172E-2,6.1710683878692302E-2,null,5.6480133111366335E-2,5.2835194288481636E-2,null,4.7031024129878779E-2,5.7127766040253582E-2,null,5.0871349147938186E-2,5.4722028875875822E-2,null,4.2091628149296539E-2,6.9458325381214187E-2,null,5.6480133111366335E-2,5.2835194288481636E-2,null,5.0979014320503113E-2,6.3659855772120716E-2,null,6.8007196817280541E-2,4.1017694328338045E-2,null,6.8007196817280541E-2,6.8007196817280541E-2,null,15,105,6.8007196817280541E-2,6.8007196817280541E-2,{"$f":"AH72-0.5","v":14.5},37.5,9.4042992133082119,1.0238362583673846,41.657412307210251,1,1,1.0238362583673846,0.13762300413530174,null,null,null,null,null,null,15,105,6.8007196817280541E-2,6.8007196817280541E-2,{"$f":"BA72-0.5","v":14.5},37.5,9.4042992133082119,1.2067975352468492,41.657412307210251,1,1,1.2067975352468492,0.13987839759759779]
[4.3925544934745347E-2,3.1062843055228544E-2,null,3.9379820529608048E-2,4.0806853855716078E-2,null,3.9379820529608048E-2,4.0806853855716078E-2,null,2.8571169522413002E-2,4.0281401525178506E-2,null,2.6503947514733679E-2,4.0815078394306696E-2,null,2.9389497279100875E-2,4.1834951023396724E-2,null,1.8436798959962329E-2,4.9416947718598496E-2,null,2.8571169522413002E-2,4.0281401525178506E-2,null,2.3847173945856129E-2,4.0626549274718024E-2,null,4.3925544934745347E-2,3.1062843055228544E-2,null,4.3925544934745347E-2,4.3925544934745347E-2,null,16,105,4.3925544934745347E-2,4.3925544934745347E-2,15.5,52.5,9.4042992133082119,1.0278137172164854,29.723443266934499,1,1,1.0278137172164854,8.9064796260721488E-2,null,null,null,null,null,null,16,105,4.3925544934745347E-2,4.3925544934745347E-2,15.5,52.5,9.4042992133082119,1.3854740191548685,29.723443266934499,1,1,1.3854740191548685,9.8195294708360803E-2]
[1.5701827939441065E-2,2.0169189430362541E-2,null,1.2746360087389226E-2,2.4534066132440524E-2,null,1.2746360087389226E-2,2.4534066132440524E-2,null,8.235495574214876E-3,2.1458903076982491E-2,null,1.4138774602468597E-2,2.035472033804071E-2,null,6.1446271784143421E-3,2.2377369824154145E-2,null,5.7562412923086604E-3,2.4173058639636803E-2,null,8.235495574214876E-3,2.1458903076982491E-2,null,3.3671454033971397E-3,1.5075318638666645E-2,null,1.5701827939441065E-2,2.0169189430362541E-2,null,1.5701827939441065E-2,1.5701827939441065E-2,null,17,105,1.5701827939441065E-2,1.5701827939441065E-2,16.5,67.5,9.4042992133082119,1.0386181746011711,16.797815444941953,1,1,1.0386181746011711,3.2007162695664379E-2,null,null,null,null,null,null,17,105,1.5701827939441065E-2,1.5701827939441065E-2,16.5,67.5,9.4042992133082119,1.8396803834059567,16.797815444941953,1,1,1.8396803834059567,4.2233213243234535E-2]
[2.3216544111077215E-4,2.025778453599109E-3,null,1.5929191611826674E-4,1.6808615732062944E-3,null,1.5929191611826674E-4,1.6808615732062944E-3,null,5.6292491473122591E-5,1.4260764506524393E-3,null,5.1484487935060594E-3,8.5177360169020264E-3,null,6.1288672340980904E-5,1.0769295282772354E-3,null,1.8725075081708962E-5,8.5433155060297137E-4,null,5.6292491473122591E-5,1.4260764506524393E-3,null,1.8445138906186399E-5,3.2278993085826192E-4,null,2.3216544111077215E-4,2.025778453599109E-3,null,2.3216544111077215E-4,2.3216544111077215E-4,null,18,105,2.3216544111077215E-4,2.3216544111077215E-4,17.5,82.5,9.4042992133082119,1.139480616625558,3.3429405651043247,1,1,1.139480616625558,4.9667103868205752E-4,null,null,null,null,null,null,18,105,2.3216544111077215E-4,2.3216544111077215E-4,17.5,82.5,9.4042992133082119,5.9490674253523972,3.3429405651043247,1,1,5.9490674253523972,1.5785131403412867E-3]
[0,0,null,0,0,null,0,0,null,0,0,null,1.1672856227010683E-18,4.5591015234070967E-4,null,0,0,null,0,0,null,0,0,null,0,0,null,0,0,null,0,0,null,19,105,0,0,18.5,97.5,9.4042992133082119,0.97278598472227473,-10.399765394370428,0,1,0,0,null,null,null,null,null,null,19,105,0,0,18.5,97.5,9.4042992133082119,-0.80401985973607426,-10.399765394370428,0,0,0,0]
[0,0,null,0,0,null,0,0,null,0,0,null,0,0,null,0,0,null,0,0,null,0,0,null,0,0,null,0,0,null,0,0,null,20,105,0,0,19.5,112.5,9.4042992133082119,0.99581440235019836,-24.280956678076073,0,1,0,0,null,null,null,null,null,null,20,105,0,0,19.5,112.5,9.4042992133082119,0.14525794388996907,-24.280956678076073,0,1,0,0]
[null,null,null,null,null,null,null,null,null,null,null,null,null,null,null,null,null,null,null,null,null,null,null,null,null,null,null,null,null,null,null,null,null,null,null,null,null,-0.5,null,null,null,null,null,null,null,{"$f":"SUM(AT62:AT77)","v":1.247707458775877},null,null,null,null,null,null,null,null,null,null,-0.5,null,null,null,null,null,null,null,{"$f":"SUM(BM62:BM77)","v":1.1867990926419862}]
["mayo",null,null,"mayo",null,null,"mayo",null,null,"mayo",null,null,"mayo",null,null,"mayo",null,null,"mayo",null,null,"mayo",null,null,"mayo",null,null,"mayo",null,null,null,null,null,null,null,null,null,-0.5,null,null,null,null,null,null,null,null,null,null,null,null,null,null,null,null,null,null,-0.5]
[0,0,null,0,0,null,0,0,null,0,0,null,0,0,null,0,0,null,0,0,null,0,0,null,0,0,null,0,0,null,{"$f":"CHOOSE($B$1,A80,D80,G80,J80,M80,P80,S80,V80,Y80,AB80)","v":0},{"$f":"CHOOSE($B$1,B80,E80,H80,K80,N80,Q80,T80,V80,Y80,AB80)","v":0},null,5,136,{"$f":"AE80","v":0},{"$f":"AF80","v":0},4.5,{"$f":"15*(AL80-12)","v":-112.5},{"$f":"23.45*SIN(360*(284+AI80)/365/57.3)","v":19.023291617700689},{"$f":"((SIN(AN80/57.3)*SIN($B$2/57.3)*COS($AI$2/57.3))-SIN(AN80/57.3)*COS($B$2/57.3)*SIN($AI$2/57.3)*COS($AI$3/57.3)+COS(AN80/57.3)*COS($B$2/57.3)*COS($AI$2/57.3)*COS(AM80/57.3)+COS(AN80/57.3)*SIN($B$2/57.3)*SIN($AI$2/57.3)*COS($AI$3/57.3)*COS(AM80/57.3)+COS(AN80/57.3)*SIN($AI$2/57.3)*SIN($AI$3/57.3)*SIN(AM80/57.3))/(COS($B$2/57.3)*COS(AN80/57.3)*COS(AM80/57.3)+SIN($B$2/57.3)*SIN(AN80/57.3))","v":0.98901968840041266},{"$f":"57.3*ASIN(SIN($B$2/57.3)*SIN(AN80/57.3)+COS($B$2/57.3)*COS(AM80/57.3)*COS(AN80/57.6))","v":-27.235359841857594},{"$f":"IF(AP80<0,0,1)","v":0},{"$f":"IF(AO80<0,0,1)","v":1},{"$f":"AO80*AR80*AQ80","v":0},{"$f":"AJ80*AS80+((1+COS($AI$2/57.3))/2)*AK80+((1-COS($AI$2/57.3))/2)*(AJ80+AK80)*0.2","v":0},null,null,null,null,null,null,5,136,{"$f":"AE80","v":0},{"$f":"AF80","v":0},4.5,{"$f":"15*(BE80-12)","v":-112.5},{"$f":"23.45*SIN(360*(284+BB80)/365/57.3)","v":19.023291617700689},{"$f":"((SIN(BG80/57.3)*SIN($B$2/57.3)*COS($BB$2/57.3))-SIN(BG80/57.3)*COS($B$2/57.3)*SIN($BB$2/57.3)*COS($BB$3/57.3)+COS(BG80/57.3)*COS($B$2/57.3)*COS($BB$2/57.3)*COS(BF80/57.3)+COS(BG80/57.3)*SIN($B$2/57.3)*SIN($BB$2/57.3)*COS($BB$3/57.3)*COS(BF80/57.3)+COS(BG80/57.3)*SIN($BB$2/57.3)*SIN($BB$3/57.3)*SIN(BF80/57.3))/(COS($B$2/57.3)*COS(BG80/57.3)*COS(BF80/57.3)+SIN($B$2/57.3)*SIN(BG80/57.3))","v":0.47673658096018734},{"$f":"57.3*ASIN(SIN($B$2/57.3)*SIN(BG80/57.3)+COS($B$2/57.3)*COS(BF80/57.3)*COS(BG80/57.6))","v":-27.235359841857594},{"$f":"IF(BI80<0,0,1)","v":0},{"$f":"IF(BH80<0,0,1)","v":1},{"$f":"BH80*BK80*BJ80","v":0},{"$f":"BC80*BL80+((1+COS($BB$2/57.3))/2)*BD80+((1-COS($BB$2/57.3))/2)*(BC80+BD80)*0.2","v":0}]
[0,0,null,0,0,null,0,0,null,0,0,null,0,0,null,0,0,null,0,0,null,0,0,null,0,0,null,0,0,null,0,0,null,6,136,0,0,5.5,-97.5,19.023291617700689,0.96648034873371913,-13.678729837858485,0,1,0,{"$f":"AJ81*AS81+((1+COS($AI$2/57.3))/2)*AK81+((1-COS($AI$2/57.3))/2)*(AJ81+AK81)*0.15","v":0},null,null,null,null,null,null,6,136,0,0,5.5,-97.5,19.023291617700689,0.17345760257828421,-13.678729837858485,0,1,0,0]
[4.4477238264339981E-5,6.6176739356942212E-4,null,1.446029083777338E-5,1.2291247212107374E-4,null,1.446029083777338E-5,1.2291247212107374E-4,null,6.7175109528582303E-6,1.0971934556335111E-4,null,6.9960388625032782E-4,5.3209309658475094E-3,null,0,9.0981762893076824E-6,null,0,0,null,6.7175109528582303E-6,1.0971934556335111E-4,null,0,0,null,4.4477238264339981E-5,6.6176739356942212E-4,null,4.4477238264339981E-5,4.4477238264339981E-5,null,7,136,4.4477238264339981E-5,4.4477238264339981E-5,6.5,-82.5,19.023291617700689,-0.452283227120298,-0.43043605527582574,0,0,0,4.4467756644972602E-5,null,null,null,null,null,null,7,136,4.4477238264339981E-5,4.4477238264339981E-5,6.5,-82.5,19.023291617700689,-20.086198590606433,-0.43043605527582574,0,0,0,3.780654380965884E-5]
[8.4658549832212025E-3,2.0205594904755833E-2,null,1.4033634648852962E-3,1.6641887592959041E-2,null,1.4033634648852962E-3,1.6641887592959041E-2,null,3.0542283132328762E-3,1.4729262349300481E-2,null,9.1638255522929236E-3,1.8977987111522772E-2,null,4.2458156016769185E-4,9.1224380927458389E-3,null,4.6669333287623418E-4,5.4223222294825972E-3,null,3.0542283132328762E-3,1.4729262349300481E-2,null,1.8026520010459758E-5,5.6483096032773909E-4,null,8.4658549832212025E-3,2.0205594904755833E-2,null,8.4658549832212025E-3,8.4658549832212025E-3,null,8,136,8.4658549832212025E-3,8.4658549832212025E-3,7.5,-67.5,19.023291617700689,1.0659040671144548,12.336051399814924,1,1,1.0659040671144548,1.7487839497759904E-2,null,null,null,null,null,null,8,136,8.4658549832212025E-3,8.4658549832212025E-3,7.5,-67.5,19.023291617700689,1.6330243594400673,12.336051399814924,1,1,1.6330243594400673,2.1021093795157778E-2]
[3.9203900889910721E-2,3.4186798471062471E-2,null,2.1101460204377788E-2,4.5867042178411588E-2,null,2.1101460204377788E-2,4.5867042178411588E-2,null,2.8453784121350901E-2,3.9248806535532539E-2,null,2.1530063259957037E-2,4.2912322881973872E-2,null,1.368178312185362E-2,4.1848527699222017E-2,null,1.1329949366228855E-2,4.5961743494312299E-2,null,2.8453784121350901E-2,3.9248806535532539E-2,null,3.4724380601475731E-3,2.4035101876518208E-2,null,3.9203900889910721E-2,3.4186798471062471E-2,null,3.9203900889910721E-2,3.9203900889910721E-2,null,9,136,3.9203900889910721E-2,3.9203900889910721E-2,8.5,-52.5,19.023291617700689,1.0410329880389309,24.325785158089733,1,1,1.0410329880389309,8.0008097522271407E-2,null,null,null,null,null,null,9,136,3.9203900889910721E-2,3.9203900889910721E-2,8.5,-52.5,19.023291617700689,1.2985891453845153,24.325785158089733,1,1,1.2985891453845153,8.4233861520691691E-2]
[7.4710977923299809E-2,3.9087405663761329E-2,null,5.2353482978158512E-2,6.5377384926046403E-2,null,5.2353482978158512E-2,6.5377384926046403E-2,null,5.9816004952048224E-2,5.6323990565113238E-2,null,3.5315215891847149E-2,7.3054411445913764E-2,null,4.2876172190712249E-2,6.8457726704351782E-2,null,4.2048703751335605E-2,7.3279306787499859E-2,null,5.9816004952048224E-2,5.6323990565113238E-2,null,4.0135535974542148E-2,6.8936271837919866E-2,null,7.4710977923299809E-2,3.9087405663761329E-2,null,7.4710977923299809E-2,7.4710977923299809E-2,null,10,136,7.4710977923299809E-2,7.4710977923299809E-2,9.5,-37.5,19.023291617700689,1.0336315965070442,35.016653361041939,1,1,1.0336315965070442,0.15191867848879992,null,null,null,null,null,null,10,136,7.4710977923299809E-2,7.4710977923299809E-2,9.5,-37.5,19.023291617700689,1.2163107106422169,35.016653361041939,1,1,1.2163107106422169,0.15437759102814888]
[8.8804871272699912E-2,5.164481260039331E-2,null,6.2842013932490129E-2,7.4839235230896112E-2,null,6.2842013932490129E-2,7.4839235230896112E-2,null,6.6785493893316533E-2,7.2611815059762247E-2,null,5.2726484441203675E-2,8.4248073625918879E-2,null,6.8475907478759396E-2,8.4725250331462915E-2,null,6.0618150051804917E-2,9.1255671924542023E-2,null,6.6785493893316533E-2,7.2611815059762247E-2,null,7.4924226003474245E-2,9.4663265414927672E-2,null,8.8804871272699912E-2,5.164481260039331E-2,null,8.8804871272699912E-2,8.8804871272699912E-2,null,11,136,8.8804871272699912E-2,8.8804871272699912E-2,10.5,-22.5,19.023291617700689,1.0306606874877426,43.494487863439964,1,1,1.0306606874877426,0.18031362960486622,null,null,null,null,null,null,11,136,8.8804871272699912E-2,8.8804871272699912E-2,10.5,-22.5,19.023291617700689,1.2012685175670825,43.494487863439964,1,1,1.2012685175670825,0.18216441622026788]
[8.8963911094372405E-2,5.4019627564689275E-2,null,7.5465847833866284E-2,8.3970908894949986E-2,null,7.5465847833866284E-2,8.3970908894949986E-2,null,8.1418471918959401E-2,7.7441705434867295E-2,null,6.2402695938356005E-2,9.3648384998916173E-2,null,7.7231385794503143E-2,9.3147128849932037E-2,null,6.066319419079938E-2,0.10895426487111828,null,8.1418471918959401E-2,7.7441705434867295E-2,null,8.9123114931713043E-2,0.10412718842041901,null,8.8963911094372405E-2,5.4019627564689275E-2,null,8.8963911094372405E-2,8.8963911094372405E-2,null,12,136,8.8963911094372405E-2,8.8963911094372405E-2,11.5,-7.5,19.023291617700689,1.0296899077181565,48.377515976552608,1,1,1.0296899077181565,0.18055018724939564,null,null,null,null,null,null,12,136,8.8963911094372405E-2,8.8963911094372405E-2,11.5,-7.5,19.023291617700689,1.2210398819033115,48.377515976552608,1,1,1.2210398819033115,0.18424959068554586]
[8.8963911094372405E-2,5.4019627564689275E-2,null,7.5465847833866284E-2,8.3970908894949986E-2,null,7.5465847833866284E-2,8.3970908894949986E-2,null,8.1418471918959401E-2,7.7441705434867295E-2,null,6.2402695938356005E-2,9.3648384998916173E-2,null,7.7231385794503143E-2,9.3147128849932037E-2,null,6.066319419079938E-2,0.10895426487111828,null,8.1418471918959401E-2,7.7441705434867295E-2,null,8.9123114931713043E-2,0.10412718842041901,null,8.8963911094372405E-2,5.4019627564689275E-2,null,8.8963911094372405E-2,8.8963911094372405E-2,null,13,136,8.8963911094372405E-2,8.8963911094372405E-2,12.5,7.5,19.023291617700689,1.0300948964971726,48.377515976552608,1,1,1.0300948964971726,0.18058621663512625,null,null,null,null,null,null,13,136,8.8963911094372405E-2,8.8963911094372405E-2,12.5,7.5,19.023291617700689,1.2707814612113919,48.377515976552608,1,1,1.2707814612113919,0.18867479612480362]
[8.8804871272699912E-2,5.164481260039331E-2,null,6.2842013932490129E-2,7.4839235230896112E-2,null,6.2842013932490129E-2,7.4839235230896112E-2,null,6.6785493893316533E-2,7.2611815059762247E-2,null,5.2726484441203675E-2,8.4248073625918879E-2,null,6.8475907478759396E-2,8.4725250331462915E-2,null,6.0618150051804917E-2,9.1255671924542023E-2,null,6.6785493893316533E-2,7.2611815059762247E-2,null,7.4924226003474245E-2,9.4663265414927672E-2,null,8.8804871272699912E-2,5.164481260039331E-2,null,8.8804871272699912E-2,8.8804871272699912E-2,null,14,136,8.8804871272699912E-2,8.8804871272699912E-2,13.5,22.5,19.023291617700689,1.0319502918604582,43.494487863439964,1,1,1.0319502918604582,0.18042815275517793,null,null,null,null,null,null,14,136,8.8804871272699912E-2,8.8804871272699912E-2,13.5,22.5,19.023291617700689,1.3596604570607285,43.494487863439964,1,1,1.3596604570607285,0.1962303920176344]
[7.4710977923299809E-2,3.9087405663761329E-2,null,5.2353482978158512E-2,6.5377384926046403E-2,null,5.2353482978158512E-2,6.5377384926046403E-2,null,5.9816004952048224E-2,5.6323990565113238E-2,null,3.5315215891847149E-2,7.3054411445913764E-2,null,4.2876172190712249E-2,6.8457726704351782E-2,null,4.2048703751335605E-2,7.3279306787499859E-2,null,5.9816004952048224E-2,5.6323990565113238E-2,null,4.0135535974542148E-2,6.8936271837919866E-2,null,7.4710977923299809E-2,3.9087405663761329E-2,null,7.4710977923299809E-2,7.4710977923299809E-2,null,15,136,7.4710977923299809E-2,7.4710977923299809E-2,14.5,37.5,19.023291617700689,1.0360923896335832,35.016653361041939,1,1,1.0360923896335832,0.15210252674975061,null,null,null,null,null,null,15,136,7.4710977923299809E-2,7.4710977923299809E-2,14.5,37.5,19.023291617700689,1.5185505325997191,35.016653361041939,1,1,1.5185505325997191,0.17695822369395789]
[3.9203900889910721E-2,3.4186798471062471E-2,null,2.1101460204377788E-2,4.5867042178411588E-2,null,2.1101460204377788E-2,4.5867042178411588E-2,null,2.8453784121350901E-2,3.9248806535532539E-2,null,2.1530063259957037E-2,4.2912322881973872E-2,null,1.368178312185362E-2,4.1848527699222017E-2,null,1.1329949366228855E-2,4.5961743494312299E-2,null,2.8453784121350901E-2,3.9248806535532539E-2,null,3.4724380601475731E-3,2.4035101876518208E-2,null,3.9203900889910721E-2,3.4186798471062471E-2,null,3.9203900889910721E-2,3.9203900889910721E-2,null,16,136,3.9203900889910721E-2,3.9203900889910721E-2,15.5,52.5,19.023291617700689,1.0455006168415366,24.325785158089733,1,1,1.0455006168415366,8.0183245999061681E-2,null,null,null,null,null,null,16,136,3.9203900889910721E-2,3.9203900889910721E-2,15.5,52.5,19.023291617700689,1.847312774083385,24.325785158089733,1,1,1.847312774083385,0.10574596827615435]
[8.4658549832212025E-3,2.0205594904755833E-2,null,1.4033634648852962E-3,1.6641887592959041E-2,null,1.4033634648852962E-3,1.6641887592959041E-2,null,3.0542283132328762E-3,1.4729262349300481E-2,null,9.1638255522929236E-3,1.8977987111522772E-2,null,4.2458156016769185E-4,9.1224380927458389E-3,null,4.6669333287623418E-4,5.4223222294825972E-3,null,3.0542283132328762E-3,1.4729262349300481E-2,null,1.8026520010459758E-5,5.6483096032773909E-4,null,8.4658549832212025E-3,2.0205594904755833E-2,null,8.4658549832212025E-3,8.4658549832212025E-3,null,17,136,8.4658549832212025E-3,8.4658549832212025E-3,16.5,67.5,19.023291617700689,1.0759370436282008,12.336051399814924,1,1,1.0759370436282008,1.7572777221975342E-2,null,null,null,null,null,null,17,136,8.4658549832212025E-3,8.4658549832212025E-3,16.5,67.5,19.023291617700689,2.8652957773479359,12.336051399814924,1,1,2.8652957773479359,3.1453324919134162E-2]
[4.4477238264339981E-5,6.6176739356942212E-4,null,1.446029083777338E-5,1.2291247212107374E-4,null,1.446029083777338E-5,1.2291247212107374E-4,null,6.7175109528582303E-6,1.0971934556335111E-4,null,6.9960388625032782E-4,5.3209309658475094E-3,null,0,9.0981762893076824E-6,null,0,0,null,6.7175109528582303E-6,1.0971934556335111E-4,null,0,0,null,4.4477238264339981E-5,6.6176739356942212E-4,null,4.4477238264339981E-5,4.4477238264339981E-5,null,18,136,4.4477238264339981E-5,4.4477238264339981E-5,17.5,82.5,19.023291617700689,-0.75544854115533999,-0.43043605527582574,0,0,0,4.4467756644972602E-5,null,null,null,null,null,null,18,136,4.4477238264339981E-5,4.4477238264339981E-5,17.5,82.5,19.023291617700689,-57.321604342290733,-0.43043605527582574,0,0,0,3.780654380965884E-5]
[0,0,null,0,0,null,0,0,null,0,0,null,0,0,null,0,0,null,0,0,null,0,0,null,0,0,null,0,0,null,0,0,null,19,136,0,0,18.5,97.5,19.023291617700689,0.95675896749546718,-13.678729837858485,0,1,0,0,null,null,null,null,null,null,19,136,0,0,18.5,97.5,19.023291617700689,-1.0205430238630566,-13.678729837858485,0,0,0,0]
[0,0,null,0,0,null,0,0,null,0,0,null,0,0,null,0,0,null,0,0,null,0,0,null,0,0,null,0,0,null,0,0,null,20,136,0,0,19.5,112.5,19.023291617700689,0.98433785922288253,-27.235359841857594,0,1,0,0,null,null,null,null,null,null,20,136,0,0,19.5,112.5,19.023291617700689,-9.8295591306275229E-2,-27.235359841857594,0,0,0,0]
[null,null,null,null,null,null,null,null,null,null,null,null,null,null,null,null,null,null,null,null,null,null,null,null,null,null,null,null,null,null,null,null,null,null,null,null,null,-0.5,null,null,null,null,null,null,null,{"$f":"SUM(AT80:AT95)","v":1.2212402872374748},null,null,null,null,null,null,null,null,null,null,-0.5,null,null,null,null,null,null,null,{"$f":"SUM(BM80:BM95)","v":1.3251848713691161}]
["junio",null,null,"junio",null,null,"junio",null,null,"junio",null,null,"junio",null,null,"junio",null,null,"junio",null,null,"junio",null,null,"junio",null,null,"junio",null,null,null,null,null,null,null,null,null,-0.5,null,null,null,null,null,null,null,null,null,null,null,null,null,null,null,null,null,null,-0.5]
[0,0,null,0,0,null,0,0,null,0,0,null,0,0,null,0,0,null,0,0,null,0,0,null,0,0,null,0,0,null,{"$f":"CHOOSE($B$1,A98,D98,G98,J98,M98,P98,S98,V98,Y98,AB98)","v":0},{"$f":"CHOOSE($B$1,B98,E98,H98,K98,N98,Q98,T98,V98,Y98,AB98)","v":0},null,5,166,{"$f":"AE98","v":0},{"$f":"AF98","v":0},4.5,{"$f":"15*(AL98-12)","v":-112.5},{"$f":"23.45*SIN(360*(284+AI98)/365/57.3)","v":23.312969378572543},{"$f":"((SIN(AN98/57.3)*SIN($B$2/57.3)*COS($AI$2/57.3))-SIN(AN98/57.3)*COS($B$2/57.3)*SIN($AI$2/57.3)*COS($AI$3/57.3)+COS(AN98/57.3)*COS($B$2/57.3)*COS($AI$2/57.3)*COS(AM98/57.3)+COS(AN98/57.3)*SIN($B$2/57.3)*SIN($AI$2/57.3)*COS($AI$3/57.3)*COS(AM98/57.3)+COS(AN98/57.3)*SIN($AI$2/57.3)*SIN($AI$3/57.3)*SIN(AM98/57.3))/(COS($B$2/57.3)*COS(AN98/57.3)*COS(AM98/57.3)+SIN($B$2/57.3)*SIN(AN98/57.3))","v":0.98427071226230922},{"$f":"57.3*ASIN(SIN($B$2/57.3)*SIN(AN98/57.3)+COS($B$2/57.3)*COS(AM98/57.3)*COS(AN98/57.6))","v":-28.314009739613272},{"$f":"IF(AP98<0,0,1)","v":0},{"$f":"IF(AO98<0,0,1)","v":1},{"$f":"AO98*AR98*AQ98","v":0},{"$f":"AJ98*AS98+((1+COS($AI$2/57.3))/2)*AK98+((1-COS($AI$2/57.3))/2)*(AJ98+AK98)*0.2","v":0},null,null,null,null,null,null,5,166,{"$f":"AE98","v":0},{"$f":"AF98","v":0},4.5,{"$f":"15*(BE98-12)","v":-112.5},{"$f":"23.45*SIN(360*(284+BB98)/365/57.3)","v":23.312969378572543},{"$f":"((SIN(BG98/57.3)*SIN($B$2/57.3)*COS($BB$2/57.3))-SIN(BG98/57.3)*COS($B$2/57.3)*SIN($BB$2/57.3)*COS($BB$3/57.3)+COS(BG98/57.3)*COS($B$2/57.3)*COS($BB$2/57.3)*COS(BF98/57.3)+COS(BG98/57.3)*SIN($B$2/57.3)*SIN($BB$2/57.3)*COS($BB$3/57.3)*COS(BF98/57.3)+COS(BG98/57.3)*SIN($BB$2/57.3)*SIN($BB$3/57.3)*SIN(BF98/57.3))/(COS($B$2/57.3)*COS(BG98/57.3)*COS(BF98/57.3)+SIN($B$2/57.3)*SIN(BG98/57.3))","v":0.34621376789087371},{"$f":"57.3*ASIN(SIN($B$2/57.3)*SIN(BG98/57.3)+COS($B$2/57.3)*COS(BF98/57.3)*COS(BG98/57.6))","v":-28.314009739613272},{"$f":"IF(BI98<0,0,1)","v":0},{"$f":"IF(BH98<0,0,1)","v":1},{"$f":"BH98*BK98*BJ98","v":0},{"$f":"BC98*BL98+((1+COS($BB$2/57.3))/2)*BD98+((1-COS($BB$2/57.3))/2)*(BC98+BD98)*0.2","v":0}]
[0,0,null,0,0,null,0,0,null,0,0,null,0,0,null,0,0,null,0,0,null,0,0,null,0,0,null,0,0,null,0,0,null,6,166,0,0,5.5,-97.5,23.312969378572543,0.96037490147385718,-15.033811380309208,0,1,0,0,null,null,null,null,null,null,6,166,0,0,5.5,-97.5,23.312969378572543,-3.0488789803284063E-2,-15.033811380309208,0,0,0,0]
[2.8739134885496907E-5,3.2671858606670166E-4,null,0,0,null,0,0,null,0,0,null,1.7494416407079248E-17,3.4283265481037076E-3,null,0,0,null,0,0,null,0,0,null,0,0,null,2.8739134885496907E-5,3.2671858606670166E-4,null,2.8739134885496907E-5,2.8739134885496907E-5,null,7,166,2.8739134885496907E-5,2.8739134885496907E-5,6.5,-82.5,23.312969378572543,0.64133208611646719,-2.1146441982859336,0,1,0,2.8733883527751446E-5,null,null,null,null,null,null,7,166,2.8739134885496907E-5,2.8739134885496907E-5,6.5,-82.5,23.312969378572543,-5.2878263898360078,-2.1146441982859336,0,0,0,2.4428840559809813E-5]
[6.1013603395070476E-3,1.6672518981606974E-2,null,5.0904328333128621E-4,6.2365422616515688E-3,null,5.0904328333128621E-4,6.2365422616515688E-3,null,5.6132094890579609E-4,5.4437608359329944E-3,null,8.5232007237578226E-3,1.7689212675285084E-2,null,3.9598221464137999E-4,3.4318458602252931E-3,null,1.1089334064150887E-4,1.8934011124346515E-3,null,5.6132094890579609E-4,5.4437608359329944E-3,null,0,0,null,6.1013603395070476E-3,1.6672518981606974E-2,null,6.1013603395070476E-3,6.1013603395070476E-3,null,8,166,6.1013603395070476E-3,6.1013603395070476E-3,7.5,-67.5,23.312969378572543,1.091393425740302,10.253539404361085,1,1,1.091393425740302,1.2759230031193241E-2,null,null,null,null,null,null,8,166,6.1013603395070476E-3,6.1013603395070476E-3,7.5,-67.5,23.312969378572543,2.1740114873843335,10.253539404361085,1,1,2.1740114873843335,1.8450706021267478E-2]
[3.9244390532145443E-2,3.3181939768237051E-2,null,1.9229221948986359E-2,4.5176039361348071E-2,null,1.9229221948986359E-2,4.5176039361348071E-2,null,1.3202950392065871E-2,4.2863545463722869E-2,null,1.9748589386472417E-2,3.7521129443134987E-2,null,9.0127201978272425E-3,4.5999933934173655E-2,null,8.8959108642474201E-3,3.597329753306365E-2,null,1.3202950392065871E-2,4.2863545463722869E-2,null,1.1517212456492662E-3,5.8562097236403371E-3,null,3.9244390532145443E-2,3.3181939768237051E-2,null,3.9244390532145443E-2,3.9244390532145443E-2,null,9,166,3.9244390532145443E-2,3.9244390532145443E-2,8.5,-52.5,23.312969378572543,1.0512774428182983,21.757366006416742,1,1,1.0512774428182983,8.049396212540573E-2,null,null,null,null,null,null,9,166,3.9244390532145443E-2,3.9244390532145443E-2,8.5,-52.5,23.312969378572543,1.5315027259405727,21.757366006416742,1,1,1.5315027259405727,9.3461409453456989E-2]
[7.0775413706699236E-2,4.3677434681768865E-2,null,3.925729608397388E-2,7.3945395271459144E-2,null,3.925729608397388E-2,7.3945395271459144E-2,null,4.7217040623485425E-2,7.0811395056460003E-2,null,3.8568673666166731E-2,6.4745375330333532E-2,null,3.4244759813346973E-2,7.5452895436535439E-2,null,4.1482128234325538E-2,7.1200337399164482E-2,null,4.7217040623485425E-2,7.0811395056460003E-2,null,3.343938150100291E-2,5.8563379961487749E-2,null,7.0775413706699236E-2,4.3677434681768865E-2,null,7.0775413706699236E-2,7.0775413706699236E-2,null,10,166,7.0775413706699236E-2,7.0775413706699236E-2,9.5,-37.5,23.312969378572543,1.0404070123365716,31.869706428715322,1,1,1.0404070123365716,0.14439771799236747,null,null,null,null,null,null,10,166,7.0775413706699236E-2,7.0775413706699236E-2,9.5,-37.5,23.312969378572543,1.3751863599798237,31.869706428715322,1,1,1.3751863599798237,0.15748990347949032]
[8.5697075056458571E-2,5.1692628142729305E-2,null,5.9652557214330978E-2,8.2922236405654576E-2,null,5.9652557214330978E-2,8.2922236405654576E-2,null,5.8751595133369194E-2,9.3786519169734836E-2,null,5.8400590434016561E-2,9.1981525129157471E-2,null,6.4545100986544909E-2,8.8926880890140725E-2,null,7.9071996035015552E-2,8.9438071557594506E-2,null,5.8751595133369194E-2,9.3786519169734836E-2,null,8.5439441883409614E-2,9.3150541080028959E-2,null,8.5697075056458571E-2,5.1692628142729305E-2,null,8.5697075056458571E-2,8.5697075056458571E-2,null,11,166,8.5697075056458571E-2,8.5697075056458571E-2,10.5,-22.5,23.312969378572543,1.0361189154626207,39.733936061308391,1,1,1.0361189154626207,0.17447377652625279,null,null,null,null,null,null,11,166,8.5697075056458571E-2,8.5697075056458571E-2,10.5,-22.5,23.312969378572543,1.3317929221510847,39.733936061308391,1,1,1.3317929221510847,0.18697498910169361]
[9.6365344443164302E-2,5.6236436626731029E-2,null,7.8118330929426355E-2,9.4953337239837732E-2,null,7.8118330929426355E-2,9.4953337239837732E-2,null,6.6389906319773304E-2,0.10097196605654978,null,5.5650786848558356E-2,0.10374258981501323,null,6.5700049112582259E-2,0.11228983155398217,null,7.4048001423176441E-2,9.7885962500336321E-2,null,6.6389906319773304E-2,0.10097196605654978,null,9.2645237827990126E-2,0.12975408677679104,null,9.6365344443164302E-2,5.6236436626731029E-2,null,9.6365344443164302E-2,9.6365344443164302E-2,null,12,166,9.6365344443164302E-2,9.6365344443164302E-2,11.5,-7.5,23.312969378572543,1.0346556766134936,44.170925059095424,1,1,1.0346556766134936,0.19605268674480381,null,null,null,null,null,null,12,166,9.6365344443164302E-2,9.6365344443164302E-2,11.5,-7.5,23.312969378572543,1.3416182360013822,44.170925059095424,1,1,1.3416182360013822,0.21119797727744699]
[9.6365344443164302E-2,5.6236436626731029E-2,null,7.8118330929426355E-2,9.4953337239837732E-2,null,7.8118330929426355E-2,9.4953337239837732E-2,null,6.6389906319773304E-2,0.10097196605654978,null,5.5650786848558356E-2,0.10374258981501323,null,6.5700049112582259E-2,0.11228983155398217,null,7.4048001423176441E-2,9.7885962500336321E-2,null,6.6389906319773304E-2,0.10097196605654978,null,9.2645237827990126E-2,0.12975408677679104,null,9.6365344443164302E-2,5.6236436626731029E-2,null,9.6365344443164302E-2,9.6365344443164302E-2,null,13,166,9.6365344443164302E-2,9.6365344443164302E-2,12.5,7.5,23.312969378572543,1.0350779092911873,44.170925059095424,1,1,1.0350779092911873,0.19609337534222493,null,null,null,null,null,null,13,166,9.6365344443164302E-2,9.6365344443164302E-2,12.5,7.5,23.312969378572543,1.39347774745502,44.170925059095424,1,1,1.39347774745502,0.21619543696133103]
[8.5697075056458571E-2,5.1692628142729305E-2,null,5.9652557214330978E-2,8.2922236405654576E-2,null,5.9652557214330978E-2,8.2922236405654576E-2,null,5.8751595133369194E-2,9.3786519169734836E-2,null,5.8400590434016561E-2,9.1981525129157471E-2,null,6.4545100986544909E-2,8.8926880890140725E-2,null,7.9071996035015552E-2,8.9438071557594506E-2,null,5.8751595133369194E-2,9.3786519169734836E-2,null,8.5439441883409614E-2,9.3150541080028959E-2,null,8.5697075056458571E-2,5.1692628142729305E-2,null,8.5697075056458571E-2,8.5697075056458571E-2,null,14,166,8.5697075056458571E-2,8.5697075056458571E-2,13.5,22.5,23.312969378572543,1.0374683767154014,39.733936061308391,1,1,1.0374683767154014,0.1745894214085181,null,null,null,null,null,null,14,166,8.5697075056458571E-2,8.5697075056458571E-2,13.5,22.5,23.312969378572543,1.4975366103873156,39.733936061308391,1,1,1.4975366103873156,0.20117873839260816]
[7.0775413706699236E-2,4.3677434681768865E-2,null,3.925729608397388E-2,7.3945395271459144E-2,null,3.925729608397388E-2,7.3945395271459144E-2,null,4.7217040623485425E-2,7.0811395056460003E-2,null,3.8568673666166731E-2,6.4745375330333532E-2,null,3.4244759813346973E-2,7.5452895436535439E-2,null,4.1482128234325538E-2,7.1200337399164482E-2,null,4.7217040623485425E-2,7.0811395056460003E-2,null,3.343938150100291E-2,5.8563379961487749E-2,null,7.0775413706699236E-2,4.3677434681768865E-2,null,7.0775413706699236E-2,7.0775413706699236E-2,null,15,166,7.0775413706699236E-2,7.0775413706699236E-2,14.5,37.5,23.312969378572543,1.0430060924864017,31.869706428715322,1,1,1.0430060924864017,0.14458166896522856,null,null,null,null,null,null,15,166,7.0775413706699236E-2,7.0775413706699236E-2,14.5,37.5,23.312969378572543,1.6944108869284573,31.869706428715322,1,1,1.6944108869284573,0.18008315143960518]
[3.9244390532145443E-2,3.3181939768237051E-2,null,1.9229221948986359E-2,4.5176039361348071E-2,null,1.9229221948986359E-2,4.5176039361348071E-2,null,1.3202950392065871E-2,4.2863545463722869E-2,null,1.9748589386472417E-2,3.7521129443134987E-2,null,9.0127201978272425E-3,4.5999933934173655E-2,null,8.8959108642474201E-3,3.597329753306365E-2,null,1.3202950392065871E-2,4.2863545463722869E-2,null,1.1517212456492662E-3,5.8562097236403371E-3,null,3.9244390532145443E-2,3.3181939768237051E-2,null,3.9244390532145443E-2,3.9244390532145443E-2,null,16,166,3.9244390532145443E-2,3.9244390532145443E-2,15.5,52.5,23.312969378572543,1.0561027248185342,21.757366006416742,1,1,1.0561027248185342,8.068332737665071E-2,null,null,null,null,null,null,16,166,3.9244390532145443E-2,3.9244390532145443E-2,15.5,52.5,23.312969378572543,2.1241540776196461,21.757366006416742,1,1,2.1241540776196461,0.1167196505481544]
[6.1013603395070476E-3,1.6672518981606974E-2,null,5.0904328333128621E-4,6.2365422616515688E-3,null,5.0904328333128621E-4,6.2365422616515688E-3,null,5.6132094890579609E-4,5.4437608359329944E-3,null,8.5232007237578226E-3,1.7689212675285084E-2,null,3.9598221464137999E-4,3.4318458602252931E-3,null,1.1089334064150887E-4,1.8934011124346515E-3,null,5.6132094890579609E-4,5.4437608359329944E-3,null,0,0,null,6.1013603395070476E-3,1.6672518981606974E-2,null,6.1013603395070476E-3,6.1013603395070476E-3,null,17,166,6.1013603395070476E-3,6.1013603395070476E-3,16.5,67.5,23.312969378572543,1.1030996191851283,10.253539404361085,1,1,1.1030996191851283,1.2830653735604101E-2,null,null,null,null,null,null,17,166,6.1013603395070476E-3,6.1013603395070476E-3,16.5,67.5,23.312969378572543,3.6117909514144313,10.253539404361085,1,1,3.6117909514144313,2.7223116620058416E-2]
[2.8739134885496907E-5,3.2671858606670166E-4,null,0,0,null,0,0,null,0,0,null,1.7494416407079248E-17,3.4283265481037076E-3,null,0,0,null,0,0,null,0,0,null,0,0,null,2.8739134885496907E-5,3.2671858606670166E-4,null,2.8739134885496907E-5,2.8739134885496907E-5,null,18,166,2.8739134885496907E-5,2.8739134885496907E-5,17.5,82.5,23.312969378572543,0.58099596435278422,-2.1146441982859336,0,1,0,2.8733883527751446E-5,null,null,null,null,null,null,18,166,2.8739134885496907E-5,2.8739134885496907E-5,17.5,82.5,23.312969378572543,-12.698436612528177,-2.1146441982859336,0,0,0,2.4428840559809813E-5]
[0,0,null,0,0,null,0,0,null,0,0,null,0,0,null,0,0,null,0,0,null,0,0,null,0,0,null,0,0,null,0,0,null,19,166,0,0,18.5,97.5,23.312969378572543,0.95176467219093641,-15.033811380309208,0,1,0,0,null,null,null,null,null,null,19,166,0,0,18.5,97.5,23.312969378572543,-1.0880153804855199,-15.033811380309208,0,0,0,0]
[0,0,null,0,0,null,0,0,null,0,0,null,0,0,null,0,0,null,0,0,null,0,0,null,0,0,null,0,0,null,0,0,null,20,166,0,0,19.5,112.5,23.312969378572543,0.97988160604629349,-28.314009739613272,0,1,0,0,null,null,null,null,null,null,20,166,0,0,19.5,112.5,23.312969378572543,-0.19286555046971582,-28.314009739613272,0,0,0,0]
[null,null,null,null,null,null,null,null,null,null,null,null,null,null,null,null,null,null,null,null,null,null,null,null,null,null,null,null,null,null,null,null,null,null,null,null,null,-0.5,null,null,null,null,null,null,null,{"$f":"SUM(AT98:AT113)","v":1.2170132880153046},null,null,null,null,null,null,null,null,null,null,-0.5,null,null,null,null,null,null,null,{"$f":"SUM(BM98:BM113)","v":1.4090239369762325}]
["julio",null,null,"julio",null,null,"julio",null,null,"julio",null,null,"julio",null,null,"julio",null,null,"julio",null,null,"julio",null,null,"julio",null,null,"julio",null,null,null,null,null,null,null,null,null,-0.5,null,null,null,null,null,null,null,null,null,null,null,null,null,null,null,null,null,null,-0.5]
[0,0,null,0,0,null,0,0,null,0,0,null,0,0,null,0,0,null,0,0,null,0,0,null,0,0,null,0,0,null,{"$f":"CHOOSE($B$1,A116,D116,G116,J116,M116,P116,S116,V116,Y116,AB116)","v":0},{"$f":"CHOOSE($B$1,B116,E116,H116,K116,N116,Q116,T116,V116,Y116,AB116)","v":0},null,5,196,{"$f":"AE116","v":0},{"$f":"AF116","v":0},4.5,{"$f":"15*(AL116-12)","v":-112.5},{"$f":"23.45*SIN(360*(284+AI116)/365/57.3)","v":21.523005700832599},{"$f":"((SIN(AN116/57.3)*SIN($B$2/57.3)*COS($AI$2/57.3))-SIN(AN116/57.3)*COS($B$2/57.3)*SIN($AI$2/57.3)*COS($AI$3/57.3)+COS(AN116/57.3)*COS($B$2/57.3)*COS($AI$2/57.3)*COS(AM116/57.3)+COS(AN116/57.3)*SIN($B$2/57.3)*SIN($AI$2/57.3)*COS($AI$3/57.3)*COS(AM116/57.3)+COS(AN116/57.3)*SIN($AI$2/57.3)*SIN($AI$3/57.3)*SIN(AM116/57.3))/(COS($B$2/57.3)*COS(AN116/57.3)*COS(AM116/57.3)+SIN($B$2/57.3)*SIN(AN116/57.3))","v":0.98621156756420492},{"$f":"57.3*ASIN(SIN($B$2/57.3)*SIN(AN116/57.3)+COS($B$2/57.3)*COS(AM116/57.3)*COS(AN116/57.6))","v":-27.883076241666565},{"$f":"IF(AP116<0,0,1)","v":0},{"$f":"IF(AO116<0,0,1)","v":1},{"$f":"AO116*AR116*AQ116","v":0},{"$f":"AJ116*AS116+((1+COS($AI$2/57.3))/2)*AK116+((1-COS($AI$2/57.3))/2)*(AJ116+AK116)*0.2","v":0},null,null,null,null,null,null,5,196,{"$f":"AE116","v":0},{"$f":"AF116","v":0},4.5,{"$f":"15*(BE116-12)","v":-112.5},{"$f":"23.45*SIN(360*(284+BB116)/365/57.3)","v":21.523005700832599},{"$f":"((SIN(BG116/57.3)*SIN($B$2/57.3)*COS($BB$2/57.3))-SIN(BG116/57.3)*COS($B$2/57.3)*SIN($BB$2/57.3)*COS($BB$3/57.3)+COS(BG116/57.3)*COS($B$2/57.3)*COS($BB$2/57.3)*COS(BF116/57.3)+COS(BG116/57.3)*SIN($B$2/57.3)*SIN($BB$2/57.3)*COS($BB$3/57.3)*COS(BF116/57.3)+COS(BG116/57.3)*SIN($BB$2/57.3)*SIN($BB$3/57.3)*SIN(BF116/57.3))/(COS($B$2/57.3)*COS(BG116/57.3)*COS(BF116/57.3)+SIN($B$2/57.3)*SIN(BG116/57.3))","v":0.39955703313311602},{"$f":"57.3*ASIN(SIN($B$2/57.3)*SIN(BG116/57.3)+COS($B$2/57.3)*COS(BF116/57.3)*COS(BG116/57.6))","v":-27.883076241666565},{"$f":"IF(BI116<0,0,1)","v":0},{"$f":"IF(BH116<0,0,1)","v":1},{"$f":"BH116*BK116*BJ116","v":0},{"$f":"BC116*BL116+((1+COS($BB$2/57.3))/2)*BD116+((1-COS($BB$2/57.3))/2)*(BC116+BD116)*0.2","v":0}]
[0,0,null,0,0,null,0,0,null,0,0,null,0,0,null,0,0,null,0,0,null,0,0,null,0,0,null,0,0,null,0,0,null,6,196,0,0,5.5,-97.5,21.523005700832599,0.9627867609681352,-14.477353968048076,0,1,0,0,null,null,null,null,null,null,6,196,0,0,5.5,-97.5,21.523005700832599,5.007697742936823E-2,-14.477353968048076,0,1,0,0]
[2.2391239696398485E-5,5.5838153992893733E-4,null,2.6278466538128253E-6,3.1534159845753902E-5,null,2.6278466538128253E-6,3.1534159845753902E-5,null,0,1.7712856017282976E-5,null,9.8396582955028811E-4,5.344723483239033E-3,null,0,0,null,0,0,null,0,1.7712856017282976E-5,null,0,0,null,2.2391239696398485E-5,5.5838153992893733E-4,null,2.2391239696398485E-5,2.2391239696398485E-5,null,7,196,2.2391239696398485E-5,2.2391239696398485E-5,6.5,-82.5,21.523005700832599,0.50139956287538767,-1.4126774353991194,0,1,0,2.2387148257652033E-5,null,null,null,null,null,null,7,196,2.2391239696398485E-5,2.2391239696398485E-5,6.5,-82.5,21.523005700832599,-7.1813382461994602,-1.4126774353991194,0,0,0,1.9033002442806315E-5]
[7.4419674720579768E-3,1.8246809999759472E-2,null,2.1623022445083867E-3,7.3874272627218393E-3,null,2.1623022445083867E-3,7.3874272627218393E-3,null,7.9117423543863957E-4,7.6106238020925837E-3,null,1.0342822640159229E-2,1.8751257910861647E-2,null,5.9870898342479753E-4,4.7937171983674668E-3,null,1.0600220296694581E-4,2.5068088539480426E-3,null,7.9117423543863957E-4,7.6106238020925837E-3,null,3.5383188238318219E-5,9.907292706729102E-5,null,7.4419674720579768E-3,1.8246809999759472E-2,null,7.4419674720579768E-3,7.4419674720579768E-3,null,8,196,7.4419674720579768E-3,7.4419674720579768E-3,7.5,-67.5,21.523005700832599,1.0796065018027781,11.128306690596975,1,1,1.0796065018027781,1.54750041077654E-2,null,null,null,null,null,null,8,196,7.4419674720579768E-3,7.4419674720579768E-3,7.5,-67.5,21.523005700832599,1.9238453603405388,11.128306690596975,1,1,1.9238453603405388,2.0643016074695104E-2]
[3.6385898149513346E-2,3.2428370191778827E-2,null,1.9171109691364721E-2,4.444174771414109E-2,null,1.9171109691364721E-2,4.444174771414109E-2,null,1.0447771057726129E-2,4.5000872905844917E-2,null,2.0450835252812136E-2,4.1404834850280667E-2,null,1.4825955332593435E-2,4.5328734967266138E-2,null,1.5043454857500867E-2,3.282820503427189E-2,null,1.0447771057726129E-2,4.5000872905844917E-2,null,2.255543824906382E-3,1.326826542845284E-2,null,3.6385898149513346E-2,3.2428370191778827E-2,null,3.6385898149513346E-2,3.6385898149513346E-2,null,9,196,3.6385898149513346E-2,3.6385898149513346E-2,8.5,-52.5,21.523005700832599,1.0467361578233851,22.839475151425752,1,1,1.0467361578233851,7.4465684765105081E-2,null,null,null,null,null,null,9,196,3.6385898149513346E-2,3.6385898149513346E-2,8.5,-52.5,21.523005700832599,1.4282539956498221,22.839475151425752,1,1,1.4282539956498221,8.2897046986024195E-2]
[6.9295289050429226E-2,4.2929604307920005E-2,null,5.4055995138116764E-2,6.2543097693312691E-2,null,5.4055995138116764E-2,6.2543097693312691E-2,null,3.5372573466514096E-2,7.1931908286186147E-2,null,3.3477201064472134E-2,7.0532459690945321E-2,null,4.035943316436913E-2,8.2932460418599085E-2,null,6.3618570124489154E-2,4.6149715260380197E-2,null,3.5372573466514096E-2,7.1931908286186147E-2,null,3.0785073433824715E-2,6.2087466365145977E-2,null,6.9295289050429226E-2,4.2929604307920005E-2,null,6.9295289050429226E-2,6.9295289050429226E-2,null,10,196,6.9295289050429226E-2,6.9295289050429226E-2,9.5,-37.5,21.523005700832599,1.0374408255591749,33.194359397302669,1,1,1.0374408255591749,0.14117238895020759,null,null,null,null,null,null,10,196,6.9295289050429226E-2,6.9295289050429226E-2,9.5,-37.5,21.523005700832599,1.3056327174916698,33.194359397302669,1,1,1.3056327174916698,0.14937658086215752]
[9.1384247010926317E-2,4.760377559454318E-2,null,6.146270538602816E-2,7.9452943578030788E-2,null,6.146270538602816E-2,7.9452943578030788E-2,null,7.0925227635870586E-2,8.5411391715338486E-2,null,4.7509895565444937E-2,9.0547219178388594E-2,null,5.835939666881762E-2,0.1022020119494112,null,9.9285565853010876E-2,6.8084906242751098E-2,null,7.0925227635870586E-2,8.5411391715338486E-2,null,8.3491038512452626E-2,9.127735827315582E-2,null,9.1384247010926317E-2,4.760377559454318E-2,null,9.1384247010926317E-2,9.1384247010926317E-2,null,11,196,9.1384247010926317E-2,9.1384247010926317E-2,10.5,-22.5,21.523005700832599,1.0337418678442769,41.310655655942192,1,1,1.0337418678442769,0.18583527102316011,null,null,null,null,null,null,11,196,9.1384247010926317E-2,9.1384247010926317E-2,10.5,-22.5,21.523005700832599,1.2749497989836085,41.310655655942192,1,1,1.2749497989836085,0.19418876857655223]
[9.8454280945064115E-2,5.5248984498382239E-2,null,8.7751683310771683E-2,8.1536825974504346E-2,null,8.7751683310771683E-2,8.1536825974504346E-2,null,8.8357630099546558E-2,8.4133113939424561E-2,null,6.0267907059954669E-2,0.10038687747389141,null,3.8232422988836223E-2,0.11236715832831484,null,9.1121785609910216E-2,8.1254985960770715E-2,null,8.8357630099546558E-2,8.4133113939424561E-2,null,0.11682821092527909,9.987258712147698E-2,null,9.8454280945064115E-2,5.5248984498382239E-2,null,9.8454280945064115E-2,9.8454280945064115E-2,null,12,196,9.8454280945064115E-2,9.8454280945064115E-2,11.5,-7.5,21.523005700832599,1.0324975765676401,45.9272724591345,1,1,1.0324975765676401,0.20009009736738426,null,null,null,null,null,null,12,196,9.8454280945064115E-2,9.8454280945064115E-2,11.5,-7.5,21.523005700832599,1.2892154446124537,45.9272724591345,1,1,1.2892154446124537,0.21061689132360964]
[9.8454280945064115E-2,5.5248984498382239E-2,null,8.7751683310771683E-2,8.1536825974504346E-2,null,8.7751683310771683E-2,8.1536825974504346E-2,null,8.8357630099546558E-2,8.4133113939424561E-2,null,6.0267907059954669E-2,0.10038687747389141,null,3.8232422988836223E-2,0.11236715832831484,null,9.1121785609910216E-2,8.1254985960770715E-2,null,8.8357630099546558E-2,8.4133113939424561E-2,null,0.11682821092527909,9.987258712147698E-2,null,9.8454280945064115E-2,5.5248984498382239E-2,null,9.8454280945064115E-2,9.8454280945064115E-2,null,13,196,9.8454280945064115E-2,9.8454280945064115E-2,12.5,7.5,21.523005700832599,1.0329123151272401,45.9272724591345,1,1,1.0329123151272401,0.20013093015404987,null,null,null,null,null,null,13,196,9.8454280945064115E-2,9.8454280945064115E-2,12.5,7.5,21.523005700832599,1.3401545126147794,45.9272724591345,1,1,1.3401545126147794,0.2156320606357903]
[9.1384247010926317E-2,4.760377559454318E-2,null,6.146270538602816E-2,7.9452943578030788E-2,null,6.146270538602816E-2,7.9452943578030788E-2,null,7.0925227635870586E-2,8.5411391715338486E-2,null,4.7509895565444937E-2,9.0547219178388594E-2,null,5.835939666881762E-2,0.1022020119494112,null,9.9285565853010876E-2,6.8084906242751098E-2,null,7.0925227635870586E-2,8.5411391715338486E-2,null,8.3491038512452626E-2,9.127735827315582E-2,null,9.1384247010926317E-2,4.760377559454318E-2,null,9.1384247010926317E-2,9.1384247010926317E-2,null,14,196,9.1384247010926317E-2,9.1384247010926317E-2,13.5,22.5,21.523005700832599,1.0350652615427423,41.310655655942192,1,1,1.0350652615427423,0.18595620835979337,null,null,null,null,null,null,14,196,9.1384247010926317E-2,9.1384247010926317E-2,13.5,22.5,21.523005700832599,1.4374918150068687,41.310655655942192,1,1,1.4374918150068687,0.2090425483184758]
[6.9295289050429226E-2,4.2929604307920005E-2,null,5.4055995138116764E-2,6.2543097693312691E-2,null,5.4055995138116764E-2,6.2543097693312691E-2,null,3.5372573466514096E-2,7.1931908286186147E-2,null,3.3477201064472134E-2,7.0532459690945321E-2,null,4.035943316436913E-2,8.2932460418599085E-2,null,6.3618570124489154E-2,4.6149715260380197E-2,null,3.5372573466514096E-2,7.1931908286186147E-2,null,3.0785073433824715E-2,6.2087466365145977E-2,null,6.9295289050429226E-2,4.2929604307920005E-2,null,6.9295289050429226E-2,6.9295289050429226E-2,null,15,196,6.9295289050429226E-2,6.9295289050429226E-2,14.5,37.5,21.523005700832599,1.0399793654926859,33.194359397302669,1,1,1.0399793654926859,0.14134829780866628,null,null,null,null,null,null,15,196,6.9295289050429226E-2,6.9295289050429226E-2,14.5,37.5,21.523005700832599,1.6174215668922005,33.194359397302669,1,1,1.6174215668922005,0.17098207930406806]
[3.6385898149513346E-2,3.2428370191778827E-2,null,1.9171109691364721E-2,4.444174771414109E-2,null,1.9171109691364721E-2,4.444174771414109E-2,null,1.0447771057726129E-2,4.5000872905844917E-2,null,2.0450835252812136E-2,4.1404834850280667E-2,null,1.4825955332593435E-2,4.5328734967266138E-2,null,1.5043454857500867E-2,3.282820503427189E-2,null,1.0447771057726129E-2,4.5000872905844917E-2,null,2.255543824906382E-3,1.326826542845284E-2,null,3.6385898149513346E-2,3.2428370191778827E-2,null,3.6385898149513346E-2,3.6385898149513346E-2,null,16,196,3.6385898149513346E-2,3.6385898149513346E-2,15.5,52.5,21.523005700832599,1.0514028950172101,22.839475151425752,1,1,1.0514028950172101,7.4635488189330149E-2,null,null,null,null,null,null,16,196,3.6385898149513346E-2,3.6385898149513346E-2,15.5,52.5,21.523005700832599,2.0014325385238365,22.839475151425752,1,1,2.0014325385238365,0.10375266306852456]
[7.4419674720579768E-3,1.8246809999759472E-2,null,2.1623022445083867E-3,7.3874272627218393E-3,null,2.1623022445083867E-3,7.3874272627218393E-3,null,7.9117423543863957E-4,7.6106238020925837E-3,null,1.0342822640159229E-2,1.8751257910861647E-2,null,5.9870898342479753E-4,4.7937171983674668E-3,null,1.0600220296694581E-4,2.5068088539480426E-3,null,7.9117423543863957E-4,7.6106238020925837E-3,null,3.5383188238318219E-5,9.907292706729102E-5,null,7.4419674720579768E-3,1.8246809999759472E-2,null,7.4419674720579768E-3,7.4419674720579768E-3,null,17,196,7.4419674720579768E-3,7.4419674720579768E-3,16.5,67.5,21.523005700832599,1.0905389574306936,11.128306690596975,1,1,1.0905389574306936,1.5556363086938063E-2,null,null,null,null,null,null,17,196,7.4419674720579768E-3,7.4419674720579768E-3,16.5,67.5,21.523005700832599,3.2665927074881216,11.128306690596975,1,1,3.2665927074881216,3.0635698155359554E-2]
[2.2391239696398485E-5,5.5838153992893733E-4,null,2.6278466538128253E-6,3.1534159845753902E-5,null,2.6278466538128253E-6,3.1534159845753902E-5,null,0,1.7712856017282976E-5,null,9.8396582955028811E-4,5.344723483239033E-3,null,0,0,null,0,0,null,0,1.7712856017282976E-5,null,0,0,null,2.2391239696398485E-5,5.5838153992893733E-4,null,2.2391239696398485E-5,2.2391239696398485E-5,null,18,196,2.2391239696398485E-5,2.2391239696398485E-5,17.5,82.5,21.523005700832599,0.40999245922269406,-1.4126774353991194,0,1,0,2.2387148257652033E-5,null,null,null,null,null,null,18,196,2.2391239696398485E-5,2.2391239696398485E-5,17.5,82.5,21.523005700832599,-18.408152250063058,-1.4126774353991194,0,0,0,1.9033002442806315E-5]
[0,0,null,0,0,null,0,0,null,0,0,null,0,0,null,0,0,null,0,0,null,0,0,null,0,0,null,0,0,null,0,0,null,19,196,0,0,18.5,97.5,21.523005700832599,0.95373758883975424,-14.477353968048076,0,1,0,0,null,null,null,null,null,null,19,196,0,0,18.5,97.5,21.523005700832599,-1.0613615028914827,-14.477353968048076,0,0,0,0]
[0,0,null,0,0,null,0,0,null,0,0,null,0,0,null,0,0,null,0,0,null,0,0,null,0,0,null,0,0,null,0,0,null,20,196,0,0,19.5,112.5,21.523005700832599,0.98170282863256364,-27.883076241666565,0,1,0,0,null,null,null,null,null,null,20,196,0,0,19.5,112.5,21.523005700832599,-0.15421582865499767,-27.883076241666565,0,0,0,0]
[null,null,null,null,null,null,null,null,null,null,null,null,null,null,null,null,null,null,null,null,null,null,null,null,null,null,null,null,null,null,null,null,null,null,null,null,null,-0.5,null,null,null,null,null,null,null,{"$f":"SUM(AT116:AT131)","v":1.2347105081089154},null,null,null,null,null,null,null,null,null,null,-0.5,null,null,null,null,null,null,null,{"$f":"SUM(BM116:BM131)","v":1.3878054193101426}]
["agosto",null,null,"agosto",null,null,"agosto",null,null,"agosto",null,null,"agosto",null,null,"agosto",null,null,"agosto",null,null,"agosto",null,null,"agosto",null,null,"agosto",null,null,null,null,null,null,null,null,null,-0.5,null,null,null,null,null,null,null,null,null,null,null,null,null,null,null,null,null,null,-0.5]
[0,0,null,0,0,null,0,0,null,0,0,null,0,0,null,0,0,null,0,0,null,0,0,null,0,0,null,0,0,null,{"$f":"CHOOSE($B$1,A134,D134,G134,J134,M134,P134,S134,V134,Y134,AB134)","v":0},{"$f":"CHOOSE($B$1,B134,E134,H134,K134,N134,Q134,T134,V134,Y134,AB134)","v":0},null,5,227,{"$f":"AE134","v":0},{"$f":"AF134","v":0},4.5,{"$f":"15*(AL134-12)","v":-112.5},{"$f":"23.45*SIN(360*(284+AI134)/365/57.3)","v":13.795853096269607},{"$f":"((SIN(AN134/57.3)*SIN($B$2/57.3)*COS($AI$2/57.3))-SIN(AN134/57.3)*COS($B$2/57.3)*SIN($AI$2/57.3)*COS($AI$3/57.3)+COS(AN134/57.3)*COS($B$2/57.3)*COS($AI$2/57.3)*COS(AM134/57.3)+COS(AN134/57.3)*SIN($B$2/57.3)*SIN($AI$2/57.3)*COS($AI$3/57.3)*COS(AM134/57.3)+COS(AN134/57.3)*SIN($AI$2/57.3)*SIN($AI$3/57.3)*SIN(AM134/57.3))/(COS($B$2/57.3)*COS(AN134/57.3)*COS(AM134/57.3)+SIN($B$2/57.3)*SIN(AN134/57.3))","v":0.99534015046631175},{"$f":"57.3*ASIN(SIN($B$2/57.3)*SIN(AN134/57.3)+COS($B$2/57.3)*COS(AM134/57.3)*COS(AN134/57.6))","v":-25.716579889505454},{"$f":"IF(AP134<0,0,1)","v":0},{"$f":"IF(AO134<0,0,1)","v":1},{"$f":"AO134*AR134*AQ134","v":0},{"$f":"AJ134*AS134+((1+COS($AI$2/57.3))/2)*AK134+((1-COS($AI$2/57.3))/2)*(AJ134+AK134)*0.2","v":0},null,null,null,null,null,null,5,227,{"$f":"AE134","v":0},{"$f":"AF134","v":0},4.5,{"$f":"15*(BE134-12)","v":-112.5},{"$f":"23.45*SIN(360*(284+BB134)/365/57.3)","v":13.795853096269607},{"$f":"((SIN(BG134/57.3)*SIN($B$2/57.3)*COS($BB$2/57.3))-SIN(BG134/57.3)*COS($B$2/57.3)*SIN($BB$2/57.3)*COS($BB$3/57.3)+COS(BG134/57.3)*COS($B$2/57.3)*COS($BB$2/57.3)*COS(BF134/57.3)+COS(BG134/57.3)*SIN($B$2/57.3)*SIN($BB$2/57.3)*COS($BB$3/57.3)*COS(BF134/57.3)+COS(BG134/57.3)*SIN($BB$2/57.3)*SIN($BB$3/57.3)*SIN(BF134/57.3))/(COS($B$2/57.3)*COS(BG134/57.3)*COS(BF134/57.3)+SIN($B$2/57.3)*SIN(BG134/57.3))","v":0.65045075950066777},{"$f":"57.3*ASIN(SIN($B$2/57.3)*SIN(BG134/57.3)+COS($B$2/57.3)*COS(BF134/57.3)*COS(BG134/57.6))","v":-25.716579889505454},{"$f":"IF(BI134<0,0,1)","v":0},{"$f":"IF(BH134<0,0,1)","v":1},{"$f":"BH134*BK134*BJ134","v":0},{"$f":"BC134*BL134+((1+COS($BB$2/57.3))/2)*BD134+((1-COS($BB$2/57.3))/2)*(BC134+BD134)*0.2","v":0}]
[0,0,null,0,0,null,0,0,null,0,0,null,0,0,null,0,0,null,0,0,null,0,0,null,0,0,null,0,0,null,0,0,null,6,227,0,0,5.5,-97.5,13.795853096269607,0.97580679826979866,-11.93422700390091,0,1,0,0,null,null,null,null,null,null,6,227,0,0,5.5,-97.5,13.795853096269607,0.48499837193629097,-11.93422700390091,0,1,0,0]
[1.1714577692231224E-4,1.5385950494744929E-3,null,7.9253403489802261E-5,7.9957878187489361E-4,null,7.9253403489802261E-5,7.9957878187489361E-4,null,7.087567966828731E-5,7.7175740083246193E-4,null,3.1473701160867223E-3,9.0468592174027564E-3,null,1.5445110524856835E-4,4.7159070802562866E-4,null,5.2874731130010384E-6,2.7847358395138811E-4,null,7.087567966828731E-5,7.7175740083246193E-4,null,4.0109460335415992E-6,2.8076622234791195E-5,null,1.1714577692231224E-4,1.5385950494744929E-3,null,1.1714577692231224E-4,1.1714577692231224E-4,null,7,227,1.1714577692231224E-4,1.1714577692231224E-4,{"$f":"AH136-0.5","v":6.5},-82.5,13.795853096269607,1.2885992091430352,1.6244419704417783,1,1,1.2885992091430352,2.6807832695951956E-4,null,null,null,null,null,null,7,227,1.1714577692231224E-4,1.1714577692231224E-4,{"$f":"BA136-0.5","v":6.5},-82.5,13.795853096269607,3.4707376901781846,1.6244419704417783,1,1,3.4707376901781846,5.0615852109239313E-4]
[1.2757034050526823E-2,1.9236567891946728E-2,null,6.9097914122565711E-3,2.2414290202786943E-2,null,6.9097914122565711E-3,2.2414290202786943E-2,null,5.7055139443916419E-3,2.147435439551592E-2,null,1.3226273952950481E-2,2.2046229743379553E-2,null,7.2758082473152897E-3,1.8138882170492584E-2,null,5.7590909325079221E-3,1.3225425691339178E-2,null,5.7055139443916419E-3,2.147435439551592E-2,null,2.9279906044853675E-4,7.1314620476369628E-3,null,1.2757034050526823E-2,1.9236567891946728E-2,null,1.2757034050526823E-2,1.2757034050526823E-2,null,8,227,1.2757034050526823E-2,1.2757034050526823E-2,7.5,-67.5,13.795853096269607,1.0442979189718529,14.801237882972005,1,1,1.0442979189718529,2.607684713299846E-2,null,null,null,null,null,null,8,227,1.2757034050526823E-2,1.2757034050526823E-2,7.5,-67.5,13.795853096269607,1.1744546401630964,14.801237882972005,1,1,1.1744546401630964,2.5826292418116972E-2]
[3.9642640501699744E-2,3.2833507302388078E-2,null,3.6587488031867066E-2,4.1136362067712567E-2,null,3.6587488031867066E-2,4.1136362067712567E-2,null,2.8370635980951089E-2,4.5320980702699992E-2,null,2.3422289235994188E-2,4.3031137005753103E-2,null,3.2110922290851829E-2,3.8449151002725779E-2,null,2.9448705381720883E-2,3.1926708793200635E-2,null,2.8370635980951089E-2,4.5320980702699992E-2,null,1.2440279781589245E-2,3.9470225509635706E-2,null,3.9642640501699744E-2,3.2833507302388078E-2,null,3.9642640501699744E-2,3.9642640501699744E-2,null,9,227,3.9642640501699744E-2,3.9642640501699744E-2,8.5,-52.5,13.795853096269607,1.0309669475781973,27.328401357762925,1,1,1.0309669475781973,8.0505648873124433E-2,null,null,null,null,null,null,9,227,3.9642640501699744E-2,3.9642640501699744E-2,8.5,-52.5,13.795853096269607,1.0697319171351864,27.328401357762925,1,1,1.0697319171351864,7.6104036654486451E-2]
[6.2011627802264213E-2,4.3588863010561023E-2,null,5.8600152061053526E-2,5.4319701520200284E-2,null,5.8600152061053526E-2,5.4319701520200284E-2,null,5.3060290076111433E-2,5.8580718014719146E-2,null,3.7248759350617021E-2,6.4601601499026523E-2,null,5.0624504700105169E-2,5.8456782309703317E-2,null,6.6326555894654818E-2,4.6120137896404581E-2,null,5.3060290076111433E-2,5.8580718014719146E-2,null,4.3525818758535562E-2,6.7170917500787158E-2,null,6.2011627802264213E-2,4.3588863010561023E-2,null,6.2011627802264213E-2,6.2011627802264213E-2,null,10,227,6.2011627802264213E-2,6.2011627802264213E-2,9.5,-37.5,13.795853096269607,1.0266692638564652,38.70734401263045,1,1,1.0266692638564652,0.12566572899532544,null,null,null,null,null,null,10,227,6.2011627802264213E-2,6.2011627802264213E-2,9.5,-37.5,13.795853096269607,1.0530520784643118,38.70734401263045,1,1,1.0530520784643118,0.11801259983686069]
[8.9310974174833357E-2,4.8462120993180889E-2,null,7.0230843799174311E-2,6.3869437279059527E-2,null,7.0230843799174311E-2,6.3869437279059527E-2,null,6.2980916460791986E-2,7.0974118112271056E-2,null,5.3139318704161852E-2,7.8559821990601839E-2,null,7.5516293726200029E-2,7.0621223363855401E-2,null,9.1205386217192597E-2,5.2680857115867022E-2,null,6.2980916460791986E-2,7.0974118112271056E-2,null,7.1186270203296306E-2,8.6371711886284785E-2,null,8.9310974174833357E-2,4.8462120993180889E-2,null,8.9310974174833357E-2,8.9310974174833357E-2,null,11,227,8.9310974174833357E-2,8.9310974174833357E-2,10.5,-22.5,13.795853096269607,1.0249445484149862,47.978793659231599,1,1,1.0249445484149862,0.18083345092330663,null,null,null,null,null,null,11,227,8.9310974174833357E-2,8.9310974174833357E-2,10.5,-22.5,13.795853096269607,1.0645765998925394,47.978793659231599,1,1,1.0645765998925394,0.17099449098258371]
[9.4705718355369103E-2,5.5795205090833223E-2,null,7.5796193910902657E-2,6.9256907529621853E-2,null,7.5796193910902657E-2,6.9256907529621853E-2,null,7.8292032038021681E-2,7.4397807194025264E-2,null,6.5919105268551131E-2,8.6611233915474831E-2,null,7.8294354272604255E-2,6.9886036102872209E-2,null,0.10918808227450907,5.3835288745538903E-2,null,7.8292032038021681E-2,7.4397807194025264E-2,null,7.4198490674486056E-2,9.8179937009031271E-2,null,9.4705718355369103E-2,5.5795205090833223E-2,null,9.4705718355369103E-2,9.4705718355369103E-2,null,12,227,9.4705718355369103E-2,9.4705718355369103E-2,11.5,-7.5,13.795853096269607,1.0244501713615874,53.489303932945148,1,1,1.0244501713615874,0.19170970265329201,null,null,null,null,null,null,12,227,9.4705718355369103E-2,9.4705718355369103E-2,11.5,-7.5,13.795853096269607,1.093809074530014,53.489303932945148,1,1,1.093809074530014,0.184091732568848]
[9.4705718355369103E-2,5.5795205090833223E-2,null,7.5796193910902657E-2,6.9256907529621853E-2,null,7.5796193910902657E-2,6.9256907529621853E-2,null,7.8292032038021681E-2,7.4397807194025264E-2,null,6.5919105268551131E-2,8.6611233915474831E-2,null,7.8294354272604255E-2,6.9886036102872209E-2,null,0.10918808227450907,5.3835288745538903E-2,null,7.8292032038021681E-2,7.4397807194025264E-2,null,7.4198490674486056E-2,9.8179937009031271E-2,null,9.4705718355369103E-2,5.5795205090833223E-2,null,9.4705718355369103E-2,9.4705718355369103E-2,null,13,227,9.4705718355369103E-2,9.4705718355369103E-2,12.5,7.5,13.795853096269607,1.0248369648752305,53.489303932945148,1,1,1.0248369648752305,0.19174633421085679,null,null,null,null,null,null,13,227,9.4705718355369103E-2,9.4705718355369103E-2,12.5,7.5,13.795853096269607,1.1413158728207491,53.489303932945148,1,1,1.1413158728207491,0.18859089802773568]
[8.9310974174833357E-2,4.8462120993180889E-2,null,7.0230843799174311E-2,6.3869437279059527E-2,null,7.0230843799174311E-2,6.3869437279059527E-2,null,6.2980916460791986E-2,7.0974118112271056E-2,null,5.3139318704161852E-2,7.8559821990601839E-2,null,7.5516293726200029E-2,7.0621223363855401E-2,null,9.1205386217192597E-2,5.2680857115867022E-2,null,6.2980916460791986E-2,7.0974118112271056E-2,null,7.1186270203296306E-2,8.6371711886284785E-2,null,8.9310974174833357E-2,4.8462120993180889E-2,null,8.9310974174833357E-2,8.9310974174833357E-2,null,14,227,8.9310974174833357E-2,8.9310974174833357E-2,13.5,22.5,13.795853096269607,1.0261714675622975,47.978793659231599,1,1,1.0261714675622975,0.18094302826758676,null,null,null,null,null,null,14,227,8.9310974174833357E-2,8.9310974174833357E-2,13.5,22.5,13.795853096269607,1.2152694072806749,47.978793659231599,1,1,1.2152694072806749,0.18445301241155862]
[6.2011627802264213E-2,4.3588863010561023E-2,null,5.8600152061053526E-2,5.4319701520200284E-2,null,5.8600152061053526E-2,5.4319701520200284E-2,null,5.3060290076111433E-2,5.8580718014719146E-2,null,3.7248759350617021E-2,6.4601601499026523E-2,null,5.0624504700105169E-2,5.8456782309703317E-2,null,6.6326555894654818E-2,4.6120137896404581E-2,null,5.3060290076111433E-2,5.8580718014719146E-2,null,4.3525818758535562E-2,6.7170917500787158E-2,null,6.2011627802264213E-2,4.3588863010561023E-2,null,6.2011627802264213E-2,6.2011627802264213E-2,null,15,227,6.2011627802264213E-2,6.2011627802264213E-2,14.5,37.5,13.795853096269607,1.0289879549657059,38.70734401263045,1,1,1.0289879549657059,0.12580951480538011,null,null,null,null,null,null,15,227,6.2011627802264213E-2,6.2011627802264213E-2,14.5,37.5,13.795853096269607,1.3378386297893521,38.70734401263045,1,1,1.3378386297893521,0.13567267746071948]
[3.9642640501699744E-2,3.2833507302388078E-2,null,3.6587488031867066E-2,4.1136362067712567E-2,null,3.6587488031867066E-2,4.1136362067712567E-2,null,2.8370635980951089E-2,4.5320980702699992E-2,null,2.3422289235994188E-2,4.3031137005753103E-2,null,3.2110922290851829E-2,3.8449151002725779E-2,null,2.9448705381720883E-2,3.1926708793200635E-2,null,2.8370635980951089E-2,4.5320980702699992E-2,null,1.2440279781589245E-2,3.9470225509635706E-2,null,3.9642640501699744E-2,3.2833507302388078E-2,null,3.9642640501699744E-2,3.9642640501699744E-2,null,16,227,3.9642640501699744E-2,3.9642640501699744E-2,15.5,52.5,13.795853096269607,1.0350831519628336,27.328401357762925,1,1,1.0350831519628336,8.0668826083776082E-2,null,null,null,null,null,null,16,227,3.9642640501699744E-2,3.9642640501699744E-2,15.5,52.5,13.795853096269607,1.5752928547597398,27.328401357762925,1,1,1.5752928547597398,9.6145807156438876E-2]
[1.2757034050526823E-2,1.9236567891946728E-2,null,6.9097914122565711E-3,2.2414290202786943E-2,null,6.9097914122565711E-3,2.2414290202786943E-2,null,5.7055139443916419E-3,2.147435439551592E-2,null,1.3226273952950481E-2,2.2046229743379553E-2,null,7.2758082473152897E-3,1.8138882170492584E-2,null,5.7590909325079221E-3,1.3225425691339178E-2,null,5.7055139443916419E-3,2.147435439551592E-2,null,2.9279906044853675E-4,7.1314620476369628E-3,null,1.2757034050526823E-2,1.9236567891946728E-2,null,1.2757034050526823E-2,1.2757034050526823E-2,null,17,227,1.2757034050526823E-2,1.2757034050526823E-2,16.5,67.5,13.795853096269607,1.0529125870291833,14.801237882972005,1,1,1.0529125870291833,2.618674474673981E-2,null,null,null,null,null,null,17,227,1.2757034050526823E-2,1.2757034050526823E-2,16.5,67.5,13.795853096269607,2.2325264105164333,14.801237882972005,1,1,2.2325264105164333,3.9324150020415692E-2]
[1.1714577692231224E-4,1.5385950494744929E-3,null,7.9253403489802261E-5,7.9957878187489361E-4,null,7.9253403489802261E-5,7.9957878187489361E-4,null,7.087567966828731E-5,7.7175740083246193E-4,null,3.1473701160867223E-3,9.0468592174027564E-3,null,1.5445110524856835E-4,4.7159070802562866E-4,null,5.2874731130010384E-6,2.7847358395138811E-4,null,7.087567966828731E-5,7.7175740083246193E-4,null,4.0109460335415992E-6,2.8076622234791195E-5,null,1.1714577692231224E-4,1.5385950494744929E-3,null,1.1714577692231224E-4,1.1714577692231224E-4,null,18,227,1.1714577692231224E-4,1.1714577692231224E-4,17.5,82.5,13.795853096269607,1.3719839650645387,1.6244419704417783,1,1,1.3719839650645387,2.7784649897542147E-4,null,null,null,null,null,null,18,227,1.1714577692231224E-4,1.1714577692231224E-4,17.5,82.5,13.795853096269607,13.712229960245226,1.6244419704417783,1,1,13.712229960245226,1.7059060899132523E-3]
[0,0,null,0,0,null,0,0,null,0,0,null,0,0,null,0,0,null,0,0,null,0,0,null,0,0,null,0,0,null,0,0,null,19,227,0,0,18.5,97.5,13.795853096269607,0.96438806347213712,-11.93422700390091,0,1,0,0,null,null,null,null,null,null,19,227,0,0,18.5,97.5,13.795853096269607,-0.91747481242231366,-11.93422700390091,0,0,0,0]
[0,0,null,0,0,null,0,0,null,0,0,null,0,0,null,0,0,null,0,0,null,0,0,null,0,0,null,0,0,null,0,0,null,20,227,0,0,19.5,112.5,13.795853096269607,0.99026873323437403,-25.716579889505454,0,1,0,0,null,null,null,null,null,null,20,227,0,0,19.5,112.5,13.795853096269607,2.7568557529988116E-2,-25.716579889505454,0,1,0,0]
[null,null,null,null,null,null,null,null,null,null,null,null,null,null,null,null,null,null,null,null,null,null,null,null,null,null,null,null,null,null,null,null,null,null,null,null,null,-0.5,null,null,null,null,null,null,null,{"$f":"SUM(AT134:AT149)","v":1.2106917515183215},null,null,null,null,null,null,null,null,null,null,-0.5,null,null,null,null,null,null,null,{"$f":"SUM(BM134:BM149)","v":1.2214277621487699}]
["sept",null,null,"sept",null,null,"sept",null,null,"sept",null,null,"sept",null,null,"sept",null,null,"sept",null,null,"sept",null,null,"sept",null,null,"sept",null,null,null,null,null,null,null,null,null,-0.5,null,null,null,null,null,null,null,null,null,null,null,null,null,null,null,null,null,null,-0.5]
[0,0,null,0,0,null,0,0,null,0,0,null,0,0,null,0,0,null,0,0,null,0,0,null,0,0,null,0,0,null,{"$f":"CHOOSE($B$1,A152,D152,G152,J152,M152,P152,S152,V152,Y152,AB152)","v":0},{"$f":"CHOOSE($B$1,B152,E152,H152,K152,N152,Q152,T152,V152,Y152,AB152)","v":0},null,5,258,{"$f":"AE152","v":0},{"$f":"AF152","v":0},4.5,{"$f":"15*(AL152-12)","v":-112.5},{"$f":"23.45*SIN(360*(284+AI152)/365/57.3)","v":2.2329293352520989},{"$f":"((SIN(AN152/57.3)*SIN($B$2/57.3)*COS($AI$2/57.3))-SIN(AN152/57.3)*COS($B$2/57.3)*SIN($AI$2/57.3)*COS($AI$3/57.3)+COS(AN152/57.3)*COS($B$2/57.3)*COS($AI$2/57.3)*COS(AM152/57.3)+COS(AN152/57.3)*SIN($B$2/57.3)*SIN($AI$2/57.3)*COS($AI$3/57.3)*COS(AM152/57.3)+COS(AN152/57.3)*SIN($AI$2/57.3)*SIN($AI$3/57.3)*SIN(AM152/57.3))/(COS($B$2/57.3)*COS(AN152/57.3)*COS(AM152/57.3)+SIN($B$2/57.3)*SIN(AN152/57.3))","v":1.0125761996958729},{"$f":"57.3*ASIN(SIN($B$2/57.3)*SIN(AN152/57.3)+COS($B$2/57.3)*COS(AM152/57.3)*COS(AN152/57.6))","v":-21.657090544154055},{"$f":"IF(AP152<0,0,1)","v":0},{"$f":"IF(AO152<0,0,1)","v":1},{"$f":"AO152*AR152*AQ152","v":0},{"$f":"AJ152*AS152+((1+COS($AI$2/57.3))/2)*AK152+((1-COS($AI$2/57.3))/2)*(AJ152+AK152)*0.2","v":0},null,null,null,null,null,null,5,258,{"$f":"AE152","v":0},{"$f":"AF152","v":0},4.5,{"$f":"15*(BE152-12)","v":-112.5},{"$f":"23.45*SIN(360*(284+BB152)/365/57.3)","v":2.2329293352520989},{"$f":"((SIN(BG152/57.3)*SIN($B$2/57.3)*COS($BB$2/57.3))-SIN(BG152/57.3)*COS($B$2/57.3)*SIN($BB$2/57.3)*COS($BB$3/57.3)+COS(BG152/57.3)*COS($B$2/57.3)*COS($BB$2/57.3)*COS(BF152/57.3)+COS(BG152/57.3)*SIN($B$2/57.3)*SIN($BB$2/57.3)*COS($BB$3/57.3)*COS(BF152/57.3)+COS(BG152/57.3)*SIN($BB$2/57.3)*SIN($BB$3/57.3)*SIN(BF152/57.3))/(COS($B$2/57.3)*COS(BG152/57.3)*COS(BF152/57.3)+SIN($B$2/57.3)*SIN(BG152/57.3))","v":1.1241734243911112},{"$f":"57.3*ASIN(SIN($B$2/57.3)*SIN(BG152/57.3)+COS($B$2/57.3)*COS(BF152/57.3)*COS(BG152/57.6))","v":-21.657090544154055},{"$f":"IF(BI152<0,0,1)","v":0},{"$f":"IF(BH152<0,0,1)","v":1},{"$f":"BH152*BK152*BJ152","v":0},{"$f":"BC152*BL152+((1+COS($BB$2/57.3))/2)*BD152+((1-COS($BB$2/57.3))/2)*(BC152+BD152)*0.2","v":0}]
[0,5.8224209711811222E-6,null,0,1.5438630580503958E-5,null,0,1.5438630580503958E-5,null,0,1.3694231622452415E-5,null,9.6334473291270179E-5,1.5461682963248393E-3,null,1.4079484180259937E-6,1.5487432598285931E-5,null,1.3077685776869488E-6,1.7000991509930339E-5,null,0,1.3694231622452415E-5,null,1.8851483024718499E-6,3.0162372839549599E-5,null,0,5.8224209711811222E-6,null,0,0,null,6,258,0,0,5.5,-97.5,2.2329293352520989,1.0116272004356517,-7.7829290098361099,0,1,0,0,null,null,null,null,null,null,6,258,0,0,5.5,-97.5,2.2329293352520989,1.6815432742908754,-7.7829290098361099,0,1,0,0]
[9.998865169233062E-4,6.288490890945183E-3,null,9.5590854344286991E-4,6.7196639601643455E-3,null,9.5590854344286991E-4,6.7196639601643455E-3,null,4.0624499006861839E-4,5.1718416278936129E-3,null,5.6692837531910883E-3,9.3299937382592402E-3,null,6.8567087957865881E-4,6.0077158997169158E-3,null,9.630349629099667E-4,5.7345526900087155E-3,null,4.0624499006861839E-4,5.1718416278936129E-3,null,1.2531567195753325E-3,5.8364917759586559E-3,null,9.998865169233062E-4,6.288490890945183E-3,null,9.998865169233062E-4,9.998865169233062E-4,null,7,258,9.998865169233062E-4,9.998865169233062E-4,6.5,-82.5,2.2329293352520989,1.015838297921617,6.1103737351030079,1,1,1.015838297921617,2.0154268301491828E-3,null,null,null,null,null,null,7,258,9.998865169233062E-4,9.998865169233062E-4,6.5,-82.5,2.2329293352520989,-0.22015565890019118,6.1103737351030079,1,0,0,8.4992357623644207E-4]
[2.0893638332456187E-2,2.1776866502715965E-2,null,1.487635491763103E-2,2.6333884287313349E-2,null,1.487635491763103E-2,2.6333884287313349E-2,null,1.4737933701962011E-2,2.6835580044555524E-2,null,1.7383555705409181E-2,2.2946871537979883E-2,null,1.3546001240868338E-2,2.6980716061288615E-2,null,1.5848885965968462E-2,2.3848764136083934E-2,null,1.4737933701962011E-2,2.6835580044555524E-2,null,1.1487231323243592E-2,2.7439660829558371E-2,null,2.0893638332456187E-2,2.1776866502715965E-2,null,2.0893638332456187E-2,2.0893638332456187E-2,null,8,258,2.0893638332456187E-2,2.0893638332456187E-2,7.5,-67.5,2.2329293352520989,1.0144618821663471,19.880548875992144,1,1,1.0144618821663471,4.2085620210930152E-2,null,null,null,null,null,null,8,258,2.0893638332456187E-2,2.0893638332456187E-2,7.5,-67.5,2.2329293352520989,0.54121344733518106,19.880548875992144,1,1,0.54121344733518106,2.9067929302116428E-2]
[4.4422160799626381E-2,3.3867081982370192E-2,null,4.0122511357137833E-2,3.9648868686545699E-2,null,4.0122511357137833E-2,3.9648868686545699E-2,null,3.577825387430332E-2,4.158015246728787E-2,null,3.6525215548383984E-2,3.8827609460045306E-2,null,3.7361860970175839E-2,3.9119885107818435E-2,null,4.0340737315909314E-2,3.6246113899171477E-2,null,3.577825387430332E-2,4.158015246728787E-2,null,3.3891453177641383E-2,4.0287407378414068E-2,null,4.4422160799626381E-2,3.3867081982370192E-2,null,4.4422160799626381E-2,4.4422160799626381E-2,null,9,258,4.4422160799626381E-2,4.4422160799626381E-2,8.5,-52.5,2.2329293352520989,1.0143787604372243,33.333279351065741,1,1,1.0143787604372243,8.9474940169207998E-2,null,null,null,null,null,null,9,258,4.4422160799626381E-2,4.4422160799626381E-2,8.5,-52.5,2.2329293352520989,0.69258992713692302,33.333279351065741,1,1,0.69258992713692302,6.8526067972425969E-2]
[6.6585206226427301E-2,3.9106290452938001E-2,null,5.664433559986902E-2,4.8964903438616661E-2,null,5.664433559986902E-2,4.8964903438616661E-2,null,5.6271368288733845E-2,5.1396428895406632E-2,null,5.6264149125764613E-2,5.2227734694860597E-2,null,5.5965949616533256E-2,5.4017349005985267E-2,null,6.4606383274890655E-2,4.4881309817638396E-2,null,5.6271368288733845E-2,5.1396428895406632E-2,null,5.597005310038923E-2,5.3115938570446844E-2,null,6.6585206226427301E-2,3.9106290452938001E-2,null,6.6585206226427301E-2,6.6585206226427301E-2,null,10,258,6.6585206226427301E-2,6.6585206226427301E-2,9.5,-37.5,2.2329293352520989,1.0144793613023673,46.097022047445506,1,1,1.0144793613023673,0.13412235693095931,null,null,null,null,null,null,10,258,6.6585206226427301E-2,6.6585206226427301E-2,9.5,-37.5,2.2329293352520989,0.76721299015267341,46.097022047445506,1,1,0.76721299015267341,0.10768379477069247]
[8.1437231720415157E-2,4.4723956286632602E-2,null,6.7001083614290413E-2,5.8409485696239966E-2,null,6.7001083614290413E-2,5.8409485696239966E-2,null,7.3238120140037763E-2,5.7962204765192094E-2,null,6.2207986127835777E-2,6.3060546216463578E-2,null,6.9216152178575879E-2,5.6833245842037264E-2,null,7.7272121949788733E-2,5.1748402619072563E-2,null,7.3238120140037763E-2,5.7962204765192094E-2,null,7.2353876997172079E-2,6.0762100085272656E-2,null,8.1437231720415157E-2,4.4723956286632602E-2,null,8.1437231720415157E-2,8.1437231720415157E-2,null,11,258,8.1437231720415157E-2,8.1437231720415157E-2,10.5,-22.5,2.2329293352520989,1.0146649140953814,57.291335820761766,1,1,1.0146649140953814,0.16405385283192669,null,null,null,null,null,null,11,258,8.1437231720415157E-2,8.1437231720415157E-2,10.5,-22.5,2.2329293352520989,0.81875631626144973,57.291335820761766,1,1,0.81875631626144973,0.13590052674321593]
[8.9868097286685419E-2,5.0025270580893011E-2,null,7.7253620872293427E-2,6.305265384332652E-2,null,7.7253620872293427E-2,6.305265384332652E-2,null,7.3288788797040816E-2,6.3319388175895469E-2,null,6.7366697172583118E-2,6.6547854149607483E-2,null,7.6279829391812284E-2,6.3968728424593002E-2,null,8.2505811797691897E-2,5.5985572810778268E-2,null,7.3288788797040816E-2,6.3319388175895469E-2,null,7.5002510362145031E-2,6.25680721590407E-2,null,8.9868097286685419E-2,5.0025270580893011E-2,null,8.9868097286685419E-2,8.9868097286685419E-2,null,12,258,8.9868097286685419E-2,8.9868097286685419E-2,11.5,-7.5,2.2329293352520989,1.0149245607426376,64.690928349310795,1,1,1.0149245607426376,0.18106101530418997,null,null,null,null,null,null,12,258,8.9868097286685419E-2,8.9868097286685419E-2,11.5,-7.5,2.2329293352520989,0.86250905344151574,64.690928349310795,1,1,0.86250905344151574,0.15390173109711264]
[8.9868097286685419E-2,5.0025270580893011E-2,null,7.7253620872293427E-2,6.305265384332652E-2,null,7.7253620872293427E-2,6.305265384332652E-2,null,7.3288788797040816E-2,6.3319388175895469E-2,null,6.7366697172583118E-2,6.6547854149607483E-2,null,7.6279829391812284E-2,6.3968728424593002E-2,null,8.2505811797691897E-2,5.5985572810778268E-2,null,7.3288788797040816E-2,6.3319388175895469E-2,null,7.5002510362145031E-2,6.25680721590407E-2,null,8.9868097286685419E-2,5.0025270580893011E-2,null,8.9868097286685419E-2,8.9868097286685419E-2,null,13,258,8.9868097286685419E-2,8.9868097286685419E-2,12.5,7.5,2.2329293352520989,1.0152782760627881,64.690928349310795,1,1,1.0152782760627881,0.18109280302699302,null,null,null,null,null,null,13,258,8.9868097286685419E-2,8.9868097286685419E-2,12.5,7.5,2.2329293352520989,0.9059531179721515,64.690928349310795,1,1,0.9059531179721515,0.15780596651488085]
[8.1437231720415157E-2,4.4723956286632602E-2,null,6.7001083614290413E-2,5.8409485696239966E-2,null,6.7001083614290413E-2,5.8409485696239966E-2,null,7.3238120140037763E-2,5.7962204765192094E-2,null,6.2207986127835777E-2,6.3060546216463578E-2,null,6.9216152178575879E-2,5.6833245842037264E-2,null,7.7272121949788733E-2,5.1748402619072563E-2,null,7.3238120140037763E-2,5.7962204765192094E-2,null,7.2353876997172079E-2,6.0762100085272656E-2,null,8.1437231720415157E-2,4.4723956286632602E-2,null,8.1437231720415157E-2,8.1437231720415157E-2,null,14,258,8.1437231720415157E-2,8.1437231720415157E-2,13.5,22.5,2.2329293352520989,1.015779103096313,57.291335820761766,1,1,1.015779103096313,0.16414458929977593,null,null,null,null,null,null,14,258,8.1437231720415157E-2,8.1437231720415157E-2,13.5,22.5,2.2329293352520989,0.95560336839142868,57.291335820761766,1,1,0.95560336839142868,0.14704497183778076]
[6.6585206226427301E-2,3.9106290452938001E-2,null,5.664433559986902E-2,4.8964903438616661E-2,null,5.664433559986902E-2,4.8964903438616661E-2,null,5.6271368288733845E-2,5.1396428895406632E-2,null,5.6264149125764613E-2,5.2227734694860597E-2,null,5.5965949616533256E-2,5.4017349005985267E-2,null,6.4606383274890655E-2,4.4881309817638396E-2,null,5.6271368288733845E-2,5.1396428895406632E-2,null,5.597005310038923E-2,5.3115938570446844E-2,null,6.6585206226427301E-2,3.9106290452938001E-2,null,6.6585206226427301E-2,6.6585206226427301E-2,null,15,258,6.6585206226427301E-2,6.6585206226427301E-2,14.5,37.5,2.2329293352520989,1.0165492550859789,46.097022047445506,1,1,1.0165492550859789,0.13426018123540789,null,null,null,null,null,null,15,258,6.6585206226427301E-2,6.6585206226427301E-2,14.5,37.5,2.2329293352520989,1.0214417271735805,46.097022047445506,1,1,1.0214417271735805,0.12461166765391371]
[4.4422160799626381E-2,3.3867081982370192E-2,null,4.0122511357137833E-2,3.9648868686545699E-2,null,4.0122511357137833E-2,3.9648868686545699E-2,null,3.577825387430332E-2,4.158015246728787E-2,null,3.6525215548383984E-2,3.8827609460045306E-2,null,3.7361860970175839E-2,3.9119885107818435E-2,null,4.0340737315909314E-2,3.6246113899171477E-2,null,3.577825387430332E-2,4.158015246728787E-2,null,3.3891453177641383E-2,4.0287407378414068E-2,null,4.4422160799626381E-2,3.3867081982370192E-2,null,4.4422160799626381E-2,4.4422160799626381E-2,null,16,258,4.4422160799626381E-2,4.4422160799626381E-2,15.5,52.5,2.2329293352520989,1.0179158399878283,33.333279351065741,1,1,1.0179158399878283,8.9632064885765986E-2,null,null,null,null,null,null,16,258,4.4422160799626381E-2,4.4422160799626381E-2,15.5,52.5,2.2329293352520989,1.1270215264837573,33.333279351065741,1,1,1.1270215264837573,8.7824458335049899E-2]
[2.0893638332456187E-2,2.1776866502715965E-2,null,1.487635491763103E-2,2.6333884287313349E-2,null,1.487635491763103E-2,2.6333884287313349E-2,null,1.4737933701962011E-2,2.6835580044555524E-2,null,1.7383555705409181E-2,2.2946871537979883E-2,null,1.3546001240868338E-2,2.6980716061288615E-2,null,1.5848885965968462E-2,2.3848764136083934E-2,null,1.4737933701962011E-2,2.6835580044555524E-2,null,1.1487231323243592E-2,2.7439660829558371E-2,null,2.0893638332456187E-2,2.1776866502715965E-2,null,2.0893638332456187E-2,2.0893638332456187E-2,null,17,258,2.0893638332456187E-2,2.0893638332456187E-2,16.5,67.5,2.2329293352520989,1.0211180010631393,19.880548875992144,1,1,1.0211180010631393,4.2224690751857551E-2,null,null,null,null,null,null,17,258,2.0893638332456187E-2,2.0893638332456187E-2,16.5,67.5,2.2329293352520989,1.3587320630197774,19.880548875992144,1,1,1.3587320630197774,4.6148867588280629E-2]
[9.998865169233062E-4,6.288490890945183E-3,null,9.5590854344286991E-4,6.7196639601643455E-3,null,9.5590854344286991E-4,6.7196639601643455E-3,null,4.0624499006861839E-4,5.1718416278936129E-3,null,5.6692837531910883E-3,9.3299937382592402E-3,null,6.8567087957865881E-4,6.0077158997169158E-3,null,9.630349629099667E-4,5.7345526900087155E-3,null,4.0624499006861839E-4,5.1718416278936129E-3,null,1.2531567195753325E-3,5.8364917759586559E-3,null,9.998865169233062E-4,6.288490890945183E-3,null,9.998865169233062E-4,9.998865169233062E-4,null,18,258,9.998865169233062E-4,9.998865169233062E-4,17.5,82.5,2.2329293352520989,1.038658510759809,6.1103737351030079,1,1,1.038658510759809,2.0382444532794112E-3,null,null,null,null,null,null,18,258,9.998865169233062E-4,9.998865169233062E-4,17.5,82.5,2.2329293352520989,2.5826711983690505,6.1103737351030079,1,1,2.5826711983690505,3.4323016851318133E-3]
[0,5.8224209711811222E-6,null,0,1.5438630580503958E-5,null,0,1.5438630580503958E-5,null,0,1.3694231622452415E-5,null,9.6334473291270179E-5,1.5461682963248393E-3,null,1.4079484180259937E-6,1.5487432598285931E-5,null,1.3077685776869488E-6,1.7000991509930339E-5,null,0,1.3694231622452415E-5,null,1.8851483024718499E-6,3.0162372839549599E-5,null,0,5.8224209711811222E-6,null,0,0,null,19,258,0,0,18.5,97.5,2.2329293352520989,0.99368938387161354,-7.7829290098361099,0,1,0,0,null,null,null,null,null,null,19,258,0,0,18.5,97.5,2.2329293352520989,-0.52161733525050458,-7.7829290098361099,0,0,0,0]
[0,0,null,0,0,null,0,0,null,0,0,null,0,0,null,0,0,null,0,0,null,0,0,null,0,0,null,0,0,null,0,0,null,20,258,0,0,19.5,112.5,2.2329293352520989,1.0064423666444904,-21.657090544154055,0,1,0,0,null,null,null,null,null,null,20,258,0,0,19.5,112.5,2.2329293352520989,0.370803062058286,-21.657090544154055,0,1,0,0]
[null,null,null,null,null,null,null,null,null,null,null,null,null,null,null,null,null,null,null,null,null,null,null,null,null,null,null,null,null,null,null,null,null,null,null,null,null,-0.5,null,null,null,null,null,null,null,{"$f":"SUM(AT152:AT167)","v":1.2262057859304432},null,null,null,null,null,null,null,null,null,null,-0.5,null,null,null,null,null,null,null,{"$f":"SUM(BM152:BM167)","v":1.0627982070768376}]
["oct",null,null,"oct",null,null,"oct",null,null,"oct",null,null,"oct",null,null,"oct",null,null,"oct",null,null,"oct",null,null,"oct",null,null,"oct",null,null,null,null,null,null,null,null,null,-0.5,null,null,null,null,null,null,null,null,null,null,null,null,null,null,null,null,null,null,-0.5]
[0,0,null,0,0,null,0,0,null,0,0,null,0,0,null,0,0,null,0,0,null,0,0,null,2.571937080131272E-6,4.3722930362231624E-5,null,0,0,null,{"$f":"CHOOSE($B$1,A170,D170,G170,J170,M170,P170,S170,V170,Y170,AB170)","v":0},{"$f":"CHOOSE($B$1,B170,E170,H170,K170,N170,Q170,T170,V170,Y170,AB170)","v":0},null,5,288,{"$f":"AE170","v":0},{"$f":"AF170","v":0},4.5,{"$f":"15*(AL170-12)","v":-112.5},{"$f":"23.45*SIN(360*(284+AI170)/365/57.3)","v":-9.5838777353520346},{"$f":"((SIN(AN170/57.3)*SIN($B$2/57.3)*COS($AI$2/57.3))-SIN(AN170/57.3)*COS($B$2/57.3)*SIN($AI$2/57.3)*COS($AI$3/57.3)+COS(AN170/57.3)*COS($B$2/57.3)*COS($AI$2/57.3)*COS(AM170/57.3)+COS(AN170/57.3)*SIN($B$2/57.3)*SIN($AI$2/57.3)*COS($AI$3/57.3)*COS(AM170/57.3)+COS(AN170/57.3)*SIN($AI$2/57.3)*SIN($AI$3/57.3)*SIN(AM170/57.3))/(COS($B$2/57.3)*COS(AN170/57.3)*COS(AM170/57.3)+SIN($B$2/57.3)*SIN(AN170/57.3))","v":1.0391554965894756},{"$f":"57.3*ASIN(SIN($B$2/57.3)*SIN(AN170/57.3)+COS($B$2/57.3)*COS(AM170/57.3)*COS(AN170/57.6))","v":-16.705968891913418},{"$f":"IF(AP170<0,0,1)","v":0},{"$f":"IF(AO170<0,0,1)","v":1},{"$f":"AO170*AR170*AQ170","v":0},{"$f":"AJ170*AS170+((1+COS($AI$2/57.3))/2)*AK170+((1-COS($AI$2/57.3))/2)*(AJ170+AK170)*0.2","v":0},null,null,null,null,null,null,5,288,{"$f":"AE170","v":0},{"$f":"AF170","v":0},4.5,{"$f":"15*(BE170-12)","v":-112.5},{"$f":"23.45*SIN(360*(284+BB170)/365/57.3)","v":-9.5838777353520346},{"$f":"((SIN(BG170/57.3)*SIN($B$2/57.3)*COS($BB$2/57.3))-SIN(BG170/57.3)*COS($B$2/57.3)*SIN($BB$2/57.3)*COS($BB$3/57.3)+COS(BG170/57.3)*COS($B$2/57.3)*COS($BB$2/57.3)*COS(BF170/57.3)+COS(BG170/57.3)*SIN($B$2/57.3)*SIN($BB$2/57.3)*COS($BB$3/57.3)*COS(BF170/57.3)+COS(BG170/57.3)*SIN($BB$2/57.3)*SIN($BB$3/57.3)*SIN(BF170/57.3))/(COS($B$2/57.3)*COS(BG170/57.3)*COS(BF170/57.3)+SIN($B$2/57.3)*SIN(BG170/57.3))","v":1.8546897502412754},{"$f":"57.3*ASIN(SIN($B$2/57.3)*SIN(BG170/57.3)+COS($B$2/57.3)*COS(BF170/57.3)*COS(BG170/57.6))","v":-16.705968891913418},{"$f":"IF(BI170<0,0,1)","v":0},{"$f":"IF(BH170<0,0,1)","v":1},{"$f":"BH170*BK170*BJ170","v":0},{"$f":"BC170*BL170+((1+COS($BB$2/57.3))/2)*BD170+((1-COS($BB$2/57.3))/2)*(BC170+BD170)*0.2","v":0}]
[0,2.6409696754748735E-4,null,0,5.6364895154695184E-4,null,0,5.6364895154695184E-4,null,0,5.0241608390578119E-4,null,1.7884623383105248E-3,3.809147499618738E-3,null,1.0983943651379525E-4,1.1924010900821918E-3,null,3.4198568515190267E-5,1.2975913996620763E-3,null,0,5.0241608390578119E-4,null,3.2277810355647461E-4,4.3735790047632287E-3,null,0,2.6409696754748735E-4,null,0,0,null,6,288,0,0,5.5,-97.5,-9.5838777353520346,1.1446842531403392,-3.2608884938533205,0,1,0,0,null,null,null,null,null,null,6,288,0,0,5.5,-97.5,-9.5838777353520346,6.126181762685297,-3.2608884938533205,0,1,0,0]
[4.5811787320556322E-3,1.161810261506754E-2,null,4.7485077917424103E-3,1.4496111246742048E-2,null,4.7485077917424103E-3,1.4496111246742048E-2,null,5.9914849882598178E-3,1.4346172559569156E-2,null,8.5159921806763003E-3,1.2505372319039504E-2,null,6.2559001589208426E-3,1.597421642920898E-2,null,8.0440141922442938E-3,1.485648893685567E-2,null,5.9914849882598178E-3,1.4346172559569156E-2,null,7.350596175015176E-3,1.906062570085286E-2,null,4.5811787320556322E-3,1.161810261506754E-2,null,4.5811787320556322E-3,4.5811787320556322E-3,null,7,288,4.5811787320556322E-3,4.5811787320556322E-3,6.5,-82.5,-9.5838777353520346,0.97244222374994294,10.475845651265619,1,1,0.97244222374994294,9.0352732698757779E-3,null,null,null,null,null,null,7,288,4.5811787320556322E-3,4.5811787320556322E-3,6.5,-82.5,-9.5838777353520346,-0.80737426298500858,10.475845651265619,1,0,0,3.8940937250639064E-3]
[2.6299976265770984E-2,2.2225193745387943E-2,null,2.1358376848458295E-2,2.7929257673978906E-2,null,2.1358376848458295E-2,2.7929257673978906E-2,null,2.5352832479848895E-2,2.4097260069045251E-2,null,2.3489165245601632E-2,2.3918950768761542E-2,null,2.5943876995663816E-2,2.7147163074950086E-2,null,2.640883177382369E-2,2.50298767061213E-2,null,2.5352832479848895E-2,2.4097260069045251E-2,null,2.1357365513410081E-2,3.1823863461004284E-2,null,2.6299976265770984E-2,2.2225193745387943E-2,null,2.6299976265770984E-2,2.6299976265770984E-2,null,8,288,2.6299976265770984E-2,2.6299976265770984E-2,7.5,-67.5,-9.5838777353520346,0.99558421618133364,24.354643051429065,1,1,0.99558421618133364,5.2479011859372184E-2,null,null,null,null,null,null,8,288,2.6299976265770984E-2,2.6299976265770984E-2,7.5,-67.5,-9.5838777353520346,0.14055313832419553,24.354643051429065,1,1,0.14055313832419553,2.6052051056442479E-2]
[4.9229781045684859E-2,2.7335656367959718E-2,null,4.0962509366433558E-2,3.8867664332609325E-2,null,4.0962509366433558E-2,3.8867664332609325E-2,null,4.0713479156878896E-2,3.5436706878985785E-2,null,3.9100084570699724E-2,3.6355002842130113E-2,null,4.1512380190902934E-2,3.5427671225827906E-2,null,4.5203667863378497E-2,3.3832155281098938E-2,null,4.0713479156878896E-2,3.5436706878985785E-2,null,3.7444831949631191E-2,4.1631945516084901E-2,null,4.9229781045684859E-2,2.7335656367959718E-2,null,4.9229781045684859E-2,4.9229781045684859E-2,null,9,288,4.9229781045684859E-2,4.9229781045684859E-2,8.5,-52.5,-9.5838777353520346,1.001814468393351,38.24989301752133,1,1,1.001814468393351,9.8539892462505968E-2,null,null,null,null,null,null,9,288,4.9229781045684859E-2,4.9229781045684859E-2,8.5,-52.5,-9.5838777353520346,0.40693351006879896,38.24989301752133,1,1,0.40693351006879896,6.1879548011443297E-2]
[7.1355598155062067E-2,3.5121656230226284E-2,null,5.2681584893784085E-2,4.8333148775610797E-2,null,5.2681584893784085E-2,4.8333148775610797E-2,null,6.2861888755205819E-2,4.2704431534069782E-2,null,5.4128713832161737E-2,4.7553688530272177E-2,null,6.4076962810939622E-2,4.1616282360578148E-2,null,5.9939342485595182E-2,4.2164880775314439E-2,null,6.2861888755205819E-2,4.2704431534069782E-2,null,5.3449996399288088E-2,4.9463493925084631E-2,null,7.1355598155062067E-2,3.5121656230226284E-2,null,7.1355598155062067E-2,7.1355598155062067E-2,null,10,288,7.1355598155062067E-2,7.1355598155062067E-2,9.5,-37.5,-9.5838777353520346,1.004596754964646,51.986141379428638,1,1,1.004596754964646,0.14302616206020544,null,null,null,null,null,null,10,288,7.1355598155062067E-2,7.1355598155062067E-2,9.5,-37.5,-9.5838777353520346,0.53547732424551786,51.986141379428638,1,1,0.53547732424551786,9.8862993105617011E-2]
[8.1438269498914917E-2,4.020997847920102E-2,null,7.1057947324788984E-2,5.1700976379149818E-2,null,7.1057947324788984E-2,5.1700976379149818E-2,null,7.3298483570790524E-2,4.7186881176514109E-2,null,6.4471294486267705E-2,5.4724867944932046E-2,null,6.4984375092769803E-2,5.0348022791188302E-2,null,7.116233557032306E-2,4.6309747279355509E-2,null,7.3298483570790524E-2,4.7186881176514109E-2,null,5.7113720769935095E-2,5.4237009145808264E-2,null,8.1438269498914917E-2,4.020997847920102E-2,null,8.1438269498914917E-2,8.1438269498914917E-2,null,11,288,8.1438269498914917E-2,8.1438269498914917E-2,10.5,-22.5,-9.5838777353520346,1.0060666347536862,65.120003302017309,1,1,1.0060666347536862,0.16335571442797481,null,null,null,null,null,null,11,288,8.1438269498914917E-2,8.1438269498914917E-2,10.5,-22.5,-9.5838777353520346,0.61314282838825129,65.120003302017309,1,1,0.61314282838825129,0.11915745192540902]
[8.6354847707644039E-2,4.3949461921529862E-2,null,7.2667511710489893E-2,5.4581513890887987E-2,null,7.2667511710489893E-2,5.4581513890887987E-2,null,7.710730270967403E-2,5.0379141285055121E-2,null,6.5781447129448639E-2,6.3857810312079696E-2,null,7.1821137857398742E-2,5.3589770485054922E-2,null,7.5046315851691081E-2,5.0670553316021036E-2,null,7.710730270967403E-2,5.0379141285055121E-2,null,6.9529747024268784E-2,5.2794152443854603E-2,null,8.6354847707644039E-2,4.3949461921529862E-2,null,8.6354847707644039E-2,8.6354847707644039E-2,null,12,288,8.6354847707644039E-2,8.6354847707644039E-2,11.5,-7.5,-9.5838777353520346,1.0068538698203719,75.685189171596164,1,1,1.0068538698203719,0.17328578111231965,null,null,null,null,null,null,12,288,8.6354847707644039E-2,8.6354847707644039E-2,11.5,-7.5,-9.5838777353520346,0.66653726169041783,75.685189171596164,1,1,0.66653726169041783,0.13096207475189445]
[8.6354847707644039E-2,4.3949461921529862E-2,null,7.2667511710489893E-2,5.4581513890887987E-2,null,7.2667511710489893E-2,5.4581513890887987E-2,null,7.710730270967403E-2,5.0379141285055121E-2,null,6.5781447129448639E-2,6.3857810312079696E-2,null,7.1821137857398742E-2,5.3589770485054922E-2,null,7.5046315851691081E-2,5.0670553316021036E-2,null,7.710730270967403E-2,5.0379141285055121E-2,null,6.9529747024268784E-2,5.2794152443854603E-2,null,8.6354847707644039E-2,4.3949461921529862E-2,null,8.6354847707644039E-2,8.6354847707644039E-2,null,13,288,8.6354847707644039E-2,8.6354847707644039E-2,12.5,7.5,-9.5838777353520346,1.0071795592336674,75.685189171596164,1,1,1.0071795592336674,0.17331390597200477,null,null,null,null,null,null,13,288,8.6354847707644039E-2,8.6354847707644039E-2,12.5,7.5,-9.5838777353520346,0.70653912500279381,75.685189171596164,1,1,0.70653912500279381,0.13441642956625666]
[8.1438269498914917E-2,4.020997847920102E-2,null,7.1057947324788984E-2,5.1700976379149818E-2,null,7.1057947324788984E-2,5.1700976379149818E-2,null,7.3298483570790524E-2,4.7186881176514109E-2,null,6.4471294486267705E-2,5.4724867944932046E-2,null,6.4984375092769803E-2,5.0348022791188302E-2,null,7.116233557032306E-2,4.6309747279355509E-2,null,7.3298483570790524E-2,4.7186881176514109E-2,null,5.7113720769935095E-2,5.4237009145808264E-2,null,8.1438269498914917E-2,4.020997847920102E-2,null,8.1438269498914917E-2,8.1438269498914917E-2,null,14,288,8.1438269498914917E-2,8.1438269498914917E-2,13.5,22.5,-9.5838777353520346,1.0070865319482494,65.120003302017309,1,1,1.0070865319482494,0.16343877309056681,null,null,null,null,null,null,14,288,8.1438269498914917E-2,8.1438269498914917E-2,13.5,22.5,-9.5838777353520346,0.73840876121913812,65.120003302017309,1,1,0.73840876121913812,0.12935889272232376]
[7.1355598155062067E-2,3.5121656230226284E-2,null,5.2681584893784085E-2,4.8333148775610797E-2,null,5.2681584893784085E-2,4.8333148775610797E-2,null,6.2861888755205819E-2,4.2704431534069782E-2,null,5.4128713832161737E-2,4.7553688530272177E-2,null,6.4076962810939622E-2,4.1616282360578148E-2,null,5.9939342485595182E-2,4.2164880775314439E-2,null,6.2861888755205819E-2,4.2704431534069782E-2,null,5.3449996399288088E-2,4.9463493925084631E-2,null,7.1355598155062067E-2,3.5121656230226284E-2,null,7.1355598155062067E-2,7.1355598155062067E-2,null,15,288,7.1355598155062067E-2,7.1355598155062067E-2,14.5,37.5,-9.5838777353520346,1.0064649436061404,51.986141379428638,1,1,1.0064649436061404,0.14315946777818578,null,null,null,null,null,null,15,288,7.1355598155062067E-2,7.1355598155062067E-2,14.5,37.5,-9.5838777353520346,0.76493220864793687,51.986141379428638,1,1,0.76493220864793687,0.11523588363175223]
[4.9229781045684859E-2,2.7335656367959718E-2,null,4.0962509366433558E-2,3.8867664332609325E-2,null,4.0962509366433558E-2,3.8867664332609325E-2,null,4.0713479156878896E-2,3.5436706878985785E-2,null,3.9100084570699724E-2,3.6355002842130113E-2,null,4.1512380190902934E-2,3.5427671225827906E-2,null,4.5203667863378497E-2,3.3832155281098938E-2,null,4.0713479156878896E-2,3.5436706878985785E-2,null,3.7444831949631191E-2,4.1631945516084901E-2,null,4.9229781045684859E-2,2.7335656367959718E-2,null,4.9229781045684859E-2,4.9229781045684859E-2,null,16,288,4.9229781045684859E-2,4.9229781045684859E-2,15.5,52.5,-9.5838777353520346,1.0049129048612118,38.24989301752133,1,1,1.0049129048612118,9.8692427811402722E-2,null,null,null,null,null,null,16,288,4.9229781045684859E-2,4.9229781045684859E-2,15.5,52.5,-9.5838777353520346,0.78749003726857958,38.24989301752133,1,1,0.78749003726857958,8.0614262520994712E-2]
[2.6299976265770984E-2,2.2225193745387943E-2,null,2.1358376848458295E-2,2.7929257673978906E-2,null,2.1358376848458295E-2,2.7929257673978906E-2,null,2.5352832479848895E-2,2.4097260069045251E-2,null,2.3489165245601632E-2,2.3918950768761542E-2,null,2.5943876995663816E-2,2.7147163074950086E-2,null,2.640883177382369E-2,2.50298767061213E-2,null,2.5352832479848895E-2,2.4097260069045251E-2,null,2.1357365513410081E-2,3.1823863461004284E-2,null,2.6299976265770984E-2,2.2225193745387943E-2,null,2.6299976265770984E-2,2.6299976265770984E-2,null,17,288,2.6299976265770984E-2,2.6299976265770984E-2,16.5,67.5,-9.5838777353520346,1.0010011344058352,24.354643051429065,1,1,1.0010011344058352,5.2621476680110198E-2,null,null,null,null,null,null,17,288,2.6299976265770984E-2,2.6299976265770984E-2,16.5,67.5,-9.5838777353520346,0.80587050371941571,24.354643051429065,1,1,0.80587050371941571,4.3549881975542055E-2]
[4.5811787320556322E-3,1.161810261506754E-2,null,4.7485077917424103E-3,1.4496111246742048E-2,null,4.7485077917424103E-3,1.4496111246742048E-2,null,5.9914849882598178E-3,1.4346172559569156E-2,null,8.5159921806763003E-3,1.2505372319039504E-2,null,6.2559001589208426E-3,1.597421642920898E-2,null,8.0440141922442938E-3,1.485648893685567E-2,null,5.9914849882598178E-3,1.4346172559569156E-2,null,7.350596175015176E-3,1.906062570085286E-2,null,4.5811787320556322E-3,1.161810261506754E-2,null,4.5811787320556322E-3,4.5811787320556322E-3,null,18,288,4.5811787320556322E-3,4.5811787320556322E-3,17.5,82.5,-9.5838777353520346,0.98562665926195003,10.475845651265619,1,1,0.98562665926195003,9.0956735254375427E-3,null,null,null,null,null,null,18,288,4.5811787320556322E-3,4.5811787320556322E-3,17.5,82.5,-9.5838777353520346,0.81196602156929221,10.475845651265619,1,1,0.81196602156929221,7.6138551942289733E-3]
[0,2.6409696754748735E-4,null,0,5.6364895154695184E-4,null,0,5.6364895154695184E-4,null,0,5.0241608390578119E-4,null,1.7884623383105248E-3,3.809147499618738E-3,null,1.0983943651379525E-4,1.1924010900821918E-3,null,3.4198568515190267E-5,1.2975913996620763E-3,null,0,5.0241608390578119E-4,null,3.2277810355647461E-4,4.3735790047632287E-3,null,0,2.6409696754748735E-4,null,0,0,null,19,288,0,0,18.5,97.5,-9.5838777353520346,1.1025309126366554,-3.2608884938533205,0,1,0,0,null,null,null,null,null,null,19,288,0,0,18.5,97.5,-9.5838777353520346,0.94881923214807262,-3.2608884938533205,0,1,0,0]
[0,0,null,0,0,null,0,0,null,0,0,null,0,0,null,0,0,null,0,0,null,0,0,null,2.571937080131272E-6,4.3722930362231624E-5,null,0,0,null,0,0,null,20,288,0,0,19.5,112.5,-9.5838777353520346,1.0313833376599644,-16.705968891913418,0,1,0,0,null,null,null,null,null,null,20,288,0,0,19.5,112.5,-9.5838777353520346,0.90009673478344743,-16.705968891913418,0,1,0,0]
[null,null,null,null,null,null,null,null,null,null,null,null,null,null,null,null,null,null,null,null,null,null,null,null,null,null,null,null,null,null,null,null,null,null,null,null,null,-0.5,null,null,null,null,null,null,null,{"$f":"SUM(AT170:AT185)","v":1.2800435600499618},null,null,null,null,null,null,null,null,null,null,-0.5,null,null,null,null,null,null,null,{"$f":"SUM(BM170:BM185)","v":0.95159741818696864}]
["nov",null,null,"nov",null,null,"nov",null,null,"nov",null,null,"nov",null,null,"nov",null,null,"nov",null,null,"nov",null,null,"nov",null,null,"nov",null,null,null,null,null,null,null,null,null,-0.5,null,null,null,null,null,null,null,null,null,null,null,null,null,null,null,null,null,null,-0.5]
[0,0,null,0,0,null,0,0,null,0,0,null,1.1446820931660353E-5,8.4134133847677244E-4,null,0,2.2066828808750328E-5,null,0,6.4602084717663727E-5,null,0,0,null,1.0026609750398449E-4,2.2232917272622648E-3,null,0,0,null,{"$f":"CHOOSE($B$1,A188,D188,G188,J188,M188,P188,S188,V188,Y188,AB188)","v":0},{"$f":"CHOOSE($B$1,B188,E188,H188,K188,N188,Q188,T188,V188,Y188,AB188)","v":0},null,5,319,{"$f":"AE188","v":0},{"$f":"AF188","v":0},4.5,{"$f":"15*(AL188-12)","v":-112.5},{"$f":"23.45*SIN(360*(284+AI188)/365/57.3)","v":-19.137461472619361},{"$f":"((SIN(AN188/57.3)*SIN($B$2/57.3)*COS($AI$2/57.3))-SIN(AN188/57.3)*COS($B$2/57.3)*SIN($AI$2/57.3)*COS($AI$3/57.3)+COS(AN188/57.3)*COS($B$2/57.3)*COS($AI$2/57.3)*COS(AM188/57.3)+COS(AN188/57.3)*SIN($B$2/57.3)*SIN($AI$2/57.3)*COS($AI$3/57.3)*COS(AM188/57.3)+COS(AN188/57.3)*SIN($AI$2/57.3)*SIN($AI$3/57.3)*SIN(AM188/57.3))/(COS($B$2/57.3)*COS(AN188/57.3)*COS(AM188/57.3)+SIN($B$2/57.3)*SIN(AN188/57.3))","v":1.0765982568603532},{"$f":"57.3*ASIN(SIN($B$2/57.3)*SIN(AN188/57.3)+COS($B$2/57.3)*COS(AM188/57.3)*COS(AN188/57.6))","v":-12.270278310693273},{"$f":"IF(AP188<0,0,1)","v":0},{"$f":"IF(AO188<0,0,1)","v":1},{"$f":"AO188*AR188*AQ188","v":0},{"$f":"AJ188*AS188+((1+COS($AI$2/57.3))/2)*AK188+((1-COS($AI$2/57.3))/2)*(AJ188+AK188)*0.2","v":0},null,null,null,null,null,null,5,319,{"$f":"AE188","v":0},{"$f":"AF188","v":0},4.5,{"$f":"15*(BE188-12)","v":-112.5},{"$f":"23.45*SIN(360*(284+BB188)/365/57.3)","v":-19.137461472619361},{"$f":"((SIN(BG188/57.3)*SIN($B$2/57.3)*COS($BB$2/57.3))-SIN(BG188/57.3)*COS($B$2/57.3)*SIN($BB$2/57.3)*COS($BB$3/57.3)+COS(BG188/57.3)*COS($B$2/57.3)*COS($BB$2/57.3)*COS(BF188/57.3)+COS(BG188/57.3)*SIN($B$2/57.3)*SIN($BB$2/57.3)*COS($BB$3/57.3)*COS(BF188/57.3)+COS(BG188/57.3)*SIN($BB$2/57.3)*SIN($BB$3/57.3)*SIN(BF188/57.3))/(COS($B$2/57.3)*COS(BG188/57.3)*COS(BF188/57.3)+SIN($B$2/57.3)*SIN(BG188/57.3))","v":2.8837819708618042},{"$f":"57.3*ASIN(SIN($B$2/57.3)*SIN(BG188/57.3)+COS($B$2/57.3)*COS(BF188/57.3)*COS(BG188/57.6))","v":-12.270278310693273},{"$f":"IF(BI188<0,0,1)","v":0},{"$f":"IF(BH188<0,0,1)","v":1},{"$f":"BH188*BK188*BJ188","v":0},{"$f":"BC188*BL188+((1+COS($BB$2/57.3))/2)*BD188+((1-COS($BB$2/57.3))/2)*(BC188+BD188)*0.2","v":0}]
[0,7.7001839820149654E-4,null,1.4721810132750776E-4,3.6023700043068046E-3,null,1.4721810132750776E-4,3.6023700043068046E-3,null,1.901062049392615E-4,4.0113204665635799E-3,null,3.7974828440771333E-3,5.4028994797419849E-3,null,8.8665960141047712E-4,5.9410498532481426E-3,null,1.4397036022793632E-3,7.2320775359254732E-3,null,1.901062049392615E-4,4.0113204665635799E-3,null,5.2766123660357763E-3,1.2803544711704456E-2,null,0,7.7001839820149654E-4,null,0,0,null,6,319,0,0,5.5,-97.5,-19.137461472619361,-0.56016152522307683,0.48685044478246486,1,0,0,0,null,null,null,null,null,null,6,319,0,0,5.5,-97.5,-19.137461472619361,-50.822495584831664,0.48685044478246486,1,0,0,0]
[9.3164577175961875E-3,1.3402571622772981E-2,null,1.0008268501450486E-2,1.7073508295989109E-2,null,1.0008268501450486E-2,1.7073508295989109E-2,null,1.1922602116462721E-2,1.6558329992554834E-2,null,1.2371151721888024E-2,1.404524928314285E-2,null,1.2573724346910649E-2,1.8024364743372025E-2,null,1.2870916644852983E-2,1.9575270657565327E-2,null,1.1922602116462721E-2,1.6558329992554834E-2,null,1.6762747744448747E-2,2.0770776007281937E-2,null,9.3164577175961875E-3,1.3402571622772981E-2,null,9.3164577175961875E-3,9.3164577175961875E-3,null,7,319,9.3164577175961875E-3,9.3164577175961875E-3,6.5,-82.5,-19.137461472619361,0.95666175245171936,13.727592943516512,1,1,0.95666175245171936,1.8227454134836955E-2,null,null,null,null,null,null,7,319,9.3164577175961875E-3,9.3164577175961875E-3,6.5,-82.5,-19.137461472619361,-1.0209093927039981,13.727592943516512,1,0,0,7.9191757536243527E-3]
[3.067548750717819E-2,2.2312005674931905E-2,null,2.4329214623803375E-2,2.7516771193430468E-2,null,2.4329214623803375E-2,2.7516771193430468E-2,null,2.7469948901997471E-2,2.5454345875570321E-2,null,2.4510505319910031E-2,2.5809719495653104E-2,null,2.9715531163537159E-2,2.6948690320593861E-2,null,2.9497983072575833E-2,2.6317379135372417E-2,null,2.7469948901997471E-2,2.5454345875570321E-2,null,3.1841025050830557E-2,2.786525631502039E-2,null,3.067548750717819E-2,2.2312005674931905E-2,null,3.067548750717819E-2,3.067548750717819E-2,null,8,319,3.067548750717819E-2,3.067548750717819E-2,7.5,-67.5,-19.137461472619361,0.98422716304097368,27.278163532390515,1,1,0.98422716304097368,6.0861530373534339E-2,null,null,null,null,null,null,8,319,3.067548750717819E-2,3.067548750717819E-2,7.5,-67.5,-19.137461472619361,-0.10048939438525446,27.278163532390515,1,0,0,2.6074779091052554E-2]
[4.8957310266402931E-2,2.9571967396569886E-2,null,4.4319155376986559E-2,3.351692552212121E-2,null,4.4319155376986559E-2,3.351692552212121E-2,null,4.729349216348816E-2,2.9981896162240937E-2,null,4.0098213723593609E-2,3.5230453122406587E-2,null,4.0890682506799308E-2,3.6839721972023717E-2,null,4.4168529220278023E-2,3.4299512044513369E-2,null,4.729349216348816E-2,2.9981896162240937E-2,null,4.6654251108158351E-2,3.3514161060483993E-2,null,4.8957310266402931E-2,2.9571967396569886E-2,null,4.8957310266402931E-2,4.8957310266402931E-2,null,9,319,4.8957310266402931E-2,4.8957310266402931E-2,8.5,-52.5,-19.137461472619361,0.99328637399848241,41.02974322959269,1,1,0.99328637399848241,9.7576993738270959E-2,null,null,null,null,null,null,9,319,4.8957310266402931E-2,4.8957310266402931E-2,8.5,-52.5,-19.137461472619361,0.21304237153506553,41.02974322959269,1,1,0.21304237153506553,5.2044676271270983E-2]
[6.7631923931351257E-2,3.468936589472324E-2,null,6.0161775143048421E-2,4.0594781421303364E-2,null,6.0161775143048421E-2,4.0594781421303364E-2,null,5.9351316266727752E-2,3.8587582485411942E-2,null,5.5869071262183725E-2,4.1789481516245897E-2,null,5.4225836900764102E-2,4.121065152452618E-2,null,5.9242628650437307E-2,4.0198437468537962E-2,null,5.9351316266727752E-2,3.8587582485411942E-2,null,5.0277780684041477E-2,4.0318305625015254E-2,null,6.7631923931351257E-2,3.468936589472324E-2,null,6.7631923931351257E-2,6.7631923931351257E-2,null,10,319,6.7631923931351257E-2,6.7631923931351257E-2,9.5,-37.5,-19.137461472619361,0.99754019016823658,54.907287564848374,1,1,0.99754019016823658,0.13508512814956675,null,null,null,null,null,null,10,319,6.7631923931351257E-2,6.7631923931351257E-2,9.5,-37.5,-19.137461472619361,0.37000905745124379,54.907287564848374,1,1,0.37000905745124379,8.2512915053729319E-2]
[8.2228182211022544E-2,3.6267940666782128E-2,null,7.3384563393221303E-2,4.2374412392046951E-2,null,7.3384563393221303E-2,4.2374412392046951E-2,null,7.2848061393963687E-2,4.2390502007648809E-2,null,6.6457380623966222E-2,4.9710681600952399E-2,null,6.6523850340717644E-2,4.5801400640931203E-2,null,6.5827007362959683E-2,4.409973219499428E-2,null,7.2848061393963687E-2,4.2390502007648809E-2,null,6.59088293453583E-2,3.7888378548983921E-2,null,8.2228182211022544E-2,3.6267940666782128E-2,null,8.2228182211022544E-2,8.2228182211022544E-2,null,11,319,8.2228182211022544E-2,8.2228182211022544E-2,10.5,-22.5,-19.137461472619361,0.99977613555027944,68.844247322043984,1,1,0.99977613555027944,0.16442293131262395,null,null,null,null,null,null,11,319,8.2228182211022544E-2,8.2228182211022544E-2,10.5,-22.5,-19.137461472619361,0.46271604760155571,68.844247322043984,1,1,0.46271604760155571,0.10794390213439622]
[8.4309232896441016E-2,3.9830480070203303E-2,null,7.6413514826059098E-2,4.647537187764525E-2,null,7.6413514826059098E-2,4.647537187764525E-2,null,7.910486226447512E-2,4.4531781939433274E-2,null,7.1697162905432071E-2,5.2357758941398012E-2,null,7.0281152307499872E-2,5.011461694885691E-2,null,6.588825349522448E-2,4.9277966829765957E-2,null,7.910486226447512E-2,4.4531781939433274E-2,null,6.6322971922005147E-2,4.1468314169430531E-2,null,8.4309232896441016E-2,3.9830480070203303E-2,null,8.4309232896441016E-2,8.4309232896441016E-2,null,12,319,8.4309232896441016E-2,8.4309232896441016E-2,11.5,-7.5,-19.137461472619361,1.0008888308708994,82.655751619599002,1,1,1.0008888308708994,0.16867799703918579,null,null,null,null,null,null,12,319,8.4309232896441016E-2,8.4309232896441016E-2,11.5,-7.5,-19.137461472619361,0.52169472193113575,82.655751619599002,1,1,0.52169472193113575,0.11564821925742952]
[8.4309232896441016E-2,3.9830480070203303E-2,null,7.6413514826059098E-2,4.647537187764525E-2,null,7.6413514826059098E-2,4.647537187764525E-2,null,7.910486226447512E-2,4.4531781939433274E-2,null,7.1697162905432071E-2,5.2357758941398012E-2,null,7.0281152307499872E-2,5.011461694885691E-2,null,6.588825349522448E-2,4.9277966829765957E-2,null,7.910486226447512E-2,4.4531781939433274E-2,null,6.6322971922005147E-2,4.1468314169430531E-2,null,8.4309232896441016E-2,3.9830480070203303E-2,null,8.4309232896441016E-2,8.4309232896441016E-2,null,13,319,8.4309232896441016E-2,8.4309232896441016E-2,12.5,7.5,-19.137461472619361,1.0011938063666885,82.655751619599002,1,1,1.0011938063666885,0.16870370928928799,null,null,null,null,null,null,13,319,8.4309232896441016E-2,8.4309232896441016E-2,12.5,7.5,-19.137461472619361,0.55915245803846758,82.655751619599002,1,1,0.55915245803846758,0.11880625225467598]
[8.2228182211022544E-2,3.6267940666782128E-2,null,7.3384563393221303E-2,4.2374412392046951E-2,null,7.3384563393221303E-2,4.2374412392046951E-2,null,7.2848061393963687E-2,4.2390502007648809E-2,null,6.6457380623966222E-2,4.9710681600952399E-2,null,6.6523850340717644E-2,4.5801400640931203E-2,null,6.5827007362959683E-2,4.409973219499428E-2,null,7.2848061393963687E-2,4.2390502007648809E-2,null,6.59088293453583E-2,3.7888378548983921E-2,null,8.2228182211022544E-2,3.6267940666782128E-2,null,8.2228182211022544E-2,8.2228182211022544E-2,null,14,319,8.2228182211022544E-2,8.2228182211022544E-2,13.5,22.5,-19.137461472619361,1.0007270488808302,68.844247322043984,1,1,1.0007270488808302,0.16450112318723539,null,null,null,null,null,null,14,319,8.2228182211022544E-2,8.2228182211022544E-2,13.5,22.5,-19.137461472619361,0.57950923619718386,68.844247322043984,1,1,0.57950923619718386,0.11754759372724385]
[6.7631923931351257E-2,3.468936589472324E-2,null,6.0161775143048421E-2,4.0594781421303364E-2,null,6.0161775143048421E-2,4.0594781421303364E-2,null,5.9351316266727752E-2,3.8587582485411942E-2,null,5.5869071262183725E-2,4.1789481516245897E-2,null,5.4225836900764102E-2,4.121065152452618E-2,null,5.9242628650437307E-2,4.0198437468537962E-2,null,5.9351316266727752E-2,3.8587582485411942E-2,null,5.0277780684041477E-2,4.0318305625015254E-2,null,6.7631923931351257E-2,3.468936589472324E-2,null,6.7631923931351257E-2,6.7631923931351257E-2,null,15,319,6.7631923931351257E-2,6.7631923931351257E-2,14.5,37.5,-19.137461472619361,0.99926435350340204,54.907287564848374,1,1,0.99926435350340204,0.13520173663309587,null,null,null,null,null,null,15,319,6.7631923931351257E-2,6.7631923931351257E-2,14.5,37.5,-19.137461472619361,0.58177444879030171,54.907287564848374,1,1,0.58177444879030171,9.6835015892065307E-2]
[4.8957310266402931E-2,2.9571967396569886E-2,null,4.4319155376986559E-2,3.351692552212121E-2,null,4.4319155376986559E-2,3.351692552212121E-2,null,4.729349216348816E-2,2.9981896162240937E-2,null,4.0098213723593609E-2,3.5230453122406587E-2,null,4.0890682506799308E-2,3.6839721972023717E-2,null,4.4168529220278023E-2,3.4299512044513369E-2,null,4.729349216348816E-2,2.9981896162240937E-2,null,4.6654251108158351E-2,3.3514161060483993E-2,null,4.8957310266402931E-2,2.9571967396569886E-2,null,4.8957310266402931E-2,4.8957310266402931E-2,null,16,319,4.8957310266402931E-2,4.8957310266402931E-2,15.5,52.5,-19.137461472619361,0.99608707864013024,41.02974322959269,1,1,0.99608707864013024,9.7714108704376676E-2,null,null,null,null,null,null,16,319,4.8957310266402931E-2,4.8957310266402931E-2,15.5,52.5,-19.137461472619361,0.5570308454616435,41.02974322959269,1,1,0.5570308454616435,6.888542671736092E-2]
[3.067548750717819E-2,2.2312005674931905E-2,null,2.4329214623803375E-2,2.7516771193430468E-2,null,2.4329214623803375E-2,2.7516771193430468E-2,null,2.7469948901997471E-2,2.5454345875570321E-2,null,2.4510505319910031E-2,2.5809719495653104E-2,null,2.9715531163537159E-2,2.6948690320593861E-2,null,2.9497983072575833E-2,2.6317379135372417E-2,null,2.7469948901997471E-2,2.5454345875570321E-2,null,3.1841025050830557E-2,2.786525631502039E-2,null,3.067548750717819E-2,2.2312005674931905E-2,null,3.067548750717819E-2,3.067548750717819E-2,null,17,319,3.067548750717819E-2,3.067548750717819E-2,{"$f":"AH200-0.5","v":16.5},67.5,-19.137461472619361,0.98889856177710478,27.278163532390515,1,1,0.98889856177710478,6.1004827807105574E-2,null,null,null,null,null,null,17,319,3.067548750717819E-2,3.067548750717819E-2,{"$f":"BA200-0.5","v":16.5},67.5,-19.137461472619361,0.47326168898453458,27.278163532390515,1,1,0.47326168898453458,4.0592312119123695E-2]
[9.3164577175961875E-3,1.3402571622772981E-2,null,1.0008268501450486E-2,1.7073508295989109E-2,null,1.0008268501450486E-2,1.7073508295989109E-2,null,1.1922602116462721E-2,1.6558329992554834E-2,null,1.2371151721888024E-2,1.404524928314285E-2,null,1.2573724346910649E-2,1.8024364743372025E-2,null,1.2870916644852983E-2,1.9575270657565327E-2,null,1.1922602116462721E-2,1.6558329992554834E-2,null,1.6762747744448747E-2,2.0770776007281937E-2,null,9.3164577175961875E-3,1.3402571622772981E-2,null,9.3164577175961875E-3,9.3164577175961875E-3,null,18,319,9.3164577175961875E-3,9.3164577175961875E-3,17.5,82.5,-19.137461472619361,0.96634225101932913,13.727592943516512,1,1,0.96634225101932913,1.8317642090427345E-2,null,null,null,null,null,null,18,319,9.3164577175961875E-3,9.3164577175961875E-3,17.5,82.5,-19.137461472619361,0.16806993756952493,13.727592943516512,1,1,0.16806993756952493,9.4849922205898617E-3]
[0,7.7001839820149654E-4,null,1.4721810132750776E-4,3.6023700043068046E-3,null,1.4721810132750776E-4,3.6023700043068046E-3,null,1.901062049392615E-4,4.0113204665635799E-3,null,3.7974828440771333E-3,5.4028994797419849E-3,null,8.8665960141047712E-4,5.9410498532481426E-3,null,1.4397036022793632E-3,7.2320775359254732E-3,null,1.901062049392615E-4,4.0113204665635799E-3,null,5.2766123660357763E-3,1.2803544711704456E-2,null,0,7.7001839820149654E-4,null,0,0,null,19,319,0,0,18.5,97.5,-19.137461472619361,-0.29204394870148925,0.48685044478246486,1,0,0,0,null,null,null,null,null,null,19,319,0,0,18.5,97.5,-19.137461472619361,-17.891727159966237,0.48685044478246486,1,0,0,0]
[0,0,null,0,0,null,0,0,null,0,0,null,1.1446820931660353E-5,8.4134133847677244E-4,null,0,2.2066828808750328E-5,null,0,6.4602084717663727E-5,null,0,0,null,1.0026609750398449E-4,2.2232917272622648E-3,null,0,0,null,0,0,null,20,319,0,0,19.5,112.5,-19.137461472619361,1.0665181571547593,-12.270278310693273,0,1,0,0,null,null,null,null,null,null,20,319,0,0,19.5,112.5,-19.137461472619361,1.6457227827587986,-12.270278310693273,0,1,0,0]
[null,null,null,null,null,null,null,null,null,null,null,null,null,null,null,null,null,null,null,null,null,null,null,null,null,null,null,null,null,null,null,null,null,null,null,null,null,-0.5,null,null,null,null,null,null,null,{"$f":"SUM(AT188:AT203)","v":1.2902951824595477},null,null,null,null,null,null,null,null,null,null,-0.5,null,null,null,null,null,null,null,{"$f":"SUM(BM188:BM203)","v":0.84429526049256265}]
["dic",null,null,"dic",null,null,"dic",null,null,"dic",null,null,"dic",null,null,"dic",null,null,"dic",null,null,"dic",null,null,"dic",null,null,"dic",null,null,null,null,null,null,null,null,null,-0.5,null,null,null,null,null,null,null,null,null,null,null,null,null,null,null,null,null,null,-0.5]
[0,0,null,1.5316763274254192E-6,6.8925434734143864E-6,null,1.5316763274254192E-6,6.8925434734143864E-6,null,7.2674732106251822E-7,1.1627957137000292E-5,null,9.5302540367986919E-4,2.5749764972054887E-3,null,2.8084372942049083E-6,1.3129444350407944E-4,null,1.6498250315755842E-5,3.2041338771125809E-4,null,7.2674732106251822E-7,1.1627957137000292E-5,null,6.050525159401487E-4,5.6551361346602446E-3,null,0,0,null,{"$f":"CHOOSE($B$1,A206,D206,G206,J206,M206,P206,S206,V206,Y206,AB206)","v":0},{"$f":"CHOOSE($B$1,B206,E206,H206,K206,N206,Q206,T206,V206,Y206,AB206)","v":0},null,5,349,{"$f":"AE206","v":0},{"$f":"AF206","v":0},4.5,{"$f":"15*(AL206-12)","v":-112.5},{"$f":"23.45*SIN(360*(284+AI206)/365/57.3)","v":-23.333352140938864},{"$f":"((SIN(AN206/57.3)*SIN($B$2/57.3)*COS($AI$2/57.3))-SIN(AN206/57.3)*COS($B$2/57.3)*SIN($AI$2/57.3)*COS($AI$3/57.3)+COS(AN206/57.3)*COS($B$2/57.3)*COS($AI$2/57.3)*COS(AM206/57.3)+COS(AN206/57.3)*SIN($B$2/57.3)*SIN($AI$2/57.3)*COS($AI$3/57.3)*COS(AM206/57.3)+COS(AN206/57.3)*SIN($AI$2/57.3)*SIN($AI$3/57.3)*SIN(AM206/57.3))/(COS($B$2/57.3)*COS(AN206/57.3)*COS(AM206/57.3)+SIN($B$2/57.3)*SIN(AN206/57.3))","v":1.1033476374631135},{"$f":"57.3*ASIN(SIN($B$2/57.3)*SIN(AN206/57.3)+COS($B$2/57.3)*COS(AM206/57.3)*COS(AN206/57.6))","v":-10.232926085162797},{"$f":"IF(AP206<0,0,1)","v":0},{"$f":"IF(AO206<0,0,1)","v":1},{"$f":"AO206*AR206*AQ206","v":0},{"$f":"AJ206*AS206+((1+COS($AI$2/57.3))/2)*AK206+((1-COS($AI$2/57.3))/2)*(AJ206+AK206)*0.2","v":0},null,null,null,null,null,null,5,349,{"$f":"AE206","v":0},{"$f":"AF206","v":0},4.5,{"$f":"15*(BE206-12)","v":-112.5},{"$f":"23.45*SIN(360*(284+BB206)/365/57.3)","v":-23.333352140938864},{"$f":"((SIN(BG206/57.3)*SIN($B$2/57.3)*COS($BB$2/57.3))-SIN(BG206/57.3)*COS($B$2/57.3)*SIN($BB$2/57.3)*COS($BB$3/57.3)+COS(BG206/57.3)*COS($B$2/57.3)*COS($BB$2/57.3)*COS(BF206/57.3)+COS(BG206/57.3)*SIN($B$2/57.3)*SIN($BB$2/57.3)*COS($BB$3/57.3)*COS(BF206/57.3)+COS(BG206/57.3)*SIN($BB$2/57.3)*SIN($BB$3/57.3)*SIN(BF206/57.3))/(COS($B$2/57.3)*COS(BG206/57.3)*COS(BF206/57.3)+SIN($B$2/57.3)*SIN(BG206/57.3))","v":3.6189729473168453},{"$f":"57.3*ASIN(SIN($B$2/57.3)*SIN(BG206/57.3)+COS($B$2/57.3)*COS(BF206/57.3)*COS(BG206/57.6))","v":-10.232926085162797},{"$f":"IF(BI206<0,0,1)","v":0},{"$f":"IF(BH206<0,0,1)","v":1},{"$f":"BH206*BK206*BJ206","v":0},{"$f":"BC206*BL206+((1+COS($BB$2/57.3))/2)*BD206+((1-COS($BB$2/57.3))/2)*(BC206+BD206)*0.2","v":0}]
[0,1.2913198487198413E-3,null,2.9706447996969467E-4,6.1575933999252659E-3,null,2.9706447996969467E-4,6.1575933999252659E-3,null,3.6736791494220165E-4,5.495284632585716E-3,null,5.9712594398586769E-3,7.4821533725218815E-3,null,2.1316039063015253E-3,7.9520901985411993E-3,null,2.4382677308759154E-3,1.0447734094693382E-2,null,3.6736791494220165E-4,5.495284632585716E-3,null,8.1656577095297819E-3,1.4040961933531257E-2,null,0,1.2913198487198413E-3,null,0,0,null,6,349,0,0,5.5,-97.5,-23.333352140938864,0.58454833671346529,2.1338381526953913,1,1,0.58454833671346529,0,null,null,null,null,null,null,6,349,0,0,5.5,-97.5,-23.333352140938864,-12.584601335813819,2.1338381526953913,1,0,0,0]
[1.0703998996337838E-2,1.3534202970644796E-2,null,1.2603307489509724E-2,1.7498899050667621E-2,null,1.2603307489509724E-2,1.7498899050667621E-2,null,1.3032464862924044E-2,1.5973706541643286E-2,null,1.7053731004060033E-2,1.6020641135572392E-2,null,1.5817469801637507E-2,1.6858596232367726E-2,null,1.4272198377729304E-2,2.0755007986432122E-2,null,1.3032464862924044E-2,1.5973706541643286E-2,null,1.6990997255268789E-2,2.213683270461516E-2,null,1.0703998996337838E-2,1.3534202970644796E-2,null,1.0703998996337838E-2,1.0703998996337838E-2,null,7,349,1.0703998996337838E-2,1.0703998996337838E-2,6.5,-82.5,-23.333352140938864,0.95178961081176527,15.051670779146651,1,1,0.95178961081176527,2.0889998147227112E-2,null,null,null,null,null,null,7,349,1.0703998996337838E-2,1.0703998996337838E-2,6.5,-82.5,-23.333352140938864,-1.0868372967212885,15.051670779146651,1,0,0,9.0986136456689005E-3]
[3.2636309034872038E-2,2.0291152674608195E-2,null,2.9740559249619374E-2,2.6583008500631854E-2,null,2.9740559249619374E-2,2.6583008500631854E-2,null,3.3905617159361828E-2,2.3720167285762456E-2,null,3.0891969792452241E-2,2.5228054588468656E-2,null,3.4132586403146675E-2,2.1601522019971373E-2,null,2.8348335687288468E-2,2.8658329127431877E-2,null,3.3905617159361828E-2,2.3720167285762456E-2,null,3.4528440302559929E-2,2.6446490529613134E-2,null,3.2636309034872038E-2,2.0291152674608195E-2,null,3.2636309034872038E-2,3.2636309034872038E-2,null,8,349,3.2636309034872038E-2,3.2636309034872038E-2,7.5,-67.5,-23.333352140938864,0.97987426894890717,28.330613813688135,1,1,0.97987426894890717,6.4609825022807724E-2,null,null,null,null,null,null,8,349,3.2636309034872038E-2,3.2636309034872038E-2,7.5,-67.5,-23.333352140938864,-0.19287538603295085,28.330613813688135,1,0,0,2.7741516682741458E-2]
[5.1437926216191615E-2,2.8320271641318936E-2,null,4.116839632854042E-2,3.5154269228904515E-2,null,4.116839632854042E-2,3.5154269228904515E-2,null,4.8993670649429645E-2,2.9086608030885169E-2,null,4.1132473113836165E-2,3.4355403576557149E-2,null,5.094786095417124E-2,2.8482468928502633E-2,null,3.7442344927125878E-2,3.6659980530573469E-2,null,4.8993670649429645E-2,2.9086608030885169E-2,null,4.354314497729711E-2,3.2363293304864135E-2,null,5.1437926216191615E-2,2.8320271641318936E-2,null,5.1437926216191615E-2,5.1437926216191615E-2,null,9,349,5.1437926216191615E-2,5.1437926216191615E-2,8.5,-52.5,-23.333352140938864,0.98979588003631858,41.85108664515856,1,1,0.98979588003631858,0.10234157466873317,null,null,null,null,null,null,9,349,5.1437926216191615E-2,5.1437926216191615E-2,8.5,-52.5,-23.333352140938864,0.13368398066450249,41.85108664515856,1,1,0.13368398066450249,5.0599694788541261E-2]
[6.541278264775488E-2,3.3484142067459928E-2,null,5.6381771450693396E-2,3.8249021248467574E-2,null,5.6381771450693396E-2,3.8249021248467574E-2,null,6.4038066942744859E-2,3.5039395337708251E-2,null,5.2602353378720386E-2,4.2341188259966744E-2,null,6.2091740137576332E-2,3.2688103776574481E-2,null,5.2389759713200673E-2,4.6037933341634668E-2,null,6.4038066942744859E-2,3.5039395337708251E-2,null,5.011617797106438E-2,4.0212467075771197E-2,null,6.541278264775488E-2,3.3484142067459928E-2,null,6.541278264775488E-2,6.541278264775488E-2,null,10,349,6.541278264775488E-2,6.541278264775488E-2,9.5,-37.5,-23.333352140938864,0.9945656954685842,55.53551258062592,1,1,0.9945656954685842,0.130458139765185,null,null,null,null,null,null,10,349,6.541278264775488E-2,6.541278264775488E-2,9.5,-37.5,-23.333352140938864,0.30026060381404163,55.53551258062592,1,1,0.30026060381404163,7.5243057680539238E-2]
[8.0628940537825711E-2,3.7274267973686194E-2,null,7.1015407082915843E-2,4.0554194121242823E-2,null,7.1015407082915843E-2,4.0554194121242823E-2,null,7.4847706596228747E-2,3.5846084864087649E-2,null,6.2367635360600013E-2,4.6961682696777779E-2,null,7.5245056204985006E-2,3.441459060318694E-2,null,6.1816338946245171E-2,4.9786509479167185E-2,null,7.4847706596228747E-2,3.5846084864087649E-2,null,5.4318527710015677E-2,4.1227766659135974E-2,null,8.0628940537825711E-2,3.7274267973686194E-2,null,8.0628940537825711E-2,8.0628940537825711E-2,null,11,349,8.0628940537825711E-2,8.0628940537825711E-2,10.5,-22.5,-23.333352140938864,0.99708576897096057,69.338415698705617,1,1,0.99708576897096057,0.1610081767940357,null,null,null,null,null,null,11,349,8.0628940537825711E-2,8.0628940537825711E-2,10.5,-22.5,-23.333352140938864,0.39838042485100184,69.338415698705617,1,1,0.39838042485100184,0.10065720677737421]
[8.5902006041190693E-2,3.8920647944476285E-2,null,8.241720566427066E-2,4.1761920905417756E-2,null,8.241720566427066E-2,4.1761920905417756E-2,null,8.0922587452990316E-2,3.8412956402080464E-2,null,6.3266423546184294E-2,5.0797028833538219E-2,null,7.9831936415745153E-2,3.7670271536493979E-2,null,5.8938696759591715E-2,5.1671651659983289E-2,null,8.0922587452990316E-2,3.8412956402080464E-2,null,6.5112070272680567E-2,4.4421420389248414E-2,null,8.5902006041190693E-2,3.8920647944476285E-2,null,8.5902006041190693E-2,8.5902006041190693E-2,null,12,349,8.5902006041190693E-2,8.5902006041190693E-2,11.5,-7.5,-23.333352140938864,0.99832185640498194,83.328928642984891,1,1,0.99832185640498194,0.17164415973911235,null,null,null,null,null,null,12,349,8.5902006041190693E-2,8.5902006041190693E-2,11.5,-7.5,-23.333352140938864,0.45936367861520938,83.328928642984891,1,1,0.45936367861520938,0.1124786880316192]
[8.5902006041190693E-2,3.8920647944476285E-2,null,8.241720566427066E-2,4.1761920905417756E-2,null,8.241720566427066E-2,4.1761920905417756E-2,null,8.0922587452990316E-2,3.8412956402080464E-2,null,6.3266423546184294E-2,5.0797028833538219E-2,null,7.9831936415745153E-2,3.7670271536493979E-2,null,5.8938696759591715E-2,5.1671651659983289E-2,null,8.0922587452990316E-2,3.8412956402080464E-2,null,6.5112070272680567E-2,4.4421420389248414E-2,null,8.5902006041190693E-2,3.8920647944476285E-2,null,8.5902006041190693E-2,8.5902006041190693E-2,null,13,349,8.5902006041190693E-2,8.5902006041190693E-2,12.5,7.5,-23.333352140938864,0.99861791794433608,83.328928642984891,1,1,0.99861791794433608,0.1716695920192545,null,null,null,null,null,null,13,349,8.5902006041190693E-2,8.5902006041190693E-2,12.5,7.5,-23.333352140938864,0.49572658371997536,83.328928642984891,1,1,0.49572658371997536,0.11560233452560405]
[8.0628940537825711E-2,3.7274267973686194E-2,null,7.1015407082915843E-2,4.0554194121242823E-2,null,7.1015407082915843E-2,4.0554194121242823E-2,null,7.4847706596228747E-2,3.5846084864087649E-2,null,6.2367635360600013E-2,4.6961682696777779E-2,null,7.5245056204985006E-2,3.441459060318694E-2,null,6.1816338946245171E-2,4.9786509479167185E-2,null,7.4847706596228747E-2,3.5846084864087649E-2,null,5.4318527710015677E-2,4.1227766659135974E-2,null,8.0628940537825711E-2,3.7274267973686194E-2,null,8.0628940537825711E-2,8.0628940537825711E-2,null,14,349,8.0628940537825711E-2,8.0628940537825711E-2,13.5,22.5,-23.333352140938864,0.99800717877941414,69.338415698705617,1,1,0.99800717877941414,0.16108246909069246,null,null,null,null,null,null,14,349,8.0628940537825711E-2,8.0628940537825711E-2,13.5,22.5,-23.333352140938864,0.51154992839579805,69.338415698705617,1,1,0.51154992839579805,0.10978194394938284]
[6.541278264775488E-2,3.3484142067459928E-2,null,5.6381771450693396E-2,3.8249021248467574E-2,null,5.6381771450693396E-2,3.8249021248467574E-2,null,6.4038066942744859E-2,3.5039395337708251E-2,null,5.2602353378720386E-2,4.2341188259966744E-2,null,6.2091740137576332E-2,3.2688103776574481E-2,null,5.2389759713200673E-2,4.6037933341634668E-2,null,6.4038066942744859E-2,3.5039395337708251E-2,null,5.011617797106438E-2,4.0212467075771197E-2,null,6.541278264775488E-2,3.3484142067459928E-2,null,6.541278264775488E-2,6.541278264775488E-2,null,15,349,6.541278264775488E-2,6.541278264775488E-2,14.5,37.5,-23.333352140938864,0.99622914902177317,55.53551258062592,1,1,0.99622914902177317,0.13056695089090439,null,null,null,null,null,null,15,349,6.541278264775488E-2,6.541278264775488E-2,14.5,37.5,-23.333352140938864,0.5045694911919536,55.53551258062592,1,1,0.5045694911919536,8.860747052359523E-2]
[5.1437926216191615E-2,2.8320271641318936E-2,null,4.116839632854042E-2,3.5154269228904515E-2,null,4.116839632854042E-2,3.5154269228904515E-2,null,4.8993670649429645E-2,2.9086608030885169E-2,null,4.1132473113836165E-2,3.4355403576557149E-2,null,5.094786095417124E-2,2.8482468928502633E-2,null,3.7442344927125878E-2,3.6659980530573469E-2,null,4.8993670649429645E-2,2.9086608030885169E-2,null,4.354314497729711E-2,3.2363293304864135E-2,null,5.1437926216191615E-2,2.8320271641318936E-2,null,5.1437926216191615E-2,5.1437926216191615E-2,null,16,349,5.1437926216191615E-2,5.1437926216191615E-2,15.5,52.5,-23.333352140938864,0.99247472496422262,41.85108664515856,1,1,0.99247472496422262,0.10247936889647931,null,null,null,null,null,null,16,349,5.1437926216191615E-2,5.1437926216191615E-2,15.5,52.5,-23.333352140938864,0.46270538653951276,41.85108664515856,1,1,0.46270538653951276,6.7523873587487668E-2]
[3.2636309034872038E-2,2.0291152674608195E-2,null,2.9740559249619374E-2,2.6583008500631854E-2,null,2.9740559249619374E-2,2.6583008500631854E-2,null,3.3905617159361828E-2,2.3720167285762456E-2,null,3.0891969792452241E-2,2.5228054588468656E-2,null,3.4132586403146675E-2,2.1601522019971373E-2,null,2.8348335687288468E-2,2.8658329127431877E-2,null,3.3905617159361828E-2,2.3720167285762456E-2,null,3.4528440302559929E-2,2.6446490529613134E-2,null,3.2636309034872038E-2,2.0291152674608195E-2,null,3.2636309034872038E-2,3.2636309034872038E-2,null,17,349,3.2636309034872038E-2,3.2636309034872038E-2,16.5,67.5,-23.333352140938864,0.98425992741981805,28.330613813688135,1,1,0.98425992741981805,6.4752956727985769E-2,null,null,null,null,null,null,17,349,3.2636309034872038E-2,3.2636309034872038E-2,16.5,67.5,-23.333352140938864,0.34578047297405351,28.330613813688135,1,1,0.34578047297405351,3.9026515056946889E-2]
[1.0703998996337838E-2,1.3534202970644796E-2,null,1.2603307489509724E-2,1.7498899050667621E-2,null,1.2603307489509724E-2,1.7498899050667621E-2,null,1.3032464862924044E-2,1.5973706541643286E-2,null,1.7053731004060033E-2,1.6020641135572392E-2,null,1.5817469801637507E-2,1.6858596232367726E-2,null,1.4272198377729304E-2,2.0755007986432122E-2,null,1.3032464862924044E-2,1.5973706541643286E-2,null,1.6990997255268789E-2,2.213683270461516E-2,null,1.0703998996337838E-2,1.3534202970644796E-2,null,1.0703998996337838E-2,1.0703998996337838E-2,null,18,349,1.0703998996337838E-2,1.0703998996337838E-2,17.5,82.5,-23.333352140938864,0.96038828636104134,15.051670779146651,1,1,0.96038828636104134,2.0982038361676399E-2,null,null,null,null,null,null,18,349,1.0703998996337838E-2,1.0703998996337838E-2,17.5,82.5,-23.333352140938864,-3.0729760067628713E-2,15.051670779146651,1,0,0,9.0986136456689005E-3]
[0,1.2913198487198413E-3,null,2.9706447996969467E-4,6.1575933999252659E-3,null,2.9706447996969467E-4,6.1575933999252659E-3,null,3.6736791494220165E-4,5.495284632585716E-3,null,5.9712594398586769E-3,7.4821533725218815E-3,null,2.1316039063015253E-3,7.9520901985411993E-3,null,2.4382677308759154E-3,1.0447734094693382E-2,null,3.6736791494220165E-4,5.495284632585716E-3,null,8.1656577095297819E-3,1.4040961933531257E-2,null,0,1.2913198487198413E-3,null,0,0,null,19,349,0,0,18.5,97.5,-23.333352140938864,0.64433611408344149,2.1338381526953913,1,1,0.64433611408344149,0,null,null,null,null,null,null,19,349,0,0,18.5,97.5,-23.333352140938864,-5.2413399325481622,2.1338381526953913,1,0,0,0]
[0,0,null,1.5316763274254192E-6,6.8925434734143864E-6,null,1.5316763274254192E-6,6.8925434734143864E-6,null,7.2674732106251822E-7,1.1627957137000292E-5,null,9.5302540367986919E-4,2.5749764972054887E-3,null,2.8084372942049083E-6,1.3129444350407944E-4,null,1.6498250315755842E-5,3.2041338771125809E-4,null,7.2674732106251822E-7,1.1627957137000292E-5,null,6.050525159401487E-4,5.6551361346602446E-3,null,0,0,null,0,0,null,20,349,0,0,19.5,112.5,-23.333352140938864,1.0916187280602261,-10.232926085162797,0,1,0,0,null,null,null,null,null,null,20,349,0,0,19.5,112.5,-23.333352140938864,2.1784034612219667,-10.232926085162797,0,1,0,0]
[null,null,null,null,null,null,null,null,null,null,null,null,null,null,null,null,null,null,null,null,null,null,null,null,null,null,null,null,null,null,null,null,null,null,null,null,null,null,null,null,null,null,null,null,null,{"$f":"SUM(AT206:AT221)","v":1.3024852501240938},null,null,null,null,null,null,null,null,null,null,null,null,null,null,null,null,null,null,{"$f":"SUM(BM206:BM221)","v":0.80545952889516981}]

{"sheet":"Versiones","index":10,"n_rows":3,"n_cols":4,"rows_kept":3,"cut":false,"hidden":true,"merged":[]}
[null,"Versiones y cambios realizados"]
[null,"Versión","Hoja, referencia","Comentarios y modificaciones"]
[null,"v2.12","Referencia M23","Se modificó fórmula para que contemple rendimiento general, de distribución y control y no solo el general"]

{"sheet":"Resumen","index":11,"n_rows":771,"n_cols":107,"rows_kept":771,"cut":false,"hidden":false,"merged":[[1,74,1,89],[1,91,1,106],[54,0,54,1],[3,29,3,33],[4,29,5,29],[10,7,19,9],[6,10,7,10],[6,9,7,9],[3,10,5,10]]}
[]
[null,"Demanda",null,null,null,null,null,null,null,null,null,null,null,null,null,null,null,null,null,null,null,null,null,null,null,null,null,null,null,null,null,null,null,null,null,null,null,null,null,null,null,null,null,null,null,null,null,null,null,null,null,null,null,null,null,null,"Valores de flujo promedio mensuales para caso propuesto con climatización",null,null,null,null,null,null,null,null,null,null,null,null,null,null,null,null,null,"Enero",null,null,null,null,null,null,null,null,null,null,null,null,null,null,null,null,"Julio"]
[null,null,null,null,null,null,null,null,null,null,null,null,null,null,null,null,null,null,null,null,null,null,null,null,null,null,null,null,null,null,null,null,null,null,null,null,null,null,null,null,null,null,null,null,null,null,null,null,null,null,null,null,null,null,null,null,null,"Mes","Q Sol [kWh]","Q Gen [kWh]","Q Envolvente [kWh]","Q Ventilación[kWh]","Q Infiltraciones [kWh]","Q Techo [kWh]","Q Muros [kWh]","Q Ventanas [kWh]","Q Piso Ventilado [kWh]","Q contra Terreno [kWh]","Q Puentes Térmicos [kWh]","Q Recuperado [kWh]","Q Demanda Calefacción [kWh]","Q Demanda Refrigeración [kWh]","Q Masa Interior [kWh]",null,"Hora","Q Sol [kWh]","Q Gen [kWh]","Q Envolvente [kWh]","Q Ventilación[kWh]","Q Infiltraciones [kWh]","Q Techo [kWh]","Q Muros [kWh]","Q Ventanas [kWh]","Q Piso Ventilado [kWh]","Q contra Terreno [kWh]","Q Puentes Térmicos [kWh]","Q Recuperado [kWh]","Q Demanda Calefacción [kWh]","Q Demanda Refrigeración [kWh]","Q Masa Interior [kWh]",null,"Hora","Q Sol [kWh]","Q Gen [kWh]","Q Envolvente [kWh]","Q Ventilación[kWh]","Q Infiltraciones [kWh]","Q Techo [kWh]","Q Muros [kWh]","Q Ventanas [kWh]","Q Piso Ventilado [kWh]","Q contra Terreno [kWh]","Q Puentes Térmicos [kWh]","Q Recuperado [kWh]","Q Demanda Calefacción [kWh]","Q Demanda Refrigeración [kWh]","Q Masa Interior [kWh]"]
[null,"Caso","Demanda","Demanda","Demanda","Demanda","% ahorro","% ahorro","Demanda","% Ahorro","Letra",null,null,null,31,28,31,30,31,30,31,31,30,31,30,31,null,null,null,"Demandas anuales por m2",null,null,null,null,null,null,null,null,null,null,null,null,null,null,null,null,null,null,null,null,null,null,null,null,null,1,1,"Enero",{"$f":"+SUMIFS(Resultados!G$6:G$316,Resultados!$E$6:$E$316,Resumen!$BE4,Resultados!$BF$6:$BF$316,\">=0\")*$BD4/1000","v":0},{"$f":"+SUMIFS(Resultados!H$6:H$316,Resultados!$E$6:$E$316,Resumen!$BE4,Resultados!$BF$6:$BF$316,\">=0\")*$BD4/1000","v":0},{"$f":"+SUMIFS(Resultados!U$6:U$316,Resultados!$E$6:$E$316,Resumen!$BE4,Resultados!$BF$6:$BF$316,\">=0\")*$BD4/1000","v":0},{"$f":"+SUMIFS(Resultados!AA$6:AA$316,Resultados!$E$6:$E$316,Resumen!$BE4,Resultados!$BF$6:$BF$316,\">=0\")*$BD4/1000","v":0},{"$f":"+SUMIFS(Resultados!AC$6:AC$316,Resultados!$E$6:$E$316,Resumen!$BE4,Resultados!$BF$6:$BF$316,\">=0\")*$BD4/1000","v":0},{"$f":"+SUMIFS(Resultados!X$6:X$316,Resultados!$E$6:$E$316,Resumen!$BE4,Resultados!$BF$6:$BF$316,\">=0\")*$BD4/1000","v":0},{"$f":"+SUMIFS(Resultados!Y$6:Y$316,Resultados!$E$6:$E$316,Resumen!$BE4,Resultados!$BF$6:$BF$316,\">=0\")*$BD4/1000","v":0},{"$f":"+SUMIFS(Resultados!W$6:W$316,Resultados!$E$6:$E$316,Resumen!$BE4,Resultados!$BF$6:$BF$316,\">=0\")*$BD4/1000","v":0},{"$f":"+SUMIFS(Resultados!V$6:V$316,Resultados!$E$6:$E$316,Resumen!$BE4,Resultados!$BF$6:$BF$316,\">=0\")*$BD4/1000","v":0},{"$f":"+SUMIFS(Resultados!Z$6:Z$316,Resultados!$E$6:$E$316,Resumen!$BE4,Resultados!$BF$6:$BF$316,\">=0\")*$BD4/1000","v":0},{"$f":"+SUMIFS(Resultados!AE$6:AE$316,Resultados!$E$6:$E$316,Resumen!$BE4,Resultados!$BF$6:$BF$316,\">=0\")*$BD4/1000","v":0},{"$f":"+SUMIFS(Resultados!AB$6:AB$316,Resultados!$E$6:$E$316,Resumen!$BE4,Resultados!$BF$6:$BF$316,\">=0\")*$BD4/1000","v":0},{"$f":"+SUMIFS(Resultados!AI$6:AI$316,Resultados!$E$6:$E$316,Resumen!$BE4,Resultados!$BF$6:$BF$316,\">=0\")*$BD4/1000","v":0},{"$f":"+SUMIFS(Resultados!AJ$6:AJ$316,Resultados!$E$6:$E$316,Resumen!$BE4,Resultados!$BF$6:$BF$316,\">=0\")*$BD4/1000","v":0},{"$f":"+SUMIFS(Resultados!AH$6:AH$316,Resultados!$E$6:$E$316,Resumen!$BE4,Resultados!$BF$6:$BF$316,\">=0\")*$BD4/1000","v":0},null,0,{"$f":"+Resultados!G6/1000","v":0},{"$f":"+Resultados!H6/1000","v":0},{"$f":"+Resultados!U6/1000","v":0},{"$f":"+Resultados!AA6/1000","v":0},{"$f":"+Resultados!AC6/1000","v":0},{"$f":"+Resultados!X6/1000","v":0},{"$f":"+Resultados!Y6/1000","v":0},{"$f":"+Resultados!W6/1000","v":0},{"$f":"+Resultados!V6/1000","v":0},{"$f":"+Resultados!Z6/1000","v":0},{"$f":"+Resultados!AE6/1000","v":0},{"$f":"+Resultados!AB6/1000","v":0},{"$f":"+Resultados!AI6/1000","v":0},{"$f":"+Resultados!AJ6/1000","v":0},{"$f":"+Resultados!AH6/1000","v":0},null,0,{"$f":"+Resultados!G162/1000","v":0},{"$f":"+Resultados!H162/1000","v":0},{"$f":"+Resultados!U162/1000","v":0},{"$f":"+Resultados!AA162/1000","v":0},{"$f":"+Resultados!AC162/1000","v":0},{"$f":"+Resultados!X162/1000","v":0},{"$f":"+Resultados!Y162/1000","v":0},{"$f":"+Resultados!W162/1000","v":0},{"$f":"+Resultados!V162/1000","v":0},{"$f":"+Resultados!Z162/1000","v":0},{"$f":"+Resultados!AE162/1000","v":0},{"$f":"+Resultados!AB162/1000","v":0},{"$f":"+Resultados!AI162/1000","v":0},{"$f":"+Resultados!AJ162/1000","v":0},{"$f":"+Resultados!AH162/1000","v":0}]
[null,null,"Calefacción","Refrigeración","Calefacción","Refrigeración","Demanda","Demanda","Total","Total",null,null,null,"Caso",1,{"$f":"+O5+1","v":2},{"$f":"+P5+1","v":3},{"$f":"+Q5+1","v":4},{"$f":"+R5+1","v":5},{"$f":"+S5+1","v":6},{"$f":"+T5+1","v":7},{"$f":"+U5+1","v":8},{"$f":"+V5+1","v":9},{"$f":"+W5+1","v":10},{"$f":"+X5+1","v":11},{"$f":"+Y5+1","v":12},"Total",null,null,"Zona RT - PDA","Calefacción","Enfriamiento","Calefacción","Enfriamiento",null,null,null,null,null,null,null,null,null,null,null,null,null,null,null,null,null,null,null,null,null,1,{"$f":"+BE4+1","v":2},"Febrero",{"$f":"+SUMIFS(Resultados!G$6:G$316,Resultados!$E$6:$E$316,Resumen!$BE5,Resultados!$BF$6:$BF$316,\">=0\")*$BD5/1000","v":0},{"$f":"+SUMIFS(Resultados!H$6:H$316,Resultados!$E$6:$E$316,Resumen!$BE5,Resultados!$BF$6:$BF$316,\">=0\")*$BD5/1000","v":0},{"$f":"+SUMIFS(Resultados!U$6:U$316,Resultados!$E$6:$E$316,Resumen!$BE5,Resultados!$BF$6:$BF$316,\">=0\")*$BD5/1000","v":0},{"$f":"+SUMIFS(Resultados!AA$6:AA$316,Resultados!$E$6:$E$316,Resumen!$BE5,Resultados!$BF$6:$BF$316,\">=0\")*$BD5/1000","v":0},{"$f":"+SUMIFS(Resultados!AC$6:AC$316,Resultados!$E$6:$E$316,Resumen!$BE5,Resultados!$BF$6:$BF$316,\">=0\")*$BD5/1000","v":0},{"$f":"+SUMIFS(Resultados!X$6:X$316,Resultados!$E$6:$E$316,Resumen!$BE5,Resultados!$BF$6:$BF$316,\">=0\")*$BD5/1000","v":0},{"$f":"+SUMIFS(Resultados!Y$6:Y$316,Resultados!$E$6:$E$316,Resumen!$BE5,Resultados!$BF$6:$BF$316,\">=0\")*$BD5/1000","v":0},{"$f":"+SUMIFS(Resultados!W$6:W$316,Resultados!$E$6:$E$316,Resumen!$BE5,Resultados!$BF$6:$BF$316,\">=0\")*$BD5/1000","v":0},{"$f":"+SUMIFS(Resultados!V$6:V$316,Resultados!$E$6:$E$316,Resumen!$BE5,Resultados!$BF$6:$BF$316,\">=0\")*$BD5/1000","v":0},{"$f":"+SUMIFS(Resultados!Z$6:Z$316,Resultados!$E$6:$E$316,Resumen!$BE5,Resultados!$BF$6:$BF$316,\">=0\")*$BD5/1000","v":0},{"$f":"+SUMIFS(Resultados!AE$6:AE$316,Resultados!$E$6:$E$316,Resumen!$BE5,Resultados!$BF$6:$BF$316,\">=0\")*$BD5/1000","v":0},{"$f":"+SUMIFS(Resultados!AB$6:AB$316,Resultados!$E$6:$E$316,Resumen!$BE5,Resultados!$BF$6:$BF$316,\">=0\")*$BD5/1000","v":0},{"$f":"+SUMIFS(Resultados!AI$6:AI$316,Resultados!$E$6:$E$316,Resumen!$BE5,Resultados!$BF$6:$BF$316,\">=0\")*$BD5/1000","v":0},{"$f":"+SUMIFS(Resultados!AJ$6:AJ$316,Resultados!$E$6:$E$316,Resumen!$BE5,Resultados!$BF$6:$BF$316,\">=0\")*$BD5/1000","v":0},{"$f":"+SUMIFS(Resultados!AH$6:AH$316,Resultados!$E$6:$E$316,Resumen!$BE5,Resultados!$BF$6:$BF$316,\">=0\")*$BD5/1000","v":0},null,{"$f":"+BW4+1","v":1},{"$f":"+Resultados!G7/1000","v":0},{"$f":"+Resultados!H7/1000","v":0},{"$f":"+Resultados!U7/1000","v":0},{"$f":"+Resultados!AA7/1000","v":0},{"$f":"+Resultados!AC7/1000","v":0},{"$f":"+Resultados!X7/1000","v":0},{"$f":"+Resultados!Y7/1000","v":0},{"$f":"+Resultados!W7/1000","v":0},{"$f":"+Resultados!V7/1000","v":0},{"$f":"+Resultados!Z7/1000","v":0},{"$f":"+Resultados!AE7/1000","v":0},{"$f":"+Resultados!AB7/1000","v":0},{"$f":"+Resultados!AI7/1000","v":0},{"$f":"+Resultados!AJ7/1000","v":0},{"$f":"+Resultados!AH7/1000","v":0},null,{"$f":"+CN4+1","v":1},{"$f":"+Resultados!G163/1000","v":0},{"$f":"+Resultados!H163/1000","v":0},{"$f":"+Resultados!U163/1000","v":0},{"$f":"+Resultados!AA163/1000","v":0},{"$f":"+Resultados!AC163/1000","v":0},{"$f":"+Resultados!X163/1000","v":0},{"$f":"+Resultados!Y163/1000","v":0},{"$f":"+Resultados!W163/1000","v":0},{"$f":"+Resultados!V163/1000","v":0},{"$f":"+Resultados!Z163/1000","v":0},{"$f":"+Resultados!AE163/1000","v":0},{"$f":"+Resultados!AB163/1000","v":0},{"$f":"+Resultados!AI163/1000","v":0},{"$f":"+Resultados!AJ163/1000","v":0},{"$f":"+Resultados!AH163/1000","v":0}]
[null,null,"[kWh-año]","[kWh-año]","[kWh/m2-año]","[kWh/m2-año]","Calefacción","Refrigeración","[kWh/m2-año]","[kWh/m2-año]",null,null,null,null,"Enero","Febrero","Marzo","Abril","Mayo","Junio","Julio","Agosto","Septiembre","Octubre","Noviembre","Diciembre","Total",null,null,null,"Casa","Casa","Depa","Depa",null,null,null,null,null,null,null,null,null,null,null,null,null,null,null,null,null,null,null,null,null,1,{"$f":"+BE5+1","v":3},"Marzo",{"$f":"+SUMIFS(Resultados!G$6:G$316,Resultados!$E$6:$E$316,Resumen!$BE6,Resultados!$BF$6:$BF$316,\">=0\")*$BD6/1000","v":0},{"$f":"+SUMIFS(Resultados!H$6:H$316,Resultados!$E$6:$E$316,Resumen!$BE6,Resultados!$BF$6:$BF$316,\">=0\")*$BD6/1000","v":0},{"$f":"+SUMIFS(Resultados!U$6:U$316,Resultados!$E$6:$E$316,Resumen!$BE6,Resultados!$BF$6:$BF$316,\">=0\")*$BD6/1000","v":0},{"$f":"+SUMIFS(Resultados!AA$6:AA$316,Resultados!$E$6:$E$316,Resumen!$BE6,Resultados!$BF$6:$BF$316,\">=0\")*$BD6/1000","v":0},{"$f":"+SUMIFS(Resultados!AC$6:AC$316,Resultados!$E$6:$E$316,Resumen!$BE6,Resultados!$BF$6:$BF$316,\">=0\")*$BD6/1000","v":0},{"$f":"+SUMIFS(Resultados!X$6:X$316,Resultados!$E$6:$E$316,Resumen!$BE6,Resultados!$BF$6:$BF$316,\">=0\")*$BD6/1000","v":0},{"$f":"+SUMIFS(Resultados!Y$6:Y$316,Resultados!$E$6:$E$316,Resumen!$BE6,Resultados!$BF$6:$BF$316,\">=0\")*$BD6/1000","v":0},{"$f":"+SUMIFS(Resultados!W$6:W$316,Resultados!$E$6:$E$316,Resumen!$BE6,Resultados!$BF$6:$BF$316,\">=0\")*$BD6/1000","v":0},{"$f":"+SUMIFS(Resultados!V$6:V$316,Resultados!$E$6:$E$316,Resumen!$BE6,Resultados!$BF$6:$BF$316,\">=0\")*$BD6/1000","v":0},{"$f":"+SUMIFS(Resultados!Z$6:Z$316,Resultados!$E$6:$E$316,Resumen!$BE6,Resultados!$BF$6:$BF$316,\">=0\")*$BD6/1000","v":0},{"$f":"+SUMIFS(Resultados!AE$6:AE$316,Resultados!$E$6:$E$316,Resumen!$BE6,Resultados!$BF$6:$BF$316,\">=0\")*$BD6/1000","v":0},{"$f":"+SUMIFS(Resultados!AB$6:AB$316,Resultados!$E$6:$E$316,Resumen!$BE6,Resultados!$BF$6:$BF$316,\">=0\")*$BD6/1000","v":0},{"$f":"+SUMIFS(Resultados!AI$6:AI$316,Resultados!$E$6:$E$316,Resumen!$BE6,Resultados!$BF$6:$BF$316,\">=0\")*$BD6/1000","v":0},{"$f":"+SUMIFS(Resultados!AJ$6:AJ$316,Resultados!$E$6:$E$316,Resumen!$BE6,Resultados!$BF$6:$BF$316,\">=0\")*$BD6/1000","v":0},{"$f":"+SUMIFS(Resultados!AH$6:AH$316,Resultados!$E$6:$E$316,Resumen!$BE6,Resultados!$BF$6:$BF$316,\">=0\")*$BD6/1000","v":0},null,{"$f":"+BW5+1","v":2},{"$f":"+Resultados!G8/1000","v":0},{"$f":"+Resultados!H8/1000","v":0},{"$f":"+Resultados!U8/1000","v":0},{"$f":"+Resultados!AA8/1000","v":0},{"$f":"+Resultados!AC8/1000","v":0},{"$f":"+Resultados!X8/1000","v":0},{"$f":"+Resultados!Y8/1000","v":0},{"$f":"+Resultados!W8/1000","v":0},{"$f":"+Resultados!V8/1000","v":0},{"$f":"+Resultados!Z8/1000","v":0},{"$f":"+Resultados!AE8/1000","v":0},{"$f":"+Resultados!AB8/1000","v":0},{"$f":"+Resultados!AI8/1000","v":0},{"$f":"+Resultados!AJ8/1000","v":0},{"$f":"+Resultados!AH8/1000","v":0},null,{"$f":"+CN5+1","v":2},{"$f":"+Resultados!G164/1000","v":0},{"$f":"+Resultados!H164/1000","v":0},{"$f":"+Resultados!U164/1000","v":0},{"$f":"+Resultados!AA164/1000","v":0},{"$f":"+Resultados!AC164/1000","v":0},{"$f":"+Resultados!X164/1000","v":0},{"$f":"+Resultados!Y164/1000","v":0},{"$f":"+Resultados!W164/1000","v":0},{"$f":"+Resultados!V164/1000","v":0},{"$f":"+Resultados!Z164/1000","v":0},{"$f":"+Resultados!AE164/1000","v":0},{"$f":"+Resultados!AB164/1000","v":0},{"$f":"+Resultados!AI164/1000","v":0},{"$f":"+Resultados!AJ164/1000","v":0},{"$f":"+Resultados!AH164/1000","v":0}]
[null,{"$f":"IF(+AVERAGE(AA20:AA23)=0,\"Caso Base de Prueba NO OFICIAL\",\"Caso Base Oficial\")","v":"Caso Base de Prueba NO OFICIAL"},{"$f":"IF(Resultados!C3000=\"\",\"Prueba no Oficial\",+AVERAGE(AA20:AA23))","v":"Prueba no Oficial"},{"$f":"IF(Resultados!C3000=\"\",\" Ejecutar 02.PBTD CON Caso Base\",+AVERAGE(AA25:AA28))","v":" Ejecutar 02.PBTD CON Caso Base"},{"$f":"IF(Resultados!C3000=\"\",AD21,+C7/'CEV CEVE'!$I$15)","v":{"$error":"#N/A"}},{"$f":"IF(Resultados!C3000=\"\",AD22,+D7/'CEV CEVE'!$I$15)","v":{"$error":"#N/A"}},"no aplica","no aplica",{"$f":"E7-F7","v":{"$error":"#N/A"}},{"$f":"IFERROR(1-I8/I7,0)","v":0},{"$f":"IF(J7>0.85,\"A+\",IF(J7>0.7,\"A\",IF(J7>0.55,\"B\",IF(J7>0.4,\"C\",IF(J7>0.2,\"D\",IF(J7>(-0.1),\"E\",IF(J7>(-0.35),\"F\",\"G\")))))))","v":"E"},null,"Demanda","Calefacción - Vivienda",{"$f":"+O19","v":0},0,0,0,0,0,0,0,0,0,0,0,{"$f":"+SUM(O7:Z7)","v":0},null,null,"A",55.3,141.1,12.9,46.8,null,null,null,null,null,null,null,null,null,null,null,null,null,null,null,null,null,null,null,null,null,1,4,"Abril",{"$f":"+SUMIFS(Resultados!G$6:G$316,Resultados!$E$6:$E$316,Resumen!$BE7,Resultados!$BF$6:$BF$316,\">=0\")*$BD7/1000","v":0},{"$f":"+SUMIFS(Resultados!H$6:H$316,Resultados!$E$6:$E$316,Resumen!$BE7,Resultados!$BF$6:$BF$316,\">=0\")*$BD7/1000","v":0},{"$f":"+SUMIFS(Resultados!U$6:U$316,Resultados!$E$6:$E$316,Resumen!$BE7,Resultados!$BF$6:$BF$316,\">=0\")*$BD7/1000","v":0},{"$f":"+SUMIFS(Resultados!AA$6:AA$316,Resultados!$E$6:$E$316,Resumen!$BE7,Resultados!$BF$6:$BF$316,\">=0\")*$BD7/1000","v":0},{"$f":"+SUMIFS(Resultados!AC$6:AC$316,Resultados!$E$6:$E$316,Resumen!$BE7,Resultados!$BF$6:$BF$316,\">=0\")*$BD7/1000","v":0},{"$f":"+SUMIFS(Resultados!X$6:X$316,Resultados!$E$6:$E$316,Resumen!$BE7,Resultados!$BF$6:$BF$316,\">=0\")*$BD7/1000","v":0},{"$f":"+SUMIFS(Resultados!Y$6:Y$316,Resultados!$E$6:$E$316,Resumen!$BE7,Resultados!$BF$6:$BF$316,\">=0\")*$BD7/1000","v":0},{"$f":"+SUMIFS(Resultados!W$6:W$316,Resultados!$E$6:$E$316,Resumen!$BE7,Resultados!$BF$6:$BF$316,\">=0\")*$BD7/1000","v":0},{"$f":"+SUMIFS(Resultados!V$6:V$316,Resultados!$E$6:$E$316,Resumen!$BE7,Resultados!$BF$6:$BF$316,\">=0\")*$BD7/1000","v":0},{"$f":"+SUMIFS(Resultados!Z$6:Z$316,Resultados!$E$6:$E$316,Resumen!$BE7,Resultados!$BF$6:$BF$316,\">=0\")*$BD7/1000","v":0},{"$f":"+SUMIFS(Resultados!AE$6:AE$316,Resultados!$E$6:$E$316,Resumen!$BE7,Resultados!$BF$6:$BF$316,\">=0\")*$BD7/1000","v":0},{"$f":"+SUMIFS(Resultados!AB$6:AB$316,Resultados!$E$6:$E$316,Resumen!$BE7,Resultados!$BF$6:$BF$316,\">=0\")*$BD7/1000","v":0},{"$f":"+SUMIFS(Resultados!AI$6:AI$316,Resultados!$E$6:$E$316,Resumen!$BE7,Resultados!$BF$6:$BF$316,\">=0\")*$BD7/1000","v":0},{"$f":"+SUMIFS(Resultados!AJ$6:AJ$316,Resultados!$E$6:$E$316,Resumen!$BE7,Resultados!$BF$6:$BF$316,\">=0\")*$BD7/1000","v":0},{"$f":"+SUMIFS(Resultados!AH$6:AH$316,Resultados!$E$6:$E$316,Resumen!$BE7,Resultados!$BF$6:$BF$316,\">=0\")*$BD7/1000","v":0},null,3,{"$f":"+Resultados!G9/1000","v":0},{"$f":"+Resultados!H9/1000","v":0},{"$f":"+Resultados!U9/1000","v":0},{"$f":"+Resultados!AA9/1000","v":0},{"$f":"+Resultados!AC9/1000","v":0},{"$f":"+Resultados!X9/1000","v":0},{"$f":"+Resultados!Y9/1000","v":0},{"$f":"+Resultados!W9/1000","v":0},{"$f":"+Resultados!V9/1000","v":0},{"$f":"+Resultados!Z9/1000","v":0},{"$f":"+Resultados!AE9/1000","v":0},{"$f":"+Resultados!AB9/1000","v":0},{"$f":"+Resultados!AI9/1000","v":0},{"$f":"+Resultados!AJ9/1000","v":0},{"$f":"+Resultados!AH9/1000","v":0},null,3,{"$f":"+Resultados!G165/1000","v":0},{"$f":"+Resultados!H165/1000","v":0},{"$f":"+Resultados!U165/1000","v":0},{"$f":"+Resultados!AA165/1000","v":0},{"$f":"+Resultados!AC165/1000","v":0},{"$f":"+Resultados!X165/1000","v":0},{"$f":"+Resultados!Y165/1000","v":0},{"$f":"+Resultados!W165/1000","v":0},{"$f":"+Resultados!V165/1000","v":0},{"$f":"+Resultados!Z165/1000","v":0},{"$f":"+Resultados!AE165/1000","v":0},{"$f":"+Resultados!AB165/1000","v":0},{"$f":"+Resultados!AI165/1000","v":0},{"$f":"+Resultados!AJ165/1000","v":0},{"$f":"+Resultados!AH165/1000","v":0}]
[null,"Caso Propuesto",{"$f":"+AA19","v":0},{"$f":"+AA24","v":0},{"$f":"+C8/'CEV CEVE'!$I$15","v":{"$error":"#DIV/0!"}},{"$f":"+D8/'CEV CEVE'!$I$15","v":{"$error":"#DIV/0!"}},{"$f":"+IFERROR(1-E8/$E$7,0)","v":0},{"$f":"+IFERROR(1-F8/$F$7,0)","v":0},{"$f":"E8-F8","v":{"$error":"#DIV/0!"}},null,null,null,"Calefacción [kWh]","Calefacción - Base",{"$f":"+AVERAGE(O20:O23)","v":0},0,0,0,0,0,0,0,0,0,0,0,{"$f":"+SUM(O8:Z8)","v":0},null,null,"B",205.4,171,66.900000000000006,51.6,null,null,null,null,null,null,null,null,null,null,null,null,null,null,null,null,null,null,null,null,null,1,5,"Mayo",{"$f":"+SUMIFS(Resultados!G$6:G$316,Resultados!$E$6:$E$316,Resumen!$BE8,Resultados!$BF$6:$BF$316,\">=0\")*$BD8/1000","v":0},{"$f":"+SUMIFS(Resultados!H$6:H$316,Resultados!$E$6:$E$316,Resumen!$BE8,Resultados!$BF$6:$BF$316,\">=0\")*$BD8/1000","v":0},{"$f":"+SUMIFS(Resultados!U$6:U$316,Resultados!$E$6:$E$316,Resumen!$BE8,Resultados!$BF$6:$BF$316,\">=0\")*$BD8/1000","v":0},{"$f":"+SUMIFS(Resultados!AA$6:AA$316,Resultados!$E$6:$E$316,Resumen!$BE8,Resultados!$BF$6:$BF$316,\">=0\")*$BD8/1000","v":0},{"$f":"+SUMIFS(Resultados!AC$6:AC$316,Resultados!$E$6:$E$316,Resumen!$BE8,Resultados!$BF$6:$BF$316,\">=0\")*$BD8/1000","v":0},{"$f":"+SUMIFS(Resultados!X$6:X$316,Resultados!$E$6:$E$316,Resumen!$BE8,Resultados!$BF$6:$BF$316,\">=0\")*$BD8/1000","v":0},{"$f":"+SUMIFS(Resultados!Y$6:Y$316,Resultados!$E$6:$E$316,Resumen!$BE8,Resultados!$BF$6:$BF$316,\">=0\")*$BD8/1000","v":0},{"$f":"+SUMIFS(Resultados!W$6:W$316,Resultados!$E$6:$E$316,Resumen!$BE8,Resultados!$BF$6:$BF$316,\">=0\")*$BD8/1000","v":0},{"$f":"+SUMIFS(Resultados!V$6:V$316,Resultados!$E$6:$E$316,Resumen!$BE8,Resultados!$BF$6:$BF$316,\">=0\")*$BD8/1000","v":0},{"$f":"+SUMIFS(Resultados!Z$6:Z$316,Resultados!$E$6:$E$316,Resumen!$BE8,Resultados!$BF$6:$BF$316,\">=0\")*$BD8/1000","v":0},{"$f":"+SUMIFS(Resultados!AE$6:AE$316,Resultados!$E$6:$E$316,Resumen!$BE8,Resultados!$BF$6:$BF$316,\">=0\")*$BD8/1000","v":0},{"$f":"+SUMIFS(Resultados!AB$6:AB$316,Resultados!$E$6:$E$316,Resumen!$BE8,Resultados!$BF$6:$BF$316,\">=0\")*$BD8/1000","v":0},{"$f":"+SUMIFS(Resultados!AI$6:AI$316,Resultados!$E$6:$E$316,Resumen!$BE8,Resultados!$BF$6:$BF$316,\">=0\")*$BD8/1000","v":0},{"$f":"+SUMIFS(Resultados!AJ$6:AJ$316,Resultados!$E$6:$E$316,Resumen!$BE8,Resultados!$BF$6:$BF$316,\">=0\")*$BD8/1000","v":0},{"$f":"+SUMIFS(Resultados!AH$6:AH$316,Resultados!$E$6:$E$316,Resumen!$BE8,Resultados!$BF$6:$BF$316,\">=0\")*$BD8/1000","v":0},null,4,{"$f":"+Resultados!G10/1000","v":0},{"$f":"+Resultados!H10/1000","v":0},{"$f":"+Resultados!U10/1000","v":0},{"$f":"+Resultados!AA10/1000","v":0},{"$f":"+Resultados!AC10/1000","v":0},{"$f":"+Resultados!X10/1000","v":0},{"$f":"+Resultados!Y10/1000","v":0},{"$f":"+Resultados!W10/1000","v":0},{"$f":"+Resultados!V10/1000","v":0},{"$f":"+Resultados!Z10/1000","v":0},{"$f":"+Resultados!AE10/1000","v":0},{"$f":"+Resultados!AB10/1000","v":0},{"$f":"+Resultados!AI10/1000","v":0},{"$f":"+Resultados!AJ10/1000","v":0},{"$f":"+Resultados!AH10/1000","v":0},null,4,{"$f":"+Resultados!G166/1000","v":0},{"$f":"+Resultados!H166/1000","v":0},{"$f":"+Resultados!U166/1000","v":0},{"$f":"+Resultados!AA166/1000","v":0},{"$f":"+Resultados!AC166/1000","v":0},{"$f":"+Resultados!X166/1000","v":0},{"$f":"+Resultados!Y166/1000","v":0},{"$f":"+Resultados!W166/1000","v":0},{"$f":"+Resultados!V166/1000","v":0},{"$f":"+Resultados!Z166/1000","v":0},{"$f":"+Resultados!AE166/1000","v":0},{"$f":"+Resultados!AB166/1000","v":0},{"$f":"+Resultados!AI166/1000","v":0},{"$f":"+Resultados!AJ166/1000","v":0},{"$f":"+Resultados!AH166/1000","v":0}]
[null,null,null,null,null,null,null,null,null,null,null,null,"Demanda","Refrigeración - Vivienda",{"$f":"+O24","v":0},0,0,0,0,0,0,0,0,0,0,0,0,null,null,"C",164.2,64.7,63.5,17.600000000000001,null,null,null,null,null,null,null,null,null,null,null,null,null,null,null,null,null,null,null,null,null,1,6,"Junio",{"$f":"+SUMIFS(Resultados!G$6:G$316,Resultados!$E$6:$E$316,Resumen!$BE9,Resultados!$BF$6:$BF$316,\">=0\")*$BD9/1000","v":0},{"$f":"+SUMIFS(Resultados!H$6:H$316,Resultados!$E$6:$E$316,Resumen!$BE9,Resultados!$BF$6:$BF$316,\">=0\")*$BD9/1000","v":0},{"$f":"+SUMIFS(Resultados!U$6:U$316,Resultados!$E$6:$E$316,Resumen!$BE9,Resultados!$BF$6:$BF$316,\">=0\")*$BD9/1000","v":0},{"$f":"+SUMIFS(Resultados!AA$6:AA$316,Resultados!$E$6:$E$316,Resumen!$BE9,Resultados!$BF$6:$BF$316,\">=0\")*$BD9/1000","v":0},{"$f":"+SUMIFS(Resultados!AC$6:AC$316,Resultados!$E$6:$E$316,Resumen!$BE9,Resultados!$BF$6:$BF$316,\">=0\")*$BD9/1000","v":0},{"$f":"+SUMIFS(Resultados!X$6:X$316,Resultados!$E$6:$E$316,Resumen!$BE9,Resultados!$BF$6:$BF$316,\">=0\")*$BD9/1000","v":0},{"$f":"+SUMIFS(Resultados!Y$6:Y$316,Resultados!$E$6:$E$316,Resumen!$BE9,Resultados!$BF$6:$BF$316,\">=0\")*$BD9/1000","v":0},{"$f":"+SUMIFS(Resultados!W$6:W$316,Resultados!$E$6:$E$316,Resumen!$BE9,Resultados!$BF$6:$BF$316,\">=0\")*$BD9/1000","v":0},{"$f":"+SUMIFS(Resultados!V$6:V$316,Resultados!$E$6:$E$316,Resumen!$BE9,Resultados!$BF$6:$BF$316,\">=0\")*$BD9/1000","v":0},{"$f":"+SUMIFS(Resultados!Z$6:Z$316,Resultados!$E$6:$E$316,Resumen!$BE9,Resultados!$BF$6:$BF$316,\">=0\")*$BD9/1000","v":0},{"$f":"+SUMIFS(Resultados!AE$6:AE$316,Resultados!$E$6:$E$316,Resumen!$BE9,Resultados!$BF$6:$BF$316,\">=0\")*$BD9/1000","v":0},{"$f":"+SUMIFS(Resultados!AB$6:AB$316,Resultados!$E$6:$E$316,Resumen!$BE9,Resultados!$BF$6:$BF$316,\">=0\")*$BD9/1000","v":0},{"$f":"+SUMIFS(Resultados!AI$6:AI$316,Resultados!$E$6:$E$316,Resumen!$BE9,Resultados!$BF$6:$BF$316,\">=0\")*$BD9/1000","v":0},{"$f":"+SUMIFS(Resultados!AJ$6:AJ$316,Resultados!$E$6:$E$316,Resumen!$BE9,Resultados!$BF$6:$BF$316,\">=0\")*$BD9/1000","v":0},{"$f":"+SUMIFS(Resultados!AH$6:AH$316,Resultados!$E$6:$E$316,Resumen!$BE9,Resultados!$BF$6:$BF$316,\">=0\")*$BD9/1000","v":0},null,5,{"$f":"+Resultados!G11/1000","v":0},{"$f":"+Resultados!H11/1000","v":0},{"$f":"+Resultados!U11/1000","v":0},{"$f":"+Resultados!AA11/1000","v":0},{"$f":"+Resultados!AC11/1000","v":0},{"$f":"+Resultados!X11/1000","v":0},{"$f":"+Resultados!Y11/1000","v":0},{"$f":"+Resultados!W11/1000","v":0},{"$f":"+Resultados!V11/1000","v":0},{"$f":"+Resultados!Z11/1000","v":0},{"$f":"+Resultados!AE11/1000","v":0},{"$f":"+Resultados!AB11/1000","v":0},{"$f":"+Resultados!AI11/1000","v":0},{"$f":"+Resultados!AJ11/1000","v":0},{"$f":"+Resultados!AH11/1000","v":0},null,5,{"$f":"+Resultados!G167/1000","v":0},{"$f":"+Resultados!H167/1000","v":0},{"$f":"+Resultados!U167/1000","v":0},{"$f":"+Resultados!AA167/1000","v":0},{"$f":"+Resultados!AC167/1000","v":0},{"$f":"+Resultados!X167/1000","v":0},{"$f":"+Resultados!Y167/1000","v":0},{"$f":"+Resultados!W167/1000","v":0},{"$f":"+Resultados!V167/1000","v":0},{"$f":"+Resultados!Z167/1000","v":0},{"$f":"+Resultados!AE167/1000","v":0},{"$f":"+Resultados!AB167/1000","v":0},{"$f":"+Resultados!AI167/1000","v":0},{"$f":"+Resultados!AJ167/1000","v":0},{"$f":"+Resultados!AH167/1000","v":0}]
[null,null,null,null,null,null,null,null,null,null,null,null,"Refrigeración [kWh]","Refrigeración - Base",{"$f":"+AVERAGE(O25:O28)","v":0},0,0,0,0,0,0,0,0,0,0,0,0,null,null,"D",152.5,72.3,85.1,28.4,null,null,null,null,null,null,null,null,null,null,null,null,null,null,null,null,null,null,null,null,null,1,7,"Julio",{"$f":"+SUMIFS(Resultados!G$6:G$316,Resultados!$E$6:$E$316,Resumen!$BE10,Resultados!$BF$6:$BF$316,\">=0\")*$BD10/1000","v":0},{"$f":"+SUMIFS(Resultados!H$6:H$316,Resultados!$E$6:$E$316,Resumen!$BE10,Resultados!$BF$6:$BF$316,\">=0\")*$BD10/1000","v":0},{"$f":"+SUMIFS(Resultados!U$6:U$316,Resultados!$E$6:$E$316,Resumen!$BE10,Resultados!$BF$6:$BF$316,\">=0\")*$BD10/1000","v":0},{"$f":"+SUMIFS(Resultados!AA$6:AA$316,Resultados!$E$6:$E$316,Resumen!$BE10,Resultados!$BF$6:$BF$316,\">=0\")*$BD10/1000","v":0},{"$f":"+SUMIFS(Resultados!AC$6:AC$316,Resultados!$E$6:$E$316,Resumen!$BE10,Resultados!$BF$6:$BF$316,\">=0\")*$BD10/1000","v":0},{"$f":"+SUMIFS(Resultados!X$6:X$316,Resultados!$E$6:$E$316,Resumen!$BE10,Resultados!$BF$6:$BF$316,\">=0\")*$BD10/1000","v":0},{"$f":"+SUMIFS(Resultados!Y$6:Y$316,Resultados!$E$6:$E$316,Resumen!$BE10,Resultados!$BF$6:$BF$316,\">=0\")*$BD10/1000","v":0},{"$f":"+SUMIFS(Resultados!W$6:W$316,Resultados!$E$6:$E$316,Resumen!$BE10,Resultados!$BF$6:$BF$316,\">=0\")*$BD10/1000","v":0},{"$f":"+SUMIFS(Resultados!V$6:V$316,Resultados!$E$6:$E$316,Resumen!$BE10,Resultados!$BF$6:$BF$316,\">=0\")*$BD10/1000","v":0},{"$f":"+SUMIFS(Resultados!Z$6:Z$316,Resultados!$E$6:$E$316,Resumen!$BE10,Resultados!$BF$6:$BF$316,\">=0\")*$BD10/1000","v":0},{"$f":"+SUMIFS(Resultados!AE$6:AE$316,Resultados!$E$6:$E$316,Resumen!$BE10,Resultados!$BF$6:$BF$316,\">=0\")*$BD10/1000","v":0},{"$f":"+SUMIFS(Resultados!AB$6:AB$316,Resultados!$E$6:$E$316,Resumen!$BE10,Resultados!$BF$6:$BF$316,\">=0\")*$BD10/1000","v":0},{"$f":"+SUMIFS(Resultados!AI$6:AI$316,Resultados!$E$6:$E$316,Resumen!$BE10,Resultados!$BF$6:$BF$316,\">=0\")*$BD10/1000","v":0},{"$f":"+SUMIFS(Resultados!AJ$6:AJ$316,Resultados!$E$6:$E$316,Resumen!$BE10,Resultados!$BF$6:$BF$316,\">=0\")*$BD10/1000","v":0},{"$f":"+SUMIFS(Resultados!AH$6:AH$316,Resultados!$E$6:$E$316,Resumen!$BE10,Resultados!$BF$6:$BF$316,\">=0\")*$BD10/1000","v":0},null,6,{"$f":"+Resultados!G12/1000","v":0},{"$f":"+Resultados!H12/1000","v":0},{"$f":"+Resultados!U12/1000","v":0},{"$f":"+Resultados!AA12/1000","v":0},{"$f":"+Resultados!AC12/1000","v":0},{"$f":"+Resultados!X12/1000","v":0},{"$f":"+Resultados!Y12/1000","v":0},{"$f":"+Resultados!W12/1000","v":0},{"$f":"+Resultados!V12/1000","v":0},{"$f":"+Resultados!Z12/1000","v":0},{"$f":"+Resultados!AE12/1000","v":0},{"$f":"+Resultados!AB12/1000","v":0},{"$f":"+Resultados!AI12/1000","v":0},{"$f":"+Resultados!AJ12/1000","v":0},{"$f":"+Resultados!AH12/1000","v":0},null,6,{"$f":"+Resultados!G168/1000","v":0},{"$f":"+Resultados!H168/1000","v":0},{"$f":"+Resultados!U168/1000","v":0},{"$f":"+Resultados!AA168/1000","v":0},{"$f":"+Resultados!AC168/1000","v":0},{"$f":"+Resultados!X168/1000","v":0},{"$f":"+Resultados!Y168/1000","v":0},{"$f":"+Resultados!W168/1000","v":0},{"$f":"+Resultados!V168/1000","v":0},{"$f":"+Resultados!Z168/1000","v":0},{"$f":"+Resultados!AE168/1000","v":0},{"$f":"+Resultados!AB168/1000","v":0},{"$f":"+Resultados!AI168/1000","v":0},{"$f":"+Resultados!AJ168/1000","v":0},{"$f":"+Resultados!AH168/1000","v":0}]
[null,"Caso","Horas ","Horas ","Tiempo en ","Tiempo en ",null,{"$f":"IF(Resultados!C3000=\"\",\"Prueba no Oficial, favor ejecutar 02.PBTD (CON CASO BASE)\",\"\")","v":"Prueba no Oficial, favor ejecutar 02.PBTD (CON CASO BASE)"},null,null,null,null,null,null,null,null,null,null,null,null,null,null,null,null,null,null,null,null,null,"E ",158.30000000000001,39.799999999999997,96.8,15.3,null,null,null,null,null,null,null,null,null,null,null,null,null,null,null,null,null,null,null,null,null,1,8,"Agosto",{"$f":"+SUMIFS(Resultados!G$6:G$316,Resultados!$E$6:$E$316,Resumen!$BE11,Resultados!$BF$6:$BF$316,\">=0\")*$BD11/1000","v":0},{"$f":"+SUMIFS(Resultados!H$6:H$316,Resultados!$E$6:$E$316,Resumen!$BE11,Resultados!$BF$6:$BF$316,\">=0\")*$BD11/1000","v":0},{"$f":"+SUMIFS(Resultados!U$6:U$316,Resultados!$E$6:$E$316,Resumen!$BE11,Resultados!$BF$6:$BF$316,\">=0\")*$BD11/1000","v":0},{"$f":"+SUMIFS(Resultados!AA$6:AA$316,Resultados!$E$6:$E$316,Resumen!$BE11,Resultados!$BF$6:$BF$316,\">=0\")*$BD11/1000","v":0},{"$f":"+SUMIFS(Resultados!AC$6:AC$316,Resultados!$E$6:$E$316,Resumen!$BE11,Resultados!$BF$6:$BF$316,\">=0\")*$BD11/1000","v":0},{"$f":"+SUMIFS(Resultados!X$6:X$316,Resultados!$E$6:$E$316,Resumen!$BE11,Resultados!$BF$6:$BF$316,\">=0\")*$BD11/1000","v":0},{"$f":"+SUMIFS(Resultados!Y$6:Y$316,Resultados!$E$6:$E$316,Resumen!$BE11,Resultados!$BF$6:$BF$316,\">=0\")*$BD11/1000","v":0},{"$f":"+SUMIFS(Resultados!W$6:W$316,Resultados!$E$6:$E$316,Resumen!$BE11,Resultados!$BF$6:$BF$316,\">=0\")*$BD11/1000","v":0},{"$f":"+SUMIFS(Resultados!V$6:V$316,Resultados!$E$6:$E$316,Resumen!$BE11,Resultados!$BF$6:$BF$316,\">=0\")*$BD11/1000","v":0},{"$f":"+SUMIFS(Resultados!Z$6:Z$316,Resultados!$E$6:$E$316,Resumen!$BE11,Resultados!$BF$6:$BF$316,\">=0\")*$BD11/1000","v":0},{"$f":"+SUMIFS(Resultados!AE$6:AE$316,Resultados!$E$6:$E$316,Resumen!$BE11,Resultados!$BF$6:$BF$316,\">=0\")*$BD11/1000","v":0},{"$f":"+SUMIFS(Resultados!AB$6:AB$316,Resultados!$E$6:$E$316,Resumen!$BE11,Resultados!$BF$6:$BF$316,\">=0\")*$BD11/1000","v":0},{"$f":"+SUMIFS(Resultados!AI$6:AI$316,Resultados!$E$6:$E$316,Resumen!$BE11,Resultados!$BF$6:$BF$316,\">=0\")*$BD11/1000","v":0},{"$f":"+SUMIFS(Resultados!AJ$6:AJ$316,Resultados!$E$6:$E$316,Resumen!$BE11,Resultados!$BF$6:$BF$316,\">=0\")*$BD11/1000","v":0},{"$f":"+SUMIFS(Resultados!AH$6:AH$316,Resultados!$E$6:$E$316,Resumen!$BE11,Resultados!$BF$6:$BF$316,\">=0\")*$BD11/1000","v":0},null,7,{"$f":"+Resultados!G13/1000","v":0},{"$f":"+Resultados!H13/1000","v":0},{"$f":"+Resultados!U13/1000","v":0},{"$f":"+Resultados!AA13/1000","v":0},{"$f":"+Resultados!AC13/1000","v":0},{"$f":"+Resultados!X13/1000","v":0},{"$f":"+Resultados!Y13/1000","v":0},{"$f":"+Resultados!W13/1000","v":0},{"$f":"+Resultados!V13/1000","v":0},{"$f":"+Resultados!Z13/1000","v":0},{"$f":"+Resultados!AE13/1000","v":0},{"$f":"+Resultados!AB13/1000","v":0},{"$f":"+Resultados!AI13/1000","v":0},{"$f":"+Resultados!AJ13/1000","v":0},{"$f":"+Resultados!AH13/1000","v":0},null,7,{"$f":"+Resultados!G169/1000","v":0},{"$f":"+Resultados!H169/1000","v":0},{"$f":"+Resultados!U169/1000","v":0},{"$f":"+Resultados!AA169/1000","v":0},{"$f":"+Resultados!AC169/1000","v":0},{"$f":"+Resultados!X169/1000","v":0},{"$f":"+Resultados!Y169/1000","v":0},{"$f":"+Resultados!W169/1000","v":0},{"$f":"+Resultados!V169/1000","v":0},{"$f":"+Resultados!Z169/1000","v":0},{"$f":"+Resultados!AE169/1000","v":0},{"$f":"+Resultados!AB169/1000","v":0},{"$f":"+Resultados!AI169/1000","v":0},{"$f":"+Resultados!AJ169/1000","v":0},{"$f":"+Resultados!AH169/1000","v":0}]
[null,"(con un máximo de 24hrs","Disconfort","Disconfort","Disconfort del","Disconfort del",null,null,null,null,null,null,"HD (+) [hrs]","Enfriamiento: HD(-) - Vivienda",{"$f":"+O30","v":0},0,0,0,0,0,0,0,0,0,0,0,{"$f":"+SUM(O12:Z12)","v":0},null,null,"F",170.3,39.299999999999997,107.9,15.3,null,null,null,null,null,null,null,null,null,null,null,null,null,null,null,null,null,null,null,null,null,1,9,"Septiembre",{"$f":"+SUMIFS(Resultados!G$6:G$316,Resultados!$E$6:$E$316,Resumen!$BE12,Resultados!$BF$6:$BF$316,\">=0\")*$BD12/1000","v":0},{"$f":"+SUMIFS(Resultados!H$6:H$316,Resultados!$E$6:$E$316,Resumen!$BE12,Resultados!$BF$6:$BF$316,\">=0\")*$BD12/1000","v":0},{"$f":"+SUMIFS(Resultados!U$6:U$316,Resultados!$E$6:$E$316,Resumen!$BE12,Resultados!$BF$6:$BF$316,\">=0\")*$BD12/1000","v":0},{"$f":"+SUMIFS(Resultados!AA$6:AA$316,Resultados!$E$6:$E$316,Resumen!$BE12,Resultados!$BF$6:$BF$316,\">=0\")*$BD12/1000","v":0},{"$f":"+SUMIFS(Resultados!AC$6:AC$316,Resultados!$E$6:$E$316,Resumen!$BE12,Resultados!$BF$6:$BF$316,\">=0\")*$BD12/1000","v":0},{"$f":"+SUMIFS(Resultados!X$6:X$316,Resultados!$E$6:$E$316,Resumen!$BE12,Resultados!$BF$6:$BF$316,\">=0\")*$BD12/1000","v":0},{"$f":"+SUMIFS(Resultados!Y$6:Y$316,Resultados!$E$6:$E$316,Resumen!$BE12,Resultados!$BF$6:$BF$316,\">=0\")*$BD12/1000","v":0},{"$f":"+SUMIFS(Resultados!W$6:W$316,Resultados!$E$6:$E$316,Resumen!$BE12,Resultados!$BF$6:$BF$316,\">=0\")*$BD12/1000","v":0},{"$f":"+SUMIFS(Resultados!V$6:V$316,Resultados!$E$6:$E$316,Resumen!$BE12,Resultados!$BF$6:$BF$316,\">=0\")*$BD12/1000","v":0},{"$f":"+SUMIFS(Resultados!Z$6:Z$316,Resultados!$E$6:$E$316,Resumen!$BE12,Resultados!$BF$6:$BF$316,\">=0\")*$BD12/1000","v":0},{"$f":"+SUMIFS(Resultados!AE$6:AE$316,Resultados!$E$6:$E$316,Resumen!$BE12,Resultados!$BF$6:$BF$316,\">=0\")*$BD12/1000","v":0},{"$f":"+SUMIFS(Resultados!AB$6:AB$316,Resultados!$E$6:$E$316,Resumen!$BE12,Resultados!$BF$6:$BF$316,\">=0\")*$BD12/1000","v":0},{"$f":"+SUMIFS(Resultados!AI$6:AI$316,Resultados!$E$6:$E$316,Resumen!$BE12,Resultados!$BF$6:$BF$316,\">=0\")*$BD12/1000","v":0},{"$f":"+SUMIFS(Resultados!AJ$6:AJ$316,Resultados!$E$6:$E$316,Resumen!$BE12,Resultados!$BF$6:$BF$316,\">=0\")*$BD12/1000","v":0},{"$f":"+SUMIFS(Resultados!AH$6:AH$316,Resultados!$E$6:$E$316,Resumen!$BE12,Resultados!$BF$6:$BF$316,\">=0\")*$BD12/1000","v":0},null,8,{"$f":"+Resultados!G14/1000","v":0},{"$f":"+Resultados!H14/1000","v":0},{"$f":"+Resultados!U14/1000","v":0},{"$f":"+Resultados!AA14/1000","v":0},{"$f":"+Resultados!AC14/1000","v":0},{"$f":"+Resultados!X14/1000","v":0},{"$f":"+Resultados!Y14/1000","v":0},{"$f":"+Resultados!W14/1000","v":0},{"$f":"+Resultados!V14/1000","v":0},{"$f":"+Resultados!Z14/1000","v":0},{"$f":"+Resultados!AE14/1000","v":0},{"$f":"+Resultados!AB14/1000","v":0},{"$f":"+Resultados!AI14/1000","v":0},{"$f":"+Resultados!AJ14/1000","v":0},{"$f":"+Resultados!AH14/1000","v":0},null,8,{"$f":"+Resultados!G170/1000","v":0},{"$f":"+Resultados!H170/1000","v":0},{"$f":"+Resultados!U170/1000","v":0},{"$f":"+Resultados!AA170/1000","v":0},{"$f":"+Resultados!AC170/1000","v":0},{"$f":"+Resultados!X170/1000","v":0},{"$f":"+Resultados!Y170/1000","v":0},{"$f":"+Resultados!W170/1000","v":0},{"$f":"+Resultados!V170/1000","v":0},{"$f":"+Resultados!Z170/1000","v":0},{"$f":"+Resultados!AE170/1000","v":0},{"$f":"+Resultados!AB170/1000","v":0},{"$f":"+Resultados!AI170/1000","v":0},{"$f":"+Resultados!AJ170/1000","v":0},{"$f":"+Resultados!AH170/1000","v":0}]
[null,"x 12 meses) Total = 288hrs","frio HD (-]","calor HD (+]","total HD (-)","total HD (+)",null,null,null,null,null,null,null,"Enfriamiento: HD(-) - Base",{"$f":"+AVERAGE(O31:O34)","v":0},0,0,0,0,0,0,0,0,0,0,0,{"$f":"+SUM(O13:Z13)","v":0},null,null,"G",162.5,24.2,114.7,11.2,null,null,null,null,null,null,null,null,null,null,null,null,null,null,null,null,null,null,null,null,null,1,10,"Octubre",{"$f":"+SUMIFS(Resultados!G$6:G$316,Resultados!$E$6:$E$316,Resumen!$BE13,Resultados!$BF$6:$BF$316,\">=0\")*$BD13/1000","v":0},{"$f":"+SUMIFS(Resultados!H$6:H$316,Resultados!$E$6:$E$316,Resumen!$BE13,Resultados!$BF$6:$BF$316,\">=0\")*$BD13/1000","v":0},{"$f":"+SUMIFS(Resultados!U$6:U$316,Resultados!$E$6:$E$316,Resumen!$BE13,Resultados!$BF$6:$BF$316,\">=0\")*$BD13/1000","v":0},{"$f":"+SUMIFS(Resultados!AA$6:AA$316,Resultados!$E$6:$E$316,Resumen!$BE13,Resultados!$BF$6:$BF$316,\">=0\")*$BD13/1000","v":0},{"$f":"+SUMIFS(Resultados!AC$6:AC$316,Resultados!$E$6:$E$316,Resumen!$BE13,Resultados!$BF$6:$BF$316,\">=0\")*$BD13/1000","v":0},{"$f":"+SUMIFS(Resultados!X$6:X$316,Resultados!$E$6:$E$316,Resumen!$BE13,Resultados!$BF$6:$BF$316,\">=0\")*$BD13/1000","v":0},{"$f":"+SUMIFS(Resultados!Y$6:Y$316,Resultados!$E$6:$E$316,Resumen!$BE13,Resultados!$BF$6:$BF$316,\">=0\")*$BD13/1000","v":0},{"$f":"+SUMIFS(Resultados!W$6:W$316,Resultados!$E$6:$E$316,Resumen!$BE13,Resultados!$BF$6:$BF$316,\">=0\")*$BD13/1000","v":0},{"$f":"+SUMIFS(Resultados!V$6:V$316,Resultados!$E$6:$E$316,Resumen!$BE13,Resultados!$BF$6:$BF$316,\">=0\")*$BD13/1000","v":0},{"$f":"+SUMIFS(Resultados!Z$6:Z$316,Resultados!$E$6:$E$316,Resumen!$BE13,Resultados!$BF$6:$BF$316,\">=0\")*$BD13/1000","v":0},{"$f":"+SUMIFS(Resultados!AE$6:AE$316,Resultados!$E$6:$E$316,Resumen!$BE13,Resultados!$BF$6:$BF$316,\">=0\")*$BD13/1000","v":0},{"$f":"+SUMIFS(Resultados!AB$6:AB$316,Resultados!$E$6:$E$316,Resumen!$BE13,Resultados!$BF$6:$BF$316,\">=0\")*$BD13/1000","v":0},{"$f":"+SUMIFS(Resultados!AI$6:AI$316,Resultados!$E$6:$E$316,Resumen!$BE13,Resultados!$BF$6:$BF$316,\">=0\")*$BD13/1000","v":0},{"$f":"+SUMIFS(Resultados!AJ$6:AJ$316,Resultados!$E$6:$E$316,Resumen!$BE13,Resultados!$BF$6:$BF$316,\">=0\")*$BD13/1000","v":0},{"$f":"+SUMIFS(Resultados!AH$6:AH$316,Resultados!$E$6:$E$316,Resumen!$BE13,Resultados!$BF$6:$BF$316,\">=0\")*$BD13/1000","v":0},null,9,{"$f":"+Resultados!G15/1000","v":0},{"$f":"+Resultados!H15/1000","v":0},{"$f":"+Resultados!U15/1000","v":0},{"$f":"+Resultados!AA15/1000","v":0},{"$f":"+Resultados!AC15/1000","v":0},{"$f":"+Resultados!X15/1000","v":0},{"$f":"+Resultados!Y15/1000","v":0},{"$f":"+Resultados!W15/1000","v":0},{"$f":"+Resultados!V15/1000","v":0},{"$f":"+Resultados!Z15/1000","v":0},{"$f":"+Resultados!AE15/1000","v":0},{"$f":"+Resultados!AB15/1000","v":0},{"$f":"+Resultados!AI15/1000","v":0},{"$f":"+Resultados!AJ15/1000","v":0},{"$f":"+Resultados!AH15/1000","v":0},null,9,{"$f":"+Resultados!G171/1000","v":0},{"$f":"+Resultados!H171/1000","v":0},{"$f":"+Resultados!U171/1000","v":0},{"$f":"+Resultados!AA171/1000","v":0},{"$f":"+Resultados!AC171/1000","v":0},{"$f":"+Resultados!X171/1000","v":0},{"$f":"+Resultados!Y171/1000","v":0},{"$f":"+Resultados!W171/1000","v":0},{"$f":"+Resultados!V171/1000","v":0},{"$f":"+Resultados!Z171/1000","v":0},{"$f":"+Resultados!AE171/1000","v":0},{"$f":"+Resultados!AB171/1000","v":0},{"$f":"+Resultados!AI171/1000","v":0},{"$f":"+Resultados!AJ171/1000","v":0},{"$f":"+Resultados!AH171/1000","v":0}]
[null,"Caso Base",{"$f":"+AVERAGE(AA31:AA34)","v":0},{"$f":"+AVERAGE(AA36:AA39)","v":0},{"$f":"+C14/(24*12)","v":0},{"$f":"+D14/(24*12)","v":0},null,null,null,null,null,null,"HD (-) [hrs]","Sobrecalentamiento: HD(+) - Vivienda",{"$f":"+O35","v":0},0,0,0,0,0,0,0,0,0,0,0,{"$f":"+SUM(O14:Z14)","v":0},null,null,"H",264.39999999999998,1.6,220.2,1.5,null,null,null,null,null,null,null,null,null,null,null,null,null,null,null,null,null,null,null,null,null,1,11,"Noviembre",{"$f":"+SUMIFS(Resultados!G$6:G$316,Resultados!$E$6:$E$316,Resumen!$BE14,Resultados!$BF$6:$BF$316,\">=0\")*$BD14/1000","v":0},{"$f":"+SUMIFS(Resultados!H$6:H$316,Resultados!$E$6:$E$316,Resumen!$BE14,Resultados!$BF$6:$BF$316,\">=0\")*$BD14/1000","v":0},{"$f":"+SUMIFS(Resultados!U$6:U$316,Resultados!$E$6:$E$316,Resumen!$BE14,Resultados!$BF$6:$BF$316,\">=0\")*$BD14/1000","v":0},{"$f":"+SUMIFS(Resultados!AA$6:AA$316,Resultados!$E$6:$E$316,Resumen!$BE14,Resultados!$BF$6:$BF$316,\">=0\")*$BD14/1000","v":0},{"$f":"+SUMIFS(Resultados!AC$6:AC$316,Resultados!$E$6:$E$316,Resumen!$BE14,Resultados!$BF$6:$BF$316,\">=0\")*$BD14/1000","v":0},{"$f":"+SUMIFS(Resultados!X$6:X$316,Resultados!$E$6:$E$316,Resumen!$BE14,Resultados!$BF$6:$BF$316,\">=0\")*$BD14/1000","v":0},{"$f":"+SUMIFS(Resultados!Y$6:Y$316,Resultados!$E$6:$E$316,Resumen!$BE14,Resultados!$BF$6:$BF$316,\">=0\")*$BD14/1000","v":0},{"$f":"+SUMIFS(Resultados!W$6:W$316,Resultados!$E$6:$E$316,Resumen!$BE14,Resultados!$BF$6:$BF$316,\">=0\")*$BD14/1000","v":0},{"$f":"+SUMIFS(Resultados!V$6:V$316,Resultados!$E$6:$E$316,Resumen!$BE14,Resultados!$BF$6:$BF$316,\">=0\")*$BD14/1000","v":0},{"$f":"+SUMIFS(Resultados!Z$6:Z$316,Resultados!$E$6:$E$316,Resumen!$BE14,Resultados!$BF$6:$BF$316,\">=0\")*$BD14/1000","v":0},{"$f":"+SUMIFS(Resultados!AE$6:AE$316,Resultados!$E$6:$E$316,Resumen!$BE14,Resultados!$BF$6:$BF$316,\">=0\")*$BD14/1000","v":0},{"$f":"+SUMIFS(Resultados!AB$6:AB$316,Resultados!$E$6:$E$316,Resumen!$BE14,Resultados!$BF$6:$BF$316,\">=0\")*$BD14/1000","v":0},{"$f":"+SUMIFS(Resultados!AI$6:AI$316,Resultados!$E$6:$E$316,Resumen!$BE14,Resultados!$BF$6:$BF$316,\">=0\")*$BD14/1000","v":0},{"$f":"+SUMIFS(Resultados!AJ$6:AJ$316,Resultados!$E$6:$E$316,Resumen!$BE14,Resultados!$BF$6:$BF$316,\">=0\")*$BD14/1000","v":0},{"$f":"+SUMIFS(Resultados!AH$6:AH$316,Resultados!$E$6:$E$316,Resumen!$BE14,Resultados!$BF$6:$BF$316,\">=0\")*$BD14/1000","v":0},null,10,{"$f":"+Resultados!G16/1000","v":0},{"$f":"+Resultados!H16/1000","v":0},{"$f":"+Resultados!U16/1000","v":0},{"$f":"+Resultados!AA16/1000","v":0},{"$f":"+Resultados!AC16/1000","v":0},{"$f":"+Resultados!X16/1000","v":0},{"$f":"+Resultados!Y16/1000","v":0},{"$f":"+Resultados!W16/1000","v":0},{"$f":"+Resultados!V16/1000","v":0},{"$f":"+Resultados!Z16/1000","v":0},{"$f":"+Resultados!AE16/1000","v":0},{"$f":"+Resultados!AB16/1000","v":0},{"$f":"+Resultados!AI16/1000","v":0},{"$f":"+Resultados!AJ16/1000","v":0},{"$f":"+Resultados!AH16/1000","v":0},null,10,{"$f":"+Resultados!G172/1000","v":0},{"$f":"+Resultados!H172/1000","v":0},{"$f":"+Resultados!U172/1000","v":0},{"$f":"+Resultados!AA172/1000","v":0},{"$f":"+Resultados!AC172/1000","v":0},{"$f":"+Resultados!X172/1000","v":0},{"$f":"+Resultados!Y172/1000","v":0},{"$f":"+Resultados!W172/1000","v":0},{"$f":"+Resultados!V172/1000","v":0},{"$f":"+Resultados!Z172/1000","v":0},{"$f":"+Resultados!AE172/1000","v":0},{"$f":"+Resultados!AB172/1000","v":0},{"$f":"+Resultados!AI172/1000","v":0},{"$f":"+Resultados!AJ172/1000","v":0},{"$f":"+Resultados!AH172/1000","v":0}]
[null,"Caso Propuesto",{"$f":"+AA30","v":0},{"$f":"+AA35","v":0},{"$f":"+C15/(24*12)","v":0},{"$f":"+D15/(24*12)","v":0},null,null,null,null,null,null,null,"Sobrecalentamiento: HD(+) - Base",{"$f":"+AVERAGE(O36:O39)","v":0},0,0,0,0,0,0,0,0,0,0,0,{"$f":"+SUM(O15:Z15)","v":0},null,null,"I",264.39999999999998,1.6,220.2,1.5,null,null,null,null,null,null,null,null,null,null,null,null,null,null,null,null,null,null,null,null,null,1,{"$f":"+BE14+1","v":12},"Diciembre",{"$f":"+SUMIFS(Resultados!G$6:G$316,Resultados!$E$6:$E$316,Resumen!$BE15,Resultados!$BF$6:$BF$316,\">=0\")*$BD15/1000","v":0},{"$f":"+SUMIFS(Resultados!H$6:H$316,Resultados!$E$6:$E$316,Resumen!$BE15,Resultados!$BF$6:$BF$316,\">=0\")*$BD15/1000","v":0},{"$f":"+SUMIFS(Resultados!U$6:U$316,Resultados!$E$6:$E$316,Resumen!$BE15,Resultados!$BF$6:$BF$316,\">=0\")*$BD15/1000","v":0},{"$f":"+SUMIFS(Resultados!AA$6:AA$316,Resultados!$E$6:$E$316,Resumen!$BE15,Resultados!$BF$6:$BF$316,\">=0\")*$BD15/1000","v":0},{"$f":"+SUMIFS(Resultados!AC$6:AC$316,Resultados!$E$6:$E$316,Resumen!$BE15,Resultados!$BF$6:$BF$316,\">=0\")*$BD15/1000","v":0},{"$f":"+SUMIFS(Resultados!X$6:X$316,Resultados!$E$6:$E$316,Resumen!$BE15,Resultados!$BF$6:$BF$316,\">=0\")*$BD15/1000","v":0},{"$f":"+SUMIFS(Resultados!Y$6:Y$316,Resultados!$E$6:$E$316,Resumen!$BE15,Resultados!$BF$6:$BF$316,\">=0\")*$BD15/1000","v":0},{"$f":"+SUMIFS(Resultados!W$6:W$316,Resultados!$E$6:$E$316,Resumen!$BE15,Resultados!$BF$6:$BF$316,\">=0\")*$BD15/1000","v":0},{"$f":"+SUMIFS(Resultados!V$6:V$316,Resultados!$E$6:$E$316,Resumen!$BE15,Resultados!$BF$6:$BF$316,\">=0\")*$BD15/1000","v":0},{"$f":"+SUMIFS(Resultados!Z$6:Z$316,Resultados!$E$6:$E$316,Resumen!$BE15,Resultados!$BF$6:$BF$316,\">=0\")*$BD15/1000","v":0},{"$f":"+SUMIFS(Resultados!AE$6:AE$316,Resultados!$E$6:$E$316,Resumen!$BE15,Resultados!$BF$6:$BF$316,\">=0\")*$BD15/1000","v":0},{"$f":"+SUMIFS(Resultados!AB$6:AB$316,Resultados!$E$6:$E$316,Resumen!$BE15,Resultados!$BF$6:$BF$316,\">=0\")*$BD15/1000","v":0},{"$f":"+SUMIFS(Resultados!AI$6:AI$316,Resultados!$E$6:$E$316,Resumen!$BE15,Resultados!$BF$6:$BF$316,\">=0\")*$BD15/1000","v":0},{"$f":"+SUMIFS(Resultados!AJ$6:AJ$316,Resultados!$E$6:$E$316,Resumen!$BE15,Resultados!$BF$6:$BF$316,\">=0\")*$BD15/1000","v":0},{"$f":"+SUMIFS(Resultados!AH$6:AH$316,Resultados!$E$6:$E$316,Resumen!$BE15,Resultados!$BF$6:$BF$316,\">=0\")*$BD15/1000","v":0},null,11,{"$f":"+Resultados!G17/1000","v":0},{"$f":"+Resultados!H17/1000","v":0},{"$f":"+Resultados!U17/1000","v":0},{"$f":"+Resultados!AA17/1000","v":0},{"$f":"+Resultados!AC17/1000","v":0},{"$f":"+Resultados!X17/1000","v":0},{"$f":"+Resultados!Y17/1000","v":0},{"$f":"+Resultados!W17/1000","v":0},{"$f":"+Resultados!V17/1000","v":0},{"$f":"+Resultados!Z17/1000","v":0},{"$f":"+Resultados!AE17/1000","v":0},{"$f":"+Resultados!AB17/1000","v":0},{"$f":"+Resultados!AI17/1000","v":0},{"$f":"+Resultados!AJ17/1000","v":0},{"$f":"+Resultados!AH17/1000","v":0},null,11,{"$f":"+Resultados!G173/1000","v":0},{"$f":"+Resultados!H173/1000","v":0},{"$f":"+Resultados!U173/1000","v":0},{"$f":"+Resultados!AA173/1000","v":0},{"$f":"+Resultados!AC173/1000","v":0},{"$f":"+Resultados!X173/1000","v":0},{"$f":"+Resultados!Y173/1000","v":0},{"$f":"+Resultados!W173/1000","v":0},{"$f":"+Resultados!V173/1000","v":0},{"$f":"+Resultados!Z173/1000","v":0},{"$f":"+Resultados!AE173/1000","v":0},{"$f":"+Resultados!AB173/1000","v":0},{"$f":"+Resultados!AI173/1000","v":0},{"$f":"+Resultados!AJ173/1000","v":0},{"$f":"+Resultados!AH173/1000","v":0}]
[null,null,null,null,null,null,null,null,null,null,null,null,null,null,null,null,null,null,null,null,null,null,null,null,null,null,null,null,null,null,null,null,null,null,null,null,null,null,null,null,null,null,null,null,null,null,null,null,null,null,null,null,null,null,null,null,null,null,null,null,null,null,null,null,null,null,null,null,null,null,null,null,null,null,12,{"$f":"+Resultados!G18/1000","v":0},{"$f":"+Resultados!H18/1000","v":0},{"$f":"+Resultados!U18/1000","v":0},{"$f":"+Resultados!AA18/1000","v":0},{"$f":"+Resultados!AC18/1000","v":0},{"$f":"+Resultados!X18/1000","v":0},{"$f":"+Resultados!Y18/1000","v":0},{"$f":"+Resultados!W18/1000","v":0},{"$f":"+Resultados!V18/1000","v":0},{"$f":"+Resultados!Z18/1000","v":0},{"$f":"+Resultados!AE18/1000","v":0},{"$f":"+Resultados!AB18/1000","v":0},{"$f":"+Resultados!AI18/1000","v":0},{"$f":"+Resultados!AJ18/1000","v":0},{"$f":"+Resultados!AH18/1000","v":0},null,12,{"$f":"+Resultados!G174/1000","v":0},{"$f":"+Resultados!H174/1000","v":0},{"$f":"+Resultados!U174/1000","v":0},{"$f":"+Resultados!AA174/1000","v":0},{"$f":"+Resultados!AC174/1000","v":0},{"$f":"+Resultados!X174/1000","v":0},{"$f":"+Resultados!Y174/1000","v":0},{"$f":"+Resultados!W174/1000","v":0},{"$f":"+Resultados!V174/1000","v":0},{"$f":"+Resultados!Z174/1000","v":0},{"$f":"+Resultados!AE174/1000","v":0},{"$f":"+Resultados!AB174/1000","v":0},{"$f":"+Resultados!AI174/1000","v":0},{"$f":"+Resultados!AJ174/1000","v":0},{"$f":"+Resultados!AH174/1000","v":0}]
[null,"NOTA:",null,null,null,null,null,null,null,null,null,null,null,null,null,null,null,null,null,null,null,null,null,null,null,null,null,null,null,null,null,null,null,null,null,null,null,null,null,null,null,null,null,null,null,null,null,null,null,null,null,null,null,null,null,null,null,null,null,null,null,null,null,null,null,null,null,null,null,null,null,null,null,null,13,{"$f":"+Resultados!G19/1000","v":0},{"$f":"+Resultados!H19/1000","v":0},{"$f":"+Resultados!U19/1000","v":0},{"$f":"+Resultados!AA19/1000","v":0},{"$f":"+Resultados!AC19/1000","v":0},{"$f":"+Resultados!X19/1000","v":0},{"$f":"+Resultados!Y19/1000","v":0},{"$f":"+Resultados!W19/1000","v":0},{"$f":"+Resultados!V19/1000","v":0},{"$f":"+Resultados!Z19/1000","v":0},{"$f":"+Resultados!AE19/1000","v":0},{"$f":"+Resultados!AB19/1000","v":0},{"$f":"+Resultados!AI19/1000","v":0},{"$f":"+Resultados!AJ19/1000","v":0},{"$f":"+Resultados!AH19/1000","v":0},null,13,{"$f":"+Resultados!G175/1000","v":0},{"$f":"+Resultados!H175/1000","v":0},{"$f":"+Resultados!U175/1000","v":0},{"$f":"+Resultados!AA175/1000","v":0},{"$f":"+Resultados!AC175/1000","v":0},{"$f":"+Resultados!X175/1000","v":0},{"$f":"+Resultados!Y175/1000","v":0},{"$f":"+Resultados!W175/1000","v":0},{"$f":"+Resultados!V175/1000","v":0},{"$f":"+Resultados!Z175/1000","v":0},{"$f":"+Resultados!AE175/1000","v":0},{"$f":"+Resultados!AB175/1000","v":0},{"$f":"+Resultados!AI175/1000","v":0},{"$f":"+Resultados!AJ175/1000","v":0},{"$f":"+Resultados!AH175/1000","v":0}]
[null,"HD(+): Horas de disconfort sobre la banda de confort.",null,null,null,null,null,null,null,null,null,null,null,null,null,null,null,null,null,null,null,null,null,null,null,null,null,null,null,null,null,null,null,null,null,null,null,null,null,null,null,null,null,null,null,null,null,null,null,null,null,null,null,null,null,null,null,null,null,null,null,null,null,null,null,null,null,null,null,null,null,null,null,null,14,{"$f":"+Resultados!G20/1000","v":0},{"$f":"+Resultados!H20/1000","v":0},{"$f":"+Resultados!U20/1000","v":0},{"$f":"+Resultados!AA20/1000","v":0},{"$f":"+Resultados!AC20/1000","v":0},{"$f":"+Resultados!X20/1000","v":0},{"$f":"+Resultados!Y20/1000","v":0},{"$f":"+Resultados!W20/1000","v":0},{"$f":"+Resultados!V20/1000","v":0},{"$f":"+Resultados!Z20/1000","v":0},{"$f":"+Resultados!AE20/1000","v":0},{"$f":"+Resultados!AB20/1000","v":0},{"$f":"+Resultados!AI20/1000","v":0},{"$f":"+Resultados!AJ20/1000","v":0},{"$f":"+Resultados!AH20/1000","v":0},null,14,{"$f":"+Resultados!G176/1000","v":0},{"$f":"+Resultados!H176/1000","v":0},{"$f":"+Resultados!U176/1000","v":0},{"$f":"+Resultados!AA176/1000","v":0},{"$f":"+Resultados!AC176/1000","v":0},{"$f":"+Resultados!X176/1000","v":0},{"$f":"+Resultados!Y176/1000","v":0},{"$f":"+Resultados!W176/1000","v":0},{"$f":"+Resultados!V176/1000","v":0},{"$f":"+Resultados!Z176/1000","v":0},{"$f":"+Resultados!AE176/1000","v":0},{"$f":"+Resultados!AB176/1000","v":0},{"$f":"+Resultados!AI176/1000","v":0},{"$f":"+Resultados!AJ176/1000","v":0},{"$f":"+Resultados!AH176/1000","v":0}]
[null,"HD(-): Horas de disconfort bajo la banda de confort.",null,null,null,null,null,null,null,null,null,null,null,"Caso Propuesto Con Clima",{"$f":"+SUMIFS(Resultados!$AI$6:$AI$3125,Resultados!$BG$6:$BG$3125,Resumen!$N19,Resultados!$E$6:$E$3125,Resumen!O$5)*O$4/1000","v":0},{"$f":"+SUMIFS(Resultados!$AI$6:$AI$3125,Resultados!$BG$6:$BG$3125,Resumen!$N19,Resultados!$E$6:$E$3125,Resumen!P$5)*P$4/1000","v":0},{"$f":"+SUMIFS(Resultados!$AI$6:$AI$3125,Resultados!$BG$6:$BG$3125,Resumen!$N19,Resultados!$E$6:$E$3125,Resumen!Q$5)*Q$4/1000","v":0},{"$f":"+SUMIFS(Resultados!$AI$6:$AI$3125,Resultados!$BG$6:$BG$3125,Resumen!$N19,Resultados!$E$6:$E$3125,Resumen!R$5)*R$4/1000","v":0},{"$f":"+SUMIFS(Resultados!$AI$6:$AI$3125,Resultados!$BG$6:$BG$3125,Resumen!$N19,Resultados!$E$6:$E$3125,Resumen!S$5)*S$4/1000","v":0},{"$f":"+SUMIFS(Resultados!$AI$6:$AI$3125,Resultados!$BG$6:$BG$3125,Resumen!$N19,Resultados!$E$6:$E$3125,Resumen!T$5)*T$4/1000","v":0},{"$f":"+SUMIFS(Resultados!$AI$6:$AI$3125,Resultados!$BG$6:$BG$3125,Resumen!$N19,Resultados!$E$6:$E$3125,Resumen!U$5)*U$4/1000","v":0},{"$f":"+SUMIFS(Resultados!$AI$6:$AI$3125,Resultados!$BG$6:$BG$3125,Resumen!$N19,Resultados!$E$6:$E$3125,Resumen!V$5)*V$4/1000","v":0},{"$f":"+SUMIFS(Resultados!$AI$6:$AI$3125,Resultados!$BG$6:$BG$3125,Resumen!$N19,Resultados!$E$6:$E$3125,Resumen!W$5)*W$4/1000","v":0},{"$f":"+SUMIFS(Resultados!$AI$6:$AI$3125,Resultados!$BG$6:$BG$3125,Resumen!$N19,Resultados!$E$6:$E$3125,Resumen!X$5)*X$4/1000","v":0},{"$f":"+SUMIFS(Resultados!$AI$6:$AI$3125,Resultados!$BG$6:$BG$3125,Resumen!$N19,Resultados!$E$6:$E$3125,Resumen!Y$5)*Y$4/1000","v":0},{"$f":"+SUMIFS(Resultados!$AI$6:$AI$3125,Resultados!$BG$6:$BG$3125,Resumen!$N19,Resultados!$E$6:$E$3125,Resumen!Z$5)*Z$4/1000","v":0},{"$f":"+SUM(O19:Z19)","v":0},null,"Zona del Proyecto",{"$f":"'CEV-CEVE'!E10","v":0},null,null,null,null,null,null,null,null,null,null,null,null,null,null,null,null,null,null,null,null,null,null,null,null,null,null,null,null,null,null,null,null,null,null,null,null,null,null,null,null,null,null,null,null,15,{"$f":"+Resultados!G21/1000","v":0},{"$f":"+Resultados!H21/1000","v":0},{"$f":"+Resultados!U21/1000","v":0},{"$f":"+Resultados!AA21/1000","v":0},{"$f":"+Resultados!AC21/1000","v":0},{"$f":"+Resultados!X21/1000","v":0},{"$f":"+Resultados!Y21/1000","v":0},{"$f":"+Resultados!W21/1000","v":0},{"$f":"+Resultados!V21/1000","v":0},{"$f":"+Resultados!Z21/1000","v":0},{"$f":"+Resultados!AE21/1000","v":0},{"$f":"+Resultados!AB21/1000","v":0},{"$f":"+Resultados!AI21/1000","v":0},{"$f":"+Resultados!AJ21/1000","v":0},{"$f":"+Resultados!AH21/1000","v":0},null,15,{"$f":"+Resultados!G177/1000","v":0},{"$f":"+Resultados!H177/1000","v":0},{"$f":"+Resultados!U177/1000","v":0},{"$f":"+Resultados!AA177/1000","v":0},{"$f":"+Resultados!AC177/1000","v":0},{"$f":"+Resultados!X177/1000","v":0},{"$f":"+Resultados!Y177/1000","v":0},{"$f":"+Resultados!W177/1000","v":0},{"$f":"+Resultados!V177/1000","v":0},{"$f":"+Resultados!Z177/1000","v":0},{"$f":"+Resultados!AE177/1000","v":0},{"$f":"+Resultados!AB177/1000","v":0},{"$f":"+Resultados!AI177/1000","v":0},{"$f":"+Resultados!AJ177/1000","v":0},{"$f":"+Resultados!AH177/1000","v":0}]
[null,null,null,null,null,null,null,null,null,null,null,null,null,"Caso Base 0° Con Clima",{"$f":"+SUMIFS(Resultados!$AI$6:$AI$3125,Resultados!$BG$6:$BG$3125,Resumen!$N20,Resultados!$E$6:$E$3125,Resumen!O$5)*O$4/1000","v":0},{"$f":"+SUMIFS(Resultados!$AI$6:$AI$3125,Resultados!$BG$6:$BG$3125,Resumen!$N20,Resultados!$E$6:$E$3125,Resumen!P$5)*P$4/1000","v":0},{"$f":"+SUMIFS(Resultados!$AI$6:$AI$3125,Resultados!$BG$6:$BG$3125,Resumen!$N20,Resultados!$E$6:$E$3125,Resumen!Q$5)*Q$4/1000","v":0},{"$f":"+SUMIFS(Resultados!$AI$6:$AI$3125,Resultados!$BG$6:$BG$3125,Resumen!$N20,Resultados!$E$6:$E$3125,Resumen!R$5)*R$4/1000","v":0},{"$f":"+SUMIFS(Resultados!$AI$6:$AI$3125,Resultados!$BG$6:$BG$3125,Resumen!$N20,Resultados!$E$6:$E$3125,Resumen!S$5)*S$4/1000","v":0},{"$f":"+SUMIFS(Resultados!$AI$6:$AI$3125,Resultados!$BG$6:$BG$3125,Resumen!$N20,Resultados!$E$6:$E$3125,Resumen!T$5)*T$4/1000","v":0},{"$f":"+SUMIFS(Resultados!$AI$6:$AI$3125,Resultados!$BG$6:$BG$3125,Resumen!$N20,Resultados!$E$6:$E$3125,Resumen!U$5)*U$4/1000","v":0},{"$f":"+SUMIFS(Resultados!$AI$6:$AI$3125,Resultados!$BG$6:$BG$3125,Resumen!$N20,Resultados!$E$6:$E$3125,Resumen!V$5)*V$4/1000","v":0},{"$f":"+SUMIFS(Resultados!$AI$6:$AI$3125,Resultados!$BG$6:$BG$3125,Resumen!$N20,Resultados!$E$6:$E$3125,Resumen!W$5)*W$4/1000","v":0},{"$f":"+SUMIFS(Resultados!$AI$6:$AI$3125,Resultados!$BG$6:$BG$3125,Resumen!$N20,Resultados!$E$6:$E$3125,Resumen!X$5)*X$4/1000","v":0},{"$f":"+SUMIFS(Resultados!$AI$6:$AI$3125,Resultados!$BG$6:$BG$3125,Resumen!$N20,Resultados!$E$6:$E$3125,Resumen!Y$5)*Y$4/1000","v":0},{"$f":"+SUMIFS(Resultados!$AI$6:$AI$3125,Resultados!$BG$6:$BG$3125,Resumen!$N20,Resultados!$E$6:$E$3125,Resumen!Z$5)*Z$4/1000","v":0},{"$f":"+SUM(O20:Z20)","v":0},null,"Tipo de Vivienda",{"$f":"LEFT('CEV-CEVE'!E16,4)","v":""},null,null,null,null,null,null,null,null,null,null,null,null,null,null,null,null,null,null,null,null,null,null,null,null,null,null,null,null,null,null,null,null,null,null,null,null,null,null,null,null,null,null,null,null,16,{"$f":"+Resultados!G22/1000","v":0},{"$f":"+Resultados!H22/1000","v":0},{"$f":"+Resultados!U22/1000","v":0},{"$f":"+Resultados!AA22/1000","v":0},{"$f":"+Resultados!AC22/1000","v":0},{"$f":"+Resultados!X22/1000","v":0},{"$f":"+Resultados!Y22/1000","v":0},{"$f":"+Resultados!W22/1000","v":0},{"$f":"+Resultados!V22/1000","v":0},{"$f":"+Resultados!Z22/1000","v":0},{"$f":"+Resultados!AE22/1000","v":0},{"$f":"+Resultados!AB22/1000","v":0},{"$f":"+Resultados!AI22/1000","v":0},{"$f":"+Resultados!AJ22/1000","v":0},{"$f":"+Resultados!AH22/1000","v":0},null,16,{"$f":"+Resultados!G178/1000","v":0},{"$f":"+Resultados!H178/1000","v":0},{"$f":"+Resultados!U178/1000","v":0},{"$f":"+Resultados!AA178/1000","v":0},{"$f":"+Resultados!AC178/1000","v":0},{"$f":"+Resultados!X178/1000","v":0},{"$f":"+Resultados!Y178/1000","v":0},{"$f":"+Resultados!W178/1000","v":0},{"$f":"+Resultados!V178/1000","v":0},{"$f":"+Resultados!Z178/1000","v":0},{"$f":"+Resultados!AE178/1000","v":0},{"$f":"+Resultados!AB178/1000","v":0},{"$f":"+Resultados!AI178/1000","v":0},{"$f":"+Resultados!AJ178/1000","v":0},{"$f":"+Resultados!AH178/1000","v":0}]
[null,"Consumo",null,null,null,null,null,null,null,null,null,null,"Demanda","Caso Base 90° Con Clima",{"$f":"+SUMIFS(Resultados!$AI$6:$AI$3125,Resultados!$BG$6:$BG$3125,Resumen!$N21,Resultados!$E$6:$E$3125,Resumen!O$5)*O$4/1000","v":0},{"$f":"+SUMIFS(Resultados!$AI$6:$AI$3125,Resultados!$BG$6:$BG$3125,Resumen!$N21,Resultados!$E$6:$E$3125,Resumen!P$5)*P$4/1000","v":0},{"$f":"+SUMIFS(Resultados!$AI$6:$AI$3125,Resultados!$BG$6:$BG$3125,Resumen!$N21,Resultados!$E$6:$E$3125,Resumen!Q$5)*Q$4/1000","v":0},{"$f":"+SUMIFS(Resultados!$AI$6:$AI$3125,Resultados!$BG$6:$BG$3125,Resumen!$N21,Resultados!$E$6:$E$3125,Resumen!R$5)*R$4/1000","v":0},{"$f":"+SUMIFS(Resultados!$AI$6:$AI$3125,Resultados!$BG$6:$BG$3125,Resumen!$N21,Resultados!$E$6:$E$3125,Resumen!S$5)*S$4/1000","v":0},{"$f":"+SUMIFS(Resultados!$AI$6:$AI$3125,Resultados!$BG$6:$BG$3125,Resumen!$N21,Resultados!$E$6:$E$3125,Resumen!T$5)*T$4/1000","v":0},{"$f":"+SUMIFS(Resultados!$AI$6:$AI$3125,Resultados!$BG$6:$BG$3125,Resumen!$N21,Resultados!$E$6:$E$3125,Resumen!U$5)*U$4/1000","v":0},{"$f":"+SUMIFS(Resultados!$AI$6:$AI$3125,Resultados!$BG$6:$BG$3125,Resumen!$N21,Resultados!$E$6:$E$3125,Resumen!V$5)*V$4/1000","v":0},{"$f":"+SUMIFS(Resultados!$AI$6:$AI$3125,Resultados!$BG$6:$BG$3125,Resumen!$N21,Resultados!$E$6:$E$3125,Resumen!W$5)*W$4/1000","v":0},{"$f":"+SUMIFS(Resultados!$AI$6:$AI$3125,Resultados!$BG$6:$BG$3125,Resumen!$N21,Resultados!$E$6:$E$3125,Resumen!X$5)*X$4/1000","v":0},{"$f":"+SUMIFS(Resultados!$AI$6:$AI$3125,Resultados!$BG$6:$BG$3125,Resumen!$N21,Resultados!$E$6:$E$3125,Resumen!Y$5)*Y$4/1000","v":0},{"$f":"+SUMIFS(Resultados!$AI$6:$AI$3125,Resultados!$BG$6:$BG$3125,Resumen!$N21,Resultados!$E$6:$E$3125,Resumen!Z$5)*Z$4/1000","v":0},0,null,"Demanda de Calefacción de Referencia",{"$f":"IF(AD20=\"Casa\",LOOKUP(AD19,AD7:AD15,AE7:AE15),LOOKUP(AD19,AD7:AD15,AG7:AG15))","v":{"$error":"#N/A"}},null,null,null,null,null,null,null,null,null,null,null,null,null,null,null,null,null,null,null,null,null,null,null,null,null,null,null,null,null,null,null,null,null,null,null,null,null,null,null,null,null,null,null,null,17,{"$f":"+Resultados!G23/1000","v":0},{"$f":"+Resultados!H23/1000","v":0},{"$f":"+Resultados!U23/1000","v":0},{"$f":"+Resultados!AA23/1000","v":0},{"$f":"+Resultados!AC23/1000","v":0},{"$f":"+Resultados!X23/1000","v":0},{"$f":"+Resultados!Y23/1000","v":0},{"$f":"+Resultados!W23/1000","v":0},{"$f":"+Resultados!V23/1000","v":0},{"$f":"+Resultados!Z23/1000","v":0},{"$f":"+Resultados!AE23/1000","v":0},{"$f":"+Resultados!AB23/1000","v":0},{"$f":"+Resultados!AI23/1000","v":0},{"$f":"+Resultados!AJ23/1000","v":0},{"$f":"+Resultados!AH23/1000","v":0},null,17,{"$f":"+Resultados!G179/1000","v":0},{"$f":"+Resultados!H179/1000","v":0},{"$f":"+Resultados!U179/1000","v":0},{"$f":"+Resultados!AA179/1000","v":0},{"$f":"+Resultados!AC179/1000","v":0},{"$f":"+Resultados!X179/1000","v":0},{"$f":"+Resultados!Y179/1000","v":0},{"$f":"+Resultados!W179/1000","v":0},{"$f":"+Resultados!V179/1000","v":0},{"$f":"+Resultados!Z179/1000","v":0},{"$f":"+Resultados!AE179/1000","v":0},{"$f":"+Resultados!AB179/1000","v":0},{"$f":"+Resultados!AI179/1000","v":0},{"$f":"+Resultados!AJ179/1000","v":0},{"$f":"+Resultados!AH179/1000","v":0}]
[null,null,null,null,null,null,null,null,null,null,null,null,"Calefacción [kWh]","Caso Base 180° Con Clima",{"$f":"+SUMIFS(Resultados!$AI$6:$AI$3125,Resultados!$BG$6:$BG$3125,Resumen!$N22,Resultados!$E$6:$E$3125,Resumen!O$5)*O$4/1000","v":0},{"$f":"+SUMIFS(Resultados!$AI$6:$AI$3125,Resultados!$BG$6:$BG$3125,Resumen!$N22,Resultados!$E$6:$E$3125,Resumen!P$5)*P$4/1000","v":0},{"$f":"+SUMIFS(Resultados!$AI$6:$AI$3125,Resultados!$BG$6:$BG$3125,Resumen!$N22,Resultados!$E$6:$E$3125,Resumen!Q$5)*Q$4/1000","v":0},{"$f":"+SUMIFS(Resultados!$AI$6:$AI$3125,Resultados!$BG$6:$BG$3125,Resumen!$N22,Resultados!$E$6:$E$3125,Resumen!R$5)*R$4/1000","v":0},{"$f":"+SUMIFS(Resultados!$AI$6:$AI$3125,Resultados!$BG$6:$BG$3125,Resumen!$N22,Resultados!$E$6:$E$3125,Resumen!S$5)*S$4/1000","v":0},{"$f":"+SUMIFS(Resultados!$AI$6:$AI$3125,Resultados!$BG$6:$BG$3125,Resumen!$N22,Resultados!$E$6:$E$3125,Resumen!T$5)*T$4/1000","v":0},{"$f":"+SUMIFS(Resultados!$AI$6:$AI$3125,Resultados!$BG$6:$BG$3125,Resumen!$N22,Resultados!$E$6:$E$3125,Resumen!U$5)*U$4/1000","v":0},{"$f":"+SUMIFS(Resultados!$AI$6:$AI$3125,Resultados!$BG$6:$BG$3125,Resumen!$N22,Resultados!$E$6:$E$3125,Resumen!V$5)*V$4/1000","v":0},{"$f":"+SUMIFS(Resultados!$AI$6:$AI$3125,Resultados!$BG$6:$BG$3125,Resumen!$N22,Resultados!$E$6:$E$3125,Resumen!W$5)*W$4/1000","v":0},{"$f":"+SUMIFS(Resultados!$AI$6:$AI$3125,Resultados!$BG$6:$BG$3125,Resumen!$N22,Resultados!$E$6:$E$3125,Resumen!X$5)*X$4/1000","v":0},{"$f":"+SUMIFS(Resultados!$AI$6:$AI$3125,Resultados!$BG$6:$BG$3125,Resumen!$N22,Resultados!$E$6:$E$3125,Resumen!Y$5)*Y$4/1000","v":0},{"$f":"+SUMIFS(Resultados!$AI$6:$AI$3125,Resultados!$BG$6:$BG$3125,Resumen!$N22,Resultados!$E$6:$E$3125,Resumen!Z$5)*Z$4/1000","v":0},0,null,"Demanda de Enfriamiento de Referencia",{"$f":"IF(AD20=\"Casa\",LOOKUP(AD19,AD7:AD15,AF7:AF15),LOOKUP(AD19,AD7:AD15,AH7:AH15))","v":{"$error":"#N/A"}},null,null,null,null,null,null,null,null,null,null,null,null,null,null,null,null,null,null,null,null,null,null,null,null,null,null,null,null,null,null,null,null,null,null,null,null,null,null,null,null,null,null,null,null,18,{"$f":"+Resultados!G24/1000","v":0},{"$f":"+Resultados!H24/1000","v":0},{"$f":"+Resultados!U24/1000","v":0},{"$f":"+Resultados!AA24/1000","v":0},{"$f":"+Resultados!AC24/1000","v":0},{"$f":"+Resultados!X24/1000","v":0},{"$f":"+Resultados!Y24/1000","v":0},{"$f":"+Resultados!W24/1000","v":0},{"$f":"+Resultados!V24/1000","v":0},{"$f":"+Resultados!Z24/1000","v":0},{"$f":"+Resultados!AE24/1000","v":0},{"$f":"+Resultados!AB24/1000","v":0},{"$f":"+Resultados!AI24/1000","v":0},{"$f":"+Resultados!AJ24/1000","v":0},{"$f":"+Resultados!AH24/1000","v":0},null,18,{"$f":"+Resultados!G180/1000","v":0},{"$f":"+Resultados!H180/1000","v":0},{"$f":"+Resultados!U180/1000","v":0},{"$f":"+Resultados!AA180/1000","v":0},{"$f":"+Resultados!AC180/1000","v":0},{"$f":"+Resultados!X180/1000","v":0},{"$f":"+Resultados!Y180/1000","v":0},{"$f":"+Resultados!W180/1000","v":0},{"$f":"+Resultados!V180/1000","v":0},{"$f":"+Resultados!Z180/1000","v":0},{"$f":"+Resultados!AE180/1000","v":0},{"$f":"+Resultados!AB180/1000","v":0},{"$f":"+Resultados!AI180/1000","v":0},{"$f":"+Resultados!AJ180/1000","v":0},{"$f":"+Resultados!AH180/1000","v":0}]
[null,"Aporte de energía solar térmica a la calefacción",null,null,{"$f":"+'CEV CEVE'!J153","v":{"$error":"#DIV/0!"}},"[kWh-año]",{"$f":"+E23/'CEV CEVE'!$I$15","v":{"$error":"#DIV/0!"}},"[kWh/m2 -año]",null,null,null,null,null,"Caso Base 270° Con Clima",{"$f":"+SUMIFS(Resultados!$AI$6:$AI$3125,Resultados!$BG$6:$BG$3125,Resumen!$N23,Resultados!$E$6:$E$3125,Resumen!O$5)*O$4/1000","v":0},{"$f":"+SUMIFS(Resultados!$AI$6:$AI$3125,Resultados!$BG$6:$BG$3125,Resumen!$N23,Resultados!$E$6:$E$3125,Resumen!P$5)*P$4/1000","v":0},{"$f":"+SUMIFS(Resultados!$AI$6:$AI$3125,Resultados!$BG$6:$BG$3125,Resumen!$N23,Resultados!$E$6:$E$3125,Resumen!Q$5)*Q$4/1000","v":0},{"$f":"+SUMIFS(Resultados!$AI$6:$AI$3125,Resultados!$BG$6:$BG$3125,Resumen!$N23,Resultados!$E$6:$E$3125,Resumen!R$5)*R$4/1000","v":0},{"$f":"+SUMIFS(Resultados!$AI$6:$AI$3125,Resultados!$BG$6:$BG$3125,Resumen!$N23,Resultados!$E$6:$E$3125,Resumen!S$5)*S$4/1000","v":0},{"$f":"+SUMIFS(Resultados!$AI$6:$AI$3125,Resultados!$BG$6:$BG$3125,Resumen!$N23,Resultados!$E$6:$E$3125,Resumen!T$5)*T$4/1000","v":0},{"$f":"+SUMIFS(Resultados!$AI$6:$AI$3125,Resultados!$BG$6:$BG$3125,Resumen!$N23,Resultados!$E$6:$E$3125,Resumen!U$5)*U$4/1000","v":0},{"$f":"+SUMIFS(Resultados!$AI$6:$AI$3125,Resultados!$BG$6:$BG$3125,Resumen!$N23,Resultados!$E$6:$E$3125,Resumen!V$5)*V$4/1000","v":0},{"$f":"+SUMIFS(Resultados!$AI$6:$AI$3125,Resultados!$BG$6:$BG$3125,Resumen!$N23,Resultados!$E$6:$E$3125,Resumen!W$5)*W$4/1000","v":0},{"$f":"+SUMIFS(Resultados!$AI$6:$AI$3125,Resultados!$BG$6:$BG$3125,Resumen!$N23,Resultados!$E$6:$E$3125,Resumen!X$5)*X$4/1000","v":0},{"$f":"+SUMIFS(Resultados!$AI$6:$AI$3125,Resultados!$BG$6:$BG$3125,Resumen!$N23,Resultados!$E$6:$E$3125,Resumen!Y$5)*Y$4/1000","v":0},{"$f":"+SUMIFS(Resultados!$AI$6:$AI$3125,Resultados!$BG$6:$BG$3125,Resumen!$N23,Resultados!$E$6:$E$3125,Resumen!Z$5)*Z$4/1000","v":0},0,null,"Demanda Total de Referencia",{"$f":"SUM(AD21:AD22)","v":{"$error":"#N/A"}},null,null,null,null,null,null,null,null,null,null,null,null,null,null,null,null,null,null,null,null,null,null,null,null,null,null,null,null,null,null,null,null,null,null,null,null,null,null,null,null,null,null,null,null,19,{"$f":"+Resultados!G25/1000","v":0},{"$f":"+Resultados!H25/1000","v":0},{"$f":"+Resultados!U25/1000","v":0},{"$f":"+Resultados!AA25/1000","v":0},{"$f":"+Resultados!AC25/1000","v":0},{"$f":"+Resultados!X25/1000","v":0},{"$f":"+Resultados!Y25/1000","v":0},{"$f":"+Resultados!W25/1000","v":0},{"$f":"+Resultados!V25/1000","v":0},{"$f":"+Resultados!Z25/1000","v":0},{"$f":"+Resultados!AE25/1000","v":0},{"$f":"+Resultados!AB25/1000","v":0},{"$f":"+Resultados!AI25/1000","v":0},{"$f":"+Resultados!AJ25/1000","v":0},{"$f":"+Resultados!AH25/1000","v":0},null,19,{"$f":"+Resultados!G181/1000","v":0},{"$f":"+Resultados!H181/1000","v":0},{"$f":"+Resultados!U181/1000","v":0},{"$f":"+Resultados!AA181/1000","v":0},{"$f":"+Resultados!AC181/1000","v":0},{"$f":"+Resultados!X181/1000","v":0},{"$f":"+Resultados!Y181/1000","v":0},{"$f":"+Resultados!W181/1000","v":0},{"$f":"+Resultados!V181/1000","v":0},{"$f":"+Resultados!Z181/1000","v":0},{"$f":"+Resultados!AE181/1000","v":0},{"$f":"+Resultados!AB181/1000","v":0},{"$f":"+Resultados!AI181/1000","v":0},{"$f":"+Resultados!AJ181/1000","v":0},{"$f":"+Resultados!AH181/1000","v":0}]
[null,"Aporte de energía solar térmica  al agua caliente sanitaria",null,null,{"$f":"+'CEV CEVE'!J154","v":{"$error":"#DIV/0!"}},"[kWh-año]",{"$f":"+E24/'CEV CEVE'!$I$15","v":{"$error":"#DIV/0!"}},"[kWh/m2 -año]",null,null,null,null,null,"Caso Propuesto Con Clima",{"$f":"+SUMIFS(Resultados!$AJ$6:$AJ$3125,Resultados!$BG$6:$BG$3125,Resumen!$N24,Resultados!$E$6:$E$3125,Resumen!O$5)*O$4/1000","v":0},{"$f":"+SUMIFS(Resultados!$AJ$6:$AJ$3125,Resultados!$BG$6:$BG$3125,Resumen!$N24,Resultados!$E$6:$E$3125,Resumen!P$5)*P$4/1000","v":0},{"$f":"+SUMIFS(Resultados!$AJ$6:$AJ$3125,Resultados!$BG$6:$BG$3125,Resumen!$N24,Resultados!$E$6:$E$3125,Resumen!Q$5)*Q$4/1000","v":0},{"$f":"+SUMIFS(Resultados!$AJ$6:$AJ$3125,Resultados!$BG$6:$BG$3125,Resumen!$N24,Resultados!$E$6:$E$3125,Resumen!R$5)*R$4/1000","v":0},{"$f":"+SUMIFS(Resultados!$AJ$6:$AJ$3125,Resultados!$BG$6:$BG$3125,Resumen!$N24,Resultados!$E$6:$E$3125,Resumen!S$5)*S$4/1000","v":0},{"$f":"+SUMIFS(Resultados!$AJ$6:$AJ$3125,Resultados!$BG$6:$BG$3125,Resumen!$N24,Resultados!$E$6:$E$3125,Resumen!T$5)*T$4/1000","v":0},{"$f":"+SUMIFS(Resultados!$AJ$6:$AJ$3125,Resultados!$BG$6:$BG$3125,Resumen!$N24,Resultados!$E$6:$E$3125,Resumen!U$5)*U$4/1000","v":0},{"$f":"+SUMIFS(Resultados!$AJ$6:$AJ$3125,Resultados!$BG$6:$BG$3125,Resumen!$N24,Resultados!$E$6:$E$3125,Resumen!V$5)*V$4/1000","v":0},{"$f":"+SUMIFS(Resultados!$AJ$6:$AJ$3125,Resultados!$BG$6:$BG$3125,Resumen!$N24,Resultados!$E$6:$E$3125,Resumen!W$5)*W$4/1000","v":0},{"$f":"+SUMIFS(Resultados!$AJ$6:$AJ$3125,Resultados!$BG$6:$BG$3125,Resumen!$N24,Resultados!$E$6:$E$3125,Resumen!X$5)*X$4/1000","v":0},{"$f":"+SUMIFS(Resultados!$AJ$6:$AJ$3125,Resultados!$BG$6:$BG$3125,Resumen!$N24,Resultados!$E$6:$E$3125,Resumen!Y$5)*Y$4/1000","v":0},{"$f":"+SUMIFS(Resultados!$AJ$6:$AJ$3125,Resultados!$BG$6:$BG$3125,Resumen!$N24,Resultados!$E$6:$E$3125,Resumen!Z$5)*Z$4/1000","v":0},0,null,null,null,null,null,null,null,null,null,null,null,null,null,null,null,null,null,null,null,null,null,null,null,null,null,null,null,null,null,null,null,null,null,null,null,null,null,null,null,null,null,null,null,null,null,null,null,20,{"$f":"+Resultados!G26/1000","v":0},{"$f":"+Resultados!H26/1000","v":0},{"$f":"+Resultados!U26/1000","v":0},{"$f":"+Resultados!AA26/1000","v":0},{"$f":"+Resultados!AC26/1000","v":0},{"$f":"+Resultados!X26/1000","v":0},{"$f":"+Resultados!Y26/1000","v":0},{"$f":"+Resultados!W26/1000","v":0},{"$f":"+Resultados!V26/1000","v":0},{"$f":"+Resultados!Z26/1000","v":0},{"$f":"+Resultados!AE26/1000","v":0},{"$f":"+Resultados!AB26/1000","v":0},{"$f":"+Resultados!AI26/1000","v":0},{"$f":"+Resultados!AJ26/1000","v":0},{"$f":"+Resultados!AH26/1000","v":0},null,20,{"$f":"+Resultados!G182/1000","v":0},{"$f":"+Resultados!H182/1000","v":0},{"$f":"+Resultados!U182/1000","v":0},{"$f":"+Resultados!AA182/1000","v":0},{"$f":"+Resultados!AC182/1000","v":0},{"$f":"+Resultados!X182/1000","v":0},{"$f":"+Resultados!Y182/1000","v":0},{"$f":"+Resultados!W182/1000","v":0},{"$f":"+Resultados!V182/1000","v":0},{"$f":"+Resultados!Z182/1000","v":0},{"$f":"+Resultados!AE182/1000","v":0},{"$f":"+Resultados!AB182/1000","v":0},{"$f":"+Resultados!AI182/1000","v":0},{"$f":"+Resultados!AJ182/1000","v":0},{"$f":"+Resultados!AH182/1000","v":0}]
[null,null,null,null,null,null,null,null,null,null,null,null,null,"Caso Base 0° Con Clima",{"$f":"+SUMIFS(Resultados!$AJ$6:$AJ$3125,Resultados!$BG$6:$BG$3125,Resumen!$N25,Resultados!$E$6:$E$3125,Resumen!O$5)*O$4/1000","v":0},{"$f":"+SUMIFS(Resultados!$AJ$6:$AJ$3125,Resultados!$BG$6:$BG$3125,Resumen!$N25,Resultados!$E$6:$E$3125,Resumen!P$5)*P$4/1000","v":0},{"$f":"+SUMIFS(Resultados!$AJ$6:$AJ$3125,Resultados!$BG$6:$BG$3125,Resumen!$N25,Resultados!$E$6:$E$3125,Resumen!Q$5)*Q$4/1000","v":0},{"$f":"+SUMIFS(Resultados!$AJ$6:$AJ$3125,Resultados!$BG$6:$BG$3125,Resumen!$N25,Resultados!$E$6:$E$3125,Resumen!R$5)*R$4/1000","v":0},{"$f":"+SUMIFS(Resultados!$AJ$6:$AJ$3125,Resultados!$BG$6:$BG$3125,Resumen!$N25,Resultados!$E$6:$E$3125,Resumen!S$5)*S$4/1000","v":0},{"$f":"+SUMIFS(Resultados!$AJ$6:$AJ$3125,Resultados!$BG$6:$BG$3125,Resumen!$N25,Resultados!$E$6:$E$3125,Resumen!T$5)*T$4/1000","v":0},{"$f":"+SUMIFS(Resultados!$AJ$6:$AJ$3125,Resultados!$BG$6:$BG$3125,Resumen!$N25,Resultados!$E$6:$E$3125,Resumen!U$5)*U$4/1000","v":0},{"$f":"+SUMIFS(Resultados!$AJ$6:$AJ$3125,Resultados!$BG$6:$BG$3125,Resumen!$N25,Resultados!$E$6:$E$3125,Resumen!V$5)*V$4/1000","v":0},{"$f":"+SUMIFS(Resultados!$AJ$6:$AJ$3125,Resultados!$BG$6:$BG$3125,Resumen!$N25,Resultados!$E$6:$E$3125,Resumen!W$5)*W$4/1000","v":0},{"$f":"+SUMIFS(Resultados!$AJ$6:$AJ$3125,Resultados!$BG$6:$BG$3125,Resumen!$N25,Resultados!$E$6:$E$3125,Resumen!X$5)*X$4/1000","v":0},{"$f":"+SUMIFS(Resultados!$AJ$6:$AJ$3125,Resultados!$BG$6:$BG$3125,Resumen!$N25,Resultados!$E$6:$E$3125,Resumen!Y$5)*Y$4/1000","v":0},{"$f":"+SUMIFS(Resultados!$AJ$6:$AJ$3125,Resultados!$BG$6:$BG$3125,Resumen!$N25,Resultados!$E$6:$E$3125,Resumen!Z$5)*Z$4/1000","v":0},0,null,null,null,null,null,null,null,null,null,null,null,null,null,null,null,null,null,null,null,null,null,null,null,null,null,null,null,null,null,null,null,null,null,null,null,null,null,null,null,null,null,null,null,null,null,null,null,21,{"$f":"+Resultados!G27/1000","v":0},{"$f":"+Resultados!H27/1000","v":0},{"$f":"+Resultados!U27/1000","v":0},{"$f":"+Resultados!AA27/1000","v":0},{"$f":"+Resultados!AC27/1000","v":0},{"$f":"+Resultados!X27/1000","v":0},{"$f":"+Resultados!Y27/1000","v":0},{"$f":"+Resultados!W27/1000","v":0},{"$f":"+Resultados!V27/1000","v":0},{"$f":"+Resultados!Z27/1000","v":0},{"$f":"+Resultados!AE27/1000","v":0},{"$f":"+Resultados!AB27/1000","v":0},{"$f":"+Resultados!AI27/1000","v":0},{"$f":"+Resultados!AJ27/1000","v":0},{"$f":"+Resultados!AH27/1000","v":0},null,21,{"$f":"+Resultados!G183/1000","v":0},{"$f":"+Resultados!H183/1000","v":0},{"$f":"+Resultados!U183/1000","v":0},{"$f":"+Resultados!AA183/1000","v":0},{"$f":"+Resultados!AC183/1000","v":0},{"$f":"+Resultados!X183/1000","v":0},{"$f":"+Resultados!Y183/1000","v":0},{"$f":"+Resultados!W183/1000","v":0},{"$f":"+Resultados!V183/1000","v":0},{"$f":"+Resultados!Z183/1000","v":0},{"$f":"+Resultados!AE183/1000","v":0},{"$f":"+Resultados!AB183/1000","v":0},{"$f":"+Resultados!AI183/1000","v":0},{"$f":"+Resultados!AJ183/1000","v":0},{"$f":"+Resultados!AH183/1000","v":0}]
[null,"Consumos sin incluir fotovoltaicos",null,null,null,null,null,null,null,null,null,null,"Demanda","Caso Base 90° Con Clima",{"$f":"+SUMIFS(Resultados!$AJ$6:$AJ$3125,Resultados!$BG$6:$BG$3125,Resumen!$N26,Resultados!$E$6:$E$3125,Resumen!O$5)*O$4/1000","v":0},{"$f":"+SUMIFS(Resultados!$AJ$6:$AJ$3125,Resultados!$BG$6:$BG$3125,Resumen!$N26,Resultados!$E$6:$E$3125,Resumen!P$5)*P$4/1000","v":0},{"$f":"+SUMIFS(Resultados!$AJ$6:$AJ$3125,Resultados!$BG$6:$BG$3125,Resumen!$N26,Resultados!$E$6:$E$3125,Resumen!Q$5)*Q$4/1000","v":0},{"$f":"+SUMIFS(Resultados!$AJ$6:$AJ$3125,Resultados!$BG$6:$BG$3125,Resumen!$N26,Resultados!$E$6:$E$3125,Resumen!R$5)*R$4/1000","v":0},{"$f":"+SUMIFS(Resultados!$AJ$6:$AJ$3125,Resultados!$BG$6:$BG$3125,Resumen!$N26,Resultados!$E$6:$E$3125,Resumen!S$5)*S$4/1000","v":0},{"$f":"+SUMIFS(Resultados!$AJ$6:$AJ$3125,Resultados!$BG$6:$BG$3125,Resumen!$N26,Resultados!$E$6:$E$3125,Resumen!T$5)*T$4/1000","v":0},{"$f":"+SUMIFS(Resultados!$AJ$6:$AJ$3125,Resultados!$BG$6:$BG$3125,Resumen!$N26,Resultados!$E$6:$E$3125,Resumen!U$5)*U$4/1000","v":0},{"$f":"+SUMIFS(Resultados!$AJ$6:$AJ$3125,Resultados!$BG$6:$BG$3125,Resumen!$N26,Resultados!$E$6:$E$3125,Resumen!V$5)*V$4/1000","v":0},{"$f":"+SUMIFS(Resultados!$AJ$6:$AJ$3125,Resultados!$BG$6:$BG$3125,Resumen!$N26,Resultados!$E$6:$E$3125,Resumen!W$5)*W$4/1000","v":0},{"$f":"+SUMIFS(Resultados!$AJ$6:$AJ$3125,Resultados!$BG$6:$BG$3125,Resumen!$N26,Resultados!$E$6:$E$3125,Resumen!X$5)*X$4/1000","v":0},{"$f":"+SUMIFS(Resultados!$AJ$6:$AJ$3125,Resultados!$BG$6:$BG$3125,Resumen!$N26,Resultados!$E$6:$E$3125,Resumen!Y$5)*Y$4/1000","v":0},{"$f":"+SUMIFS(Resultados!$AJ$6:$AJ$3125,Resultados!$BG$6:$BG$3125,Resumen!$N26,Resultados!$E$6:$E$3125,Resumen!Z$5)*Z$4/1000","v":0},0,null,null,null,null,null,null,null,null,null,null,null,null,null,null,null,null,null,null,null,null,null,null,null,null,null,null,null,null,null,null,null,null,null,null,null,null,null,null,null,null,null,null,null,null,null,null,null,{"$f":"+BW25+1","v":22},{"$f":"+Resultados!G28/1000","v":0},{"$f":"+Resultados!H28/1000","v":0},{"$f":"+Resultados!U28/1000","v":0},{"$f":"+Resultados!AA28/1000","v":0},{"$f":"+Resultados!AC28/1000","v":0},{"$f":"+Resultados!X28/1000","v":0},{"$f":"+Resultados!Y28/1000","v":0},{"$f":"+Resultados!W28/1000","v":0},{"$f":"+Resultados!V28/1000","v":0},{"$f":"+Resultados!Z28/1000","v":0},{"$f":"+Resultados!AE28/1000","v":0},{"$f":"+Resultados!AB28/1000","v":0},{"$f":"+Resultados!AI28/1000","v":0},{"$f":"+Resultados!AJ28/1000","v":0},{"$f":"+Resultados!AH28/1000","v":0},null,{"$f":"+CN25+1","v":22},{"$f":"+Resultados!G184/1000","v":0},{"$f":"+Resultados!H184/1000","v":0},{"$f":"+Resultados!U184/1000","v":0},{"$f":"+Resultados!AA184/1000","v":0},{"$f":"+Resultados!AC184/1000","v":0},{"$f":"+Resultados!X184/1000","v":0},{"$f":"+Resultados!Y184/1000","v":0},{"$f":"+Resultados!W184/1000","v":0},{"$f":"+Resultados!V184/1000","v":0},{"$f":"+Resultados!Z184/1000","v":0},{"$f":"+Resultados!AE184/1000","v":0},{"$f":"+Resultados!AB184/1000","v":0},{"$f":"+Resultados!AI184/1000","v":0},{"$f":"+Resultados!AJ184/1000","v":0},{"$f":"+Resultados!AH184/1000","v":0}]
[null,"Consumo de energía primaria en calefacción",null,null,{"$f":"+'CEV CEVE'!J157","v":{"$error":"#DIV/0!"}},"[kWh-año]",{"$f":"+E27/'CEV CEVE'!$I$15","v":{"$error":"#DIV/0!"}},"[kWh/m2 -año]",null,null,null,null,"Refrigeración [kWh]","Caso Base 180° Con Clima",{"$f":"+SUMIFS(Resultados!$AJ$6:$AJ$3125,Resultados!$BG$6:$BG$3125,Resumen!$N27,Resultados!$E$6:$E$3125,Resumen!O$5)*O$4/1000","v":0},{"$f":"+SUMIFS(Resultados!$AJ$6:$AJ$3125,Resultados!$BG$6:$BG$3125,Resumen!$N27,Resultados!$E$6:$E$3125,Resumen!P$5)*P$4/1000","v":0},{"$f":"+SUMIFS(Resultados!$AJ$6:$AJ$3125,Resultados!$BG$6:$BG$3125,Resumen!$N27,Resultados!$E$6:$E$3125,Resumen!Q$5)*Q$4/1000","v":0},{"$f":"+SUMIFS(Resultados!$AJ$6:$AJ$3125,Resultados!$BG$6:$BG$3125,Resumen!$N27,Resultados!$E$6:$E$3125,Resumen!R$5)*R$4/1000","v":0},{"$f":"+SUMIFS(Resultados!$AJ$6:$AJ$3125,Resultados!$BG$6:$BG$3125,Resumen!$N27,Resultados!$E$6:$E$3125,Resumen!S$5)*S$4/1000","v":0},{"$f":"+SUMIFS(Resultados!$AJ$6:$AJ$3125,Resultados!$BG$6:$BG$3125,Resumen!$N27,Resultados!$E$6:$E$3125,Resumen!T$5)*T$4/1000","v":0},{"$f":"+SUMIFS(Resultados!$AJ$6:$AJ$3125,Resultados!$BG$6:$BG$3125,Resumen!$N27,Resultados!$E$6:$E$3125,Resumen!U$5)*U$4/1000","v":0},{"$f":"+SUMIFS(Resultados!$AJ$6:$AJ$3125,Resultados!$BG$6:$BG$3125,Resumen!$N27,Resultados!$E$6:$E$3125,Resumen!V$5)*V$4/1000","v":0},{"$f":"+SUMIFS(Resultados!$AJ$6:$AJ$3125,Resultados!$BG$6:$BG$3125,Resumen!$N27,Resultados!$E$6:$E$3125,Resumen!W$5)*W$4/1000","v":0},{"$f":"+SUMIFS(Resultados!$AJ$6:$AJ$3125,Resultados!$BG$6:$BG$3125,Resumen!$N27,Resultados!$E$6:$E$3125,Resumen!X$5)*X$4/1000","v":0},{"$f":"+SUMIFS(Resultados!$AJ$6:$AJ$3125,Resultados!$BG$6:$BG$3125,Resumen!$N27,Resultados!$E$6:$E$3125,Resumen!Y$5)*Y$4/1000","v":0},{"$f":"+SUMIFS(Resultados!$AJ$6:$AJ$3125,Resultados!$BG$6:$BG$3125,Resumen!$N27,Resultados!$E$6:$E$3125,Resumen!Z$5)*Z$4/1000","v":0},0,null,null,null,null,null,null,null,null,null,null,null,null,null,null,null,null,null,null,null,null,null,null,null,null,null,null,null,null,null,null,null,null,null,null,null,null,null,null,null,null,null,null,null,null,null,null,null,23,{"$f":"+Resultados!G29/1000","v":0},{"$f":"+Resultados!H29/1000","v":0},{"$f":"+Resultados!U29/1000","v":0},{"$f":"+Resultados!AA29/1000","v":0},{"$f":"+Resultados!AC29/1000","v":0},{"$f":"+Resultados!X29/1000","v":0},{"$f":"+Resultados!Y29/1000","v":0},{"$f":"+Resultados!W29/1000","v":0},{"$f":"+Resultados!V29/1000","v":0},{"$f":"+Resultados!Z29/1000","v":0},{"$f":"+Resultados!AE29/1000","v":0},{"$f":"+Resultados!AB29/1000","v":0},{"$f":"+Resultados!AI29/1000","v":0},{"$f":"+Resultados!AJ29/1000","v":0},{"$f":"+Resultados!AH29/1000","v":0},null,{"$f":"+CN26+1","v":23},{"$f":"+Resultados!G185/1000","v":0},{"$f":"+Resultados!H185/1000","v":0},{"$f":"+Resultados!U185/1000","v":0},{"$f":"+Resultados!AA185/1000","v":0},{"$f":"+Resultados!AC185/1000","v":0},{"$f":"+Resultados!X185/1000","v":0},{"$f":"+Resultados!Y185/1000","v":0},{"$f":"+Resultados!W185/1000","v":0},{"$f":"+Resultados!V185/1000","v":0},{"$f":"+Resultados!Z185/1000","v":0},{"$f":"+Resultados!AE185/1000","v":0},{"$f":"+Resultados!AB185/1000","v":0},{"$f":"+Resultados!AI185/1000","v":0},{"$f":"+Resultados!AJ185/1000","v":0},{"$f":"+Resultados!AH185/1000","v":0}]
[null,"Consumo de energía primaria en agua caliente sanitaria",null,null,{"$f":"+'CEV CEVE'!J158","v":{"$error":"#DIV/0!"}},"[kWh-año]",{"$f":"+E28/'CEV CEVE'!$I$15","v":{"$error":"#DIV/0!"}},"[kWh/m2 -año]",null,null,null,null,null,"Caso Base 270° Con Clima",{"$f":"+SUMIFS(Resultados!$AJ$6:$AJ$3125,Resultados!$BG$6:$BG$3125,Resumen!$N28,Resultados!$E$6:$E$3125,Resumen!O$5)*O$4/1000","v":0},{"$f":"+SUMIFS(Resultados!$AJ$6:$AJ$3125,Resultados!$BG$6:$BG$3125,Resumen!$N28,Resultados!$E$6:$E$3125,Resumen!P$5)*P$4/1000","v":0},{"$f":"+SUMIFS(Resultados!$AJ$6:$AJ$3125,Resultados!$BG$6:$BG$3125,Resumen!$N28,Resultados!$E$6:$E$3125,Resumen!Q$5)*Q$4/1000","v":0},{"$f":"+SUMIFS(Resultados!$AJ$6:$AJ$3125,Resultados!$BG$6:$BG$3125,Resumen!$N28,Resultados!$E$6:$E$3125,Resumen!R$5)*R$4/1000","v":0},{"$f":"+SUMIFS(Resultados!$AJ$6:$AJ$3125,Resultados!$BG$6:$BG$3125,Resumen!$N28,Resultados!$E$6:$E$3125,Resumen!S$5)*S$4/1000","v":0},{"$f":"+SUMIFS(Resultados!$AJ$6:$AJ$3125,Resultados!$BG$6:$BG$3125,Resumen!$N28,Resultados!$E$6:$E$3125,Resumen!T$5)*T$4/1000","v":0},{"$f":"+SUMIFS(Resultados!$AJ$6:$AJ$3125,Resultados!$BG$6:$BG$3125,Resumen!$N28,Resultados!$E$6:$E$3125,Resumen!U$5)*U$4/1000","v":0},{"$f":"+SUMIFS(Resultados!$AJ$6:$AJ$3125,Resultados!$BG$6:$BG$3125,Resumen!$N28,Resultados!$E$6:$E$3125,Resumen!V$5)*V$4/1000","v":0},{"$f":"+SUMIFS(Resultados!$AJ$6:$AJ$3125,Resultados!$BG$6:$BG$3125,Resumen!$N28,Resultados!$E$6:$E$3125,Resumen!W$5)*W$4/1000","v":0},{"$f":"+SUMIFS(Resultados!$AJ$6:$AJ$3125,Resultados!$BG$6:$BG$3125,Resumen!$N28,Resultados!$E$6:$E$3125,Resumen!X$5)*X$4/1000","v":0},{"$f":"+SUMIFS(Resultados!$AJ$6:$AJ$3125,Resultados!$BG$6:$BG$3125,Resumen!$N28,Resultados!$E$6:$E$3125,Resumen!Y$5)*Y$4/1000","v":0},{"$f":"+SUMIFS(Resultados!$AJ$6:$AJ$3125,Resultados!$BG$6:$BG$3125,Resumen!$N28,Resultados!$E$6:$E$3125,Resumen!Z$5)*Z$4/1000","v":0},0]
[null,"Consumo de energía primaria en iluminación",null,null,{"$f":"+'CEV CEVE'!J159","v":0},"[kWh-año]",{"$f":"+E29/'CEV CEVE'!$I$15","v":{"$error":"#DIV/0!"}},"[kWh/m2 -año]"]
[null,"Consumo de energía primaria en ventiladores",null,null,{"$f":"+'CEV CEVE'!J160","v":{"$error":"#N/A"}},"[kWh-año]",{"$f":"+E30/'CEV CEVE'!$I$15","v":{"$error":"#N/A"}},"[kWh/m2 -año]",null,null,null,null,null,"Caso Propuesto Sin Clima",{"$f":"+SUMIFS(Resultados!$BH$6:$BH$3125,Resultados!$BG$6:$BG$3125,Resumen!$N30,Resultados!$E$6:$E$3125,Resumen!O$5,Resultados!$BF$6:$BF$3125,\"<24\")","v":0},{"$f":"+SUMIFS(Resultados!$BH$6:$BH$3125,Resultados!$BG$6:$BG$3125,Resumen!$N30,Resultados!$E$6:$E$3125,Resumen!P$5,Resultados!$BF$6:$BF$3125,\"<24\")","v":0},{"$f":"+SUMIFS(Resultados!$BH$6:$BH$3125,Resultados!$BG$6:$BG$3125,Resumen!$N30,Resultados!$E$6:$E$3125,Resumen!Q$5,Resultados!$BF$6:$BF$3125,\"<24\")","v":0},{"$f":"+SUMIFS(Resultados!$BH$6:$BH$3125,Resultados!$BG$6:$BG$3125,Resumen!$N30,Resultados!$E$6:$E$3125,Resumen!R$5,Resultados!$BF$6:$BF$3125,\"<24\")","v":0},{"$f":"+SUMIFS(Resultados!$BH$6:$BH$3125,Resultados!$BG$6:$BG$3125,Resumen!$N30,Resultados!$E$6:$E$3125,Resumen!S$5,Resultados!$BF$6:$BF$3125,\"<24\")","v":0},{"$f":"+SUMIFS(Resultados!$BH$6:$BH$3125,Resultados!$BG$6:$BG$3125,Resumen!$N30,Resultados!$E$6:$E$3125,Resumen!T$5,Resultados!$BF$6:$BF$3125,\"<24\")","v":0},{"$f":"+SUMIFS(Resultados!$BH$6:$BH$3125,Resultados!$BG$6:$BG$3125,Resumen!$N30,Resultados!$E$6:$E$3125,Resumen!U$5,Resultados!$BF$6:$BF$3125,\"<24\")","v":0},{"$f":"+SUMIFS(Resultados!$BH$6:$BH$3125,Resultados!$BG$6:$BG$3125,Resumen!$N30,Resultados!$E$6:$E$3125,Resumen!V$5,Resultados!$BF$6:$BF$3125,\"<24\")","v":0},{"$f":"+SUMIFS(Resultados!$BH$6:$BH$3125,Resultados!$BG$6:$BG$3125,Resumen!$N30,Resultados!$E$6:$E$3125,Resumen!W$5,Resultados!$BF$6:$BF$3125,\"<24\")","v":0},{"$f":"+SUMIFS(Resultados!$BH$6:$BH$3125,Resultados!$BG$6:$BG$3125,Resumen!$N30,Resultados!$E$6:$E$3125,Resumen!X$5,Resultados!$BF$6:$BF$3125,\"<24\")","v":0},{"$f":"+SUMIFS(Resultados!$BH$6:$BH$3125,Resultados!$BG$6:$BG$3125,Resumen!$N30,Resultados!$E$6:$E$3125,Resumen!Y$5,Resultados!$BF$6:$BF$3125,\"<24\")","v":0},{"$f":"+SUMIFS(Resultados!$BH$6:$BH$3125,Resultados!$BG$6:$BG$3125,Resumen!$N30,Resultados!$E$6:$E$3125,Resumen!Z$5,Resultados!$BF$6:$BF$3125,\"<24\")","v":0},{"$f":"+SUM(O30:Z30)","v":0}]
[null,null,null,null,null,null,null,null,null,null,null,null,null,"Caso Base 0° Sin Clima",{"$f":"+SUMIFS(Resultados!$BH$6:$BH$3125,Resultados!$BG$6:$BG$3125,Resumen!$N31,Resultados!$E$6:$E$3125,Resumen!O$5,Resultados!$BF$6:$BF$3125,\"<24\")","v":0},{"$f":"+SUMIFS(Resultados!$BH$6:$BH$3125,Resultados!$BG$6:$BG$3125,Resumen!$N31,Resultados!$E$6:$E$3125,Resumen!P$5,Resultados!$BF$6:$BF$3125,\"<24\")","v":0},{"$f":"+SUMIFS(Resultados!$BH$6:$BH$3125,Resultados!$BG$6:$BG$3125,Resumen!$N31,Resultados!$E$6:$E$3125,Resumen!Q$5,Resultados!$BF$6:$BF$3125,\"<24\")","v":0},{"$f":"+SUMIFS(Resultados!$BH$6:$BH$3125,Resultados!$BG$6:$BG$3125,Resumen!$N31,Resultados!$E$6:$E$3125,Resumen!R$5,Resultados!$BF$6:$BF$3125,\"<24\")","v":0},{"$f":"+SUMIFS(Resultados!$BH$6:$BH$3125,Resultados!$BG$6:$BG$3125,Resumen!$N31,Resultados!$E$6:$E$3125,Resumen!S$5,Resultados!$BF$6:$BF$3125,\"<24\")","v":0},{"$f":"+SUMIFS(Resultados!$BH$6:$BH$3125,Resultados!$BG$6:$BG$3125,Resumen!$N31,Resultados!$E$6:$E$3125,Resumen!T$5,Resultados!$BF$6:$BF$3125,\"<24\")","v":0},{"$f":"+SUMIFS(Resultados!$BH$6:$BH$3125,Resultados!$BG$6:$BG$3125,Resumen!$N31,Resultados!$E$6:$E$3125,Resumen!U$5,Resultados!$BF$6:$BF$3125,\"<24\")","v":0},{"$f":"+SUMIFS(Resultados!$BH$6:$BH$3125,Resultados!$BG$6:$BG$3125,Resumen!$N31,Resultados!$E$6:$E$3125,Resumen!V$5,Resultados!$BF$6:$BF$3125,\"<24\")","v":0},{"$f":"+SUMIFS(Resultados!$BH$6:$BH$3125,Resultados!$BG$6:$BG$3125,Resumen!$N31,Resultados!$E$6:$E$3125,Resumen!W$5,Resultados!$BF$6:$BF$3125,\"<24\")","v":0},{"$f":"+SUMIFS(Resultados!$BH$6:$BH$3125,Resultados!$BG$6:$BG$3125,Resumen!$N31,Resultados!$E$6:$E$3125,Resumen!X$5,Resultados!$BF$6:$BF$3125,\"<24\")","v":0},{"$f":"+SUMIFS(Resultados!$BH$6:$BH$3125,Resultados!$BG$6:$BG$3125,Resumen!$N31,Resultados!$E$6:$E$3125,Resumen!Y$5,Resultados!$BF$6:$BF$3125,\"<24\")","v":0},{"$f":"+SUMIFS(Resultados!$BH$6:$BH$3125,Resultados!$BG$6:$BG$3125,Resumen!$N31,Resultados!$E$6:$E$3125,Resumen!Z$5,Resultados!$BF$6:$BF$3125,\"<24\")","v":0},{"$f":"+SUM(O31:Z31)","v":0}]
[null,"Generación de energía primaria en fotovoltaicos",null,null,{"$f":"+'CEV CEVE'!J162","v":0},"[kWh-año]",{"$f":"+E32/'CEV CEVE'!$I$15","v":{"$error":"#DIV/0!"}},"[kWh/m2 -año]",null,null,null,null,"HD (-) [hrs]","Caso Base 90° Sin Clima",{"$f":"+SUMIFS(Resultados!$BH$6:$BH$3125,Resultados!$BG$6:$BG$3125,Resumen!$N32,Resultados!$E$6:$E$3125,Resumen!O$5,Resultados!$BF$6:$BF$3125,\"<24\")","v":0},{"$f":"+SUMIFS(Resultados!$BH$6:$BH$3125,Resultados!$BG$6:$BG$3125,Resumen!$N32,Resultados!$E$6:$E$3125,Resumen!P$5,Resultados!$BF$6:$BF$3125,\"<24\")","v":0},{"$f":"+SUMIFS(Resultados!$BH$6:$BH$3125,Resultados!$BG$6:$BG$3125,Resumen!$N32,Resultados!$E$6:$E$3125,Resumen!Q$5,Resultados!$BF$6:$BF$3125,\"<24\")","v":0},{"$f":"+SUMIFS(Resultados!$BH$6:$BH$3125,Resultados!$BG$6:$BG$3125,Resumen!$N32,Resultados!$E$6:$E$3125,Resumen!R$5,Resultados!$BF$6:$BF$3125,\"<24\")","v":0},{"$f":"+SUMIFS(Resultados!$BH$6:$BH$3125,Resultados!$BG$6:$BG$3125,Resumen!$N32,Resultados!$E$6:$E$3125,Resumen!S$5,Resultados!$BF$6:$BF$3125,\"<24\")","v":0},{"$f":"+SUMIFS(Resultados!$BH$6:$BH$3125,Resultados!$BG$6:$BG$3125,Resumen!$N32,Resultados!$E$6:$E$3125,Resumen!T$5,Resultados!$BF$6:$BF$3125,\"<24\")","v":0},{"$f":"+SUMIFS(Resultados!$BH$6:$BH$3125,Resultados!$BG$6:$BG$3125,Resumen!$N32,Resultados!$E$6:$E$3125,Resumen!U$5,Resultados!$BF$6:$BF$3125,\"<24\")","v":0},{"$f":"+SUMIFS(Resultados!$BH$6:$BH$3125,Resultados!$BG$6:$BG$3125,Resumen!$N32,Resultados!$E$6:$E$3125,Resumen!V$5,Resultados!$BF$6:$BF$3125,\"<24\")","v":0},{"$f":"+SUMIFS(Resultados!$BH$6:$BH$3125,Resultados!$BG$6:$BG$3125,Resumen!$N32,Resultados!$E$6:$E$3125,Resumen!W$5,Resultados!$BF$6:$BF$3125,\"<24\")","v":0},{"$f":"+SUMIFS(Resultados!$BH$6:$BH$3125,Resultados!$BG$6:$BG$3125,Resumen!$N32,Resultados!$E$6:$E$3125,Resumen!X$5,Resultados!$BF$6:$BF$3125,\"<24\")","v":0},{"$f":"+SUMIFS(Resultados!$BH$6:$BH$3125,Resultados!$BG$6:$BG$3125,Resumen!$N32,Resultados!$E$6:$E$3125,Resumen!Y$5,Resultados!$BF$6:$BF$3125,\"<24\")","v":0},{"$f":"+SUMIFS(Resultados!$BH$6:$BH$3125,Resultados!$BG$6:$BG$3125,Resumen!$N32,Resultados!$E$6:$E$3125,Resumen!Z$5,Resultados!$BF$6:$BF$3125,\"<24\")","v":0},0]
[null,"Aporte de energía solar fotovoltaica a consumos básicos",null,null,{"$f":"+'CEV CEVE'!J163","v":{"$error":"#N/A"}},"[kWh-año]",{"$f":"+E33/'CEV CEVE'!$I$15","v":{"$error":"#N/A"}},"[kWh/m2 -año]",null,null,null,null,null,"Caso Base 180° Sin Clima",{"$f":"+SUMIFS(Resultados!$BH$6:$BH$3125,Resultados!$BG$6:$BG$3125,Resumen!$N33,Resultados!$E$6:$E$3125,Resumen!O$5,Resultados!$BF$6:$BF$3125,\"<24\")","v":0},{"$f":"+SUMIFS(Resultados!$BH$6:$BH$3125,Resultados!$BG$6:$BG$3125,Resumen!$N33,Resultados!$E$6:$E$3125,Resumen!P$5,Resultados!$BF$6:$BF$3125,\"<24\")","v":0},{"$f":"+SUMIFS(Resultados!$BH$6:$BH$3125,Resultados!$BG$6:$BG$3125,Resumen!$N33,Resultados!$E$6:$E$3125,Resumen!Q$5,Resultados!$BF$6:$BF$3125,\"<24\")","v":0},{"$f":"+SUMIFS(Resultados!$BH$6:$BH$3125,Resultados!$BG$6:$BG$3125,Resumen!$N33,Resultados!$E$6:$E$3125,Resumen!R$5,Resultados!$BF$6:$BF$3125,\"<24\")","v":0},{"$f":"+SUMIFS(Resultados!$BH$6:$BH$3125,Resultados!$BG$6:$BG$3125,Resumen!$N33,Resultados!$E$6:$E$3125,Resumen!S$5,Resultados!$BF$6:$BF$3125,\"<24\")","v":0},{"$f":"+SUMIFS(Resultados!$BH$6:$BH$3125,Resultados!$BG$6:$BG$3125,Resumen!$N33,Resultados!$E$6:$E$3125,Resumen!T$5,Resultados!$BF$6:$BF$3125,\"<24\")","v":0},{"$f":"+SUMIFS(Resultados!$BH$6:$BH$3125,Resultados!$BG$6:$BG$3125,Resumen!$N33,Resultados!$E$6:$E$3125,Resumen!U$5,Resultados!$BF$6:$BF$3125,\"<24\")","v":0},{"$f":"+SUMIFS(Resultados!$BH$6:$BH$3125,Resultados!$BG$6:$BG$3125,Resumen!$N33,Resultados!$E$6:$E$3125,Resumen!V$5,Resultados!$BF$6:$BF$3125,\"<24\")","v":0},{"$f":"+SUMIFS(Resultados!$BH$6:$BH$3125,Resultados!$BG$6:$BG$3125,Resumen!$N33,Resultados!$E$6:$E$3125,Resumen!W$5,Resultados!$BF$6:$BF$3125,\"<24\")","v":0},{"$f":"+SUMIFS(Resultados!$BH$6:$BH$3125,Resultados!$BG$6:$BG$3125,Resumen!$N33,Resultados!$E$6:$E$3125,Resumen!X$5,Resultados!$BF$6:$BF$3125,\"<24\")","v":0},{"$f":"+SUMIFS(Resultados!$BH$6:$BH$3125,Resultados!$BG$6:$BG$3125,Resumen!$N33,Resultados!$E$6:$E$3125,Resumen!Y$5,Resultados!$BF$6:$BF$3125,\"<24\")","v":0},{"$f":"+SUMIFS(Resultados!$BH$6:$BH$3125,Resultados!$BG$6:$BG$3125,Resumen!$N33,Resultados!$E$6:$E$3125,Resumen!Z$5,Resultados!$BF$6:$BF$3125,\"<24\")","v":0},0]
[null,"Aporte de energía solar fotovoltaica a consumo de electrodomésticos",null,null,{"$f":"+'CEV CEVE'!J164","v":{"$error":"#N/A"}},"[kWh-año]",{"$f":"+E34/'CEV CEVE'!$I$15","v":{"$error":"#N/A"}},"[kWh/m2 -año]",null,null,null,null,null,"Caso Base 270° Sin Clima",{"$f":"+SUMIFS(Resultados!$BH$6:$BH$3125,Resultados!$BG$6:$BG$3125,Resumen!$N34,Resultados!$E$6:$E$3125,Resumen!O$5,Resultados!$BF$6:$BF$3125,\"<24\")","v":0},{"$f":"+SUMIFS(Resultados!$BH$6:$BH$3125,Resultados!$BG$6:$BG$3125,Resumen!$N34,Resultados!$E$6:$E$3125,Resumen!P$5,Resultados!$BF$6:$BF$3125,\"<24\")","v":0},{"$f":"+SUMIFS(Resultados!$BH$6:$BH$3125,Resultados!$BG$6:$BG$3125,Resumen!$N34,Resultados!$E$6:$E$3125,Resumen!Q$5,Resultados!$BF$6:$BF$3125,\"<24\")","v":0},{"$f":"+SUMIFS(Resultados!$BH$6:$BH$3125,Resultados!$BG$6:$BG$3125,Resumen!$N34,Resultados!$E$6:$E$3125,Resumen!R$5,Resultados!$BF$6:$BF$3125,\"<24\")","v":0},{"$f":"+SUMIFS(Resultados!$BH$6:$BH$3125,Resultados!$BG$6:$BG$3125,Resumen!$N34,Resultados!$E$6:$E$3125,Resumen!S$5,Resultados!$BF$6:$BF$3125,\"<24\")","v":0},{"$f":"+SUMIFS(Resultados!$BH$6:$BH$3125,Resultados!$BG$6:$BG$3125,Resumen!$N34,Resultados!$E$6:$E$3125,Resumen!T$5,Resultados!$BF$6:$BF$3125,\"<24\")","v":0},{"$f":"+SUMIFS(Resultados!$BH$6:$BH$3125,Resultados!$BG$6:$BG$3125,Resumen!$N34,Resultados!$E$6:$E$3125,Resumen!U$5,Resultados!$BF$6:$BF$3125,\"<24\")","v":0},{"$f":"+SUMIFS(Resultados!$BH$6:$BH$3125,Resultados!$BG$6:$BG$3125,Resumen!$N34,Resultados!$E$6:$E$3125,Resumen!V$5,Resultados!$BF$6:$BF$3125,\"<24\")","v":0},{"$f":"+SUMIFS(Resultados!$BH$6:$BH$3125,Resultados!$BG$6:$BG$3125,Resumen!$N34,Resultados!$E$6:$E$3125,Resumen!W$5,Resultados!$BF$6:$BF$3125,\"<24\")","v":0},{"$f":"+SUMIFS(Resultados!$BH$6:$BH$3125,Resultados!$BG$6:$BG$3125,Resumen!$N34,Resultados!$E$6:$E$3125,Resumen!X$5,Resultados!$BF$6:$BF$3125,\"<24\")","v":0},{"$f":"+SUMIFS(Resultados!$BH$6:$BH$3125,Resultados!$BG$6:$BG$3125,Resumen!$N34,Resultados!$E$6:$E$3125,Resumen!Y$5,Resultados!$BF$6:$BF$3125,\"<24\")","v":0},{"$f":"+SUMIFS(Resultados!$BH$6:$BH$3125,Resultados!$BG$6:$BG$3125,Resumen!$N34,Resultados!$E$6:$E$3125,Resumen!Z$5,Resultados!$BF$6:$BF$3125,\"<24\")","v":0},0]
[null,null,null,null,null,null,null,null,null,null,null,null,null,"Caso Propuesto Sin Clima",{"$f":"+SUMIFS(Resultados!$BI$6:$BI$3125,Resultados!$BG$6:$BG$3125,Resumen!$N35,Resultados!$E$6:$E$3125,Resumen!O$5,Resultados!$BF$6:$BF$3125,\"<24\")","v":0},{"$f":"+SUMIFS(Resultados!$BI$6:$BI$3125,Resultados!$BG$6:$BG$3125,Resumen!$N35,Resultados!$E$6:$E$3125,Resumen!P$5,Resultados!$BF$6:$BF$3125,\"<24\")","v":0},{"$f":"+SUMIFS(Resultados!$BI$6:$BI$3125,Resultados!$BG$6:$BG$3125,Resumen!$N35,Resultados!$E$6:$E$3125,Resumen!Q$5,Resultados!$BF$6:$BF$3125,\"<24\")","v":0},{"$f":"+SUMIFS(Resultados!$BI$6:$BI$3125,Resultados!$BG$6:$BG$3125,Resumen!$N35,Resultados!$E$6:$E$3125,Resumen!R$5,Resultados!$BF$6:$BF$3125,\"<24\")","v":0},{"$f":"+SUMIFS(Resultados!$BI$6:$BI$3125,Resultados!$BG$6:$BG$3125,Resumen!$N35,Resultados!$E$6:$E$3125,Resumen!S$5,Resultados!$BF$6:$BF$3125,\"<24\")","v":0},{"$f":"+SUMIFS(Resultados!$BI$6:$BI$3125,Resultados!$BG$6:$BG$3125,Resumen!$N35,Resultados!$E$6:$E$3125,Resumen!T$5,Resultados!$BF$6:$BF$3125,\"<24\")","v":0},{"$f":"+SUMIFS(Resultados!$BI$6:$BI$3125,Resultados!$BG$6:$BG$3125,Resumen!$N35,Resultados!$E$6:$E$3125,Resumen!U$5,Resultados!$BF$6:$BF$3125,\"<24\")","v":0},{"$f":"+SUMIFS(Resultados!$BI$6:$BI$3125,Resultados!$BG$6:$BG$3125,Resumen!$N35,Resultados!$E$6:$E$3125,Resumen!V$5,Resultados!$BF$6:$BF$3125,\"<24\")","v":0},{"$f":"+SUMIFS(Resultados!$BI$6:$BI$3125,Resultados!$BG$6:$BG$3125,Resumen!$N35,Resultados!$E$6:$E$3125,Resumen!W$5,Resultados!$BF$6:$BF$3125,\"<24\")","v":0},{"$f":"+SUMIFS(Resultados!$BI$6:$BI$3125,Resultados!$BG$6:$BG$3125,Resumen!$N35,Resultados!$E$6:$E$3125,Resumen!X$5,Resultados!$BF$6:$BF$3125,\"<24\")","v":0},{"$f":"+SUMIFS(Resultados!$BI$6:$BI$3125,Resultados!$BG$6:$BG$3125,Resumen!$N35,Resultados!$E$6:$E$3125,Resumen!Y$5,Resultados!$BF$6:$BF$3125,\"<24\")","v":0},{"$f":"+SUMIFS(Resultados!$BI$6:$BI$3125,Resultados!$BG$6:$BG$3125,Resumen!$N35,Resultados!$E$6:$E$3125,Resumen!Z$5,Resultados!$BF$6:$BF$3125,\"<24\")","v":0},0]
[null,"Balance general de energía",null,null,null,null,null,null,null,null,null,null,null,"Caso Base 0° Sin Clima",{"$f":"+SUMIFS(Resultados!$BI$6:$BI$3125,Resultados!$BG$6:$BG$3125,Resumen!$N36,Resultados!$E$6:$E$3125,Resumen!O$5,Resultados!$BF$6:$BF$3125,\"<24\")","v":0},{"$f":"+SUMIFS(Resultados!$BI$6:$BI$3125,Resultados!$BG$6:$BG$3125,Resumen!$N36,Resultados!$E$6:$E$3125,Resumen!P$5,Resultados!$BF$6:$BF$3125,\"<24\")","v":0},{"$f":"+SUMIFS(Resultados!$BI$6:$BI$3125,Resultados!$BG$6:$BG$3125,Resumen!$N36,Resultados!$E$6:$E$3125,Resumen!Q$5,Resultados!$BF$6:$BF$3125,\"<24\")","v":0},{"$f":"+SUMIFS(Resultados!$BI$6:$BI$3125,Resultados!$BG$6:$BG$3125,Resumen!$N36,Resultados!$E$6:$E$3125,Resumen!R$5,Resultados!$BF$6:$BF$3125,\"<24\")","v":0},{"$f":"+SUMIFS(Resultados!$BI$6:$BI$3125,Resultados!$BG$6:$BG$3125,Resumen!$N36,Resultados!$E$6:$E$3125,Resumen!S$5,Resultados!$BF$6:$BF$3125,\"<24\")","v":0},{"$f":"+SUMIFS(Resultados!$BI$6:$BI$3125,Resultados!$BG$6:$BG$3125,Resumen!$N36,Resultados!$E$6:$E$3125,Resumen!T$5,Resultados!$BF$6:$BF$3125,\"<24\")","v":0},{"$f":"+SUMIFS(Resultados!$BI$6:$BI$3125,Resultados!$BG$6:$BG$3125,Resumen!$N36,Resultados!$E$6:$E$3125,Resumen!U$5,Resultados!$BF$6:$BF$3125,\"<24\")","v":0},{"$f":"+SUMIFS(Resultados!$BI$6:$BI$3125,Resultados!$BG$6:$BG$3125,Resumen!$N36,Resultados!$E$6:$E$3125,Resumen!V$5,Resultados!$BF$6:$BF$3125,\"<24\")","v":0},{"$f":"+SUMIFS(Resultados!$BI$6:$BI$3125,Resultados!$BG$6:$BG$3125,Resumen!$N36,Resultados!$E$6:$E$3125,Resumen!W$5,Resultados!$BF$6:$BF$3125,\"<24\")","v":0},{"$f":"+SUMIFS(Resultados!$BI$6:$BI$3125,Resultados!$BG$6:$BG$3125,Resumen!$N36,Resultados!$E$6:$E$3125,Resumen!X$5,Resultados!$BF$6:$BF$3125,\"<24\")","v":0},{"$f":"+SUMIFS(Resultados!$BI$6:$BI$3125,Resultados!$BG$6:$BG$3125,Resumen!$N36,Resultados!$E$6:$E$3125,Resumen!Y$5,Resultados!$BF$6:$BF$3125,\"<24\")","v":0},{"$f":"+SUMIFS(Resultados!$BI$6:$BI$3125,Resultados!$BG$6:$BG$3125,Resumen!$N36,Resultados!$E$6:$E$3125,Resumen!Z$5,Resultados!$BF$6:$BF$3125,\"<24\")","v":0},0]
[null,"Total consumo de energía primaria antes de fotovoltaicos",null,null,{"$f":"+'CEV CEVE'!J167","v":{"$error":"#DIV/0!"}},"[kWh-año]",{"$f":"+E37/'CEV CEVE'!$I$15","v":{"$error":"#DIV/0!"}},"[kWh/m2 -año]",null,null,null,null,"HD (+) [hrs]","Caso Base 90° Sin Clima",{"$f":"+SUMIFS(Resultados!$BI$6:$BI$3125,Resultados!$BG$6:$BG$3125,Resumen!$N37,Resultados!$E$6:$E$3125,Resumen!O$5,Resultados!$BF$6:$BF$3125,\"<24\")","v":0},{"$f":"+SUMIFS(Resultados!$BI$6:$BI$3125,Resultados!$BG$6:$BG$3125,Resumen!$N37,Resultados!$E$6:$E$3125,Resumen!P$5,Resultados!$BF$6:$BF$3125,\"<24\")","v":0},{"$f":"+SUMIFS(Resultados!$BI$6:$BI$3125,Resultados!$BG$6:$BG$3125,Resumen!$N37,Resultados!$E$6:$E$3125,Resumen!Q$5,Resultados!$BF$6:$BF$3125,\"<24\")","v":0},{"$f":"+SUMIFS(Resultados!$BI$6:$BI$3125,Resultados!$BG$6:$BG$3125,Resumen!$N37,Resultados!$E$6:$E$3125,Resumen!R$5,Resultados!$BF$6:$BF$3125,\"<24\")","v":0},{"$f":"+SUMIFS(Resultados!$BI$6:$BI$3125,Resultados!$BG$6:$BG$3125,Resumen!$N37,Resultados!$E$6:$E$3125,Resumen!S$5,Resultados!$BF$6:$BF$3125,\"<24\")","v":0},{"$f":"+SUMIFS(Resultados!$BI$6:$BI$3125,Resultados!$BG$6:$BG$3125,Resumen!$N37,Resultados!$E$6:$E$3125,Resumen!T$5,Resultados!$BF$6:$BF$3125,\"<24\")","v":0},{"$f":"+SUMIFS(Resultados!$BI$6:$BI$3125,Resultados!$BG$6:$BG$3125,Resumen!$N37,Resultados!$E$6:$E$3125,Resumen!U$5,Resultados!$BF$6:$BF$3125,\"<24\")","v":0},{"$f":"+SUMIFS(Resultados!$BI$6:$BI$3125,Resultados!$BG$6:$BG$3125,Resumen!$N37,Resultados!$E$6:$E$3125,Resumen!V$5,Resultados!$BF$6:$BF$3125,\"<24\")","v":0},{"$f":"+SUMIFS(Resultados!$BI$6:$BI$3125,Resultados!$BG$6:$BG$3125,Resumen!$N37,Resultados!$E$6:$E$3125,Resumen!W$5,Resultados!$BF$6:$BF$3125,\"<24\")","v":0},{"$f":"+SUMIFS(Resultados!$BI$6:$BI$3125,Resultados!$BG$6:$BG$3125,Resumen!$N37,Resultados!$E$6:$E$3125,Resumen!X$5,Resultados!$BF$6:$BF$3125,\"<24\")","v":0},{"$f":"+SUMIFS(Resultados!$BI$6:$BI$3125,Resultados!$BG$6:$BG$3125,Resumen!$N37,Resultados!$E$6:$E$3125,Resumen!Y$5,Resultados!$BF$6:$BF$3125,\"<24\")","v":0},{"$f":"+SUMIFS(Resultados!$BI$6:$BI$3125,Resultados!$BG$6:$BG$3125,Resumen!$N37,Resultados!$E$6:$E$3125,Resumen!Z$5,Resultados!$BF$6:$BF$3125,\"<24\")","v":0},0]
[null,"Aporte de fotovoltaicos a consumos básicos",null,null,{"$f":"+'CEV CEVE'!J168","v":{"$error":"#N/A"}},"[kWh-año]",{"$f":"+E38/'CEV CEVE'!$I$15","v":{"$error":"#N/A"}},"[kWh/m2 -año]",null,null,null,null,null,"Caso Base 180° Sin Clima",{"$f":"+SUMIFS(Resultados!$BI$6:$BI$3125,Resultados!$BG$6:$BG$3125,Resumen!$N38,Resultados!$E$6:$E$3125,Resumen!O$5,Resultados!$BF$6:$BF$3125,\"<24\")","v":0},{"$f":"+SUMIFS(Resultados!$BI$6:$BI$3125,Resultados!$BG$6:$BG$3125,Resumen!$N38,Resultados!$E$6:$E$3125,Resumen!P$5,Resultados!$BF$6:$BF$3125,\"<24\")","v":0},{"$f":"+SUMIFS(Resultados!$BI$6:$BI$3125,Resultados!$BG$6:$BG$3125,Resumen!$N38,Resultados!$E$6:$E$3125,Resumen!Q$5,Resultados!$BF$6:$BF$3125,\"<24\")","v":0},{"$f":"+SUMIFS(Resultados!$BI$6:$BI$3125,Resultados!$BG$6:$BG$3125,Resumen!$N38,Resultados!$E$6:$E$3125,Resumen!R$5,Resultados!$BF$6:$BF$3125,\"<24\")","v":0},{"$f":"+SUMIFS(Resultados!$BI$6:$BI$3125,Resultados!$BG$6:$BG$3125,Resumen!$N38,Resultados!$E$6:$E$3125,Resumen!S$5,Resultados!$BF$6:$BF$3125,\"<24\")","v":0},{"$f":"+SUMIFS(Resultados!$BI$6:$BI$3125,Resultados!$BG$6:$BG$3125,Resumen!$N38,Resultados!$E$6:$E$3125,Resumen!T$5,Resultados!$BF$6:$BF$3125,\"<24\")","v":0},{"$f":"+SUMIFS(Resultados!$BI$6:$BI$3125,Resultados!$BG$6:$BG$3125,Resumen!$N38,Resultados!$E$6:$E$3125,Resumen!U$5,Resultados!$BF$6:$BF$3125,\"<24\")","v":0},{"$f":"+SUMIFS(Resultados!$BI$6:$BI$3125,Resultados!$BG$6:$BG$3125,Resumen!$N38,Resultados!$E$6:$E$3125,Resumen!V$5,Resultados!$BF$6:$BF$3125,\"<24\")","v":0},{"$f":"+SUMIFS(Resultados!$BI$6:$BI$3125,Resultados!$BG$6:$BG$3125,Resumen!$N38,Resultados!$E$6:$E$3125,Resumen!W$5,Resultados!$BF$6:$BF$3125,\"<24\")","v":0},{"$f":"+SUMIFS(Resultados!$BI$6:$BI$3125,Resultados!$BG$6:$BG$3125,Resumen!$N38,Resultados!$E$6:$E$3125,Resumen!X$5,Resultados!$BF$6:$BF$3125,\"<24\")","v":0},{"$f":"+SUMIFS(Resultados!$BI$6:$BI$3125,Resultados!$BG$6:$BG$3125,Resumen!$N38,Resultados!$E$6:$E$3125,Resumen!Y$5,Resultados!$BF$6:$BF$3125,\"<24\")","v":0},{"$f":"+SUMIFS(Resultados!$BI$6:$BI$3125,Resultados!$BG$6:$BG$3125,Resumen!$N38,Resultados!$E$6:$E$3125,Resumen!Z$5,Resultados!$BF$6:$BF$3125,\"<24\")","v":0},0]
[null,"Consumos básicos a suplir con energía externa",null,null,{"$f":"+'CEV CEVE'!J169","v":{"$error":"#DIV/0!"}},"[kWh-año]",{"$f":"+E39/'CEV CEVE'!$I$15","v":{"$error":"#DIV/0!"}},"[kWh/m2 -año]",null,null,null,null,null,"Caso Base 270° Sin Clima",{"$f":"+SUMIFS(Resultados!$BI$6:$BI$3125,Resultados!$BG$6:$BG$3125,Resumen!$N39,Resultados!$E$6:$E$3125,Resumen!O$5,Resultados!$BF$6:$BF$3125,\"<24\")","v":0},{"$f":"+SUMIFS(Resultados!$BI$6:$BI$3125,Resultados!$BG$6:$BG$3125,Resumen!$N39,Resultados!$E$6:$E$3125,Resumen!P$5,Resultados!$BF$6:$BF$3125,\"<24\")","v":0},{"$f":"+SUMIFS(Resultados!$BI$6:$BI$3125,Resultados!$BG$6:$BG$3125,Resumen!$N39,Resultados!$E$6:$E$3125,Resumen!Q$5,Resultados!$BF$6:$BF$3125,\"<24\")","v":0},{"$f":"+SUMIFS(Resultados!$BI$6:$BI$3125,Resultados!$BG$6:$BG$3125,Resumen!$N39,Resultados!$E$6:$E$3125,Resumen!R$5,Resultados!$BF$6:$BF$3125,\"<24\")","v":0},{"$f":"+SUMIFS(Resultados!$BI$6:$BI$3125,Resultados!$BG$6:$BG$3125,Resumen!$N39,Resultados!$E$6:$E$3125,Resumen!S$5,Resultados!$BF$6:$BF$3125,\"<24\")","v":0},{"$f":"+SUMIFS(Resultados!$BI$6:$BI$3125,Resultados!$BG$6:$BG$3125,Resumen!$N39,Resultados!$E$6:$E$3125,Resumen!T$5,Resultados!$BF$6:$BF$3125,\"<24\")","v":0},{"$f":"+SUMIFS(Resultados!$BI$6:$BI$3125,Resultados!$BG$6:$BG$3125,Resumen!$N39,Resultados!$E$6:$E$3125,Resumen!U$5,Resultados!$BF$6:$BF$3125,\"<24\")","v":0},{"$f":"+SUMIFS(Resultados!$BI$6:$BI$3125,Resultados!$BG$6:$BG$3125,Resumen!$N39,Resultados!$E$6:$E$3125,Resumen!V$5,Resultados!$BF$6:$BF$3125,\"<24\")","v":0},{"$f":"+SUMIFS(Resultados!$BI$6:$BI$3125,Resultados!$BG$6:$BG$3125,Resumen!$N39,Resultados!$E$6:$E$3125,Resumen!W$5,Resultados!$BF$6:$BF$3125,\"<24\")","v":0},{"$f":"+SUMIFS(Resultados!$BI$6:$BI$3125,Resultados!$BG$6:$BG$3125,Resumen!$N39,Resultados!$E$6:$E$3125,Resumen!X$5,Resultados!$BF$6:$BF$3125,\"<24\")","v":0},{"$f":"+SUMIFS(Resultados!$BI$6:$BI$3125,Resultados!$BG$6:$BG$3125,Resumen!$N39,Resultados!$E$6:$E$3125,Resumen!Y$5,Resultados!$BF$6:$BF$3125,\"<24\")","v":0},{"$f":"+SUMIFS(Resultados!$BI$6:$BI$3125,Resultados!$BG$6:$BG$3125,Resumen!$N39,Resultados!$E$6:$E$3125,Resumen!Z$5,Resultados!$BF$6:$BF$3125,\"<24\")","v":0},0]
[null,"Resumen de consumos finales de referencia y objeto"]
[null,"Consumo total de energía primaria ",null,null,{"$f":"+'CEV CEVE'!J171","v":{"$error":"#DIV/0!"}},"[kWh-año]",{"$f":"+E41/'CEV CEVE'!$I$15","v":{"$error":"#DIV/0!"}},"[kWh/m2 -año]"]
[null,"Consumo de energía de referencia",null,null,{"$f":"+'CEV CEVE'!J172","v":{"$error":"#VALUE!"}},"[kWh-año]",{"$f":"+E42/'CEV CEVE'!$I$15","v":{"$error":"#VALUE!"}},"[kWh/m2 -año]"]
[null,"Coeficiente energético : C",null,null,{"$f":"+'CEV CEVE'!J173","v":{"$error":"#DIV/0!"}},null,null,null,"Ahorro",{"$f":"+'CEV CEVE'!O173","v":{"$error":"#DIV/0!"}}]
[]
[]
[null,"Aporte fotovoltaico al consumo de electrodomésticos",null,null,{"$f":"+'CEV CEVE'!J176","v":{"$error":"#N/A"}},"[kWh-año]","Porcentaje del consumo medio",null,null,{"$f":"+'CEV CEVE'!O176","v":{"$error":"#N/A"}}]
[]
[]
[]
[]
[]
[]
[]
[]
["Información para el informe"]
["N°","Texto"]
[1,"Código evaluación energética: -  -  - "]
[2,"Región: -  -  - ",{"$f":"+'CEV-CEVE'!E8","v":0}]
[3,"Comuna: -  -  - ",{"$f":"+'CEV-CEVE'!E9","v":0}]
[4,"Dirección: -  -  - ",{"$f":"+'CEV-CEVE'!E15","v":0}]
[5,"Rol Vivienda / Proyecto: -  -  - ",{"$f":"+'CEV-CEVE'!E19","v":0}]
[6,"Tipo de Vivienda: -  -  - ",{"$f":"+'CEV-CEVE'!E16","v":0}]
[7,"Superficie interior útil: -  -  - ",{"$f":"+'CEV-CEVE'!D56","v":0}]
[8,"A+",{"$f":"+IF(B64=$K$7,$J$7,\"\")","v":""}]
[9,"A",""]
[10,"B",""]
[11,"C",""]
[12,"D",""]
[13,"E",0]
[14,"F",""]
[15,"G",""]
[16,"Demanda energética para calefacción - kWh/m2 año -  - ",{"$f":"+E8","v":{"$error":"#DIV/0!"}}]
[17,"Demanda energética para enfriamiento - kWh/m2 año -  - ",{"$f":"ABS(F8)","v":{"$error":"#DIV/0!"}}]
[18,"Demanda energética total - kWh/m2 año -  - ",{"$f":"+I8","v":{"$error":"#DIV/0!"}}]
[19,"Emitida el: -  -  - ",{"$f":"+TODAY()","v":"2018-11-13"}]
[20,"Código evaluación energética -  -  - ",{"$f":"+'CEV-CEVE'!E21","v":0}]
[21,"Región -  -  - ",{"$f":"+C58","v":0}]
[22,"Comuna -  -  - ",{"$f":"+C59","v":0}]
[23,"Dirección -  -  - ",{"$f":"+C60","v":0}]
[24,"Rol vivienda -  -  - ",{"$f":"+C61","v":0}]
[25,"Tipo de vivienda -  -  - ",{"$f":"+C62","v":0}]
[26,"Zona térmica -  -  - ",{"$f":"+'CEV-CEVE'!E10","v":0}]
[27,"Superficie interior últil (m\u001e) -  -  - ",{"$f":"+C63","v":0}]
[28,"Solicitado por -  -  - ",{"$f":"+'CEV-CEVE'!E28","v":0}]
[29,"Evaluado por -  -  - ",{"$f":"+'CEV-CEVE'!E20","v":0}]
[30,"Código evaluación energética -  -  - "]
[31,"Demanda energética para calefacción - kWh/m\u001f año -  - ",{"$f":"+C72","v":{"$error":"#DIV/0!"}}]
[32,"Demanda energética para enfriamiento - kWh/m\u001f año -  - ",{"$f":"+ABS(C73)","v":{"$error":"#DIV/0!"}}]
[33,"Demanda Energética total - kWh/m2 año -  - ",{"$f":"+C74","v":{"$error":"#DIV/0!"}}]
[34,"Demanda energética total - kwh/m2 año -  - ",{"$f":"+C89","v":{"$error":"#DIV/0!"}}]
[35,"Demanda energética de referencia - kwh/m2 año -  - ",{"$f":"+I7","v":{"$error":"#N/A"}}]
[36,"% ahorro energético -  -  - ",{"$f":"J7","v":0}]
[37,"Muro principal - DESCRIPCIÓN -  - ",{"$f":"+'CEV-CEVE'!E33","v":0}]
[38,"Muro principal - EXIGENCIA U* REGLAMENTACIÓN TÉRMICA -  - ",{"$f":"Zona!K12","v":{"$error":"#N/A"}}]
[39,"Muro secundario - DESCRIPCIÓN -  - ",{"$f":"+'CEV-CEVE'!E34","v":0}]
[40,"Muro secundario - EXIGENCIA U* REGLAMENTACIÓN TÉRMICA -  - ",{"$f":"Zona!K12","v":{"$error":"#N/A"}}]
[41,"Piso principal - DESCRIPCIÓN -  - ",{"$f":"+'CEV-CEVE'!E35","v":0}]
[42,"Piso principal - EXIGENCIA U* REGLAMENTACIÓN TÉRMICA -  - ",{"$f":"Zona!K14","v":{"$error":"#N/A"}}]
[43,"Puerta principal - DESCRIPCIÓN -  - ",{"$f":"+'CEV-CEVE'!E40","v":0}]
[44,"Puerta principal - EXIGENCIA U* REGLAMENTACIÓN TÉRMICA -  - ","sin exigencia"]
[45,"Techo principal - DESCRIPCIÓN -  - ",{"$f":"+'CEV-CEVE'!E36","v":0}]
[46,"Techo principal - EXIGENCIA U* REGLAMENTACIÓN TÉRMICA -  - ",{"$f":"Zona!K13","v":{"$error":"#N/A"}}]
[47,"Techo secundario - DESCRIPCIÓN -  - ",{"$f":"+'CEV-CEVE'!E37","v":0}]
[48,"Techo secundario - EXIGENCIA U* REGLAMENTACIÓN TÉRMICA -  - ",{"$f":"Zona!K13","v":{"$error":"#N/A"}}]
[49,"Superficie vidriada principal - DESCRIPCIÓN -  - ",{"$f":"+'CEV-CEVE'!E38","v":0}]
[50,"Superficie vidriada principal - EXIGENCIA U* REGLAMENTACIÓN TÉRMICA -  - ",{"$f":"Zona!K15","v":{"$error":"#DIV/0!"}}]
[51,"Superficie vidriada secundaria - DESCRIPCIÓN -  - ",{"$f":"+'CEV-CEVE'!E39","v":0}]
[52,"Superficie vidriada secundaria - EXIGENCIA U* REGLAMENTACIÓN TÉRMICA -  - ",{"$f":"Zona!K15","v":{"$error":"#DIV/0!"}}]
[53,"Ventilación (RAH) - DESCRIPCIÓN -  - ","sin exigencia"]
[54,"Ventilación (RAH) - EXIGENCIA U* REGLAMENTACIÓN TÉRMICA -  - ","sin exigencia"]
[55,"Infiltraciones (RAH) - DESCRIPCIÓN -  - ","sin exigencia"]
[56,"Infiltraciones (RAH) - EXIGENCIA U* REGLAMENTACIÓN TÉRMICA -  - ","sin exigencia"]
[57,"Código evaluación energética - *REPITE INFODE CELDA PTO 20 -  - ",{"$f":"+C76","v":0}]
[58,"Agua caliente sanitaria - kWh/m2 -  - ",{"$f":"G28","v":{"$error":"#DIV/0!"}}]
[59,"Agua caliente sanitaria - % -  - ",{"$f":"C114/SUM($G$23:$G$32)","v":{"$error":"#DIV/0!"}}]
[60,"Iluminación - kWh/m2 -  - ",{"$f":"G29","v":{"$error":"#DIV/0!"}}]
[61,"Iluminación - % -  - ",{"$f":"C116/SUM($G$23:$G$32)","v":{"$error":"#DIV/0!"}}]
[62,"Calefacción - kWh/m2 -  - ",{"$f":"G27","v":{"$error":"#DIV/0!"}}]
[63,"Calefacción - % -  - ",{"$f":"C118/SUM($G$23:$G$32)","v":{"$error":"#DIV/0!"}}]
[64,"Energía renovable no convencional - kWh/m2 -  - ",{"$f":"G23+G24+G32","v":{"$error":"#DIV/0!"}}]
[65,"Energía renovable no convencional - % -  - ",{"$f":"C120/SUM($G$23:$G$32)","v":{"$error":"#DIV/0!"}}]
[66,"CONSUMO POR m2 - kWh/m2 -  - ",{"$f":"+E41/'CEV CEVE'!I15","v":{"$error":"#DIV/0!"}}]
[67,"EMISIONES - kgCO2/m² año -  - ",{"$f":"CO2eq!F16","v":{"$error":"#N/A"}}]
[68,"Calefacción - DESCRIPCIÓN DE EQUIPOS PROYECTADOS - KWh - ",{"$f":"'CEV CEVE'!E28","v":"No posee"}]
[69,"Calefacción - CONSUMO PROYECTADO - KWh - ",{"$f":"E27","v":{"$error":"#DIV/0!"}}]
[70,"Calefacción - % -  - ",{"$f":"C119","v":{"$error":"#DIV/0!"}}]
[71,"Iluminación - DESCRIPCIÓN DE EQUIPOS PROYECTADOS - KWh - ","Iluminación por defecto"]
[72,"Iluminación - CONSUMO PROYECTADO - KWh - ",{"$f":"E29","v":0}]
[73,"Iluminación - % -  - ",{"$f":"C117","v":{"$error":"#DIV/0!"}}]
[74,"Agua caliente sanitaria - DESCRIPCIÓN DE EQUIPOS PROYECTADOS - KWh - ",{"$f":"'CEV CEVE'!E29","v":"Calefont 7 litros tiro forzado"}]
[75,"Agua caliente sanitaria - CONSUMO PROYECTADO - KWh - ",{"$f":"E28","v":{"$error":"#DIV/0!"}}]
[76,"Agua caliente sanitaria - % -  - ",{"$f":"C115","v":{"$error":"#DIV/0!"}}]
[77,"Energía renovable no convencional - DESCRIPCIÓN DE EQUIPOS PROYECTADOS - KWh - ",{"$f":"IF(AND(OR(E23>0,E24>0),E32>0),\"Energía solar térmica y fotovoltaica\",IF(AND(OR(E23>0,E24>0),E32=0),\"Energía solar térmica\",IF(AND(E23=0,E24=0,E32>0),\"Energía solar fotovoltaica\",\"Sin energía renovable no convensional\")))","v":{"$error":"#DIV/0!"}}]
[78,"Energía renovable no convencional - CONSUMO PROYECTADO - KWh - ",{"$f":"E23+E24+E32","v":{"$error":"#DIV/0!"}}]
[79,"Energía renovable no convencional - % -  - ",{"$f":"C134/SUM($E$23:$E$32)","v":{"$error":"#DIV/0!"}}]
[80,"Consumo requerido total - KWh -  - ",{"$f":"SUM($E$23:$E$32)","v":{"$error":"#DIV/0!"}}]
[81,"Calefacción - DESCRIPCIÓN DE EQUIPOS PROYECTADOS - KWh - ","En base a combustión de Gas licuado "]
[82,"Calefacción - CONSUMO PROYECTADO - KWh - ",{"$f":"Referencia!M38","v":{"$error":"#VALUE!"}}]
[83,"Calefacción - % -  - ",{"$f":"C138/C149","v":{"$error":"#VALUE!"}}]
[84,"Iluminación - DESCRIPCIÓN DE EQUIPOS PROYECTADOS - KWh - ",{"$f":"C127","v":"Iluminación por defecto"}]
[85,"Iluminación - CONSUMO PROYECTADO - KWh - ",{"$f":"Referencia!M32","v":{"$error":"#DIV/0!"}}]
[86,"Iluminación - % -  - ",{"$f":"C141/C149","v":{"$error":"#DIV/0!"}}]
[87,"Agua caliente sanitaria - DESCRIPCIÓN DE EQUIPOS PROYECTADOS - KWh - ","En base a combustión de Gas licuado "]
[88,"Agua caliente sanitaria - CONSUMO PROYECTADO - KWh - ",{"$f":"Referencia!M31","v":0}]
[89,"Agua caliente sanitaria - % -  - ",{"$f":"C144/C149","v":{"$error":"#DIV/0!"}}]
[90,"Energía renovable no convencional - DESCRIPCIÓN DE EQUIPOS PROYECTADOS - KWh - ","Sin generación de energía renovable"]
[91,"Energía renovable no convencional - CONSUMO PROYECTADO - KWh - ",0]
[92,"Energía renovable no convencional - % -  - ",0]
[93,"Consumo requerido total - KWh -  - ",{"$f":"C144+C141+C138","v":{"$error":"#DIV/0!"}}]
[94,"Consumo de energía primaria en calefacción - (kWh/año) -  - ",{"$f":"C125","v":{"$error":"#DIV/0!"}}]
[95,"Consumo de energía primaria en agua caliente sanitaria - (kWh/año) -  - ",{"$f":"C131","v":{"$error":"#DIV/0!"}}]
[96,"Consumo de energía primaria en iluminación - (kWh/año) -  - ",{"$f":"C128","v":0}]
[97,"Consumo de energía primaria en ventiladores - (kWh/año) -  - ",{"$f":"E30","v":{"$error":"#N/A"}}]
[98,"Generación de energía primaria en fotovoltaicos - (kWh/año) -  - ",{"$f":"+E32","v":0}]
[99,"Aporte de energía solar fotovoltaica a consumos básicos - (kWh/año) -  - ",{"$f":"+E38","v":{"$error":"#N/A"}}]
[100,"Diferencia de energía solar fotovoltaica para consumo - (kWh/año) -  - ",{"$f":"Resumen!E34","v":{"$error":"#N/A"}}]
[101,"Aporte de energía solar térmica a la calefacción - (kWh/año) -  - ",{"$f":"+E23","v":{"$error":"#DIV/0!"}}]
[102,"Aporte de energía solar térmica al agua caliente sanitaria - (kWh/año) -  - ",{"$f":"+E24","v":{"$error":"#DIV/0!"}}]
[103,"Total consumo de energía primaria antes de fotovoltaica - (kWh/año) -  - ",{"$f":"+E37","v":{"$error":"#DIV/0!"}}]
[104,"Aporte de fotovoltaic a consumos básicos - (kWh/año) -  - ",{"$f":"+E38","v":{"$error":"#N/A"}}]
[105,"Consumos básicos a suplir con energía externa - (kWh/año) -  - ",{"$f":"+E39","v":{"$error":"#DIV/0!"}}]
[106,"Consumo total de energía primaria - (kWh/año) -  - ",{"$f":"+E41","v":{"$error":"#DIV/0!"}}]
[107,"Consumo de energía de referencia - (kWh/año) -  - ",{"$f":"+E42","v":{"$error":"#VALUE!"}}]
[108,"Coeficiente energético : C - (kWh/año) -  - ",{"$f":"+E43","v":{"$error":"#DIV/0!"}}]
[109,"Elementos opacos - Área [m²] - Horiz - ",{"$f":"+'CEV-CEVE'!E169","v":0}]
[110,"Elementos opacos - Área [m²] - N - ",{"$f":"+'CEV-CEVE'!E170","v":0}]
[111,"Elementos opacos - Área [m²] - NE - ",{"$f":"+'CEV-CEVE'!E171","v":0}]
[112,"Elementos opacos - Área [m²] - E - ",{"$f":"+'CEV-CEVE'!E172","v":0}]
[113,"Elementos opacos - Área [m²] - SE - ",{"$f":"+'CEV-CEVE'!E173","v":0}]
[114,"Elementos opacos - Área [m²] - S - ",{"$f":"+'CEV-CEVE'!E174","v":0}]
[115,"Elementos opacos - Área [m²] - SO - ",{"$f":"+'CEV-CEVE'!E175","v":0}]
[116,"Elementos opacos - Área [m²] - O - ",{"$f":"+'CEV-CEVE'!E176","v":0}]
[117,"Elementos opacos - Área [m²] - NO - ",{"$f":"+'CEV-CEVE'!E177","v":0}]
[118,"Elementos opacos - Área [m²] - Pisos - ",{"$f":"+'CEV-CEVE'!E178","v":0}]
[119,"Elementos opacos - U [W/km²] - Horiz - ",{"$f":"+'CEV-CEVE'!F169","v":0}]
[120,"Elementos opacos - U [W/km²] - N - ",{"$f":"+'CEV-CEVE'!F170","v":0}]
[121,"Elementos opacos - U [W/km²] - NE - ",{"$f":"+'CEV-CEVE'!F171","v":0}]
[122,"Elementos opacos - U [W/km²] - E - ",{"$f":"+'CEV-CEVE'!F172","v":0}]
[123,"Elementos opacos - U [W/km²] - SE - ",{"$f":"+'CEV-CEVE'!F173","v":0}]
[124,"Elementos opacos - U [W/km²] - S - ",{"$f":"+'CEV-CEVE'!F174","v":0}]
[125,"Elementos opacos - U [W/km²] - SO - ",{"$f":"+'CEV-CEVE'!F175","v":0}]
[126,"Elementos opacos - U [W/km²] - O - ",{"$f":"+'CEV-CEVE'!F176","v":0}]
[127,"Elementos opacos - U [W/km²] - NO - ",{"$f":"+'CEV-CEVE'!F177","v":0}]
[128,"Elementos opacos - U [W/km²] - Pisos - ",{"$f":"+'CEV-CEVE'!F178","v":0}]
[129,"Elementos Translucidos - Área [m²] - Horiz - ",{"$f":"+'CEV-CEVE'!H169","v":0}]
[130,"Elementos Translucidos - Área [m²] - N - ",{"$f":"+'CEV-CEVE'!H170","v":0}]
[131,"Elementos Translucidos - Área [m²] - NE - ",{"$f":"+'CEV-CEVE'!H171","v":0}]
[132,"Elementos Translucidos - Área [m²] - E - ",{"$f":"+'CEV-CEVE'!H172","v":0}]
[133,"Elementos Translucidos - Área [m²] - SE - ",{"$f":"+'CEV-CEVE'!H173","v":0}]
[134,"Elementos Translucidos - Área [m²] - S - ",{"$f":"+'CEV-CEVE'!H174","v":0}]
[135,"Elementos Translucidos - Área [m²] - SO - ",{"$f":"+'CEV-CEVE'!H175","v":0}]
[136,"Elementos Translucidos - Área [m²] - O - ",{"$f":"+'CEV-CEVE'!H176","v":0}]
[137,"Elementos Translucidos - Área [m²] - NO - ",{"$f":"+'CEV-CEVE'!H177","v":0}]
[138,"Elementos Translucidos - U [W/km²] - Horiz - ",{"$f":"+'CEV-CEVE'!I169","v":0}]
[139,"Elementos Translucidos - U [W/km²] - N - ",{"$f":"+'CEV-CEVE'!I170","v":0}]
[140,"Elementos Translucidos - U [W/km²] - NE - ",{"$f":"+'CEV-CEVE'!I171","v":0}]
[141,"Elementos Translucidos - U [W/km²] - E - ",{"$f":"+'CEV-CEVE'!I172","v":0}]
[142,"Elementos Translucidos - U [W/km²] - SE - ",{"$f":"+'CEV-CEVE'!I173","v":0}]
[143,"Elementos Translucidos - U [W/km²] - S - ",{"$f":"+'CEV-CEVE'!I174","v":0}]
[144,"Elementos Translucidos - U [W/km²] - SO - ",{"$f":"+'CEV-CEVE'!I175","v":0}]
[145,"Elementos Translucidos - U [W/km²] - O - ",{"$f":"+'CEV-CEVE'!I176","v":0}]
[146,"Elementos Translucidos - U [W/km²] - NO - ",{"$f":"+'CEV-CEVE'!I177","v":0}]
[147,"Pérdidas Puentes Térmicos - P01 -  - ",{"$f":"+'CEV-CEVE'!K170","v":0}]
[148,"Pérdidas Puentes Térmicos - P01 -  - ",{"$f":"+'CEV-CEVE'!K171","v":0}]
[149,"Pérdidas Puentes Térmicos - P01 -  - ",{"$f":"+'CEV-CEVE'!K172","v":0}]
[150,"Pérdidas Puentes Térmicos - P01 -  - ",{"$f":"+'CEV-CEVE'!K173","v":0}]
[151,"Pérdidas Puentes Térmicos - P01 -  - ",{"$f":"+'CEV-CEVE'!K174","v":0}]
[152,"Pérdidas Puentes Térmicos - P01 -  - ",{"$f":"+'CEV-CEVE'!K175","v":0}]
[153,"Pérdidas Puentes Térmicos - P01 -  - ",{"$f":"+'CEV-CEVE'!K176","v":0}]
[154,"Pérdidas Puentes Térmicos - P01 -  - ",{"$f":"+'CEV-CEVE'!K177","v":0}]
[155,"Pérdidas Puentes Térmicos - P01 -  - ",{"$f":"+'CEV-CEVE'!K178","v":0}]
[156,"Pérdidas Puentes Térmicos - P02 -  - ",{"$f":"+'CEV-CEVE'!L170","v":0}]
[157,"Pérdidas Puentes Térmicos - P02 -  - ",{"$f":"+'CEV-CEVE'!L171","v":0}]
[158,"Pérdidas Puentes Térmicos - P02 -  - ",{"$f":"+'CEV-CEVE'!L172","v":0}]
[159,"Pérdidas Puentes Térmicos - P02 -  - ",{"$f":"+'CEV-CEVE'!L173","v":0}]
[160,"Pérdidas Puentes Térmicos - P02 -  - ",{"$f":"+'CEV-CEVE'!L174","v":0}]
[161,"Pérdidas Puentes Térmicos - P02 -  - ",{"$f":"+'CEV-CEVE'!L175","v":0}]
[162,"Pérdidas Puentes Térmicos - P02 -  - ",{"$f":"+'CEV-CEVE'!L176","v":0}]
[163,"Pérdidas Puentes Térmicos - P02 -  - ",{"$f":"+'CEV-CEVE'!L177","v":0}]
[164,"Pérdidas Puentes Térmicos - P03 -  - ",{"$f":"+'CEV-CEVE'!M170","v":0}]
[165,"Pérdidas Puentes Térmicos - P03 -  - ",{"$f":"+'CEV-CEVE'!M171","v":0}]
[166,"Pérdidas Puentes Térmicos - P03 -  - ",{"$f":"+'CEV-CEVE'!M172","v":0}]
[167,"Pérdidas Puentes Térmicos - P03 -  - ",{"$f":"+'CEV-CEVE'!M173","v":0}]
[168,"Pérdidas Puentes Térmicos - P03 -  - ",{"$f":"+'CEV-CEVE'!M174","v":0}]
[169,"Pérdidas Puentes Térmicos - P03 -  - ",{"$f":"+'CEV-CEVE'!M175","v":0}]
[170,"Pérdidas Puentes Térmicos - P03 -  - ",{"$f":"+'CEV-CEVE'!M176","v":0}]
[171,"Pérdidas Puentes Térmicos - P03 -  - ",{"$f":"+'CEV-CEVE'!M177","v":0}]
[172,"Pérdidas Puentes Térmicos - P04 -  - ",{"$f":"+'CEV-CEVE'!N170","v":0}]
[173,"Pérdidas Puentes Térmicos - P04 -  - ",{"$f":"+'CEV-CEVE'!N171","v":0}]
[174,"Pérdidas Puentes Térmicos - P04 -  - ",{"$f":"+'CEV-CEVE'!N172","v":0}]
[175,"Pérdidas Puentes Térmicos - P04 -  - ",{"$f":"+'CEV-CEVE'!N173","v":0}]
[176,"Pérdidas Puentes Térmicos - P04 -  - ",{"$f":"+'CEV-CEVE'!N174","v":0}]
[177,"Pérdidas Puentes Térmicos - P04 -  - ",{"$f":"+'CEV-CEVE'!N175","v":0}]
[178,"Pérdidas Puentes Térmicos - P04 -  - ",{"$f":"+'CEV-CEVE'!N176","v":0}]
[179,"Pérdidas Puentes Térmicos - P04 -  - ",{"$f":"+'CEV-CEVE'!N177","v":0}]
[180,"Pérdidas Puentes Térmicos - P05 -  - ",{"$f":"+'CEV-CEVE'!O170","v":0}]
[181,"Pérdidas Puentes Térmicos - P05 -  - ",{"$f":"+'CEV-CEVE'!O171","v":0}]
[182,"Pérdidas Puentes Térmicos - P05 -  - ",{"$f":"+'CEV-CEVE'!O172","v":0}]
[183,"Pérdidas Puentes Térmicos - P05 -  - ",{"$f":"+'CEV-CEVE'!O173","v":0}]
[184,"Pérdidas Puentes Térmicos - P05 -  - ",{"$f":"+'CEV-CEVE'!O174","v":0}]
[185,"Pérdidas Puentes Térmicos - P05 -  - ",{"$f":"+'CEV-CEVE'!O175","v":0}]
[186,"Pérdidas Puentes Térmicos - P05 -  - ",{"$f":"+'CEV-CEVE'!O176","v":0}]
[187,"Pérdidas Puentes Térmicos - P05 -  - ",{"$f":"+'CEV-CEVE'!O177","v":0}]
[188,"U*A+ L [W/K] - Techos -  - ",{"$f":"+'CEV-CEVE'!S169","v":0}]
[189,"U*A+ L [W/K] - N -  - ",{"$f":"+'CEV-CEVE'!S170","v":0}]
[190,"U*A+ L [W/K] - NE -  - ",{"$f":"+'CEV-CEVE'!S171","v":0}]
[191,"U*A+ L [W/K] - E -  - ",{"$f":"+'CEV-CEVE'!S172","v":0}]
[192,"U*A+ L [W/K] - SE -  - ",{"$f":"+'CEV-CEVE'!S173","v":0}]
[193,"U*A+ L [W/K] - S -  - ",{"$f":"+'CEV-CEVE'!S174","v":0}]
[194,"U*A+ L [W/K] - SO -  - ",{"$f":"+'CEV-CEVE'!S175","v":0}]
[195,"U*A+ L [W/K] - O -  - ",{"$f":"+'CEV-CEVE'!S176","v":0}]
[196,"U*A+ L [W/K] - NO -  - ",{"$f":"+'CEV-CEVE'!S177","v":0}]
[197,"U*A+ L [W/K] - Pisos [ml] -  - ",{"$f":"+'CEV-CEVE'!S178","v":0}]
[198,"Demanda calefacción [kWh] - Propuesto con clima - Enero - ",{"$f":"+O7","v":0}]
[199,"Demanda calefacción [kWh] - Propuesto sin clima - Enero - ",{"$f":"O8","v":0}]
[200,"Demanda calefacción [kWh] - Base con clima - Enero - ",{"$f":"+O8","v":0}]
[201,"Demanda calefacción [kWh] - Base sin clima  - Enero - "]
[202,"Demanda calefacción [kWh] - Propuesto con clima + 90° - Enero - "]
[203,"Demanda calefacción [kWh] - Propuesto sin clima + 90° - Enero - "]
[204,"Demanda calefacción [kWh] - Propuesto con clima + 180° - Enero - "]
[205,"Demanda calefacción [kWh] - Propuesto sin clima + 180° - Enero - "]
[206,"Demanda calefacción [kWh] - Propuesto con clima + 270° - Enero - "]
[207,"Demanda calefacción [kWh] - Propuesto sin clima+ 270° - Enero - "]
[208,"Demanda calefacción [kWh] - Propuesto con clima - Febrero - ",{"$f":"+P7","v":0}]
[209,"Demanda calefacción [kWh] - Propuesto sin clima - Febrero - ",{"$f":"P8","v":0}]
[210,"Demanda calefacción [kWh] - Base con clima - Febrero - ",{"$f":"+P8","v":0}]
[211,"Demanda calefacción [kWh] - Base sin clima  - Febrero - "]
[212,"Demanda calefacción [kWh] - Propuesto con clima + 90° - Febrero - "]
[213,"Demanda calefacción [kWh] - Propuesto sin clima + 90° - Febrero - "]
[214,"Demanda calefacción [kWh] - Propuesto con clima + 180° - Febrero - "]
[215,"Demanda calefacción [kWh] - Propuesto sin clima + 180° - Febrero - "]
[216,"Demanda calefacción [kWh] - Propuesto con clima + 270° - Febrero - "]
[217,"Demanda calefacción [kWh] - Propuesto sin clima+ 270° - Febrero - "]
[218,"Demanda calefacción [kWh] - Propuesto con clima - Marzo - ",{"$f":"+Q7","v":0}]
[219,"Demanda calefacción [kWh] - Propuesto sin clima - Marzo - ",{"$f":"Q8","v":0}]
[220,"Demanda calefacción [kWh] - Base con clima - Marzo - ",{"$f":"+Q8","v":0}]
[221,"Demanda calefacción [kWh] - Base sin clima  - Marzo - "]
[222,"Demanda calefacción [kWh] - Propuesto con clima + 90° - Marzo - "]
[223,"Demanda calefacción [kWh] - Propuesto sin clima + 90° - Marzo - "]
[224,"Demanda calefacción [kWh] - Propuesto con clima + 180° - Marzo - "]
[225,"Demanda calefacción [kWh] - Propuesto sin clima + 180° - Marzo - "]
[226,"Demanda calefacción [kWh] - Propuesto con clima + 270° - Marzo - "]
[227,"Demanda calefacción [kWh] - Propuesto sin clima+ 270° - Marzo - "]
[228,"Demanda calefacción [kWh] - Propuesto con clima - Abril - ",{"$f":"+R7","v":0}]
[229,"Demanda calefacción [kWh] - Propuesto sin clima - Abril - ",{"$f":"R8","v":0}]
[230,"Demanda calefacción [kWh] - Base con clima - Abril - ",{"$f":"+R8","v":0}]
[231,"Demanda calefacción [kWh] - Base sin clima  - Abril - "]
[232,"Demanda calefacción [kWh] - Propuesto con clima + 90° - Abril - "]
[233,"Demanda calefacción [kWh] - Propuesto sin clima + 90° - Abril - "]
[234,"Demanda calefacción [kWh] - Propuesto con clima + 180° - Abril - "]
[235,"Demanda calefacción [kWh] - Propuesto sin clima + 180° - Abril - "]
[236,"Demanda calefacción [kWh] - Propuesto con clima + 270° - Abril - "]
[237,"Demanda calefacción [kWh] - Propuesto sin clima+ 270° - Abril - "]
[238,"Demanda calefacción [kWh] - Propuesto con clima - Mayo - ",{"$f":"+S7","v":0}]
[239,"Demanda calefacción [kWh] - Propuesto sin clima - Mayo - ",{"$f":"S8","v":0}]
[240,"Demanda calefacción [kWh] - Base con clima - Mayo - ",{"$f":"+S8","v":0}]
[241,"Demanda calefacción [kWh] - Base sin clima  - Mayo - "]
[242,"Demanda calefacción [kWh] - Propuesto con clima + 90° - Mayo - "]
[243,"Demanda calefacción [kWh] - Propuesto sin clima + 90° - Mayo - "]
[244,"Demanda calefacción [kWh] - Propuesto con clima + 180° - Mayo - "]
[245,"Demanda calefacción [kWh] - Propuesto sin clima + 180° - Mayo - "]
[246,"Demanda calefacción [kWh] - Propuesto con clima + 270° - Mayo - "]
[247,"Demanda calefacción [kWh] - Propuesto sin clima+ 270° - Mayo - "]
[248,"Demanda calefacción [kWh] - Propuesto con clima - Junio - ",{"$f":"+T7","v":0}]
[249,"Demanda calefacción [kWh] - Propuesto sin clima - Junio - ",{"$f":"T8","v":0}]
[250,"Demanda calefacción [kWh] - Base con clima - Junio - ",{"$f":"+T8","v":0}]
[251,"Demanda calefacción [kWh] - Base sin clima  - Junio - "]
[252,"Demanda calefacción [kWh] - Propuesto con clima + 90° - Junio - "]
[253,"Demanda calefacción [kWh] - Propuesto sin clima + 90° - Junio - "]
[254,"Demanda calefacción [kWh] - Propuesto con clima + 180° - Junio - "]
[255,"Demanda calefacción [kWh] - Propuesto sin clima + 180° - Junio - "]
[256,"Demanda calefacción [kWh] - Propuesto con clima + 270° - Junio - "]
[257,"Demanda calefacción [kWh] - Propuesto sin clima+ 270° - Junio - "]
[258,"Demanda calefacción [kWh] - Propuesto con clima - Julio - ",{"$f":"+U7","v":0}]
[259,"Demanda calefacción [kWh] - Propuesto sin clima - Julio - ",{"$f":"U8","v":0}]
[260,"Demanda calefacción [kWh] - Base con clima - Julio - ",{"$f":"+U8","v":0}]
[261,"Demanda calefacción [kWh] - Base sin clima  - Julio - "]
[262,"Demanda calefacción [kWh] - Propuesto con clima + 90° - Julio - "]
[263,"Demanda calefacción [kWh] - Propuesto sin clima + 90° - Julio - "]
[264,"Demanda calefacción [kWh] - Propuesto con clima + 180° - Julio - "]
[265,"Demanda calefacción [kWh] - Propuesto sin clima + 180° - Julio - "]
[266,"Demanda calefacción [kWh] - Propuesto con clima + 270° - Julio - "]
[267,"Demanda calefacción [kWh] - Propuesto sin clima+ 270° - Julio - "]
[268,"Demanda calefacción [kWh] - Propuesto con clima - Agosto - ",{"$f":"+V7","v":0}]
[269,"Demanda calefacción [kWh] - Propuesto sin clima - Agosto - ",{"$f":"V8","v":0}]
[270,"Demanda calefacción [kWh] - Base con clima - Agosto - ",{"$f":"+V8","v":0}]
[271,"Demanda calefacción [kWh] - Base sin clima  - Agosto - "]
[272,"Demanda calefacción [kWh] - Propuesto con clima + 90° - Agosto - "]
[273,"Demanda calefacción [kWh] - Propuesto sin clima + 90° - Agosto - "]
[274,"Demanda calefacción [kWh] - Propuesto con clima + 180° - Agosto - "]
[275,"Demanda calefacción [kWh] - Propuesto sin clima + 180° - Agosto - "]
[276,"Demanda calefacción [kWh] - Propuesto con clima + 270° - Agosto - "]
[277,"Demanda calefacción [kWh] - Propuesto sin clima+ 270° - Agosto - "]
[278,"Demanda calefacción [kWh] - Propuesto con clima - Septiembre - ",{"$f":"+W7","v":0}]
[279,"Demanda calefacción [kWh] - Propuesto sin clima - Septiembre - ",{"$f":"W8","v":0}]
[280,"Demanda calefacción [kWh] - Base con clima - Septiembre - ",{"$f":"+W8","v":0}]
[281,"Demanda calefacción [kWh] - Base sin clima  - Septiembre - "]
[282,"Demanda calefacción [kWh] - Propuesto con clima + 90° - Septiembre - "]
[283,"Demanda calefacción [kWh] - Propuesto sin clima + 90° - Septiembre - "]
[284,"Demanda calefacción [kWh] - Propuesto con clima + 180° - Septiembre - "]
[285,"Demanda calefacción [kWh] - Propuesto sin clima + 180° - Septiembre - "]
[286,"Demanda calefacción [kWh] - Propuesto con clima + 270° - Septiembre - "]
[287,"Demanda calefacción [kWh] - Propuesto sin clima+ 270° - Septiembre - "]
[288,"Demanda calefacción [kWh] - Propuesto con clima - Octubre - ",{"$f":"+X7","v":0}]
[289,"Demanda calefacción [kWh] - Propuesto sin clima - Octubre - ",{"$f":"X8","v":0}]
[290,"Demanda calefacción [kWh] - Base con clima - Octubre - ",{"$f":"+X8","v":0}]
[291,"Demanda calefacción [kWh] - Base sin clima  - Octubre - "]
[292,"Demanda calefacción [kWh] - Propuesto con clima + 90° - Octubre - "]
[293,"Demanda calefacción [kWh] - Propuesto sin clima + 90° - Octubre - "]
[294,"Demanda calefacción [kWh] - Propuesto con clima + 180° - Octubre - "]
[295,"Demanda calefacción [kWh] - Propuesto sin clima + 180° - Octubre - "]
[296,"Demanda calefacción [kWh] - Propuesto con clima + 270° - Octubre - "]
[297,"Demanda calefacción [kWh] - Propuesto sin clima+ 270° - Octubre - "]
[298,"Demanda calefacción [kWh] - Propuesto con clima - Noviembre - ",{"$f":"+Y7","v":0}]
[299,"Demanda calefacción [kWh] - Propuesto sin clima - Noviembre - ",{"$f":"Y8","v":0}]
[300,"Demanda calefacción [kWh] - Base con clima - Noviembre - ",{"$f":"+Y8","v":0}]
[301,"Demanda calefacción [kWh] - Base sin clima  - Noviembre - "]
[302,"Demanda calefacción [kWh] - Propuesto con clima + 90° - Noviembre - "]
[303,"Demanda calefacción [kWh] - Propuesto sin clima + 90° - Noviembre - "]
[304,"Demanda calefacción [kWh] - Propuesto con clima + 180° - Noviembre - "]
[305,"Demanda calefacción [kWh] - Propuesto sin clima + 180° - Noviembre - "]
[306,"Demanda calefacción [kWh] - Propuesto con clima + 270° - Noviembre - "]
[307,"Demanda calefacción [kWh] - Propuesto sin clima+ 270° - Noviembre - "]
[308,"Demanda calefacción [kWh] - Propuesto con clima - Diciembre - ",{"$f":"+Z7","v":0}]
[309,"Demanda calefacción [kWh] - Propuesto sin clima - Diciembre - ",{"$f":"Z8","v":0}]
[310,"Demanda calefacción [kWh] - Base con clima - Diciembre - ",{"$f":"+Z8","v":0}]
[311,"Demanda calefacción [kWh] - Base sin clima  - Diciembre - "]
[312,"Demanda calefacción [kWh] - Propuesto con clima + 90° - Diciembre - "]
[313,"Demanda calefacción [kWh] - Propuesto sin clima + 90° - Diciembre - "]
[314,"Demanda calefacción [kWh] - Propuesto con clima + 180° - Diciembre - "]
[315,"Demanda calefacción [kWh] - Propuesto sin clima + 180° - Diciembre - "]
[316,"Demanda calefacción [kWh] - Propuesto con clima + 270° - Diciembre - "]
[317,"Demanda calefacción [kWh] - Propuesto sin clima+ 270° - Diciembre - "]
[318,"Demanda refrigeración [kWh] - Propuesto con clima - Enero - ",{"$f":"+O9","v":0}]
[319,"Demanda refrigeración [kWh] - Propuesto sin clima - Enero - ",{"$f":"O10","v":0}]
[320,"Demanda refrigeración [kWh] - Base con clima - Enero - ",{"$f":"+O10","v":0}]
[321,"Demanda refrigeración [kWh] - Base sin clima  - Enero - "]
[322,"Demanda refrigeración [kWh] - Propuesto con clima + 90° - Enero - "]
[323,"Demanda refrigeración [kWh] - Propuesto sin clima + 90° - Enero - "]
[324,"Demanda refrigeración [kWh] - Propuesto con clima + 180° - Enero - "]
[325,"Demanda refrigeración [kWh] - Propuesto sin clima + 180° - Enero - "]
[326,"Demanda refrigeración [kWh] - Propuesto con clima + 270° - Enero - "]
[327,"Demanda refrigeración [kWh] - Propuesto sin clima+ 270° - Enero - "]
[328,"Demanda refrigeración [kWh] - Propuesto con clima - Febrero - ",{"$f":"+P9","v":0}]
[329,"Demanda refrigeración [kWh] - Propuesto sin clima - Febrero - ",{"$f":"+P10","v":0}]
[330,"Demanda refrigeración [kWh] - Base con clima - Febrero - ",{"$f":"+P10","v":0}]
[331,"Demanda refrigeración [kWh] - Base sin clima  - Febrero - "]
[332,"Demanda refrigeración [kWh] - Propuesto con clima + 90° - Febrero - "]
[333,"Demanda refrigeración [kWh] - Propuesto sin clima + 90° - Febrero - "]
[334,"Demanda refrigeración [kWh] - Propuesto con clima + 180° - Febrero - "]
[335,"Demanda refrigeración [kWh] - Propuesto sin clima + 180° - Febrero - "]
[336,"Demanda refrigeración [kWh] - Propuesto con clima + 270° - Febrero - "]
[337,"Demanda refrigeración [kWh] - Propuesto sin clima+ 270° - Febrero - "]
[338,"Demanda refrigeración [kWh] - Propuesto con clima - Marzo - ",{"$f":"+Q9","v":0}]
[339,"Demanda refrigeración [kWh] - Propuesto sin clima - Marzo - ",{"$f":"+Q10","v":0}]
[340,"Demanda refrigeración [kWh] - Base con clima - Marzo - ",{"$f":"+Q10","v":0}]
[341,"Demanda refrigeración [kWh] - Base sin clima  - Marzo - "]
[342,"Demanda refrigeración [kWh] - Propuesto con clima + 90° - Marzo - "]
[343,"Demanda refrigeración [kWh] - Propuesto sin clima + 90° - Marzo - "]
[344,"Demanda refrigeración [kWh] - Propuesto con clima + 180° - Marzo - "]
[345,"Demanda refrigeración [kWh] - Propuesto sin clima + 180° - Marzo - "]
[346,"Demanda refrigeración [kWh] - Propuesto con clima + 270° - Marzo - "]
[347,"Demanda refrigeración [kWh] - Propuesto sin clima+ 270° - Marzo - "]
[348,"Demanda refrigeración [kWh] - Propuesto con clima - Abril - ",{"$f":"+R9","v":0}]
[349,"Demanda refrigeración [kWh] - Propuesto sin clima - Abril - ",{"$f":"+R10","v":0}]
[350,"Demanda refrigeración [kWh] - Base con clima - Abril - ",{"$f":"+R10","v":0}]
[351,"Demanda refrigeración [kWh] - Base sin clima  - Abril - "]
[352,"Demanda refrigeración [kWh] - Propuesto con clima + 90° - Abril - "]
[353,"Demanda refrigeración [kWh] - Propuesto sin clima + 90° - Abril - "]
[354,"Demanda refrigeración [kWh] - Propuesto con clima + 180° - Abril - "]
[355,"Demanda refrigeración [kWh] - Propuesto sin clima + 180° - Abril - "]
[356,"Demanda refrigeración [kWh] - Propuesto con clima + 270° - Abril - "]
[357,"Demanda refrigeración [kWh] - Propuesto sin clima+ 270° - Abril - "]
[358,"Demanda refrigeración [kWh] - Propuesto con clima - Mayo - ",{"$f":"+S9","v":0}]
[359,"Demanda refrigeración [kWh] - Propuesto sin clima - Mayo - ",{"$f":"+S10","v":0}]
[360,"Demanda refrigeración [kWh] - Base con clima - Mayo - ",{"$f":"+S10","v":0}]
[361,"Demanda refrigeración [kWh] - Base sin clima  - Mayo - "]
[362,"Demanda refrigeración [kWh] - Propuesto con clima + 90° - Mayo - "]
[363,"Demanda refrigeración [kWh] - Propuesto sin clima + 90° - Mayo - "]
[364,"Demanda refrigeración [kWh] - Propuesto con clima + 180° - Mayo - "]
[365,"Demanda refrigeración [kWh] - Propuesto sin clima + 180° - Mayo - "]
[366,"Demanda refrigeración [kWh] - Propuesto con clima + 270° - Mayo - "]
[367,"Demanda refrigeración [kWh] - Propuesto sin clima+ 270° - Mayo - "]
[368,"Demanda refrigeración [kWh] - Propuesto con clima - Junio - ",{"$f":"+T9","v":0}]
[369,"Demanda refrigeración [kWh] - Propuesto sin clima - Junio - ",{"$f":"+T10","v":0}]
[370,"Demanda refrigeración [kWh] - Base con clima - Junio - ",{"$f":"+T10","v":0}]
[371,"Demanda refrigeración [kWh] - Base sin clima  - Junio - "]
[372,"Demanda refrigeración [kWh] - Propuesto con clima + 90° - Junio - "]
[373,"Demanda refrigeración [kWh] - Propuesto sin clima + 90° - Junio - "]
[374,"Demanda refrigeración [kWh] - Propuesto con clima + 180° - Junio - "]
[375,"Demanda refrigeración [kWh] - Propuesto sin clima + 180° - Junio - "]
[376,"Demanda refrigeración [kWh] - Propuesto con clima + 270° - Junio - "]
[377,"Demanda refrigeración [kWh] - Propuesto sin clima+ 270° - Junio - "]
[378,"Demanda refrigeración [kWh] - Propuesto con clima - Julio - ",{"$f":"+U9","v":0}]
[379,"Demanda refrigeración [kWh] - Propuesto sin clima - Julio - ",{"$f":"+U10","v":0}]
[380,"Demanda refrigeración [kWh] - Base con clima - Julio - ",{"$f":"+U10","v":0}]
[381,"Demanda refrigeración [kWh] - Base sin clima  - Julio - "]
[382,"Demanda refrigeración [kWh] - Propuesto con clima + 90° - Julio - "]
[383,"Demanda refrigeración [kWh] - Propuesto sin clima + 90° - Julio - "]
[384,"Demanda refrigeración [kWh] - Propuesto con clima + 180° - Julio - "]
[385,"Demanda refrigeración [kWh] - Propuesto sin clima + 180° - Julio - "]
[386,"Demanda refrigeración [kWh] - Propuesto con clima + 270° - Julio - "]
[387,"Demanda refrigeración [kWh] - Propuesto sin clima+ 270° - Julio - "]
[388,"Demanda refrigeración [kWh] - Propuesto con clima - Agosto - ",{"$f":"+V9","v":0}]
[389,"Demanda refrigeración [kWh] - Propuesto sin clima - Agosto - ",{"$f":"+V10","v":0}]
[390,"Demanda refrigeración [kWh] - Base con clima - Agosto - ",{"$f":"+V10","v":0}]
[391,"Demanda refrigeración [kWh] - Base sin clima  - Agosto - "]
[392,"Demanda refrigeración [kWh] - Propuesto con clima + 90° - Agosto - "]
[393,"Demanda refrigeración [kWh] - Propuesto sin clima + 90° - Agosto - "]
[394,"Demanda refrigeración [kWh] - Propuesto con clima + 180° - Agosto - "]
[395,"Demanda refrigeración [kWh] - Propuesto sin clima + 180° - Agosto - "]
[396,"Demanda refrigeración [kWh] - Propuesto con clima + 270° - Agosto - "]
[397,"Demanda refrigeración [kWh] - Propuesto sin clima+ 270° - Agosto - "]
[398,"Demanda refrigeración [kWh] - Propuesto con clima - Septiembre - ",{"$f":"+W9","v":0}]
[399,"Demanda refrigeración [kWh] - Propuesto sin clima - Septiembre - ",{"$f":"+W10","v":0}]
[400,"Demanda refrigeración [kWh] - Base con clima - Septiembre - ",{"$f":"+W10","v":0}]
[401,"Demanda refrigeración [kWh] - Base sin clima  - Septiembre - "]
[402,"Demanda refrigeración [kWh] - Propuesto con clima + 90° - Septiembre - "]
[403,"Demanda refrigeración [kWh] - Propuesto sin clima + 90° - Septiembre - "]
[404,"Demanda refrigeración [kWh] - Propuesto con clima + 180° - Septiembre - "]
[405,"Demanda refrigeración [kWh] - Propuesto sin clima + 180° - Septiembre - "]
[406,"Demanda refrigeración [kWh] - Propuesto con clima + 270° - Septiembre - "]
[407,"Demanda refrigeración [kWh] - Propuesto sin clima+ 270° - Septiembre - "]
[408,"Demanda refrigeración [kWh] - Propuesto con clima - Octubre - ",{"$f":"+X9","v":0}]
[409,"Demanda refrigeración [kWh] - Propuesto sin clima - Octubre - ",{"$f":"+X10","v":0}]
[410,"Demanda refrigeración [kWh] - Base con clima - Octubre - ",{"$f":"+X10","v":0}]
[411,"Demanda refrigeración [kWh] - Base sin clima  - Octubre - "]
[412,"Demanda refrigeración [kWh] - Propuesto con clima + 90° - Octubre - "]
[413,"Demanda refrigeración [kWh] - Propuesto sin clima + 90° - Octubre - "]
[414,"Demanda refrigeración [kWh] - Propuesto con clima + 180° - Octubre - "]
[415,"Demanda refrigeración [kWh] - Propuesto sin clima + 180° - Octubre - "]
[416,"Demanda refrigeración [kWh] - Propuesto con clima + 270° - Octubre - "]
[417,"Demanda refrigeración [kWh] - Propuesto sin clima+ 270° - Octubre - "]
[418,"Demanda refrigeración [kWh] - Propuesto con clima - Noviembre - ",{"$f":"+Y9","v":0}]
[419,"Demanda refrigeración [kWh] - Propuesto sin clima - Noviembre - ",{"$f":"+Y10","v":0}]
[420,"Demanda refrigeración [kWh] - Base con clima - Noviembre - ",{"$f":"+Y10","v":0}]
[421,"Demanda refrigeración [kWh] - Base sin clima  - Noviembre - "]
[422,"Demanda refrigeración [kWh] - Propuesto con clima + 90° - Noviembre - "]
[423,"Demanda refrigeración [kWh] - Propuesto sin clima + 90° - Noviembre - "]
[424,"Demanda refrigeración [kWh] - Propuesto con clima + 180° - Noviembre - "]
[425,"Demanda refrigeración [kWh] - Propuesto sin clima + 180° - Noviembre - "]
[426,"Demanda refrigeración [kWh] - Propuesto con clima + 270° - Noviembre - "]
[427,"Demanda refrigeración [kWh] - Propuesto sin clima+ 270° - Noviembre - "]
[428,"Demanda refrigeración [kWh] - Propuesto con clima - Diciembre - ",{"$f":"+Z9","v":0}]
[429,"Demanda refrigeración [kWh] - Propuesto sin clima - Diciembre - ",{"$f":"+Z10","v":0}]
[430,"Demanda refrigeración [kWh] - Base con clima - Diciembre - ",{"$f":"+Z10","v":0}]
[431,"Demanda refrigeración [kWh] - Base sin clima  - Diciembre - "]
[432,"Demanda refrigeración [kWh] - Propuesto con clima + 90° - Diciembre - "]
[433,"Demanda refrigeración [kWh] - Propuesto sin clima + 90° - Diciembre - "]
[434,"Demanda refrigeración [kWh] - Propuesto con clima + 180° - Diciembre - "]
[435,"Demanda refrigeración [kWh] - Propuesto sin clima + 180° - Diciembre - "]
[436,"Demanda refrigeración [kWh] - Propuesto con clima + 270° - Diciembre - "]
[437,"Demanda refrigeración [kWh] - Propuesto sin clima+ 270° - Diciembre - "]
[438,"HD* (+) [hrs] - Propuesto con clima - Enero - ",{"$f":"+O12","v":0}]
[439,"HD* (+) [hrs] - Propuesto sin clima - Enero - ",{"$f":"+O13","v":0}]
[440,"HD* (+) [hrs] - Base con clima - Enero - ",{"$f":"+O15","v":0}]
[441,"HD* (+) [hrs] - Base sin clima  - Enero - "]
[442,"HD* (+) [hrs] - Propuesto con clima + 90° - Enero - "]
[443,"HD* (+) [hrs] - Propuesto sin clima + 90° - Enero - "]
[444,"HD* (+) [hrs] - Propuesto con clima + 180° - Enero - "]
[445,"HD* (+) [hrs] - Propuesto sin clima + 180° - Enero - "]
[446,"HD* (+) [hrs] - Propuesto con clima + 270° - Enero - "]
[447,"HD* (+) [hrs] - Propuesto sin clima+ 270° - Enero - "]
[448,"HD* (+) [hrs] - Propuesto con clima - Febrero - ",{"$f":"+P12","v":0}]
[449,"HD* (+) [hrs] - Propuesto sin clima - Febrero - ",{"$f":"+P13","v":0}]
[450,"HD* (+) [hrs] - Base con clima - Febrero - ",{"$f":"+P15","v":0}]
[451,"HD* (+) [hrs] - Base sin clima  - Febrero - "]
[452,"HD* (+) [hrs] - Propuesto con clima + 90° - Febrero - "]
[453,"HD* (+) [hrs] - Propuesto sin clima + 90° - Febrero - "]
[454,"HD* (+) [hrs] - Propuesto con clima + 180° - Febrero - "]
[455,"HD* (+) [hrs] - Propuesto sin clima + 180° - Febrero - "]
[456,"HD* (+) [hrs] - Propuesto con clima + 270° - Febrero - "]
[457,"HD* (+) [hrs] - Propuesto sin clima+ 270° - Febrero - "]
[458,"HD* (+) [hrs] - Propuesto con clima - Marzo - ",{"$f":"+Q12","v":0}]
[459,"HD* (+) [hrs] - Propuesto sin clima - Marzo - ",{"$f":"+Q13","v":0}]
[460,"HD* (+) [hrs] - Base con clima - Marzo - ",{"$f":"+Q15","v":0}]
[461,"HD* (+) [hrs] - Base sin clima  - Marzo - "]
[462,"HD* (+) [hrs] - Propuesto con clima + 90° - Marzo - "]
[463,"HD* (+) [hrs] - Propuesto sin clima + 90° - Marzo - "]
[464,"HD* (+) [hrs] - Propuesto con clima + 180° - Marzo - "]
[465,"HD* (+) [hrs] - Propuesto sin clima + 180° - Marzo - "]
[466,"HD* (+) [hrs] - Propuesto con clima + 270° - Marzo - "]
[467,"HD* (+) [hrs] - Propuesto sin clima+ 270° - Marzo - "]
[468,"HD* (+) [hrs] - Propuesto con clima - Abril - ",{"$f":"+R12","v":0}]
[469,"HD* (+) [hrs] - Propuesto sin clima - Abril - ",{"$f":"+R13","v":0}]
[470,"HD* (+) [hrs] - Base con clima - Abril - ",{"$f":"+R15","v":0}]
[471,"HD* (+) [hrs] - Base sin clima  - Abril - "]
[472,"HD* (+) [hrs] - Propuesto con clima + 90° - Abril - "]
[473,"HD* (+) [hrs] - Propuesto sin clima + 90° - Abril - "]
[474,"HD* (+) [hrs] - Propuesto con clima + 180° - Abril - "]
[475,"HD* (+) [hrs] - Propuesto sin clima + 180° - Abril - "]
[476,"HD* (+) [hrs] - Propuesto con clima + 270° - Abril - "]
[477,"HD* (+) [hrs] - Propuesto sin clima+ 270° - Abril - "]
[478,"HD* (+) [hrs] - Propuesto con clima - Mayo - ",{"$f":"+S12","v":0}]
[479,"HD* (+) [hrs] - Propuesto sin clima - Mayo - ",{"$f":"+S13","v":0}]
[480,"HD* (+) [hrs] - Base con clima - Mayo - ",{"$f":"+S15","v":0}]
[481,"HD* (+) [hrs] - Base sin clima  - Mayo - "]
[482,"HD* (+) [hrs] - Propuesto con clima + 90° - Mayo - "]
[483,"HD* (+) [hrs] - Propuesto sin clima + 90° - Mayo - "]
[484,"HD* (+) [hrs] - Propuesto con clima + 180° - Mayo - "]
[485,"HD* (+) [hrs] - Propuesto sin clima + 180° - Mayo - "]
[486,"HD* (+) [hrs] - Propuesto con clima + 270° - Mayo - "]
[487,"HD* (+) [hrs] - Propuesto sin clima+ 270° - Mayo - "]
[488,"HD* (+) [hrs] - Propuesto con clima - Junio - ",{"$f":"+T12","v":0}]
[489,"HD* (+) [hrs] - Propuesto sin clima - Junio - ",{"$f":"+T13","v":0}]
[490,"HD* (+) [hrs] - Base con clima - Junio - ",{"$f":"+T15","v":0}]
[491,"HD* (+) [hrs] - Base sin clima  - Junio - "]
[492,"HD* (+) [hrs] - Propuesto con clima + 90° - Junio - "]
[493,"HD* (+) [hrs] - Propuesto sin clima + 90° - Junio - "]
[494,"HD* (+) [hrs] - Propuesto con clima + 180° - Junio - "]
[495,"HD* (+) [hrs] - Propuesto sin clima + 180° - Junio - "]
[496,"HD* (+) [hrs] - Propuesto con clima + 270° - Junio - "]
[497,"HD* (+) [hrs] - Propuesto sin clima+ 270° - Junio - "]
[498,"HD* (+) [hrs] - Propuesto con clima - Julio - ",{"$f":"+U12","v":0}]
[499,"HD* (+) [hrs] - Propuesto sin clima - Julio - ",{"$f":"+U13","v":0}]
[500,"HD* (+) [hrs] - Base con clima - Julio - ",{"$f":"+U15","v":0}]
[501,"HD* (+) [hrs] - Base sin clima  - Julio - "]
[502,"HD* (+) [hrs] - Propuesto con clima + 90° - Julio - "]
[503,"HD* (+) [hrs] - Propuesto sin clima + 90° - Julio - "]
[504,"HD* (+) [hrs] - Propuesto con clima + 180° - Julio - "]
[505,"HD* (+) [hrs] - Propuesto sin clima + 180° - Julio - "]
[506,"HD* (+) [hrs] - Propuesto con clima + 270° - Julio - "]
[507,"HD* (+) [hrs] - Propuesto sin clima+ 270° - Julio - "]
[508,"HD* (+) [hrs] - Propuesto con clima - Agosto - ",{"$f":"+V12","v":0}]
[509,"HD* (+) [hrs] - Propuesto sin clima - Agosto - ",{"$f":"+V13","v":0}]
[510,"HD* (+) [hrs] - Base con clima - Agosto - ",{"$f":"+V15","v":0}]
[511,"HD* (+) [hrs] - Base sin clima  - Agosto - "]
[512,"HD* (+) [hrs] - Propuesto con clima + 90° - Agosto - "]
[513,"HD* (+) [hrs] - Propuesto sin clima + 90° - Agosto - "]
[514,"HD* (+) [hrs] - Propuesto con clima + 180° - Agosto - "]
[515,"HD* (+) [hrs] - Propuesto sin clima + 180° - Agosto - "]
[516,"HD* (+) [hrs] - Propuesto con clima + 270° - Agosto - "]
[517,"HD* (+) [hrs] - Propuesto sin clima+ 270° - Agosto - "]
[518,"HD* (+) [hrs] - Propuesto con clima - Septiembre - ",{"$f":"+W12","v":0}]
[519,"HD* (+) [hrs] - Propuesto sin clima - Septiembre - ",{"$f":"+W13","v":0}]
[520,"HD* (+) [hrs] - Base con clima - Septiembre - ",{"$f":"+W15","v":0}]
[521,"HD* (+) [hrs] - Base sin clima  - Septiembre - "]
[522,"HD* (+) [hrs] - Propuesto con clima + 90° - Septiembre - "]
[523,"HD* (+) [hrs] - Propuesto sin clima + 90° - Septiembre - "]
[524,"HD* (+) [hrs] - Propuesto con clima + 180° - Septiembre - "]
[525,"HD* (+) [hrs] - Propuesto sin clima + 180° - Septiembre - "]
[526,"HD* (+) [hrs] - Propuesto con clima + 270° - Septiembre - "]
[527,"HD* (+) [hrs] - Propuesto sin clima+ 270° - Septiembre - "]
[528,"HD* (+) [hrs] - Propuesto con clima - Octubre - ",{"$f":"+X12","v":0}]
[529,"HD* (+) [hrs] - Propuesto sin clima - Octubre - ",{"$f":"+X13","v":0}]
[530,"HD* (+) [hrs] - Base con clima - Octubre - ",{"$f":"+X15","v":0}]
[531,"HD* (+) [hrs] - Base sin clima  - Octubre - "]
[532,"HD* (+) [hrs] - Propuesto con clima + 90° - Octubre - "]
[533,"HD* (+) [hrs] - Propuesto sin clima + 90° - Octubre - "]
[534,"HD* (+) [hrs] - Propuesto con clima + 180° - Octubre - "]
[535,"HD* (+) [hrs] - Propuesto sin clima + 180° - Octubre - "]
[536,"HD* (+) [hrs] - Propuesto con clima + 270° - Octubre - "]
[537,"HD* (+) [hrs] - Propuesto sin clima+ 270° - Octubre - "]
[538,"HD* (+) [hrs] - Propuesto con clima - Noviembre - ",{"$f":"+Y12","v":0}]
[539,"HD* (+) [hrs] - Propuesto sin clima - Noviembre - ",{"$f":"+Y13","v":0}]
[540,"HD* (+) [hrs] - Base con clima - Noviembre - ",{"$f":"+Y15","v":0}]
[541,"HD* (+) [hrs] - Base sin clima  - Noviembre - "]
[542,"HD* (+) [hrs] - Propuesto con clima + 90° - Noviembre - "]
[543,"HD* (+) [hrs] - Propuesto sin clima + 90° - Noviembre - "]
[544,"HD* (+) [hrs] - Propuesto con clima + 180° - Noviembre - "]
[545,"HD* (+) [hrs] - Propuesto sin clima + 180° - Noviembre - "]
[546,"HD* (+) [hrs] - Propuesto con clima + 270° - Noviembre - "]
[547,"HD* (+) [hrs] - Propuesto sin clima+ 270° - Noviembre - "]
[548,"HD* (+) [hrs] - Propuesto con clima - Diciembre - ",{"$f":"+Z12","v":0}]
[549,"HD* (+) [hrs] - Propuesto sin clima - Diciembre - ",{"$f":"+Z13","v":0}]
[550,"HD* (+) [hrs] - Base con clima - Diciembre - ",{"$f":"+Z15","v":0}]
[551,"HD* (+) [hrs] - Base sin clima  - Diciembre - "]
[552,"HD* (+) [hrs] - Propuesto con clima + 90° - Diciembre - "]
[553,"HD* (+) [hrs] - Propuesto sin clima + 90° - Diciembre - "]
[554,"HD* (+) [hrs] - Propuesto con clima + 180° - Diciembre - "]
[555,"HD* (+) [hrs] - Propuesto sin clima + 180° - Diciembre - "]
[556,"HD* (+) [hrs] - Propuesto con clima + 270° - Diciembre - "]
[557,"HD* (+) [hrs] - Propuesto sin clima+ 270° - Diciembre - "]
[558,"HD* (-) [hrs] - Propuesto con clima - Enero - ",{"$f":"+O14","v":0}]
[559,"HD* (-) [hrs] - Propuesto sin clima - Enero - ",{"$f":"+O15","v":0}]
[560,"HD* (-) [hrs] - Base con clima - Enero - ",{"$f":"+O13","v":0}]
[561,"HD* (-) [hrs] - Base sin clima  - Enero - "]
[562,"HD* (-) [hrs] - Propuesto con clima + 90° - Enero - "]
[563,"HD* (-) [hrs] - Propuesto sin clima + 90° - Enero - "]
[564,"HD* (-) [hrs] - Propuesto con clima + 180° - Enero - "]
[565,"HD* (-) [hrs] - Propuesto sin clima + 180° - Enero - "]
[566,"HD* (-) [hrs] - Propuesto con clima + 270° - Enero - "]
[567,"HD* (-) [hrs] - Propuesto sin clima+ 270° - Enero - "]
[568,"HD* (-) [hrs] - Propuesto con clima - Febrero - ",{"$f":"+P14","v":0}]
[569,"HD* (-) [hrs] - Propuesto sin clima - Febrero - ",{"$f":"+P15","v":0}]
[570,"HD* (-) [hrs] - Base con clima - Febrero - ",{"$f":"+P13","v":0}]
[571,"HD* (-) [hrs] - Base sin clima  - Febrero - "]
[572,"HD* (-) [hrs] - Propuesto con clima + 90° - Febrero - "]
[573,"HD* (-) [hrs] - Propuesto sin clima + 90° - Febrero - "]
[574,"HD* (-) [hrs] - Propuesto con clima + 180° - Febrero - "]
[575,"HD* (-) [hrs] - Propuesto sin clima + 180° - Febrero - "]
[576,"HD* (-) [hrs] - Propuesto con clima + 270° - Febrero - "]
[577,"HD* (-) [hrs] - Propuesto sin clima+ 270° - Febrero - "]
[578,"HD* (-) [hrs] - Propuesto con clima - Marzo - ",{"$f":"+Q14","v":0}]
[579,"HD* (-) [hrs] - Propuesto sin clima - Marzo - ",{"$f":"+Q15","v":0}]
[580,"HD* (-) [hrs] - Base con clima - Marzo - ",{"$f":"+Q13","v":0}]
[581,"HD* (-) [hrs] - Base sin clima  - Marzo - "]
[582,"HD* (-) [hrs] - Propuesto con clima + 90° - Marzo - "]
[583,"HD* (-) [hrs] - Propuesto sin clima + 90° - Marzo - "]
[584,"HD* (-) [hrs] - Propuesto con clima + 180° - Marzo - "]
[585,"HD* (-) [hrs] - Propuesto sin clima + 180° - Marzo - "]
[586,"HD* (-) [hrs] - Propuesto con clima + 270° - Marzo - "]
[587,"HD* (-) [hrs] - Propuesto sin clima+ 270° - Marzo - "]
[588,"HD* (-) [hrs] - Propuesto con clima - Abril - ",{"$f":"+R14","v":0}]
[589,"HD* (-) [hrs] - Propuesto sin clima - Abril - ",{"$f":"+R15","v":0}]
[590,"HD* (-) [hrs] - Base con clima - Abril - ",{"$f":"+R13","v":0}]
[591,"HD* (-) [hrs] - Base sin clima  - Abril - "]
[592,"HD* (-) [hrs] - Propuesto con clima + 90° - Abril - "]
[593,"HD* (-) [hrs] - Propuesto sin clima + 90° - Abril - "]
[594,"HD* (-) [hrs] - Propuesto con clima + 180° - Abril - "]
[595,"HD* (-) [hrs] - Propuesto sin clima + 180° - Abril - "]
[596,"HD* (-) [hrs] - Propuesto con clima + 270° - Abril - "]
[597,"HD* (-) [hrs] - Propuesto sin clima+ 270° - Abril - "]
[598,"HD* (-) [hrs] - Propuesto con clima - Mayo - ",{"$f":"+S14","v":0}]
[599,"HD* (-) [hrs] - Propuesto sin clima - Mayo - ",{"$f":"+S15","v":0}]
[600,"HD* (-) [hrs] - Base con clima - Mayo - ",{"$f":"+S13","v":0}]
[601,"HD* (-) [hrs] - Base sin clima  - Mayo - "]
[602,"HD* (-) [hrs] - Propuesto con clima + 90° - Mayo - "]
[603,"HD* (-) [hrs] - Propuesto sin clima + 90° - Mayo - "]
[604,"HD* (-) [hrs] - Propuesto con clima + 180° - Mayo - "]
[605,"HD* (-) [hrs] - Propuesto sin clima + 180° - Mayo - "]
[606,"HD* (-) [hrs] - Propuesto con clima + 270° - Mayo - "]
[607,"HD* (-) [hrs] - Propuesto sin clima+ 270° - Mayo - "]
[608,"HD* (-) [hrs] - Propuesto con clima - Junio - ",{"$f":"+T14","v":0}]
[609,"HD* (-) [hrs] - Propuesto sin clima - Junio - ",{"$f":"+T15","v":0}]
[610,"HD* (-) [hrs] - Base con clima - Junio - ",{"$f":"+T13","v":0}]
[611,"HD* (-) [hrs] - Base sin clima  - Junio - "]
[612,"HD* (-) [hrs] - Propuesto con clima + 90° - Junio - "]
[613,"HD* (-) [hrs] - Propuesto sin clima + 90° - Junio - "]
[614,"HD* (-) [hrs] - Propuesto con clima + 180° - Junio - "]
[615,"HD* (-) [hrs] - Propuesto sin clima + 180° - Junio - "]
[616,"HD* (-) [hrs] - Propuesto con clima + 270° - Junio - "]
[617,"HD* (-) [hrs] - Propuesto sin clima+ 270° - Junio - "]
[618,"HD* (-) [hrs] - Propuesto con clima - Julio - ",{"$f":"+U14","v":0}]
[619,"HD* (-) [hrs] - Propuesto sin clima - Julio - ",{"$f":"+U15","v":0}]
[620,"HD* (-) [hrs] - Base con clima - Julio - ",{"$f":"+U13","v":0}]
[621,"HD* (-) [hrs] - Base sin clima  - Julio - "]
[622,"HD* (-) [hrs] - Propuesto con clima + 90° - Julio - "]
[623,"HD* (-) [hrs] - Propuesto sin clima + 90° - Julio - "]
[624,"HD* (-) [hrs] - Propuesto con clima + 180° - Julio - "]
[625,"HD* (-) [hrs] - Propuesto sin clima + 180° - Julio - "]
[626,"HD* (-) [hrs] - Propuesto con clima + 270° - Julio - "]
[627,"HD* (-) [hrs] - Propuesto sin clima+ 270° - Julio - "]
[628,"HD* (-) [hrs] - Propuesto con clima - Agosto - ",{"$f":"+V14","v":0}]
[629,"HD* (-) [hrs] - Propuesto sin clima - Agosto - ",{"$f":"+V15","v":0}]
[630,"HD* (-) [hrs] - Base con clima - Agosto - ",{"$f":"+V13","v":0}]
[631,"HD* (-) [hrs] - Base sin clima  - Agosto - "]
[632,"HD* (-) [hrs] - Propuesto con clima + 90° - Agosto - "]
[633,"HD* (-) [hrs] - Propuesto sin clima + 90° - Agosto - "]
[634,"HD* (-) [hrs] - Propuesto con clima + 180° - Agosto - "]
[635,"HD* (-) [hrs] - Propuesto sin clima + 180° - Agosto - "]
[636,"HD* (-) [hrs] - Propuesto con clima + 270° - Agosto - "]
[637,"HD* (-) [hrs] - Propuesto sin clima+ 270° - Agosto - "]
[638,"HD* (-) [hrs] - Propuesto con clima - Septiembre - ",{"$f":"+W14","v":0}]
[639,"HD* (-) [hrs] - Propuesto sin clima - Septiembre - ",{"$f":"+W15","v":0}]
[640,"HD* (-) [hrs] - Base con clima - Septiembre - ",{"$f":"+W13","v":0}]
[641,"HD* (-) [hrs] - Base sin clima  - Septiembre - "]
[642,"HD* (-) [hrs] - Propuesto con clima + 90° - Septiembre - "]
[643,"HD* (-) [hrs] - Propuesto sin clima + 90° - Septiembre - "]
[644,"HD* (-) [hrs] - Propuesto con clima + 180° - Septiembre - "]
[645,"HD* (-) [hrs] - Propuesto sin clima + 180° - Septiembre - "]
[646,"HD* (-) [hrs] - Propuesto con clima + 270° - Septiembre - "]
[647,"HD* (-) [hrs] - Propuesto sin clima+ 270° - Septiembre - "]
[648,"HD* (-) [hrs] - Propuesto con clima - Octubre - ",{"$f":"+X14","v":0}]
[649,"HD* (-) [hrs] - Propuesto sin clima - Octubre - ",{"$f":"+X15","v":0}]
[650,"HD* (-) [hrs] - Base con clima - Octubre - ",{"$f":"+X13","v":0}]
[651,"HD* (-) [hrs] - Base sin clima  - Octubre - "]
[652,"HD* (-) [hrs] - Propuesto con clima + 90° - Octubre - "]
[653,"HD* (-) [hrs] - Propuesto sin clima + 90° - Octubre - "]
[654,"HD* (-) [hrs] - Propuesto con clima + 180° - Octubre - "]
[655,"HD* (-) [hrs] - Propuesto sin clima + 180° - Octubre - "]
[656,"HD* (-) [hrs] - Propuesto con clima + 270° - Octubre - "]
[657,"HD* (-) [hrs] - Propuesto sin clima+ 270° - Octubre - "]
[658,"HD* (-) [hrs] - Propuesto con clima - Noviembre - ",{"$f":"+Y14","v":0}]
[659,"HD* (-) [hrs] - Propuesto sin clima - Noviembre - ",{"$f":"+Y15","v":0}]
[660,"HD* (-) [hrs] - Base con clima - Noviembre - ",{"$f":"+Y13","v":0}]
[661,"HD* (-) [hrs] - Base sin clima  - Noviembre - "]
[662,"HD* (-) [hrs] - Propuesto con clima + 90° - Noviembre - "]
[663,"HD* (-) [hrs] - Propuesto sin clima + 90° - Noviembre - "]
[664,"HD* (-) [hrs] - Propuesto con clima + 180° - Noviembre - "]
[665,"HD* (-) [hrs] - Propuesto sin clima + 180° - Noviembre - "]
[666,"HD* (-) [hrs] - Propuesto con clima + 270° - Noviembre - "]
[667,"HD* (-) [hrs] - Propuesto sin clima+ 270° - Noviembre - "]
[668,"HD* (-) [hrs] - Propuesto con clima - Diciembre - ",{"$f":"+Z14","v":0}]
[669,"HD* (-) [hrs] - Propuesto sin clima - Diciembre - ",{"$f":"+Z15","v":0}]
[670,"HD* (-) [hrs] - Base con clima - Diciembre - ",{"$f":"+Z13","v":0}]
[671,"HD* (-) [hrs] - Base sin clima  - Diciembre - "]
[672,"HD* (-) [hrs] - Propuesto con clima + 90° - Diciembre - "]
[673,"HD* (-) [hrs] - Propuesto sin clima + 90° - Diciembre - "]
[674,"HD* (-) [hrs] - Propuesto con clima + 180° - Diciembre - "]
[675,"HD* (-) [hrs] - Propuesto sin clima + 180° - Diciembre - "]
[676,"HD* (-) [hrs] - Propuesto con clima + 270° - Diciembre - "]
[677,"HD* (-) [hrs] - Propuesto sin clima+ 270° - Diciembre - "]
[678,"Q Recuperado [kWh]  - Enero -  - ",{"$f":"+$BR4","v":0}]
[679,"Q Puentes térmicos [kWh]  - Enero -  - ",{"$f":"+$BQ4","v":0}]
[680,"Q Contra terreno [kWh]  - Enero -  - ",{"$f":"+$BP4","v":0}]
[681,"Q Piso ventilado [kWh] - Enero -  - ",{"$f":"+$BO4","v":0}]
[682,"Q Ventanas [kWh]  - Enero -  - ",{"$f":"+$BN4","v":0}]
[683,"Q Muros [kWh]  - Enero -  - ",{"$f":"+$BM4","v":0}]
[684,"Q Techo [kWh] - Enero -  - ",{"$f":"+$BL4","v":0}]
[685,"Q Infiltraciones [kWh]  - Enero -  - ",{"$f":"+$BK4","v":0}]
[686,"Q Ventilación[kWh]  - Enero -  - ",{"$f":"+$BJ4","v":0}]
[687,"Q Sol [kWh]  - Enero -  - ",{"$f":"+$BG4","v":0}]
[688,"Q Recuperado [kWh]  - Julio -  - ",{"$f":"+$BR10","v":0}]
[689,"Q Puentes térmicos [kWh]  - Julio -  - ",{"$f":"+$BQ10","v":0}]
[690,"Q Contra terreno [kWh]  - Julio -  - ",{"$f":"+$BP10","v":0}]
[691,"Q Piso ventilado [kWh] - Julio -  - ",{"$f":"+$BO10","v":0}]
[692,"Q Ventanas [kWh]  - Julio -  - ",{"$f":"+$BN10","v":0}]
[693,"Q Muros [kWh]  - Julio -  - ",{"$f":"+$BM10","v":0}]
[694,"Q Techo [kWh] - Julio -  - ",{"$f":"+$BL10","v":0}]
[695,"Q Infiltraciones [kWh]  - Julio -  - ",{"$f":"+$BK10","v":0}]
[696,"Q Ventilación[kWh]  - Julio -  - ",{"$f":"+$BJ10","v":0}]
[697,"Q Sol [kWh]  - Julio -  - ",{"$f":"+$BG10","v":0}]
[698,"Mandante - Nombre -  - ",{"$f":"+'CEV-CEVE'!E28","v":0}]
[699,"Mandante - Rut -  - ",{"$f":"+'CEV-CEVE'!E29","v":0}]
[700,"Evaluador energético - Nombre -  - ",{"$f":"+'CEV-CEVE'!E20","v":0}]
[701,"Evaluador energético - Rut -  - ",{"$f":"+'CEV-CEVE'!E22","v":0}]
[702,"C:\\Proyectos_zeke\\Calificación Energética Zeke\\Calificación Energética Web\\MinvuCe.Presentacion.Web\\Upload\\plantillas_CE\\1_CEV\\Letras\\LetrasA.png","2.2","versión PBTD03"]
[703,"C:\\Proyectos_zeke\\Calificación Energética Zeke\\Calificación Energética Web\\MinvuCe.Presentacion.Web\\Upload\\plantillas_CE\\1_CEV\\Letras\\LetrasA.png",{"$f":"'CEV-CEVE'!E24","v":0},"versión PBTD01"]
[704,"C:\\Proyectos_zeke\\Calificación Energética Zeke\\Calificación Energética Web\\MinvuCe.Presentacion.Web\\Upload\\plantillas_CE\\1_CEV\\Letras\\LetrasA.png"]
[705,"C:\\Proyectos_zeke\\Calificación Energética Zeke\\Calificación Energética Web\\MinvuCe.Presentacion.Web\\Upload\\plantillas_CE\\1_CEV\\Letras\\LetrasA.png"]
[706,"C:\\Proyectos_zeke\\Calificación Energética Zeke\\Calificación Energética Web\\MinvuCe.Presentacion.Web\\Upload\\plantillas_CE\\1_CEV\\Letras\\LetrasA.png"]
[707,"C:\\Proyectos_zeke\\Calificación Energética Zeke\\Calificación Energética Web\\MinvuCe.Presentacion.Web\\Upload\\plantillas_CE\\1_CEV\\Letras\\LetrasA.png"]
[708,"C:\\Proyectos_zeke\\Calificación Energética Zeke\\Calificación Energética Web\\MinvuCe.Presentacion.Web\\Upload\\plantillas_CE\\1_CEV\\Letras\\LetrasA.png"]
[709,"C:\\Proyectos_zeke\\Calificación Energética Zeke\\Calificación Energética Web\\MinvuCe.Presentacion.Web\\Upload\\plantillas_CE\\1_CEV\\Letras\\LetrasA.png"]
[710,"C:\\Proyectos_zeke\\Calificación Energética Zeke\\Calificación Energética Web\\MinvuCe.Presentacion.Web\\Upload\\plantillas_CE\\1_CEV\\Letras\\LetrasA.png"]
[711,"C:\\Proyectos_zeke\\Calificación Energética Zeke\\Calificación Energética Web\\MinvuCe.Presentacion.Web\\Upload\\plantillas_CE\\1_CEV\\Letras\\LetrasA.png"]
[712,"C:\\Proyectos_zeke\\Calificación Energética Zeke\\Calificación Energética Web\\MinvuCe.Presentacion.Web\\Upload\\plantillas_CE\\1_CEV\\Letras\\LetrasA.png"]
[713,"C:\\Proyectos_zeke\\Calificación Energética Zeke\\Calificación Energética Web\\MinvuCe.Presentacion.Web\\Upload\\plantillas_CE\\1_CEV\\Letras\\LetrasA.png"]
[714,"C:\\Proyectos_zeke\\Calificación Energética Zeke\\Calificación Energética Web\\MinvuCe.Presentacion.Web\\Upload\\plantillas_CE\\1_CEV\\Letras\\LetrasA.png"]
[715,"esfs"]

{"sheet":"Resultados","index":12,"n_rows":3125,"n_cols":78,"rows_kept":1125,"cut":true,"hidden":false,"merged":[],"bounds":{"rows_first":500,"rows_last":125,"rows_between":500,"halvings":2}}
[{"$f":"+COUNTA(C6:C1048576)/25*26+6","v":6},"Fila a insertar datos (NO borrar)"]
[null,null,null,null,null,null,null,null,null,null,null,null,null,null,null,null,null,null,null,null,null,null,null,null,null,null,null,null,null,null,null,null,null,null,null,null,null,null,null,null,null,null,null,null,null,null,null,null,null,null,null,null,null,null,null,null,null,null,null,null,null,null,null,null,null,"Zona"]
[null,null,null,null,null,null,null,null,null,null,null,null,null,null,null,null,null,null,null,null,null,null,null,null,null,null,null,null,null,null,null,null,null,null,null,null,null,null,null,null,null,null,null,null,null,null,null,null,null,null,null,null,null,null,null,null,null,null,null,null,null,null,null,null,null,"Rango nocturno",22,6]
[]
[null,null,"Tiempo [hrs]","Tiempo [s]","Mes","T° exterior [°C]","Qsol_ef tot [W]","Qgen pers [W]","Qgen ilum [W]","Qgen equip [W]","TsolH","TsolN","TsolNE","TsolE","TsolSE","TsolS","TsolSO","TsolO","TsolNO","T Interior [°C]","Q Envolvente [W]","Q Piso_vent [W]","Q Ventanas [W]","Q Techo [W]","Q Muros [W]","Q Piso_terreno [W]","Q Ventilacion [W]","Q Recuperado [W]","Q Infiltraciones [W]","QClima [W]",null,"Q Masa_tot [W]","TmasaHOR [°C]","Q Masa_ad [W]","Demanda Calef. [Wh]","Demanda Ref. [Wh]","Qtot [W]","Q_techo_v [W]","Q_techo_opaco [W]","Q_norte_v [W]","Q_norte_opaco [W]","Q_noreste_v [W]","Q_noreste_opaco [W]","Q_este_v [W]","Q_este_opaco [W]","Q_sureste_v [W]","Q_sureste_opaco [W]","Q_sur_v [W]","Q_sur_opaco [W]","Q_suroeste_v [W]","Q_suroeste_opaco [W]","Q_oeste_v [W]","Q_oeste_opaco [W]","Q_noroeste_v [W]","Q_noroeste_opaco [W]","Q_piso_vent_SA [W]","Q_piso_terre_SA [W]","Tiempo 0-23 [hrs]","Caso []","HD (-)","HD (+)",null,null,null,null,"Tmin rango Confort"]
[null,null,null,null,null,null,null,null,null,null,null,null,null,null,null,null,null,null,null,null,null,null,null,null,null,null,null,null,null,null,null,null,null,null,null,null,null,null,null,null,null,null,null,null,null,null,null,null,null,null,null,null,null,null,null,null,null,0,"Caso Propuesto Con Clima",{"$f":"+IFERROR(IF(BF6=\"\",0,IF(T6<IF(OR(BF6<=$BP$3,BF6>=$BO$3),VLOOKUP('CEV-CEVE'!$E$10,$BN$7:$BZ$16,1+E6,0)-2,VLOOKUP('CEV-CEVE'!$E$10,$BN$7:$BZ$16,1+E6,0)),1,0)),0)","v":0},{"$f":"+IFERROR(IF(T6>VLOOKUP('CEV-CEVE'!$E$10,$BN$20:$BZ$29,1+E6,0),1,0),0)","v":0},null,null,null,null,"Zona","Enero","Febrero","Marzo","Abril","Mayo","Junio","Julio","Agosto","Septiembre","Octubre","Noviembre","Diciembre"]
[null,null,null,null,null,null,null,null,null,null,null,null,null,null,null,null,null,null,null,null,null,null,null,null,null,null,null,null,null,null,null,null,null,null,null,null,null,null,null,null,null,null,null,null,null,null,null,null,null,null,null,null,null,null,null,null,null,{"$f":"+BF6+1","v":1},"Caso Propuesto Con Clima",{"$f":"+IFERROR(IF(BF7=\"\",0,IF(T7<IF(OR(BF7<=$BP$3,BF7>=$BO$3),VLOOKUP('CEV-CEVE'!$E$10,$BN$7:$BZ$16,1+E7,0)-2,VLOOKUP('CEV-CEVE'!$E$10,$BN$7:$BZ$16,1+E7,0)),1,0)),0)","v":0},{"$f":"+IFERROR(IF(T7>VLOOKUP('CEV-CEVE'!$E$10,$BN$20:$BZ$29,1+E7,0),1,0),0)","v":0},null,null,null,null,"a",{"$f":"18.9+0.255*BO33-2.6","v":21.611883064516128},21.548408482142854,21.302729838709674,20.935935416666666,20.618479838709675,20.330133333333329,20.151185483870965,20.159102822580643,20.356695833333333,20.612653225806447,20.957893749999997,21.325556451612901]
[null,null,null,null,null,null,null,null,null,null,null,null,null,null,null,null,null,null,null,null,null,null,null,null,null,null,null,null,null,null,null,null,null,null,null,null,null,null,null,null,null,null,null,null,null,null,null,null,null,null,null,null,null,null,null,null,null,{"$f":"+BF7+1","v":2},"Caso Propuesto Con Clima",{"$f":"+IFERROR(IF(BF8=\"\",0,IF(T8<IF(OR(BF8<=$BP$3,BF8>=$BO$3),VLOOKUP('CEV-CEVE'!$E$10,$BN$7:$BZ$16,1+E8,0)-2,VLOOKUP('CEV-CEVE'!$E$10,$BN$7:$BZ$16,1+E8,0)),1,0)),0)","v":0},{"$f":"+IFERROR(IF(T8>VLOOKUP('CEV-CEVE'!$E$10,$BN$20:$BZ$29,1+E8,0),1,0),0)","v":0},null,null,null,null,"b",{"$f":"18.9+0.255*BO34-2.6","v":21.237677419354835},{"$f":"18.9+0.255*BP34-2.6","v":21.107964285714282},20.726614919354837,20.173131249999997,19.62829838709677,19.189787499999998,19.059723790322579,19.258342741935483,19.645352083333332,19.975050403225804,20.407766666666664,20.880643145161287]
[null,null,null,null,null,null,null,null,null,null,null,null,null,null,null,null,null,null,null,null,null,null,null,null,null,null,null,null,null,null,null,null,null,null,null,null,null,null,null,null,null,null,null,null,null,null,null,null,null,null,null,null,null,null,null,null,null,3,"Caso Propuesto Con Clima",{"$f":"+IFERROR(IF(BF9=\"\",0,IF(T9<IF(OR(BF9<=$BP$3,BF9>=$BO$3),VLOOKUP('CEV-CEVE'!$E$10,$BN$7:$BZ$16,1+E9,0)-2,VLOOKUP('CEV-CEVE'!$E$10,$BN$7:$BZ$16,1+E9,0)),1,0)),0)","v":0},{"$f":"+IFERROR(IF(T9>VLOOKUP('CEV-CEVE'!$E$10,$BN$20:$BZ$29,1+E9,0),1,0),0)","v":0},null,null,null,null,"c",{"$f":"18.9+0.255*BO35-2.6","v":20.890102822580644},20.863930803571424,20.559562499999998,20.104529166666662,19.746167338709675,19.438270833333331,19.310302419354837,19.38923588709677,19.599239583333329,19.904068548387094,20.334631249999997,20.712151209814511]
[null,null,null,null,null,null,null,null,null,null,null,null,null,null,null,null,null,null,null,null,null,null,null,null,null,null,null,null,null,null,null,null,null,null,null,null,null,null,null,null,null,null,null,null,null,null,null,null,null,null,null,null,null,null,null,null,null,4,"Caso Propuesto Con Clima",{"$f":"+IFERROR(IF(BF10=\"\",0,IF(T10<IF(OR(BF10<=$BP$3,BF10>=$BO$3),VLOOKUP('CEV-CEVE'!$E$10,$BN$7:$BZ$16,1+E10,0)-2,VLOOKUP('CEV-CEVE'!$E$10,$BN$7:$BZ$16,1+E10,0)),1,0)),0)","v":0},{"$f":"+IFERROR(IF(T10>VLOOKUP('CEV-CEVE'!$E$10,$BN$20:$BZ$29,1+E10,0),1,0),0)","v":0},null,null,null,null,"d",{"$f":"18.9+0.255*BO36-2.6","v":21.378887096774189},21.199680803571425,20.689633064516126,19.835291666666663,19.051909274193545,18.447135416666665,18.370983870967741,18.67821774193548,19.196693749999998,19.803576612903221,20.482283333333331,21.096981854998084]
[null,null,null,null,null,null,null,null,null,null,null,null,null,null,null,null,null,null,null,null,null,null,null,null,null,null,null,null,null,null,null,null,null,null,null,null,null,null,null,null,null,null,null,null,null,null,null,null,null,null,null,null,null,null,null,null,null,5,"Caso Propuesto Con Clima",{"$f":"+IFERROR(IF(BF11=\"\",0,IF(T11<IF(OR(BF11<=$BP$3,BF11>=$BO$3),VLOOKUP('CEV-CEVE'!$E$10,$BN$7:$BZ$16,1+E11,0)-2,VLOOKUP('CEV-CEVE'!$E$10,$BN$7:$BZ$16,1+E11,0)),1,0)),0)","v":0},{"$f":"+IFERROR(IF(T11>VLOOKUP('CEV-CEVE'!$E$10,$BN$20:$BZ$29,1+E11,0),1,0),0)","v":0},null,null,null,null,"e",{"$f":"18.9+0.255*BO37-2.6","v":20.585302419354836},20.456537946428568,20.024885080645159,19.387518749999998,19.096842741935482,18.596593749999997,17.932479838709675,18.490463709677417,18.854852083333331,19.285008064516127,19.92638333333333,20.432233871103463]
[null,null,null,null,null,null,null,null,null,null,null,null,null,null,null,null,null,null,null,null,null,null,null,null,null,null,null,null,null,null,null,null,null,null,null,null,null,null,null,null,null,null,null,null,null,null,null,null,null,null,null,null,null,null,null,null,null,6,"Caso Propuesto Con Clima",{"$f":"+IFERROR(IF(BF12=\"\",0,IF(T12<IF(OR(BF12<=$BP$3,BF12>=$BO$3),VLOOKUP('CEV-CEVE'!$E$10,$BN$7:$BZ$16,1+E12,0)-2,VLOOKUP('CEV-CEVE'!$E$10,$BN$7:$BZ$16,1+E12,0)),1,0)),0)","v":0},{"$f":"+IFERROR(IF(T12>VLOOKUP('CEV-CEVE'!$E$10,$BN$20:$BZ$29,1+E12,0),1,0),0)","v":0},null,null,null,null,"f",{"$f":"18.9+0.255*BO38-2.6","v":20.608883064516125},20.535049107142854,20.076536290322579,19.361168749999997,18.82405443548387,18.313437499999996,18.257227822580642,18.367659274193546,18.773145833333331,19.233391129032256,19.698229166666664,20.232689516251732]
[null,null,null,null,null,null,null,null,null,null,null,null,null,null,null,null,null,null,null,null,null,null,null,null,null,null,null,null,null,null,null,null,null,null,null,null,null,null,null,null,null,null,null,null,null,null,null,null,null,null,null,null,null,null,null,null,null,7,"Caso Propuesto Con Clima",{"$f":"+IFERROR(IF(BF13=\"\",0,IF(T13<IF(OR(BF13<=$BP$3,BF13>=$BO$3),VLOOKUP('CEV-CEVE'!$E$10,$BN$7:$BZ$16,1+E13,0)-2,VLOOKUP('CEV-CEVE'!$E$10,$BN$7:$BZ$16,1+E13,0)),1,0)),0)","v":0},{"$f":"+IFERROR(IF(T13>VLOOKUP('CEV-CEVE'!$E$10,$BN$20:$BZ$29,1+E13,0),1,0),0)","v":0},null,null,null,null,"g",{"$f":"18.9+0.255*BO39-2.6","v":20.506643145161288},20.262138392857139,19.887548387096771,19.166306249999998,18.691036290322579,18.171629166666662,18.060973790322578,18.221616935483869,18.639589583333329,19.133790322580641,19.796368749999996,20.358955645161288]
[null,null,null,null,null,null,null,null,null,null,null,null,null,null,null,null,null,null,null,null,null,null,null,null,null,null,null,null,null,null,null,null,null,null,null,null,null,null,null,null,null,null,null,null,null,null,null,null,null,null,null,null,null,null,null,null,null,8,"Caso Propuesto Con Clima",{"$f":"+IFERROR(IF(BF14=\"\",0,IF(T14<IF(OR(BF14<=$BP$3,BF14>=$BO$3),VLOOKUP('CEV-CEVE'!$E$10,$BN$7:$BZ$16,1+E14,0)-2,VLOOKUP('CEV-CEVE'!$E$10,$BN$7:$BZ$16,1+E14,0)),1,0)),0)","v":0},{"$f":"+IFERROR(IF(T14>VLOOKUP('CEV-CEVE'!$E$10,$BN$20:$BZ$29,1+E14,0),1,0),0)","v":0},null,null,null,null,"h",{"$f":"18.9+0.255*BO40-2.6","v":20.255721774193546},20.011008928571428,19.657054435483868,19.226974999999996,18.223707661290319,17.35375208333333,17.385737903225802,17.404725806451609,17.883337499999996,18.505372983870963,19.119095833333329,19.871405241935481]
[null,null,null,null,null,null,null,null,null,null,null,null,null,null,null,null,null,null,null,null,null,null,null,null,null,null,null,null,null,null,null,null,null,null,null,null,null,null,null,null,null,null,null,null,null,null,null,null,null,null,null,null,null,null,null,null,null,9,"Caso Propuesto Con Clima",{"$f":"+IFERROR(IF(BF15=\"\",0,IF(T15<IF(OR(BF15<=$BP$3,BF15>=$BO$3),VLOOKUP('CEV-CEVE'!$E$10,$BN$7:$BZ$16,1+E15,0)-2,VLOOKUP('CEV-CEVE'!$E$10,$BN$7:$BZ$16,1+E15,0)),1,0)),0)","v":0},{"$f":"+IFERROR(IF(T15>VLOOKUP('CEV-CEVE'!$E$10,$BN$20:$BZ$29,1+E15,0),1,0),0)","v":0},null,null,null,null,"i",{"$f":"18.9+0.255*BO41-2.6","v":19.284802419354836},18.997953124999999,18.56967137096774,18.006481249999997,17.376346774193546,16.957262499999999,16.947405241935481,17.034256048387093,17.476081249999996,18.107004032258061,18.476247916666665,18.902645161303688]
[null,null,null,null,null,null,null,null,null,null,null,null,null,null,null,null,null,null,null,null,null,null,null,null,null,null,null,null,null,null,null,null,null,null,null,null,null,null,null,null,null,null,null,null,null,null,null,null,null,null,null,null,null,null,null,null,null,10,"Caso Propuesto Con Clima",{"$f":"+IFERROR(IF(BF16=\"\",0,IF(T16<IF(OR(BF16<=$BP$3,BF16>=$BO$3),VLOOKUP('CEV-CEVE'!$E$10,$BN$7:$BZ$16,1+E16,0)-2,VLOOKUP('CEV-CEVE'!$E$10,$BN$7:$BZ$16,1+E16,0)),1,0)),0)","v":0},{"$f":"+IFERROR(IF(T16>VLOOKUP('CEV-CEVE'!$E$10,$BN$20:$BZ$29,1+E16,0),1,0),0)","v":0},null,null,null,null,"j",{"$f":"18.9+0.255*BO42-2.6","v":20.254145161290321},20.034004464285712,19.45367137096774,19.28473958333333,18.733124999999998,18.121054166666664,18.445256048387094,18.432780241935482,19.053716666666663,19.182802419354836,19.783795833333329,19.671106854838705]
[null,null,null,null,null,null,null,null,null,null,null,null,null,null,null,null,null,null,null,null,null,null,null,null,null,null,null,null,null,null,null,null,null,null,null,null,null,null,null,null,null,null,null,null,null,null,null,null,null,null,null,null,null,null,null,null,null,11,"Caso Propuesto Con Clima",{"$f":"+IFERROR(IF(BF17=\"\",0,IF(T17<IF(OR(BF17<=$BP$3,BF17>=$BO$3),VLOOKUP('CEV-CEVE'!$E$10,$BN$7:$BZ$16,1+E17,0)-2,VLOOKUP('CEV-CEVE'!$E$10,$BN$7:$BZ$16,1+E17,0)),1,0)),0)","v":0},{"$f":"+IFERROR(IF(T17>VLOOKUP('CEV-CEVE'!$E$10,$BN$20:$BZ$29,1+E17,0),1,0),0)","v":0}]
[null,null,null,null,null,null,null,null,null,null,null,null,null,null,null,null,null,null,null,null,null,null,null,null,null,null,null,null,null,null,null,null,null,null,null,null,null,null,null,null,null,null,null,null,null,null,null,null,null,null,null,null,null,null,null,null,null,12,"Caso Propuesto Con Clima",{"$f":"+IFERROR(IF(BF18=\"\",0,IF(T18<IF(OR(BF18<=$BP$3,BF18>=$BO$3),VLOOKUP('CEV-CEVE'!$E$10,$BN$7:$BZ$16,1+E18,0)-2,VLOOKUP('CEV-CEVE'!$E$10,$BN$7:$BZ$16,1+E18,0)),1,0)),0)","v":0},{"$f":"+IFERROR(IF(T18>VLOOKUP('CEV-CEVE'!$E$10,$BN$20:$BZ$29,1+E18,0),1,0),0)","v":0},null,null,null,null,"Tmax rango Confort"]
[null,null,null,null,null,null,null,null,null,null,null,null,null,null,null,null,null,null,null,null,null,null,null,null,null,null,null,null,null,null,null,null,null,null,null,null,null,null,null,null,null,null,null,null,null,null,null,null,null,null,null,null,null,null,null,null,null,13,"Caso Propuesto Con Clima",{"$f":"+IFERROR(IF(BF19=\"\",0,IF(T19<IF(OR(BF19<=$BP$3,BF19>=$BO$3),VLOOKUP('CEV-CEVE'!$E$10,$BN$7:$BZ$16,1+E19,0)-2,VLOOKUP('CEV-CEVE'!$E$10,$BN$7:$BZ$16,1+E19,0)),1,0)),0)","v":0},{"$f":"+IFERROR(IF(T19>VLOOKUP('CEV-CEVE'!$E$10,$BN$20:$BZ$29,1+E19,0),1,0),0)","v":0},null,null,null,null,"Zona","Enero","Febrero","Marzo","Abril","Mayo","Junio","Julio","Agosto","Septiembre","Octubre","Noviembre","Diciembre"]
[null,null,null,null,null,null,null,null,null,null,null,null,null,null,null,null,null,null,null,null,null,null,null,null,null,null,null,null,null,null,null,null,null,null,null,null,null,null,null,null,null,null,null,null,null,null,null,null,null,null,null,null,null,null,null,null,null,14,"Caso Propuesto Con Clima",{"$f":"+IFERROR(IF(BF20=\"\",0,IF(T20<IF(OR(BF20<=$BP$3,BF20>=$BO$3),VLOOKUP('CEV-CEVE'!$E$10,$BN$7:$BZ$16,1+E20,0)-2,VLOOKUP('CEV-CEVE'!$E$10,$BN$7:$BZ$16,1+E20,0)),1,0)),0)","v":0},{"$f":"+IFERROR(IF(T20>VLOOKUP('CEV-CEVE'!$E$10,$BN$20:$BZ$29,1+E20,0),1,0),0)","v":0},null,null,null,null,"a",{"$f":"18.9+0.255*BO33+2.6","v":26.811883064516131},26.748408482142857,26.502729838709676,26.135935416666669,25.818479838709678,25.530133333333332,25.351185483870967,25.359102822580645,25.556695833333336,25.81265322580645,26.157893749999999,26.525556451612903]
[null,null,null,null,null,null,null,null,null,null,null,null,null,null,null,null,null,null,null,null,null,null,null,null,null,null,null,null,null,null,null,null,null,null,null,null,null,null,null,null,null,null,null,null,null,null,null,null,null,null,null,null,null,null,null,null,null,15,"Caso Propuesto Con Clima",{"$f":"+IFERROR(IF(BF21=\"\",0,IF(T21<IF(OR(BF21<=$BP$3,BF21>=$BO$3),VLOOKUP('CEV-CEVE'!$E$10,$BN$7:$BZ$16,1+E21,0)-2,VLOOKUP('CEV-CEVE'!$E$10,$BN$7:$BZ$16,1+E21,0)),1,0)),0)","v":0},{"$f":"+IFERROR(IF(T21>VLOOKUP('CEV-CEVE'!$E$10,$BN$20:$BZ$29,1+E21,0),1,0),0)","v":0},null,null,null,null,"b",{"$f":"18.9+0.255*BO34+2.6","v":26.437677419354838},26.307964285714284,25.92661491935484,25.37313125,24.828298387096773,24.389787500000001,24.259723790322582,24.458342741935486,24.845352083333335,25.175050403225807,25.607766666666667,26.080643145161289]
[null,null,null,null,null,null,null,null,null,null,null,null,null,null,null,null,null,null,null,null,null,null,null,null,null,null,null,null,null,null,null,null,null,null,null,null,null,null,null,null,null,null,null,null,null,null,null,null,null,null,null,null,null,null,null,null,null,16,"Caso Propuesto Con Clima",{"$f":"+IFERROR(IF(BF22=\"\",0,IF(T22<IF(OR(BF22<=$BP$3,BF22>=$BO$3),VLOOKUP('CEV-CEVE'!$E$10,$BN$7:$BZ$16,1+E22,0)-2,VLOOKUP('CEV-CEVE'!$E$10,$BN$7:$BZ$16,1+E22,0)),1,0)),0)","v":0},{"$f":"+IFERROR(IF(T22>VLOOKUP('CEV-CEVE'!$E$10,$BN$20:$BZ$29,1+E22,0),1,0),0)","v":0},null,null,null,null,"c",{"$f":"18.9+0.255*BO35+2.6","v":26.090102822580647},26.063930803571427,25.759562500000001,25.304529166666665,24.946167338709678,24.638270833333333,24.51030241935484,24.589235887096773,24.799239583333332,25.104068548387097,25.53463125,25.912151209814514]
[null,null,null,null,null,null,null,null,null,null,null,null,null,null,null,null,null,null,null,null,null,null,null,null,null,null,null,null,null,null,null,null,null,null,null,null,null,null,null,null,null,null,null,null,null,null,null,null,null,null,null,null,null,null,null,null,null,17,"Caso Propuesto Con Clima",{"$f":"+IFERROR(IF(BF23=\"\",0,IF(T23<IF(OR(BF23<=$BP$3,BF23>=$BO$3),VLOOKUP('CEV-CEVE'!$E$10,$BN$7:$BZ$16,1+E23,0)-2,VLOOKUP('CEV-CEVE'!$E$10,$BN$7:$BZ$16,1+E23,0)),1,0)),0)","v":0},{"$f":"+IFERROR(IF(T23>VLOOKUP('CEV-CEVE'!$E$10,$BN$20:$BZ$29,1+E23,0),1,0),0)","v":0},null,null,null,null,"d",{"$f":"18.9+0.255*BO36+2.6","v":26.578887096774192},26.399680803571428,25.889633064516129,25.035291666666666,24.251909274193547,23.647135416666668,23.570983870967744,23.878217741935483,24.396693750000001,25.003576612903224,25.682283333333334,26.296981854998087]
[null,null,null,null,null,null,null,null,null,null,null,null,null,null,null,null,null,null,null,null,null,null,null,null,null,null,null,null,null,null,null,null,null,null,null,null,null,null,null,null,null,null,null,null,null,null,null,null,null,null,null,null,null,null,null,null,null,18,"Caso Propuesto Con Clima",{"$f":"+IFERROR(IF(BF24=\"\",0,IF(T24<IF(OR(BF24<=$BP$3,BF24>=$BO$3),VLOOKUP('CEV-CEVE'!$E$10,$BN$7:$BZ$16,1+E24,0)-2,VLOOKUP('CEV-CEVE'!$E$10,$BN$7:$BZ$16,1+E24,0)),1,0)),0)","v":0},{"$f":"+IFERROR(IF(T24>VLOOKUP('CEV-CEVE'!$E$10,$BN$20:$BZ$29,1+E24,0),1,0),0)","v":0},null,null,null,null,"e",{"$f":"18.9+0.255*BO37+2.6","v":25.785302419354839},25.656537946428571,25.224885080645162,24.587518750000001,24.296842741935485,23.79659375,23.132479838709678,23.69046370967742,24.054852083333333,24.48500806451613,25.126383333333333,25.632233871103466]
[null,null,null,null,null,null,null,null,null,null,null,null,null,null,null,null,null,null,null,null,null,null,null,null,null,null,null,null,null,null,null,null,null,null,null,null,null,null,null,null,null,null,null,null,null,null,null,null,null,null,null,null,null,null,null,null,null,19,"Caso Propuesto Con Clima",{"$f":"+IFERROR(IF(BF25=\"\",0,IF(T25<IF(OR(BF25<=$BP$3,BF25>=$BO$3),VLOOKUP('CEV-CEVE'!$E$10,$BN$7:$BZ$16,1+E25,0)-2,VLOOKUP('CEV-CEVE'!$E$10,$BN$7:$BZ$16,1+E25,0)),1,0)),0)","v":0},{"$f":"+IFERROR(IF(T25>VLOOKUP('CEV-CEVE'!$E$10,$BN$20:$BZ$29,1+E25,0),1,0),0)","v":0},null,null,null,null,"f",{"$f":"18.9+0.255*BO38+2.6","v":25.808883064516127},25.735049107142856,25.276536290322582,24.56116875,24.024054435483873,23.513437499999998,23.457227822580645,23.567659274193549,23.973145833333334,24.433391129032259,24.898229166666667,25.432689516251735]
[null,null,null,null,null,null,null,null,null,null,null,null,null,null,null,null,null,null,null,null,null,null,null,null,null,null,null,null,null,null,null,null,null,null,null,null,null,null,null,null,null,null,null,null,null,null,null,null,null,null,null,null,null,null,null,null,null,20,"Caso Propuesto Con Clima",{"$f":"+IFERROR(IF(BF26=\"\",0,IF(T26<IF(OR(BF26<=$BP$3,BF26>=$BO$3),VLOOKUP('CEV-CEVE'!$E$10,$BN$7:$BZ$16,1+E26,0)-2,VLOOKUP('CEV-CEVE'!$E$10,$BN$7:$BZ$16,1+E26,0)),1,0)),0)","v":0},{"$f":"+IFERROR(IF(T26>VLOOKUP('CEV-CEVE'!$E$10,$BN$20:$BZ$29,1+E26,0),1,0),0)","v":0},null,null,null,null,"g",{"$f":"18.9+0.255*BO39+2.6","v":25.706643145161291},25.462138392857142,25.087548387096774,24.366306250000001,23.891036290322582,23.371629166666665,23.260973790322581,23.421616935483872,23.839589583333332,24.333790322580644,24.996368749999998,25.558955645161291]
[null,null,null,null,null,null,null,null,null,null,null,null,null,null,null,null,null,null,null,null,null,null,null,null,null,null,null,null,null,null,null,null,null,null,null,null,null,null,null,null,null,null,null,null,null,null,null,null,null,null,null,null,null,null,null,null,null,21,"Caso Propuesto Con Clima",{"$f":"+IFERROR(IF(BF27=\"\",0,IF(T27<IF(OR(BF27<=$BP$3,BF27>=$BO$3),VLOOKUP('CEV-CEVE'!$E$10,$BN$7:$BZ$16,1+E27,0)-2,VLOOKUP('CEV-CEVE'!$E$10,$BN$7:$BZ$16,1+E27,0)),1,0)),0)","v":0},{"$f":"+IFERROR(IF(T27>VLOOKUP('CEV-CEVE'!$E$10,$BN$20:$BZ$29,1+E27,0),1,0),0)","v":0},null,null,null,null,"h",{"$f":"18.9+0.255*BO40+2.6","v":25.455721774193549},25.211008928571431,24.857054435483871,24.426974999999999,23.423707661290322,22.553752083333332,22.585737903225805,22.604725806451611,23.083337499999999,23.705372983870966,24.319095833333332,25.071405241935484]
[null,null,null,null,null,null,null,null,null,null,null,null,null,null,null,null,null,null,null,null,null,null,null,null,null,null,null,null,null,null,null,null,null,null,null,null,null,null,null,null,null,null,null,null,null,null,null,null,null,null,null,null,null,null,null,null,null,22,"Caso Propuesto Con Clima",{"$f":"+IFERROR(IF(BF28=\"\",0,IF(T28<IF(OR(BF28<=$BP$3,BF28>=$BO$3),VLOOKUP('CEV-CEVE'!$E$10,$BN$7:$BZ$16,1+E28,0)-2,VLOOKUP('CEV-CEVE'!$E$10,$BN$7:$BZ$16,1+E28,0)),1,0)),0)","v":0},{"$f":"+IFERROR(IF(T28>VLOOKUP('CEV-CEVE'!$E$10,$BN$20:$BZ$29,1+E28,0),1,0),0)","v":0},null,null,null,null,"i",{"$f":"18.9+0.255*BO41+2.6","v":24.484802419354839},24.197953125000002,23.769671370967743,23.20648125,22.576346774193549,22.157262500000002,22.147405241935484,22.234256048387095,22.676081249999999,23.307004032258064,23.676247916666668,24.102645161303691]
[null,null,null,null,null,null,null,null,null,null,null,null,null,null,null,null,null,null,null,null,null,null,null,null,null,null,null,null,null,null,null,null,null,null,null,null,null,null,null,null,null,null,null,null,null,null,null,null,null,null,null,null,null,null,null,null,null,23,"Caso Propuesto Con Clima",{"$f":"+IFERROR(IF(BF29=\"\",0,IF(T29<IF(OR(BF29<=$BP$3,BF29>=$BO$3),VLOOKUP('CEV-CEVE'!$E$10,$BN$7:$BZ$16,1+E29,0)-2,VLOOKUP('CEV-CEVE'!$E$10,$BN$7:$BZ$16,1+E29,0)),1,0)),0)","v":0},{"$f":"+IFERROR(IF(T29>VLOOKUP('CEV-CEVE'!$E$10,$BN$20:$BZ$29,1+E29,0),1,0),0)","v":0},null,null,null,null,"j",{"$f":"18.9+0.255*BO42+2.6","v":25.454145161290324},25.234004464285714,24.653671370967743,24.484739583333333,23.933125,23.321054166666666,23.645256048387097,23.632780241935485,24.253716666666666,24.382802419354839,24.983795833333332,24.871106854838708]
[null,null,null,null,null,null,null,null,null,null,null,null,null,null,null,null,null,null,null,null,null,null,null,null,null,null,null,null,null,null,null,null,null,null,null,null,null,null,null,null,null,null,null,null,null,null,null,null,null,null,null,null,null,null,null,null,null,null,"Caso Propuesto Con Clima",{"$f":"+IFERROR(IF(BF30=\"\",0,IF(T30<IF(OR(BF30<=$BP$3,BF30>=$BO$3),VLOOKUP('CEV-CEVE'!$E$10,$BN$7:$BZ$16,1+E30,0)-2,VLOOKUP('CEV-CEVE'!$E$10,$BN$7:$BZ$16,1+E30,0)),1,0)),0)","v":0},{"$f":"+IFERROR(IF(T30>VLOOKUP('CEV-CEVE'!$E$10,$BN$20:$BZ$29,1+E30,0),1,0),0)","v":0}]
[null,null,null,null,null,null,null,null,null,null,null,null,null,null,null,null,null,null,null,null,null,null,null,null,null,null,null,null,null,null,null,null,null,null,null,null,null,null,null,null,null,null,null,null,null,null,null,null,null,null,null,null,null,null,null,null,null,null,"Caso Propuesto Con Clima",{"$f":"+IFERROR(IF(BF31=\"\",0,IF(T31<IF(OR(BF31<=$BP$3,BF31>=$BO$3),VLOOKUP('CEV-CEVE'!$E$10,$BN$7:$BZ$16,1+E31,0)-2,VLOOKUP('CEV-CEVE'!$E$10,$BN$7:$BZ$16,1+E31,0)),1,0)),0)","v":0},{"$f":"+IFERROR(IF(T31>VLOOKUP('CEV-CEVE'!$E$10,$BN$20:$BZ$29,1+E31,0),1,0),0)","v":0},null,null,null,null,"Tm"]
[null,null,null,null,null,null,null,null,null,null,null,null,null,null,null,null,null,null,null,null,null,null,null,null,null,null,null,null,null,null,null,null,null,null,null,null,null,null,null,null,null,null,null,null,null,null,null,null,null,null,null,null,null,null,null,null,null,0,"Caso Propuesto Con Clima",{"$f":"+IFERROR(IF(BF32=\"\",0,IF(T32<IF(OR(BF32<=$BP$3,BF32>=$BO$3),VLOOKUP('CEV-CEVE'!$E$10,$BN$7:$BZ$16,1+E32,0)-2,VLOOKUP('CEV-CEVE'!$E$10,$BN$7:$BZ$16,1+E32,0)),1,0)),0)","v":0},{"$f":"+IFERROR(IF(T32>VLOOKUP('CEV-CEVE'!$E$10,$BN$20:$BZ$29,1+E32,0),1,0),0)","v":0},null,null,null,null,"Zona","Enero","Febrero","Marzo","Abril","Mayo","Junio","Julio","Agosto","Septiembre","Octubre","Noviembre","Diciembre"]
[null,null,null,null,null,null,null,null,null,null,null,null,null,null,null,null,null,null,null,null,null,null,null,null,null,null,null,null,null,null,null,null,null,null,null,null,null,null,null,null,null,null,null,null,null,null,null,null,null,null,null,null,null,null,null,null,null,{"$f":"+BF32+1","v":1},"Caso Propuesto Con Clima",{"$f":"+IFERROR(IF(BF33=\"\",0,IF(T33<IF(OR(BF33<=$BP$3,BF33>=$BO$3),VLOOKUP('CEV-CEVE'!$E$10,$BN$7:$BZ$16,1+E33,0)-2,VLOOKUP('CEV-CEVE'!$E$10,$BN$7:$BZ$16,1+E33,0)),1,0)),0)","v":0},{"$f":"+IFERROR(IF(T33>VLOOKUP('CEV-CEVE'!$E$10,$BN$20:$BZ$29,1+E33,0),1,0),0)","v":0},null,null,null,null,"A",20.830913978494625,20.581994047619045,19.618548387096777,18.180138888888891,16.935215053763439,15.804444444444444,15.102688172043012,15.133736559139782,15.908611111111115,16.912365591397847,18.266250000000003,19.708064516129035]
[null,null,null,null,null,null,null,null,null,null,null,null,null,null,null,null,null,null,null,null,null,null,null,null,null,null,null,null,null,null,null,null,null,null,null,null,null,null,null,null,null,null,null,null,null,null,null,null,null,null,null,null,null,null,null,null,null,{"$f":"+BF33+1","v":2},"Caso Propuesto Con Clima",{"$f":"+IFERROR(IF(BF34=\"\",0,IF(T34<IF(OR(BF34<=$BP$3,BF34>=$BO$3),VLOOKUP('CEV-CEVE'!$E$10,$BN$7:$BZ$16,1+E34,0)-2,VLOOKUP('CEV-CEVE'!$E$10,$BN$7:$BZ$16,1+E34,0)),1,0)),0)","v":0},{"$f":"+IFERROR(IF(T34>VLOOKUP('CEV-CEVE'!$E$10,$BN$20:$BZ$29,1+E34,0),1,0),0)","v":0},null,null,null,null,"B",19.363440860215054,18.854761904761904,17.359274193548391,15.188750000000001,13.052150537634409,11.332499999999998,10.82244623655914,11.601344086021506,13.119027777777779,14.411962365591398,16.108888888888888,17.963306451612905]
[null,null,null,null,null,null,null,null,null,null,null,null,null,null,null,null,null,null,null,null,null,null,null,null,null,null,null,null,null,null,null,null,null,null,null,null,null,null,null,null,null,null,null,null,null,null,null,null,null,null,null,null,null,null,null,null,null,3,"Caso Propuesto Con Clima",{"$f":"+IFERROR(IF(BF35=\"\",0,IF(T35<IF(OR(BF35<=$BP$3,BF35>=$BO$3),VLOOKUP('CEV-CEVE'!$E$10,$BN$7:$BZ$16,1+E35,0)-2,VLOOKUP('CEV-CEVE'!$E$10,$BN$7:$BZ$16,1+E35,0)),1,0)),0)","v":0},{"$f":"+IFERROR(IF(T35>VLOOKUP('CEV-CEVE'!$E$10,$BN$20:$BZ$29,1+E35,0),1,0),0)","v":0},null,null,null,null,"C",18.000403225806451,17.897767857142856,16.704166666666669,14.919722222222221,13.51438172043011,12.306944444444442,11.80510752688172,12.114650537634406,12.938194444444443,14.133602150537635,15.822083333333332,17.302553763978491]
[null,null,null,null,null,null,null,null,null,null,null,null,null,null,null,null,null,null,null,null,null,null,null,null,null,null,null,null,null,null,null,null,null,null,null,null,null,null,null,null,null,null,null,null,null,null,null,null,null,null,null,null,null,null,null,null,null,4,"Caso Propuesto Con Clima",{"$f":"+IFERROR(IF(BF36=\"\",0,IF(T36<IF(OR(BF36<=$BP$3,BF36>=$BO$3),VLOOKUP('CEV-CEVE'!$E$10,$BN$7:$BZ$16,1+E36,0)-2,VLOOKUP('CEV-CEVE'!$E$10,$BN$7:$BZ$16,1+E36,0)),1,0)),0)","v":0},{"$f":"+IFERROR(IF(T36>VLOOKUP('CEV-CEVE'!$E$10,$BN$20:$BZ$29,1+E36,0),1,0),0)","v":0},null,null,null,null,"D",19.917204301075266,19.214434523809526,17.214247311827954,13.863888888888892,10.791801075268815,8.4201388888888911,8.1215053763440874,9.3263440860215052,11.359583333333333,13.739516129032255,16.40111111111111,18.811693549012102]
[null,null,null,null,null,null,null,null,null,null,null,null,null,null,null,null,null,null,null,null,null,null,null,null,null,null,null,null,null,null,null,null,null,null,null,null,null,null,null,null,null,null,null,null,null,null,null,null,null,null,null,null,null,null,null,null,null,5,"Caso Propuesto Con Clima",{"$f":"+IFERROR(IF(BF37=\"\",0,IF(T37<IF(OR(BF37<=$BP$3,BF37>=$BO$3),VLOOKUP('CEV-CEVE'!$E$10,$BN$7:$BZ$16,1+E37,0)-2,VLOOKUP('CEV-CEVE'!$E$10,$BN$7:$BZ$16,1+E37,0)),1,0)),0)","v":0},{"$f":"+IFERROR(IF(T37>VLOOKUP('CEV-CEVE'!$E$10,$BN$20:$BZ$29,1+E37,0),1,0),0)","v":0},null,null,null,null,"E",16.805107526881724,16.300148809523808,14.607392473118281,12.107916666666668,10.968010752688173,9.0062499999999996,6.4018817204301079,8.59005376344086,10.019027777777778,11.705913978494623,14.221111111111114,16.204838710209675]
[null,null,null,null,null,null,null,null,null,null,null,null,null,null,null,null,null,null,null,null,null,null,null,null,null,null,null,null,null,null,null,null,null,null,null,null,null,null,null,null,null,null,null,null,null,null,null,null,null,null,null,null,null,null,null,null,null,6,"Caso Propuesto Con Clima",{"$f":"+IFERROR(IF(BF38=\"\",0,IF(T38<IF(OR(BF38<=$BP$3,BF38>=$BO$3),VLOOKUP('CEV-CEVE'!$E$10,$BN$7:$BZ$16,1+E38,0)-2,VLOOKUP('CEV-CEVE'!$E$10,$BN$7:$BZ$16,1+E38,0)),1,0)),0)","v":0},{"$f":"+IFERROR(IF(T38>VLOOKUP('CEV-CEVE'!$E$10,$BN$20:$BZ$29,1+E38,0),1,0),0)","v":0},null,null,null,null,"F",16.897580645161284,16.608035714285712,14.809946236559142,12.004583333333331,9.898252688172045,7.8958333333333321,7.6754032258064493,8.1084677419354829,9.6986111111111111,11.503494623655916,13.326388888888888,15.422311828438174]
[null,null,null,null,null,null,null,null,null,null,null,null,null,null,null,null,null,null,null,null,null,null,null,null,null,null,null,null,null,null,null,null,null,null,null,null,null,null,null,null,null,null,null,null,null,null,null,null,null,null,null,null,null,null,null,null,null,7,"Caso Propuesto Con Clima",{"$f":"+IFERROR(IF(BF39=\"\",0,IF(T39<IF(OR(BF39<=$BP$3,BF39>=$BO$3),VLOOKUP('CEV-CEVE'!$E$10,$BN$7:$BZ$16,1+E39,0)-2,VLOOKUP('CEV-CEVE'!$E$10,$BN$7:$BZ$16,1+E39,0)),1,0)),0)","v":0},{"$f":"+IFERROR(IF(T39>VLOOKUP('CEV-CEVE'!$E$10,$BN$20:$BZ$29,1+E39,0),1,0),0)","v":0},null,null,null,null,"G",16.496639784946236,15.537797619047618,14.068817204301075,11.240416666666667,9.376612903225805,7.3397222222222211,6.9057795698924727,7.5357526881720425,9.1748611111111114,11.112903225806448,13.711249999999998,15.917473118279574]
[null,null,null,null,null,null,null,null,null,null,null,null,null,null,null,null,null,null,null,null,null,null,null,null,null,null,null,null,null,null,null,null,null,null,null,null,null,null,null,null,null,null,null,null,null,null,null,null,null,null,null,null,null,null,null,null,null,8,"Caso Propuesto Con Clima",{"$f":"+IFERROR(IF(BF40=\"\",0,IF(T40<IF(OR(BF40<=$BP$3,BF40>=$BO$3),VLOOKUP('CEV-CEVE'!$E$10,$BN$7:$BZ$16,1+E40,0)-2,VLOOKUP('CEV-CEVE'!$E$10,$BN$7:$BZ$16,1+E40,0)),1,0)),0)","v":0},{"$f":"+IFERROR(IF(T40>VLOOKUP('CEV-CEVE'!$E$10,$BN$20:$BZ$29,1+E40,0),1,0),0)","v":0},null,null,null,null,"H",15.512634408602146,14.552976190476192,13.164919354838714,11.478333333333333,7.5439516129032249,4.1323611111111118,4.2577956989247312,4.3322580645161297,6.2091666666666656,8.6485215053763422,11.055277777777777,14.005510752688169]
[null,null,null,null,null,null,null,null,null,null,null,null,null,null,null,null,null,null,null,null,null,null,null,null,null,null,null,null,null,null,null,null,null,null,null,null,null,null,null,null,null,null,null,null,null,null,null,null,null,null,null,null,null,null,null,null,null,9,"Caso Propuesto Con Clima",{"$f":"+IFERROR(IF(BF41=\"\",0,IF(T41<IF(OR(BF41<=$BP$3,BF41>=$BO$3),VLOOKUP('CEV-CEVE'!$E$10,$BN$7:$BZ$16,1+E41,0)-2,VLOOKUP('CEV-CEVE'!$E$10,$BN$7:$BZ$16,1+E41,0)),1,0)),0)","v":0},{"$f":"+IFERROR(IF(T41>VLOOKUP('CEV-CEVE'!$E$10,$BN$20:$BZ$29,1+E41,0),1,0),0)","v":0},null,null,null,null,"I",11.705107526881719,10.580208333333333,8.9006720430107542,6.6920833333333327,4.2209677419354836,2.5775000000000006,2.5388440860215051,2.8794354838709677,4.61208333333333,7.086290322580644,8.5343055555555569,10.206451612955647]
[null,null,null,null,null,null,null,null,null,null,null,null,null,null,null,null,null,null,null,null,null,null,null,null,null,null,null,null,null,null,null,null,null,null,null,null,null,null,null,null,null,null,null,null,null,null,null,null,null,null,null,null,null,null,null,null,null,10,"Caso Propuesto Con Clima",{"$f":"+IFERROR(IF(BF42=\"\",0,IF(T42<IF(OR(BF42<=$BP$3,BF42>=$BO$3),VLOOKUP('CEV-CEVE'!$E$10,$BN$7:$BZ$16,1+E42,0)-2,VLOOKUP('CEV-CEVE'!$E$10,$BN$7:$BZ$16,1+E42,0)),1,0)),0)","v":0},{"$f":"+IFERROR(IF(T42>VLOOKUP('CEV-CEVE'!$E$10,$BN$20:$BZ$29,1+E42,0),1,0),0)","v":0},null,null,null,null,"J",15.506451612903227,14.643154761904761,12.367338709677421,11.704861111111109,9.5416666666666679,7.141388888888887,8.4127688172043005,8.3638440860215049,10.798888888888888,11.30510752688172,13.661944444444444,13.220026881720429]
[null,null,null,null,null,null,null,null,null,null,null,null,null,null,null,null,null,null,null,null,null,null,null,null,null,null,null,null,null,null,null,null,null,null,null,null,null,null,null,null,null,null,null,null,null,null,null,null,null,null,null,null,null,null,null,null,null,11,"Caso Propuesto Con Clima",{"$f":"+IFERROR(IF(BF43=\"\",0,IF(T43<IF(OR(BF43<=$BP$3,BF43>=$BO$3),VLOOKUP('CEV-CEVE'!$E$10,$BN$7:$BZ$16,1+E43,0)-2,VLOOKUP('CEV-CEVE'!$E$10,$BN$7:$BZ$16,1+E43,0)),1,0)),0)","v":0},{"$f":"+IFERROR(IF(T43>VLOOKUP('CEV-CEVE'!$E$10,$BN$20:$BZ$29,1+E43,0),1,0),0)","v":0}]
[null,null,null,null,null,null,null,null,null,null,null,null,null,null,null,null,null,null,null,null,null,null,null,null,null,null,null,null,null,null,null,null,null,null,null,null,null,null,null,null,null,null,null,null,null,null,null,null,null,null,null,null,null,null,null,null,null,12,"Caso Propuesto Con Clima",{"$f":"+IFERROR(IF(BF44=\"\",0,IF(T44<IF(OR(BF44<=$BP$3,BF44>=$BO$3),VLOOKUP('CEV-CEVE'!$E$10,$BN$7:$BZ$16,1+E44,0)-2,VLOOKUP('CEV-CEVE'!$E$10,$BN$7:$BZ$16,1+E44,0)),1,0)),0)","v":0},{"$f":"+IFERROR(IF(T44>VLOOKUP('CEV-CEVE'!$E$10,$BN$20:$BZ$29,1+E44,0),1,0),0)","v":0}]
[null,null,null,null,null,null,null,null,null,null,null,null,null,null,null,null,null,null,null,null,null,null,null,null,null,null,null,null,null,null,null,null,null,null,null,null,null,null,null,null,null,null,null,null,null,null,null,null,null,null,null,null,null,null,null,null,null,13,"Caso Propuesto Con Clima",{"$f":"+IFERROR(IF(BF45=\"\",0,IF(T45<IF(OR(BF45<=$BP$3,BF45>=$BO$3),VLOOKUP('CEV-CEVE'!$E$10,$BN$7:$BZ$16,1+E45,0)-2,VLOOKUP('CEV-CEVE'!$E$10,$BN$7:$BZ$16,1+E45,0)),1,0)),0)","v":0},{"$f":"+IFERROR(IF(T45>VLOOKUP('CEV-CEVE'!$E$10,$BN$20:$BZ$29,1+E45,0),1,0),0)","v":0}]
[null,null,null,null,null,null,null,null,null,null,null,null,null,null,null,null,null,null,null,null,null,null,null,null,null,null,null,null,null,null,null,null,null,null,null,null,null,null,null,null,null,null,null,null,null,null,null,null,null,null,null,null,null,null,null,null,null,14,"Caso Propuesto Con Clima",{"$f":"+IFERROR(IF(BF46=\"\",0,IF(T46<IF(OR(BF46<=$BP$3,BF46>=$BO$3),VLOOKUP('CEV-CEVE'!$E$10,$BN$7:$BZ$16,1+E46,0)-2,VLOOKUP('CEV-CEVE'!$E$10,$BN$7:$BZ$16,1+E46,0)),1,0)),0)","v":0},{"$f":"+IFERROR(IF(T46>VLOOKUP('CEV-CEVE'!$E$10,$BN$20:$BZ$29,1+E46,0),1,0),0)","v":0}]
[null,null,null,null,null,null,null,null,null,null,null,null,null,null,null,null,null,null,null,null,null,null,null,null,null,null,null,null,null,null,null,null,null,null,null,null,null,null,null,null,null,null,null,null,null,null,null,null,null,null,null,null,null,null,null,null,null,15,"Caso Propuesto Con Clima",{"$f":"+IFERROR(IF(BF47=\"\",0,IF(T47<IF(OR(BF47<=$BP$3,BF47>=$BO$3),VLOOKUP('CEV-CEVE'!$E$10,$BN$7:$BZ$16,1+E47,0)-2,VLOOKUP('CEV-CEVE'!$E$10,$BN$7:$BZ$16,1+E47,0)),1,0)),0)","v":0},{"$f":"+IFERROR(IF(T47>VLOOKUP('CEV-CEVE'!$E$10,$BN$20:$BZ$29,1+E47,0),1,0),0)","v":0}]
[null,null,null,null,null,null,null,null,null,null,null,null,null,null,null,null,null,null,null,null,null,null,null,null,null,null,null,null,null,null,null,null,null,null,null,null,null,null,null,null,null,null,null,null,null,null,null,null,null,null,null,null,null,null,null,null,null,16,"Caso Propuesto Con Clima",{"$f":"+IFERROR(IF(BF48=\"\",0,IF(T48<IF(OR(BF48<=$BP$3,BF48>=$BO$3),VLOOKUP('CEV-CEVE'!$E$10,$BN$7:$BZ$16,1+E48,0)-2,VLOOKUP('CEV-CEVE'!$E$10,$BN$7:$BZ$16,1+E48,0)),1,0)),0)","v":0},{"$f":"+IFERROR(IF(T48>VLOOKUP('CEV-CEVE'!$E$10,$BN$20:$BZ$29,1+E48,0),1,0),0)","v":0}]
[null,null,null,null,null,null,null,null,null,null,null,null,null,null,null,null,null,null,null,null,null,null,null,null,null,null,null,null,null,null,null,null,null,null,null,null,null,null,null,null,null,null,null,null,null,null,null,null,null,null,null,null,null,null,null,null,null,17,"Caso Propuesto Con Clima",{"$f":"+IFERROR(IF(BF49=\"\",0,IF(T49<IF(OR(BF49<=$BP$3,BF49>=$BO$3),VLOOKUP('CEV-CEVE'!$E$10,$BN$7:$BZ$16,1+E49,0)-2,VLOOKUP('CEV-CEVE'!$E$10,$BN$7:$BZ$16,1+E49,0)),1,0)),0)","v":0},{"$f":"+IFERROR(IF(T49>VLOOKUP('CEV-CEVE'!$E$10,$BN$20:$BZ$29,1+E49,0),1,0),0)","v":0}]
[null,null,null,null,null,null,null,null,null,null,null,null,null,null,null,null,null,null,null,null,null,null,null,null,null,null,null,null,null,null,null,null,null,null,null,null,null,null,null,null,null,null,null,null,null,null,null,null,null,null,null,null,null,null,null,null,null,18,"Caso Propuesto Con Clima",{"$f":"+IFERROR(IF(BF50=\"\",0,IF(T50<IF(OR(BF50<=$BP$3,BF50>=$BO$3),VLOOKUP('CEV-CEVE'!$E$10,$BN$7:$BZ$16,1+E50,0)-2,VLOOKUP('CEV-CEVE'!$E$10,$BN$7:$BZ$16,1+E50,0)),1,0)),0)","v":0},{"$f":"+IFERROR(IF(T50>VLOOKUP('CEV-CEVE'!$E$10,$BN$20:$BZ$29,1+E50,0),1,0),0)","v":0}]
[null,null,null,null,null,null,null,null,null,null,null,null,null,null,null,null,null,null,null,null,null,null,null,null,null,null,null,null,null,null,null,null,null,null,null,null,null,null,null,null,null,null,null,null,null,null,null,null,null,null,null,null,null,null,null,null,null,19,"Caso Propuesto Con Clima",{"$f":"+IFERROR(IF(BF51=\"\",0,IF(T51<IF(OR(BF51<=$BP$3,BF51>=$BO$3),VLOOKUP('CEV-CEVE'!$E$10,$BN$7:$BZ$16,1+E51,0)-2,VLOOKUP('CEV-CEVE'!$E$10,$BN$7:$BZ$16,1+E51,0)),1,0)),0)","v":0},{"$f":"+IFERROR(IF(T51>VLOOKUP('CEV-CEVE'!$E$10,$BN$20:$BZ$29,1+E51,0),1,0),0)","v":0}]
[null,null,null,null,null,null,null,null,null,null,null,null,null,null,null,null,null,null,null,null,null,null,null,null,null,null,null,null,null,null,null,null,null,null,null,null,null,null,null,null,null,null,null,null,null,null,null,null,null,null,null,null,null,null,null,null,null,20,"Caso Propuesto Con Clima",{"$f":"+IFERROR(IF(BF52=\"\",0,IF(T52<IF(OR(BF52<=$BP$3,BF52>=$BO$3),VLOOKUP('CEV-CEVE'!$E$10,$BN$7:$BZ$16,1+E52,0)-2,VLOOKUP('CEV-CEVE'!$E$10,$BN$7:$BZ$16,1+E52,0)),1,0)),0)","v":0},{"$f":"+IFERROR(IF(T52>VLOOKUP('CEV-CEVE'!$E$10,$BN$20:$BZ$29,1+E52,0),1,0),0)","v":0}]
[null,null,null,null,null,null,null,null,null,null,null,null,null,null,null,null,null,null,null,null,null,null,null,null,null,null,null,null,null,null,null,null,null,null,null,null,null,null,null,null,null,null,null,null,null,null,null,null,null,null,null,null,null,null,null,null,null,21,"Caso Propuesto Con Clima",{"$f":"+IFERROR(IF(BF53=\"\",0,IF(T53<IF(OR(BF53<=$BP$3,BF53>=$BO$3),VLOOKUP('CEV-CEVE'!$E$10,$BN$7:$BZ$16,1+E53,0)-2,VLOOKUP('CEV-CEVE'!$E$10,$BN$7:$BZ$16,1+E53,0)),1,0)),0)","v":0},{"$f":"+IFERROR(IF(T53>VLOOKUP('CEV-CEVE'!$E$10,$BN$20:$BZ$29,1+E53,0),1,0),0)","v":0}]
[null,null,null,null,null,null,null,null,null,null,null,null,null,null,null,null,null,null,null,null,null,null,null,null,null,null,null,null,null,null,null,null,null,null,null,null,null,null,null,null,null,null,null,null,null,null,null,null,null,null,null,null,null,null,null,null,null,22,"Caso Propuesto Con Clima",{"$f":"+IFERROR(IF(BF54=\"\",0,IF(T54<IF(OR(BF54<=$BP$3,BF54>=$BO$3),VLOOKUP('CEV-CEVE'!$E$10,$BN$7:$BZ$16,1+E54,0)-2,VLOOKUP('CEV-CEVE'!$E$10,$BN$7:$BZ$16,1+E54,0)),1,0)),0)","v":0},{"$f":"+IFERROR(IF(T54>VLOOKUP('CEV-CEVE'!$E$10,$BN$20:$BZ$29,1+E54,0),1,0),0)","v":0}]
[null,null,null,null,null,null,null,null,null,null,null,null,null,null,null,null,null,null,null,null,null,null,null,null,null,null,null,null,null,null,null,null,null,null,null,null,null,null,null,null,null,null,null,null,null,null,null,null,null,null,null,null,null,null,null,null,null,23,"Caso Propuesto Con Clima",{"$f":"+IFERROR(IF(BF55=\"\",0,IF(T55<IF(OR(BF55<=$BP$3,BF55>=$BO$3),VLOOKUP('CEV-CEVE'!$E$10,$BN$7:$BZ$16,1+E55,0)-2,VLOOKUP('CEV-CEVE'!$E$10,$BN$7:$BZ$16,1+E55,0)),1,0)),0)","v":0},{"$f":"+IFERROR(IF(T55>VLOOKUP('CEV-CEVE'!$E$10,$BN$20:$BZ$29,1+E55,0),1,0),0)","v":0},null,null,null,null,"Temperatura media de confort"]
[null,null,null,null,null,null,null,null,null,null,null,null,null,null,null,null,null,null,null,null,null,null,null,null,null,null,null,null,null,null,null,null,null,null,null,null,null,null,null,null,null,null,null,null,null,null,null,null,null,null,null,null,null,null,null,null,null,null,"Caso Propuesto Con Clima",{"$f":"+IFERROR(IF(BF56=\"\",0,IF(T56<IF(OR(BF56<=$BP$3,BF56>=$BO$3),VLOOKUP('CEV-CEVE'!$E$10,$BN$7:$BZ$16,1+E56,0)-2,VLOOKUP('CEV-CEVE'!$E$10,$BN$7:$BZ$16,1+E56,0)),1,0)),0)","v":0},{"$f":"+IFERROR(IF(T56>VLOOKUP('CEV-CEVE'!$E$10,$BN$20:$BZ$29,1+E56,0),1,0),0)","v":0},null,null,null,null,"Zona","Enero","Febrero","Marzo","Abril","Mayo","Junio","Julio","Agosto","Septiembre","Octubre","Noviembre","Diciembre"]
[null,null,null,null,null,null,null,null,null,null,null,null,null,null,null,null,null,null,null,null,null,null,null,null,null,null,null,null,null,null,null,null,null,null,null,null,null,null,null,null,null,null,null,null,null,null,null,null,null,null,null,null,null,null,null,null,null,null,"Caso Propuesto Con Clima",{"$f":"+IFERROR(IF(BF57=\"\",0,IF(T57<IF(OR(BF57<=$BP$3,BF57>=$BO$3),VLOOKUP('CEV-CEVE'!$E$10,$BN$7:$BZ$16,1+E57,0)-2,VLOOKUP('CEV-CEVE'!$E$10,$BN$7:$BZ$16,1+E57,0)),1,0)),0)","v":0},{"$f":"+IFERROR(IF(T57>VLOOKUP('CEV-CEVE'!$E$10,$BN$20:$BZ$29,1+E57,0),1,0),0)","v":0},null,null,null,null,"A",{"$f":"BO7+(BO20-BO7)/2","v":24.21188306451613},{"$f":"BP7+(BP20-BP7)/2","v":24.148408482142855},23.902729838709675,23.535935416666668,23.218479838709676,22.93013333333333,22.751185483870966,22.759102822580644,22.956695833333335,23.212653225806449,23.557893749999998,23.925556451612902]
[null,null,null,null,null,null,null,null,null,null,null,null,null,null,null,null,null,null,null,null,null,null,null,null,null,null,null,null,null,null,null,null,null,null,null,null,null,null,null,null,null,null,null,null,null,null,null,null,null,null,null,null,null,null,null,null,null,0,"Caso Propuesto Con Clima",{"$f":"+IFERROR(IF(BF58=\"\",0,IF(T58<IF(OR(BF58<=$BP$3,BF58>=$BO$3),VLOOKUP('CEV-CEVE'!$E$10,$BN$7:$BZ$16,1+E58,0)-2,VLOOKUP('CEV-CEVE'!$E$10,$BN$7:$BZ$16,1+E58,0)),1,0)),0)","v":0},{"$f":"+IFERROR(IF(T58>VLOOKUP('CEV-CEVE'!$E$10,$BN$20:$BZ$29,1+E58,0),1,0),0)","v":0},null,null,null,null,"B",{"$f":"BO8+(BO21-BO8)/2","v":23.837677419354836},23.707964285714283,23.326614919354839,22.773131249999999,22.228298387096771,21.789787499999999,21.65972379032258,21.858342741935484,22.245352083333334,22.575050403225806,23.007766666666665,23.480643145161288]
[null,null,null,null,null,null,null,null,null,null,null,null,null,null,null,null,null,null,null,null,null,null,null,null,null,null,null,null,null,null,null,null,null,null,null,null,null,null,null,null,null,null,null,null,null,null,null,null,null,null,null,null,null,null,null,null,null,{"$f":"+BF58+1","v":1},"Caso Propuesto Con Clima",{"$f":"+IFERROR(IF(BF59=\"\",0,IF(T59<IF(OR(BF59<=$BP$3,BF59>=$BO$3),VLOOKUP('CEV-CEVE'!$E$10,$BN$7:$BZ$16,1+E59,0)-2,VLOOKUP('CEV-CEVE'!$E$10,$BN$7:$BZ$16,1+E59,0)),1,0)),0)","v":0},{"$f":"+IFERROR(IF(T59>VLOOKUP('CEV-CEVE'!$E$10,$BN$20:$BZ$29,1+E59,0),1,0),0)","v":0},null,null,null,null,"C",23.490102822580646,23.463930803571426,23.1595625,22.704529166666664,22.346167338709677,22.038270833333332,21.910302419354839,21.989235887096772,22.19923958333333,22.504068548387096,22.934631249999999,23.312151209814512]
[null,null,null,null,null,null,null,null,null,null,null,null,null,null,null,null,null,null,null,null,null,null,null,null,null,null,null,null,null,null,null,null,null,null,null,null,null,null,null,null,null,null,null,null,null,null,null,null,null,null,null,null,null,null,null,null,null,{"$f":"+BF59+1","v":2},"Caso Propuesto Con Clima",{"$f":"+IFERROR(IF(BF60=\"\",0,IF(T60<IF(OR(BF60<=$BP$3,BF60>=$BO$3),VLOOKUP('CEV-CEVE'!$E$10,$BN$7:$BZ$16,1+E60,0)-2,VLOOKUP('CEV-CEVE'!$E$10,$BN$7:$BZ$16,1+E60,0)),1,0)),0)","v":0},{"$f":"+IFERROR(IF(T60>VLOOKUP('CEV-CEVE'!$E$10,$BN$20:$BZ$29,1+E60,0),1,0),0)","v":0},null,null,null,null,"D",23.978887096774191,23.799680803571427,23.289633064516128,22.435291666666664,21.651909274193546,21.047135416666666,20.970983870967743,21.278217741935482,21.796693749999999,22.403576612903223,23.082283333333333,23.696981854998086]
[null,null,null,null,null,null,null,null,null,null,null,null,null,null,null,null,null,null,null,null,null,null,null,null,null,null,null,null,null,null,null,null,null,null,null,null,null,null,null,null,null,null,null,null,null,null,null,null,null,null,null,null,null,null,null,null,null,3,"Caso Propuesto Con Clima",{"$f":"+IFERROR(IF(BF61=\"\",0,IF(T61<IF(OR(BF61<=$BP$3,BF61>=$BO$3),VLOOKUP('CEV-CEVE'!$E$10,$BN$7:$BZ$16,1+E61,0)-2,VLOOKUP('CEV-CEVE'!$E$10,$BN$7:$BZ$16,1+E61,0)),1,0)),0)","v":0},{"$f":"+IFERROR(IF(T61>VLOOKUP('CEV-CEVE'!$E$10,$BN$20:$BZ$29,1+E61,0),1,0),0)","v":0},null,null,null,null,"E",23.185302419354837,23.05653794642857,22.624885080645161,21.98751875,21.696842741935484,21.196593749999998,20.532479838709676,21.090463709677419,21.454852083333332,21.885008064516128,22.526383333333332,23.032233871103465]
[null,null,null,null,null,null,null,null,null,null,null,null,null,null,null,null,null,null,null,null,null,null,null,null,null,null,null,null,null,null,null,null,null,null,null,null,null,null,null,null,null,null,null,null,null,null,null,null,null,null,null,null,null,null,null,null,null,4,"Caso Propuesto Con Clima",{"$f":"+IFERROR(IF(BF62=\"\",0,IF(T62<IF(OR(BF62<=$BP$3,BF62>=$BO$3),VLOOKUP('CEV-CEVE'!$E$10,$BN$7:$BZ$16,1+E62,0)-2,VLOOKUP('CEV-CEVE'!$E$10,$BN$7:$BZ$16,1+E62,0)),1,0)),0)","v":0},{"$f":"+IFERROR(IF(T62>VLOOKUP('CEV-CEVE'!$E$10,$BN$20:$BZ$29,1+E62,0),1,0),0)","v":0},null,null,null,null,"F",23.208883064516126,23.135049107142855,22.676536290322581,21.961168749999999,21.424054435483871,20.913437499999997,20.857227822580644,20.967659274193547,21.373145833333332,21.833391129032258,22.298229166666665,22.832689516251733]
[null,null,null,null,null,null,null,null,null,null,null,null,null,null,null,null,null,null,null,null,null,null,null,null,null,null,null,null,null,null,null,null,null,null,null,null,null,null,null,null,null,null,null,null,null,null,null,null,null,null,null,null,null,null,null,null,null,5,"Caso Propuesto Con Clima",{"$f":"+IFERROR(IF(BF63=\"\",0,IF(T63<IF(OR(BF63<=$BP$3,BF63>=$BO$3),VLOOKUP('CEV-CEVE'!$E$10,$BN$7:$BZ$16,1+E63,0)-2,VLOOKUP('CEV-CEVE'!$E$10,$BN$7:$BZ$16,1+E63,0)),1,0)),0)","v":0},{"$f":"+IFERROR(IF(T63>VLOOKUP('CEV-CEVE'!$E$10,$BN$20:$BZ$29,1+E63,0),1,0),0)","v":0},null,null,null,null,"G",23.106643145161289,22.86213839285714,22.487548387096773,21.76630625,21.29103629032258,20.771629166666663,20.660973790322579,20.82161693548387,21.239589583333331,21.733790322580642,22.396368749999997,22.958955645161289]
[null,null,null,null,null,null,null,null,null,null,null,null,null,null,null,null,null,null,null,null,null,null,null,null,null,null,null,null,null,null,null,null,null,null,null,null,null,null,null,null,null,null,null,null,null,null,null,null,null,null,null,null,null,null,null,null,null,6,"Caso Propuesto Con Clima",{"$f":"+IFERROR(IF(BF64=\"\",0,IF(T64<IF(OR(BF64<=$BP$3,BF64>=$BO$3),VLOOKUP('CEV-CEVE'!$E$10,$BN$7:$BZ$16,1+E64,0)-2,VLOOKUP('CEV-CEVE'!$E$10,$BN$7:$BZ$16,1+E64,0)),1,0)),0)","v":0},{"$f":"+IFERROR(IF(T64>VLOOKUP('CEV-CEVE'!$E$10,$BN$20:$BZ$29,1+E64,0),1,0),0)","v":0},null,null,null,null,"H",22.855721774193547,22.61100892857143,22.25705443548387,21.826974999999997,20.823707661290321,19.953752083333331,19.985737903225804,20.00472580645161,20.483337499999998,21.105372983870964,21.719095833333331,22.471405241935482]
[null,null,null,null,null,null,null,null,null,null,null,null,null,null,null,null,null,null,null,null,null,null,null,null,null,null,null,null,null,null,null,null,null,null,null,null,null,null,null,null,null,null,null,null,null,null,null,null,null,null,null,null,null,null,null,null,null,7,"Caso Propuesto Con Clima",{"$f":"+IFERROR(IF(BF65=\"\",0,IF(T65<IF(OR(BF65<=$BP$3,BF65>=$BO$3),VLOOKUP('CEV-CEVE'!$E$10,$BN$7:$BZ$16,1+E65,0)-2,VLOOKUP('CEV-CEVE'!$E$10,$BN$7:$BZ$16,1+E65,0)),1,0)),0)","v":0},{"$f":"+IFERROR(IF(T65>VLOOKUP('CEV-CEVE'!$E$10,$BN$20:$BZ$29,1+E65,0),1,0),0)","v":0},null,null,null,null,"I",21.884802419354838,21.597953125,21.169671370967741,20.606481249999998,19.976346774193548,19.5572625,19.547405241935483,19.634256048387094,20.076081249999998,20.707004032258062,21.076247916666667,21.50264516130369]
[null,null,null,null,null,null,null,null,null,null,null,null,null,null,null,null,null,null,null,null,null,null,null,null,null,null,null,null,null,null,null,null,null,null,null,null,null,null,null,null,null,null,null,null,null,null,null,null,null,null,null,null,null,null,null,null,null,8,"Caso Propuesto Con Clima",{"$f":"+IFERROR(IF(BF66=\"\",0,IF(T66<IF(OR(BF66<=$BP$3,BF66>=$BO$3),VLOOKUP('CEV-CEVE'!$E$10,$BN$7:$BZ$16,1+E66,0)-2,VLOOKUP('CEV-CEVE'!$E$10,$BN$7:$BZ$16,1+E66,0)),1,0)),0)","v":0},{"$f":"+IFERROR(IF(T66>VLOOKUP('CEV-CEVE'!$E$10,$BN$20:$BZ$29,1+E66,0),1,0),0)","v":0},null,null,null,null,"J",22.854145161290322,22.634004464285713,22.053671370967741,21.884739583333332,21.333124999999999,20.721054166666665,21.045256048387095,21.032780241935484,21.653716666666664,21.782802419354837,22.38379583333333,22.271106854838706]
[null,null,null,null,null,null,null,null,null,null,null,null,null,null,null,null,null,null,null,null,null,null,null,null,null,null,null,null,null,null,null,null,null,null,null,null,null,null,null,null,null,null,null,null,null,null,null,null,null,null,null,null,null,null,null,null,null,9,"Caso Propuesto Con Clima",{"$f":"+IFERROR(IF(BF67=\"\",0,IF(T67<IF(OR(BF67<=$BP$3,BF67>=$BO$3),VLOOKUP('CEV-CEVE'!$E$10,$BN$7:$BZ$16,1+E67,0)-2,VLOOKUP('CEV-CEVE'!$E$10,$BN$7:$BZ$16,1+E67,0)),1,0)),0)","v":0},{"$f":"+IFERROR(IF(T67>VLOOKUP('CEV-CEVE'!$E$10,$BN$20:$BZ$29,1+E67,0),1,0),0)","v":0}]
[null,null,null,null,null,null,null,null,null,null,null,null,null,null,null,null,null,null,null,null,null,null,null,null,null,null,null,null,null,null,null,null,null,null,null,null,null,null,null,null,null,null,null,null,null,null,null,null,null,null,null,null,null,null,null,null,null,10,"Caso Propuesto Con Clima",{"$f":"+IFERROR(IF(BF68=\"\",0,IF(T68<IF(OR(BF68<=$BP$3,BF68>=$BO$3),VLOOKUP('CEV-CEVE'!$E$10,$BN$7:$BZ$16,1+E68,0)-2,VLOOKUP('CEV-CEVE'!$E$10,$BN$7:$BZ$16,1+E68,0)),1,0)),0)","v":0},{"$f":"+IFERROR(IF(T68>VLOOKUP('CEV-CEVE'!$E$10,$BN$20:$BZ$29,1+E68,0),1,0),0)","v":0}]
[null,null,null,null,null,null,null,null,null,null,null,null,null,null,null,null,null,null,null,null,null,null,null,null,null,null,null,null,null,null,null,null,null,null,null,null,null,null,null,null,null,null,null,null,null,null,null,null,null,null,null,null,null,null,null,null,null,11,"Caso Propuesto Con Clima",{"$f":"+IFERROR(IF(BF69=\"\",0,IF(T69<IF(OR(BF69<=$BP$3,BF69>=$BO$3),VLOOKUP('CEV-CEVE'!$E$10,$BN$7:$BZ$16,1+E69,0)-2,VLOOKUP('CEV-CEVE'!$E$10,$BN$7:$BZ$16,1+E69,0)),1,0)),0)","v":0},{"$f":"+IFERROR(IF(T69>VLOOKUP('CEV-CEVE'!$E$10,$BN$20:$BZ$29,1+E69,0),1,0),0)","v":0}]
[null,null,null,null,null,null,null,null,null,null,null,null,null,null,null,null,null,null,null,null,null,null,null,null,null,null,null,null,null,null,null,null,null,null,null,null,null,null,null,null,null,null,null,null,null,null,null,null,null,null,null,null,null,null,null,null,null,12,"Caso Propuesto Con Clima",{"$f":"+IFERROR(IF(BF70=\"\",0,IF(T70<IF(OR(BF70<=$BP$3,BF70>=$BO$3),VLOOKUP('CEV-CEVE'!$E$10,$BN$7:$BZ$16,1+E70,0)-2,VLOOKUP('CEV-CEVE'!$E$10,$BN$7:$BZ$16,1+E70,0)),1,0)),0)","v":0},{"$f":"+IFERROR(IF(T70>VLOOKUP('CEV-CEVE'!$E$10,$BN$20:$BZ$29,1+E70,0),1,0),0)","v":0},null,null,null,null,"Temperatura media de confort","Enero","Febrero","Marzo","Abril","Mayo","Junio","Julio","Agosto","Septiembre","Octubre","Noviembre","Diciembre"]
[null,null,null,null,null,null,null,null,null,null,null,null,null,null,null,null,null,null,null,null,null,null,null,null,null,null,null,null,null,null,null,null,null,null,null,null,null,null,null,null,null,null,null,null,null,null,null,null,null,null,null,null,null,null,null,null,null,13,"Caso Propuesto Con Clima",{"$f":"+IFERROR(IF(BF71=\"\",0,IF(T71<IF(OR(BF71<=$BP$3,BF71>=$BO$3),VLOOKUP('CEV-CEVE'!$E$10,$BN$7:$BZ$16,1+E71,0)-2,VLOOKUP('CEV-CEVE'!$E$10,$BN$7:$BZ$16,1+E71,0)),1,0)),0)","v":0},{"$f":"+IFERROR(IF(T71>VLOOKUP('CEV-CEVE'!$E$10,$BN$20:$BZ$29,1+E71,0),1,0),0)","v":0},null,null,null,null,{"$f":"'CEV-CEVE'!E10","v":0},{"$f":"LOOKUP($BN$71,$BN$57:$BN$66,BO57:BO66)","v":{"$error":"#N/A"}},{"$f":"LOOKUP($BN$71,$BN$57:$BN$66,BP57:BP66)","v":{"$error":"#N/A"}},{"$error":"#N/A"},{"$error":"#N/A"},{"$error":"#N/A"},{"$error":"#N/A"},{"$error":"#N/A"},{"$error":"#N/A"},{"$error":"#N/A"},{"$error":"#N/A"},{"$error":"#N/A"},{"$error":"#N/A"}]
[null,null,null,null,null,null,null,null,null,null,null,null,null,null,null,null,null,null,null,null,null,null,null,null,null,null,null,null,null,null,null,null,null,null,null,null,null,null,null,null,null,null,null,null,null,null,null,null,null,null,null,null,null,null,null,null,null,14,"Caso Propuesto Con Clima",{"$f":"+IFERROR(IF(BF72=\"\",0,IF(T72<IF(OR(BF72<=$BP$3,BF72>=$BO$3),VLOOKUP('CEV-CEVE'!$E$10,$BN$7:$BZ$16,1+E72,0)-2,VLOOKUP('CEV-CEVE'!$E$10,$BN$7:$BZ$16,1+E72,0)),1,0)),0)","v":0},{"$f":"+IFERROR(IF(T72>VLOOKUP('CEV-CEVE'!$E$10,$BN$20:$BZ$29,1+E72,0),1,0),0)","v":0},null,null,null,null,0,{"$f":"BO71-1","v":{"$error":"#N/A"}},null,null,{"$f":"BR71-1","v":{"$error":"#N/A"}},null,null,{"$f":"BU71-1","v":{"$error":"#N/A"}},null,null,{"$f":"BX71-1","v":{"$error":"#N/A"}}]
[null,null,null,null,null,null,null,null,null,null,null,null,null,null,null,null,null,null,null,null,null,null,null,null,null,null,null,null,null,null,null,null,null,null,null,null,null,null,null,null,null,null,null,null,null,null,null,null,null,null,null,null,null,null,null,null,null,15,"Caso Propuesto Con Clima",{"$f":"+IFERROR(IF(BF73=\"\",0,IF(T73<IF(OR(BF73<=$BP$3,BF73>=$BO$3),VLOOKUP('CEV-CEVE'!$E$10,$BN$7:$BZ$16,1+E73,0)-2,VLOOKUP('CEV-CEVE'!$E$10,$BN$7:$BZ$16,1+E73,0)),1,0)),0)","v":0},{"$f":"+IFERROR(IF(T73>VLOOKUP('CEV-CEVE'!$E$10,$BN$20:$BZ$29,1+E73,0),1,0),0)","v":0},null,null,null,null,1,{"$f":"BO72","v":{"$error":"#N/A"}},null,null,{"$f":"BR72","v":{"$error":"#N/A"}},null,null,{"$f":"BU72","v":{"$error":"#N/A"}},null,null,{"$f":"BX72","v":{"$error":"#N/A"}}]
[null,null,null,null,null,null,null,null,null,null,null,null,null,null,null,null,null,null,null,null,null,null,null,null,null,null,null,null,null,null,null,null,null,null,null,null,null,null,null,null,null,null,null,null,null,null,null,null,null,null,null,null,null,null,null,null,null,16,"Caso Propuesto Con Clima",{"$f":"+IFERROR(IF(BF74=\"\",0,IF(T74<IF(OR(BF74<=$BP$3,BF74>=$BO$3),VLOOKUP('CEV-CEVE'!$E$10,$BN$7:$BZ$16,1+E74,0)-2,VLOOKUP('CEV-CEVE'!$E$10,$BN$7:$BZ$16,1+E74,0)),1,0)),0)","v":0},{"$f":"+IFERROR(IF(T74>VLOOKUP('CEV-CEVE'!$E$10,$BN$20:$BZ$29,1+E74,0),1,0),0)","v":0},null,null,null,null,2,{"$error":"#N/A"},null,null,{"$f":"BR73","v":{"$error":"#N/A"}},null,null,{"$f":"BU73","v":{"$error":"#N/A"}},null,null,{"$f":"BX73","v":{"$error":"#N/A"}}]
[null,null,null,null,null,null,null,null,null,null,null,null,null,null,null,null,null,null,null,null,null,null,null,null,null,null,null,null,null,null,null,null,null,null,null,null,null,null,null,null,null,null,null,null,null,null,null,null,null,null,null,null,null,null,null,null,null,17,"Caso Propuesto Con Clima",{"$f":"+IFERROR(IF(BF75=\"\",0,IF(T75<IF(OR(BF75<=$BP$3,BF75>=$BO$3),VLOOKUP('CEV-CEVE'!$E$10,$BN$7:$BZ$16,1+E75,0)-2,VLOOKUP('CEV-CEVE'!$E$10,$BN$7:$BZ$16,1+E75,0)),1,0)),0)","v":0},{"$f":"+IFERROR(IF(T75>VLOOKUP('CEV-CEVE'!$E$10,$BN$20:$BZ$29,1+E75,0),1,0),0)","v":0},null,null,null,null,3,{"$error":"#N/A"},null,null,{"$f":"BR74","v":{"$error":"#N/A"}},null,null,{"$f":"BU74","v":{"$error":"#N/A"}},null,null,{"$f":"BX74","v":{"$error":"#N/A"}}]
[null,null,null,null,null,null,null,null,null,null,null,null,null,null,null,null,null,null,null,null,null,null,null,null,null,null,null,null,null,null,null,null,null,null,null,null,null,null,null,null,null,null,null,null,null,null,null,null,null,null,null,null,null,null,null,null,null,18,"Caso Propuesto Con Clima",{"$f":"+IFERROR(IF(BF76=\"\",0,IF(T76<IF(OR(BF76<=$BP$3,BF76>=$BO$3),VLOOKUP('CEV-CEVE'!$E$10,$BN$7:$BZ$16,1+E76,0)-2,VLOOKUP('CEV-CEVE'!$E$10,$BN$7:$BZ$16,1+E76,0)),1,0)),0)","v":0},{"$f":"+IFERROR(IF(T76>VLOOKUP('CEV-CEVE'!$E$10,$BN$20:$BZ$29,1+E76,0),1,0),0)","v":0},null,null,null,null,4,{"$error":"#N/A"},null,null,{"$f":"BR75","v":{"$error":"#N/A"}},null,null,{"$f":"BU75","v":{"$error":"#N/A"}},null,null,{"$f":"BX75","v":{"$error":"#N/A"}}]
[null,null,null,null,null,null,null,null,null,null,null,null,null,null,null,null,null,null,null,null,null,null,null,null,null,null,null,null,null,null,null,null,null,null,null,null,null,null,null,null,null,null,null,null,null,null,null,null,null,null,null,null,null,null,null,null,null,19,"Caso Propuesto Con Clima",{"$f":"+IFERROR(IF(BF77=\"\",0,IF(T77<IF(OR(BF77<=$BP$3,BF77>=$BO$3),VLOOKUP('CEV-CEVE'!$E$10,$BN$7:$BZ$16,1+E77,0)-2,VLOOKUP('CEV-CEVE'!$E$10,$BN$7:$BZ$16,1+E77,0)),1,0)),0)","v":0},{"$f":"+IFERROR(IF(T77>VLOOKUP('CEV-CEVE'!$E$10,$BN$20:$BZ$29,1+E77,0),1,0),0)","v":0},null,null,null,null,5,{"$error":"#N/A"},null,null,{"$f":"BR76","v":{"$error":"#N/A"}},null,null,{"$f":"BU76","v":{"$error":"#N/A"}},null,null,{"$f":"BX76","v":{"$error":"#N/A"}}]
[null,null,null,null,null,null,null,null,null,null,null,null,null,null,null,null,null,null,null,null,null,null,null,null,null,null,null,null,null,null,null,null,null,null,null,null,null,null,null,null,null,null,null,null,null,null,null,null,null,null,null,null,null,null,null,null,null,20,"Caso Propuesto Con Clima",{"$f":"+IFERROR(IF(BF78=\"\",0,IF(T78<IF(OR(BF78<=$BP$3,BF78>=$BO$3),VLOOKUP('CEV-CEVE'!$E$10,$BN$7:$BZ$16,1+E78,0)-2,VLOOKUP('CEV-CEVE'!$E$10,$BN$7:$BZ$16,1+E78,0)),1,0)),0)","v":0},{"$f":"+IFERROR(IF(T78>VLOOKUP('CEV-CEVE'!$E$10,$BN$20:$BZ$29,1+E78,0),1,0),0)","v":0},null,null,null,null,6,{"$error":"#N/A"},null,null,{"$f":"BR77","v":{"$error":"#N/A"}},null,null,{"$f":"BU77","v":{"$error":"#N/A"}},null,null,{"$f":"BX77","v":{"$error":"#N/A"}}]
[null,null,null,null,null,null,null,null,null,null,null,null,null,null,null,null,null,null,null,null,null,null,null,null,null,null,null,null,null,null,null,null,null,null,null,null,null,null,null,null,null,null,null,null,null,null,null,null,null,null,null,null,null,null,null,null,null,21,"Caso Propuesto Con Clima",{"$f":"+IFERROR(IF(BF79=\"\",0,IF(T79<IF(OR(BF79<=$BP$3,BF79>=$BO$3),VLOOKUP('CEV-CEVE'!$E$10,$BN$7:$BZ$16,1+E79,0)-2,VLOOKUP('CEV-CEVE'!$E$10,$BN$7:$BZ$16,1+E79,0)),1,0)),0)","v":0},{"$f":"+IFERROR(IF(T79>VLOOKUP('CEV-CEVE'!$E$10,$BN$20:$BZ$29,1+E79,0),1,0),0)","v":0},null,null,null,null,7,{"$f":"BO71","v":{"$error":"#N/A"}},null,null,{"$f":"BR71","v":{"$error":"#N/A"}},null,null,{"$f":"BU71","v":{"$error":"#N/A"}},null,null,{"$f":"BX71","v":{"$error":"#N/A"}}]
[null,null,null,null,null,null,null,null,null,null,null,null,null,null,null,null,null,null,null,null,null,null,null,null,null,null,null,null,null,null,null,null,null,null,null,null,null,null,null,null,null,null,null,null,null,null,null,null,null,null,null,null,null,null,null,null,null,22,"Caso Propuesto Con Clima",{"$f":"+IFERROR(IF(BF80=\"\",0,IF(T80<IF(OR(BF80<=$BP$3,BF80>=$BO$3),VLOOKUP('CEV-CEVE'!$E$10,$BN$7:$BZ$16,1+E80,0)-2,VLOOKUP('CEV-CEVE'!$E$10,$BN$7:$BZ$16,1+E80,0)),1,0)),0)","v":0},{"$f":"+IFERROR(IF(T80>VLOOKUP('CEV-CEVE'!$E$10,$BN$20:$BZ$29,1+E80,0),1,0),0)","v":0},null,null,null,null,8,{"$error":"#N/A"},null,null,{"$f":"BR79","v":{"$error":"#N/A"}},null,null,{"$f":"BU79","v":{"$error":"#N/A"}},null,null,{"$f":"BX79","v":{"$error":"#N/A"}}]
[null,null,null,null,null,null,null,null,null,null,null,null,null,null,null,null,null,null,null,null,null,null,null,null,null,null,null,null,null,null,null,null,null,null,null,null,null,null,null,null,null,null,null,null,null,null,null,null,null,null,null,null,null,null,null,null,null,23,"Caso Propuesto Con Clima",{"$f":"+IFERROR(IF(BF81=\"\",0,IF(T81<IF(OR(BF81<=$BP$3,BF81>=$BO$3),VLOOKUP('CEV-CEVE'!$E$10,$BN$7:$BZ$16,1+E81,0)-2,VLOOKUP('CEV-CEVE'!$E$10,$BN$7:$BZ$16,1+E81,0)),1,0)),0)","v":0},{"$f":"+IFERROR(IF(T81>VLOOKUP('CEV-CEVE'!$E$10,$BN$20:$BZ$29,1+E81,0),1,0),0)","v":0},null,null,null,null,9,{"$error":"#N/A"},null,null,{"$f":"BR80","v":{"$error":"#N/A"}},null,null,{"$f":"BU80","v":{"$error":"#N/A"}},null,null,{"$f":"BX80","v":{"$error":"#N/A"}}]
[null,null,null,null,null,null,null,null,null,null,null,null,null,null,null,null,null,null,null,null,null,null,null,null,null,null,null,null,null,null,null,null,null,null,null,null,null,null,null,null,null,null,null,null,null,null,null,null,null,null,null,null,null,null,null,null,null,null,"Caso Propuesto Con Clima",{"$f":"+IFERROR(IF(BF82=\"\",0,IF(T82<IF(OR(BF82<=$BP$3,BF82>=$BO$3),VLOOKUP('CEV-CEVE'!$E$10,$BN$7:$BZ$16,1+E82,0)-2,VLOOKUP('CEV-CEVE'!$E$10,$BN$7:$BZ$16,1+E82,0)),1,0)),0)","v":0},{"$f":"+IFERROR(IF(T82>VLOOKUP('CEV-CEVE'!$E$10,$BN$20:$BZ$29,1+E82,0),1,0),0)","v":0},null,null,null,null,10,{"$error":"#N/A"},null,null,{"$f":"BR81","v":{"$error":"#N/A"}},null,null,{"$f":"BU81","v":{"$error":"#N/A"}},null,null,{"$f":"BX81","v":{"$error":"#N/A"}}]
[null,null,null,null,null,null,null,null,null,null,null,null,null,null,null,null,null,null,null,null,null,null,null,null,null,null,null,null,null,null,null,null,null,null,null,null,null,null,null,null,null,null,null,null,null,null,null,null,null,null,null,null,null,null,null,null,null,null,"Caso Propuesto Con Clima",{"$f":"+IFERROR(IF(BF83=\"\",0,IF(T83<IF(OR(BF83<=$BP$3,BF83>=$BO$3),VLOOKUP('CEV-CEVE'!$E$10,$BN$7:$BZ$16,1+E83,0)-2,VLOOKUP('CEV-CEVE'!$E$10,$BN$7:$BZ$16,1+E83,0)),1,0)),0)","v":0},{"$f":"+IFERROR(IF(T83>VLOOKUP('CEV-CEVE'!$E$10,$BN$20:$BZ$29,1+E83,0),1,0),0)","v":0},null,null,null,null,11,{"$error":"#N/A"},null,null,{"$f":"BR82","v":{"$error":"#N/A"}},null,null,{"$f":"BU82","v":{"$error":"#N/A"}},null,null,{"$f":"BX82","v":{"$error":"#N/A"}}]
[null,null,null,null,null,null,null,null,null,null,null,null,null,null,null,null,null,null,null,null,null,null,null,null,null,null,null,null,null,null,null,null,null,null,null,null,null,null,null,null,null,null,null,null,null,null,null,null,null,null,null,null,null,null,null,null,null,0,"Caso Propuesto Con Clima",{"$f":"+IFERROR(IF(BF84=\"\",0,IF(T84<IF(OR(BF84<=$BP$3,BF84>=$BO$3),VLOOKUP('CEV-CEVE'!$E$10,$BN$7:$BZ$16,1+E84,0)-2,VLOOKUP('CEV-CEVE'!$E$10,$BN$7:$BZ$16,1+E84,0)),1,0)),0)","v":0},{"$f":"+IFERROR(IF(T84>VLOOKUP('CEV-CEVE'!$E$10,$BN$20:$BZ$29,1+E84,0),1,0),0)","v":0},null,null,null,null,12,{"$error":"#N/A"},null,null,{"$f":"BR83","v":{"$error":"#N/A"}},null,null,{"$f":"BU83","v":{"$error":"#N/A"}},null,null,{"$f":"BX83","v":{"$error":"#N/A"}}]
[null,null,null,null,null,null,null,null,null,null,null,null,null,null,null,null,null,null,null,null,null,null,null,null,null,null,null,null,null,null,null,null,null,null,null,null,null,null,null,null,null,null,null,null,null,null,null,null,null,null,null,null,null,null,null,null,null,{"$f":"+BF84+1","v":1},"Caso Propuesto Con Clima",{"$f":"+IFERROR(IF(BF85=\"\",0,IF(T85<IF(OR(BF85<=$BP$3,BF85>=$BO$3),VLOOKUP('CEV-CEVE'!$E$10,$BN$7:$BZ$16,1+E85,0)-2,VLOOKUP('CEV-CEVE'!$E$10,$BN$7:$BZ$16,1+E85,0)),1,0)),0)","v":0},{"$f":"+IFERROR(IF(T85>VLOOKUP('CEV-CEVE'!$E$10,$BN$20:$BZ$29,1+E85,0),1,0),0)","v":0},null,null,null,null,13,{"$error":"#N/A"},null,null,{"$f":"BR84","v":{"$error":"#N/A"}},null,null,{"$f":"BU84","v":{"$error":"#N/A"}},null,null,{"$f":"BX84","v":{"$error":"#N/A"}}]
[null,null,null,null,null,null,null,null,null,null,null,null,null,null,null,null,null,null,null,null,null,null,null,null,null,null,null,null,null,null,null,null,null,null,null,null,null,null,null,null,null,null,null,null,null,null,null,null,null,null,null,null,null,null,null,null,null,{"$f":"+BF85+1","v":2},"Caso Propuesto Con Clima",{"$f":"+IFERROR(IF(BF86=\"\",0,IF(T86<IF(OR(BF86<=$BP$3,BF86>=$BO$3),VLOOKUP('CEV-CEVE'!$E$10,$BN$7:$BZ$16,1+E86,0)-2,VLOOKUP('CEV-CEVE'!$E$10,$BN$7:$BZ$16,1+E86,0)),1,0)),0)","v":0},{"$f":"+IFERROR(IF(T86>VLOOKUP('CEV-CEVE'!$E$10,$BN$20:$BZ$29,1+E86,0),1,0),0)","v":0},null,null,null,null,14,{"$error":"#N/A"},null,null,{"$f":"BR85","v":{"$error":"#N/A"}},null,null,{"$f":"BU85","v":{"$error":"#N/A"}},null,null,{"$f":"BX85","v":{"$error":"#N/A"}}]
[null,null,null,null,null,null,null,null,null,null,null,null,null,null,null,null,null,null,null,null,null,null,null,null,null,null,null,null,null,null,null,null,null,null,null,null,null,null,null,null,null,null,null,null,null,null,null,null,null,null,null,null,null,null,null,null,null,3,"Caso Propuesto Con Clima",{"$f":"+IFERROR(IF(BF87=\"\",0,IF(T87<IF(OR(BF87<=$BP$3,BF87>=$BO$3),VLOOKUP('CEV-CEVE'!$E$10,$BN$7:$BZ$16,1+E87,0)-2,VLOOKUP('CEV-CEVE'!$E$10,$BN$7:$BZ$16,1+E87,0)),1,0)),0)","v":0},{"$f":"+IFERROR(IF(T87>VLOOKUP('CEV-CEVE'!$E$10,$BN$20:$BZ$29,1+E87,0),1,0),0)","v":0},null,null,null,null,15,{"$error":"#N/A"},null,null,{"$f":"BR86","v":{"$error":"#N/A"}},null,null,{"$f":"BU86","v":{"$error":"#N/A"}},null,null,{"$f":"BX86","v":{"$error":"#N/A"}}]
[null,null,null,null,null,null,null,null,null,null,null,null,null,null,null,null,null,null,null,null,null,null,null,null,null,null,null,null,null,null,null,null,null,null,null,null,null,null,null,null,null,null,null,null,null,null,null,null,null,null,null,null,null,null,null,null,null,4,"Caso Propuesto Con Clima",{"$f":"+IFERROR(IF(BF88=\"\",0,IF(T88<IF(OR(BF88<=$BP$3,BF88>=$BO$3),VLOOKUP('CEV-CEVE'!$E$10,$BN$7:$BZ$16,1+E88,0)-2,VLOOKUP('CEV-CEVE'!$E$10,$BN$7:$BZ$16,1+E88,0)),1,0)),0)","v":0},{"$f":"+IFERROR(IF(T88>VLOOKUP('CEV-CEVE'!$E$10,$BN$20:$BZ$29,1+E88,0),1,0),0)","v":0},null,null,null,null,16,{"$error":"#N/A"},null,null,{"$f":"BR87","v":{"$error":"#N/A"}},null,null,{"$f":"BU87","v":{"$error":"#N/A"}},null,null,{"$f":"BX87","v":{"$error":"#N/A"}}]
[null,null,null,null,null,null,null,null,null,null,null,null,null,null,null,null,null,null,null,null,null,null,null,null,null,null,null,null,null,null,null,null,null,null,null,null,null,null,null,null,null,null,null,null,null,null,null,null,null,null,null,null,null,null,null,null,null,5,"Caso Propuesto Con Clima",{"$f":"+IFERROR(IF(BF89=\"\",0,IF(T89<IF(OR(BF89<=$BP$3,BF89>=$BO$3),VLOOKUP('CEV-CEVE'!$E$10,$BN$7:$BZ$16,1+E89,0)-2,VLOOKUP('CEV-CEVE'!$E$10,$BN$7:$BZ$16,1+E89,0)),1,0)),0)","v":0},{"$f":"+IFERROR(IF(T89>VLOOKUP('CEV-CEVE'!$E$10,$BN$20:$BZ$29,1+E89,0),1,0),0)","v":0},null,null,null,null,17,{"$error":"#N/A"},null,null,{"$f":"BR88","v":{"$error":"#N/A"}},null,null,{"$f":"BU88","v":{"$error":"#N/A"}},null,null,{"$f":"BX88","v":{"$error":"#N/A"}}]
[null,null,null,null,null,null,null,null,null,null,null,null,null,null,null,null,null,null,null,null,null,null,null,null,null,null,null,null,null,null,null,null,null,null,null,null,null,null,null,null,null,null,null,null,null,null,null,null,null,null,null,null,null,null,null,null,null,6,"Caso Propuesto Con Clima",{"$f":"+IFERROR(IF(BF90=\"\",0,IF(T90<IF(OR(BF90<=$BP$3,BF90>=$BO$3),VLOOKUP('CEV-CEVE'!$E$10,$BN$7:$BZ$16,1+E90,0)-2,VLOOKUP('CEV-CEVE'!$E$10,$BN$7:$BZ$16,1+E90,0)),1,0)),0)","v":0},{"$f":"+IFERROR(IF(T90>VLOOKUP('CEV-CEVE'!$E$10,$BN$20:$BZ$29,1+E90,0),1,0),0)","v":0},null,null,null,null,18,{"$error":"#N/A"},null,null,{"$f":"BR89","v":{"$error":"#N/A"}},null,null,{"$f":"BU89","v":{"$error":"#N/A"}},null,null,{"$f":"BX89","v":{"$error":"#N/A"}}]
[null,null,null,null,null,null,null,null,null,null,null,null,null,null,null,null,null,null,null,null,null,null,null,null,null,null,null,null,null,null,null,null,null,null,null,null,null,null,null,null,null,null,null,null,null,null,null,null,null,null,null,null,null,null,null,null,null,7,"Caso Propuesto Con Clima",{"$f":"+IFERROR(IF(BF91=\"\",0,IF(T91<IF(OR(BF91<=$BP$3,BF91>=$BO$3),VLOOKUP('CEV-CEVE'!$E$10,$BN$7:$BZ$16,1+E91,0)-2,VLOOKUP('CEV-CEVE'!$E$10,$BN$7:$BZ$16,1+E91,0)),1,0)),0)","v":0},{"$f":"+IFERROR(IF(T91>VLOOKUP('CEV-CEVE'!$E$10,$BN$20:$BZ$29,1+E91,0),1,0),0)","v":0},null,null,null,null,19,{"$error":"#N/A"},null,null,{"$f":"BR90","v":{"$error":"#N/A"}},null,null,{"$f":"BU90","v":{"$error":"#N/A"}},null,null,{"$f":"BX90","v":{"$error":"#N/A"}}]
[null,null,null,null,null,null,null,null,null,null,null,null,null,null,null,null,null,null,null,null,null,null,null,null,null,null,null,null,null,null,null,null,null,null,null,null,null,null,null,null,null,null,null,null,null,null,null,null,null,null,null,null,null,null,null,null,null,8,"Caso Propuesto Con Clima",{"$f":"+IFERROR(IF(BF92=\"\",0,IF(T92<IF(OR(BF92<=$BP$3,BF92>=$BO$3),VLOOKUP('CEV-CEVE'!$E$10,$BN$7:$BZ$16,1+E92,0)-2,VLOOKUP('CEV-CEVE'!$E$10,$BN$7:$BZ$16,1+E92,0)),1,0)),0)","v":0},{"$f":"+IFERROR(IF(T92>VLOOKUP('CEV-CEVE'!$E$10,$BN$20:$BZ$29,1+E92,0),1,0),0)","v":0},null,null,null,null,20,{"$error":"#N/A"},null,null,{"$f":"BR91","v":{"$error":"#N/A"}},null,null,{"$f":"BU91","v":{"$error":"#N/A"}},null,null,{"$f":"BX91","v":{"$error":"#N/A"}}]
[null,null,null,null,null,null,null,null,null,null,null,null,null,null,null,null,null,null,null,null,null,null,null,null,null,null,null,null,null,null,null,null,null,null,null,null,null,null,null,null,null,null,null,null,null,null,null,null,null,null,null,null,null,null,null,null,null,9,"Caso Propuesto Con Clima",{"$f":"+IFERROR(IF(BF93=\"\",0,IF(T93<IF(OR(BF93<=$BP$3,BF93>=$BO$3),VLOOKUP('CEV-CEVE'!$E$10,$BN$7:$BZ$16,1+E93,0)-2,VLOOKUP('CEV-CEVE'!$E$10,$BN$7:$BZ$16,1+E93,0)),1,0)),0)","v":0},{"$f":"+IFERROR(IF(T93>VLOOKUP('CEV-CEVE'!$E$10,$BN$20:$BZ$29,1+E93,0),1,0),0)","v":0},null,null,null,null,21,{"$error":"#N/A"},null,null,{"$f":"BR92","v":{"$error":"#N/A"}},null,null,{"$f":"BU92","v":{"$error":"#N/A"}},null,null,{"$f":"BX92","v":{"$error":"#N/A"}}]
[null,null,null,null,null,null,null,null,null,null,null,null,null,null,null,null,null,null,null,null,null,null,null,null,null,null,null,null,null,null,null,null,null,null,null,null,null,null,null,null,null,null,null,null,null,null,null,null,null,null,null,null,null,null,null,null,null,10,"Caso Propuesto Con Clima",{"$f":"+IFERROR(IF(BF94=\"\",0,IF(T94<IF(OR(BF94<=$BP$3,BF94>=$BO$3),VLOOKUP('CEV-CEVE'!$E$10,$BN$7:$BZ$16,1+E94,0)-2,VLOOKUP('CEV-CEVE'!$E$10,$BN$7:$BZ$16,1+E94,0)),1,0)),0)","v":0},{"$f":"+IFERROR(IF(T94>VLOOKUP('CEV-CEVE'!$E$10,$BN$20:$BZ$29,1+E94,0),1,0),0)","v":0},null,null,null,null,22,{"$f":"BO71-1","v":{"$error":"#N/A"}},null,null,{"$f":"BR71-1","v":{"$error":"#N/A"}},null,null,{"$f":"BU71-1","v":{"$error":"#N/A"}},null,null,{"$f":"BX71-1","v":{"$error":"#N/A"}}]
[null,null,null,null,null,null,null,null,null,null,null,null,null,null,null,null,null,null,null,null,null,null,null,null,null,null,null,null,null,null,null,null,null,null,null,null,null,null,null,null,null,null,null,null,null,null,null,null,null,null,null,null,null,null,null,null,null,11,"Caso Propuesto Con Clima",{"$f":"+IFERROR(IF(BF95=\"\",0,IF(T95<IF(OR(BF95<=$BP$3,BF95>=$BO$3),VLOOKUP('CEV-CEVE'!$E$10,$BN$7:$BZ$16,1+E95,0)-2,VLOOKUP('CEV-CEVE'!$E$10,$BN$7:$BZ$16,1+E95,0)),1,0)),0)","v":0},{"$f":"+IFERROR(IF(T95>VLOOKUP('CEV-CEVE'!$E$10,$BN$20:$BZ$29,1+E95,0),1,0),0)","v":0},null,null,null,null,23,{"$error":"#N/A"},null,null,{"$f":"BR94","v":{"$error":"#N/A"}},null,null,{"$f":"BU94","v":{"$error":"#N/A"}},null,null,{"$f":"BX94","v":{"$error":"#N/A"}}]
[null,null,null,null,null,null,null,null,null,null,null,null,null,null,null,null,null,null,null,null,null,null,null,null,null,null,null,null,null,null,null,null,null,null,null,null,null,null,null,null,null,null,null,null,null,null,null,null,null,null,null,null,null,null,null,null,null,12,"Caso Propuesto Con Clima",{"$f":"+IFERROR(IF(BF96=\"\",0,IF(T96<IF(OR(BF96<=$BP$3,BF96>=$BO$3),VLOOKUP('CEV-CEVE'!$E$10,$BN$7:$BZ$16,1+E96,0)-2,VLOOKUP('CEV-CEVE'!$E$10,$BN$7:$BZ$16,1+E96,0)),1,0)),0)","v":0},{"$f":"+IFERROR(IF(T96>VLOOKUP('CEV-CEVE'!$E$10,$BN$20:$BZ$29,1+E96,0),1,0),0)","v":0}]
[null,null,null,null,null,null,null,null,null,null,null,null,null,null,null,null,null,null,null,null,null,null,null,null,null,null,null,null,null,null,null,null,null,null,null,null,null,null,null,null,null,null,null,null,null,null,null,null,null,null,null,null,null,null,null,null,null,13,"Caso Propuesto Con Clima",{"$f":"+IFERROR(IF(BF97=\"\",0,IF(T97<IF(OR(BF97<=$BP$3,BF97>=$BO$3),VLOOKUP('CEV-CEVE'!$E$10,$BN$7:$BZ$16,1+E97,0)-2,VLOOKUP('CEV-CEVE'!$E$10,$BN$7:$BZ$16,1+E97,0)),1,0)),0)","v":0},{"$f":"+IFERROR(IF(T97>VLOOKUP('CEV-CEVE'!$E$10,$BN$20:$BZ$29,1+E97,0),1,0),0)","v":0}]
[null,null,null,null,null,null,null,null,null,null,null,null,null,null,null,null,null,null,null,null,null,null,null,null,null,null,null,null,null,null,null,null,null,null,null,null,null,null,null,null,null,null,null,null,null,null,null,null,null,null,null,null,null,null,null,null,null,14,"Caso Propuesto Con Clima",{"$f":"+IFERROR(IF(BF98=\"\",0,IF(T98<IF(OR(BF98<=$BP$3,BF98>=$BO$3),VLOOKUP('CEV-CEVE'!$E$10,$BN$7:$BZ$16,1+E98,0)-2,VLOOKUP('CEV-CEVE'!$E$10,$BN$7:$BZ$16,1+E98,0)),1,0)),0)","v":0},{"$f":"+IFERROR(IF(T98>VLOOKUP('CEV-CEVE'!$E$10,$BN$20:$BZ$29,1+E98,0),1,0),0)","v":0}]
[null,null,null,null,null,null,null,null,null,null,null,null,null,null,null,null,null,null,null,null,null,null,null,null,null,null,null,null,null,null,null,null,null,null,null,null,null,null,null,null,null,null,null,null,null,null,null,null,null,null,null,null,null,null,null,null,null,15,"Caso Propuesto Con Clima",{"$f":"+IFERROR(IF(BF99=\"\",0,IF(T99<IF(OR(BF99<=$BP$3,BF99>=$BO$3),VLOOKUP('CEV-CEVE'!$E$10,$BN$7:$BZ$16,1+E99,0)-2,VLOOKUP('CEV-CEVE'!$E$10,$BN$7:$BZ$16,1+E99,0)),1,0)),0)","v":0},{"$f":"+IFERROR(IF(T99>VLOOKUP('CEV-CEVE'!$E$10,$BN$20:$BZ$29,1+E99,0),1,0),0)","v":0}]
[null,null,null,null,null,null,null,null,null,null,null,null,null,null,null,null,null,null,null,null,null,null,null,null,null,null,null,null,null,null,null,null,null,null,null,null,null,null,null,null,null,null,null,null,null,null,null,null,null,null,null,null,null,null,null,null,null,16,"Caso Propuesto Con Clima",{"$f":"+IFERROR(IF(BF100=\"\",0,IF(T100<IF(OR(BF100<=$BP$3,BF100>=$BO$3),VLOOKUP('CEV-CEVE'!$E$10,$BN$7:$BZ$16,1+E100,0)-2,VLOOKUP('CEV-CEVE'!$E$10,$BN$7:$BZ$16,1+E100,0)),1,0)),0)","v":0},{"$f":"+IFERROR(IF(T100>VLOOKUP('CEV-CEVE'!$E$10,$BN$20:$BZ$29,1+E100,0),1,0),0)","v":0}]
[null,null,null,null,null,null,null,null,null,null,null,null,null,null,null,null,null,null,null,null,null,null,null,null,null,null,null,null,null,null,null,null,null,null,null,null,null,null,null,null,null,null,null,null,null,null,null,null,null,null,null,null,null,null,null,null,null,17,"Caso Propuesto Con Clima",{"$f":"+IFERROR(IF(BF101=\"\",0,IF(T101<IF(OR(BF101<=$BP$3,BF101>=$BO$3),VLOOKUP('CEV-CEVE'!$E$10,$BN$7:$BZ$16,1+E101,0)-2,VLOOKUP('CEV-CEVE'!$E$10,$BN$7:$BZ$16,1+E101,0)),1,0)),0)","v":0},{"$f":"+IFERROR(IF(T101>VLOOKUP('CEV-CEVE'!$E$10,$BN$20:$BZ$29,1+E101,0),1,0),0)","v":0}]
[null,null,null,null,null,null,null,null,null,null,null,null,null,null,null,null,null,null,null,null,null,null,null,null,null,null,null,null,null,null,null,null,null,null,null,null,null,null,null,null,null,null,null,null,null,null,null,null,null,null,null,null,null,null,null,null,null,18,"Caso Propuesto Con Clima",{"$f":"+IFERROR(IF(BF102=\"\",0,IF(T102<IF(OR(BF102<=$BP$3,BF102>=$BO$3),VLOOKUP('CEV-CEVE'!$E$10,$BN$7:$BZ$16,1+E102,0)-2,VLOOKUP('CEV-CEVE'!$E$10,$BN$7:$BZ$16,1+E102,0)),1,0)),0)","v":0},{"$f":"+IFERROR(IF(T102>VLOOKUP('CEV-CEVE'!$E$10,$BN$20:$BZ$29,1+E102,0),1,0),0)","v":0}]
[null,null,null,null,null,null,null,null,null,null,null,null,null,null,null,null,null,null,null,null,null,null,null,null,null,null,null,null,null,null,null,null,null,null,null,null,null,null,null,null,null,null,null,null,null,null,null,null,null,null,null,null,null,null,null,null,null,19,"Caso Propuesto Con Clima",{"$f":"+IFERROR(IF(BF103=\"\",0,IF(T103<IF(OR(BF103<=$BP$3,BF103>=$BO$3),VLOOKUP('CEV-CEVE'!$E$10,$BN$7:$BZ$16,1+E103,0)-2,VLOOKUP('CEV-CEVE'!$E$10,$BN$7:$BZ$16,1+E103,0)),1,0)),0)","v":0},{"$f":"+IFERROR(IF(T103>VLOOKUP('CEV-CEVE'!$E$10,$BN$20:$BZ$29,1+E103,0),1,0),0)","v":0}]
[null,null,null,null,null,null,null,null,null,null,null,null,null,null,null,null,null,null,null,null,null,null,null,null,null,null,null,null,null,null,null,null,null,null,null,null,null,null,null,null,null,null,null,null,null,null,null,null,null,null,null,null,null,null,null,null,null,20,"Caso Propuesto Con Clima",{"$f":"+IFERROR(IF(BF104=\"\",0,IF(T104<IF(OR(BF104<=$BP$3,BF104>=$BO$3),VLOOKUP('CEV-CEVE'!$E$10,$BN$7:$BZ$16,1+E104,0)-2,VLOOKUP('CEV-CEVE'!$E$10,$BN$7:$BZ$16,1+E104,0)),1,0)),0)","v":0},{"$f":"+IFERROR(IF(T104>VLOOKUP('CEV-CEVE'!$E$10,$BN$20:$BZ$29,1+E104,0),1,0),0)","v":0}]
[null,null,null,null,null,null,null,null,null,null,null,null,null,null,null,null,null,null,null,null,null,null,null,null,null,null,null,null,null,null,null,null,null,null,null,null,null,null,null,null,null,null,null,null,null,null,null,null,null,null,null,null,null,null,null,null,null,21,"Caso Propuesto Con Clima",{"$f":"+IFERROR(IF(BF105=\"\",0,IF(T105<IF(OR(BF105<=$BP$3,BF105>=$BO$3),VLOOKUP('CEV-CEVE'!$E$10,$BN$7:$BZ$16,1+E105,0)-2,VLOOKUP('CEV-CEVE'!$E$10,$BN$7:$BZ$16,1+E105,0)),1,0)),0)","v":0},{"$f":"+IFERROR(IF(T105>VLOOKUP('CEV-CEVE'!$E$10,$BN$20:$BZ$29,1+E105,0),1,0),0)","v":0}]
[null,null,null,null,null,null,null,null,null,null,null,null,null,null,null,null,null,null,null,null,null,null,null,null,null,null,null,null,null,null,null,null,null,null,null,null,null,null,null,null,null,null,null,null,null,null,null,null,null,null,null,null,null,null,null,null,null,22,"Caso Propuesto Con Clima",{"$f":"+IFERROR(IF(BF106=\"\",0,IF(T106<IF(OR(BF106<=$BP$3,BF106>=$BO$3),VLOOKUP('CEV-CEVE'!$E$10,$BN$7:$BZ$16,1+E106,0)-2,VLOOKUP('CEV-CEVE'!$E$10,$BN$7:$BZ$16,1+E106,0)),1,0)),0)","v":0},{"$f":"+IFERROR(IF(T106>VLOOKUP('CEV-CEVE'!$E$10,$BN$20:$BZ$29,1+E106,0),1,0),0)","v":0}]
[null,null,null,null,null,null,null,null,null,null,null,null,null,null,null,null,null,null,null,null,null,null,null,null,null,null,null,null,null,null,null,null,null,null,null,null,null,null,null,null,null,null,null,null,null,null,null,null,null,null,null,null,null,null,null,null,null,23,"Caso Propuesto Con Clima",{"$f":"+IFERROR(IF(BF107=\"\",0,IF(T107<IF(OR(BF107<=$BP$3,BF107>=$BO$3),VLOOKUP('CEV-CEVE'!$E$10,$BN$7:$BZ$16,1+E107,0)-2,VLOOKUP('CEV-CEVE'!$E$10,$BN$7:$BZ$16,1+E107,0)),1,0)),0)","v":0},{"$f":"+IFERROR(IF(T107>VLOOKUP('CEV-CEVE'!$E$10,$BN$20:$BZ$29,1+E107,0),1,0),0)","v":0}]
[null,null,null,null,null,null,null,null,null,null,null,null,null,null,null,null,null,null,null,null,null,null,null,null,null,null,null,null,null,null,null,null,null,null,null,null,null,null,null,null,null,null,null,null,null,null,null,null,null,null,null,null,null,null,null,null,null,null,"Caso Propuesto Con Clima",{"$f":"+IFERROR(IF(BF108=\"\",0,IF(T108<IF(OR(BF108<=$BP$3,BF108>=$BO$3),VLOOKUP('CEV-CEVE'!$E$10,$BN$7:$BZ$16,1+E108,0)-2,VLOOKUP('CEV-CEVE'!$E$10,$BN$7:$BZ$16,1+E108,0)),1,0)),0)","v":0},{"$f":"+IFERROR(IF(T108>VLOOKUP('CEV-CEVE'!$E$10,$BN$20:$BZ$29,1+E108,0),1,0),0)","v":0}]
[null,null,null,null,null,null,null,null,null,null,null,null,null,null,null,null,null,null,null,null,null,null,null,null,null,null,null,null,null,null,null,null,null,null,null,null,null,null,null,null,null,null,null,null,null,null,null,null,null,null,null,null,null,null,null,null,null,null,"Caso Propuesto Con Clima",{"$f":"+IFERROR(IF(BF109=\"\",0,IF(T109<IF(OR(BF109<=$BP$3,BF109>=$BO$3),VLOOKUP('CEV-CEVE'!$E$10,$BN$7:$BZ$16,1+E109,0)-2,VLOOKUP('CEV-CEVE'!$E$10,$BN$7:$BZ$16,1+E109,0)),1,0)),0)","v":0},{"$f":"+IFERROR(IF(T109>VLOOKUP('CEV-CEVE'!$E$10,$BN$20:$BZ$29,1+E109,0),1,0),0)","v":0}]
[null,null,null,null,null,null,null,null,null,null,null,null,null,null,null,null,null,null,null,null,null,null,null,null,null,null,null,null,null,null,null,null,null,null,null,null,null,null,null,null,null,null,null,null,null,null,null,null,null,null,null,null,null,null,null,null,null,0,"Caso Propuesto Con Clima",{"$f":"+IFERROR(IF(BF110=\"\",0,IF(T110<IF(OR(BF110<=$BP$3,BF110>=$BO$3),VLOOKUP('CEV-CEVE'!$E$10,$BN$7:$BZ$16,1+E110,0)-2,VLOOKUP('CEV-CEVE'!$E$10,$BN$7:$BZ$16,1+E110,0)),1,0)),0)","v":0},{"$f":"+IFERROR(IF(T110>VLOOKUP('CEV-CEVE'!$E$10,$BN$20:$BZ$29,1+E110,0),1,0),0)","v":0}]
[null,null,null,null,null,null,null,null,null,null,null,null,null,null,null,null,null,null,null,null,null,null,null,null,null,null,null,null,null,null,null,null,null,null,null,null,null,null,null,null,null,null,null,null,null,null,null,null,null,null,null,null,null,null,null,null,null,{"$f":"+BF110+1","v":1},"Caso Propuesto Con Clima",{"$f":"+IFERROR(IF(BF111=\"\",0,IF(T111<IF(OR(BF111<=$BP$3,BF111>=$BO$3),VLOOKUP('CEV-CEVE'!$E$10,$BN$7:$BZ$16,1+E111,0)-2,VLOOKUP('CEV-CEVE'!$E$10,$BN$7:$BZ$16,1+E111,0)),1,0)),0)","v":0},{"$f":"+IFERROR(IF(T111>VLOOKUP('CEV-CEVE'!$E$10,$BN$20:$BZ$29,1+E111,0),1,0),0)","v":0}]
[null,null,null,null,null,null,null,null,null,null,null,null,null,null,null,null,null,null,null,null,null,null,null,null,null,null,null,null,null,null,null,null,null,null,null,null,null,null,null,null,null,null,null,null,null,null,null,null,null,null,null,null,null,null,null,null,null,{"$f":"+BF111+1","v":2},"Caso Propuesto Con Clima",{"$f":"+IFERROR(IF(BF112=\"\",0,IF(T112<IF(OR(BF112<=$BP$3,BF112>=$BO$3),VLOOKUP('CEV-CEVE'!$E$10,$BN$7:$BZ$16,1+E112,0)-2,VLOOKUP('CEV-CEVE'!$E$10,$BN$7:$BZ$16,1+E112,0)),1,0)),0)","v":0},{"$f":"+IFERROR(IF(T112>VLOOKUP('CEV-CEVE'!$E$10,$BN$20:$BZ$29,1+E112,0),1,0),0)","v":0}]
[null,null,null,null,null,null,null,null,null,null,null,null,null,null,null,null,null,null,null,null,null,null,null,null,null,null,null,null,null,null,null,null,null,null,null,null,null,null,null,null,null,null,null,null,null,null,null,null,null,null,null,null,null,null,null,null,null,3,"Caso Propuesto Con Clima",{"$f":"+IFERROR(IF(BF113=\"\",0,IF(T113<IF(OR(BF113<=$BP$3,BF113>=$BO$3),VLOOKUP('CEV-CEVE'!$E$10,$BN$7:$BZ$16,1+E113,0)-2,VLOOKUP('CEV-CEVE'!$E$10,$BN$7:$BZ$16,1+E113,0)),1,0)),0)","v":0},{"$f":"+IFERROR(IF(T113>VLOOKUP('CEV-CEVE'!$E$10,$BN$20:$BZ$29,1+E113,0),1,0),0)","v":0}]
[null,null,null,null,null,null,null,null,null,null,null,null,null,null,null,null,null,null,null,null,null,null,null,null,null,null,null,null,null,null,null,null,null,null,null,null,null,null,null,null,null,null,null,null,null,null,null,null,null,null,null,null,null,null,null,null,null,4,"Caso Propuesto Con Clima",{"$f":"+IFERROR(IF(BF114=\"\",0,IF(T114<IF(OR(BF114<=$BP$3,BF114>=$BO$3),VLOOKUP('CEV-CEVE'!$E$10,$BN$7:$BZ$16,1+E114,0)-2,VLOOKUP('CEV-CEVE'!$E$10,$BN$7:$BZ$16,1+E114,0)),1,0)),0)","v":0},{"$f":"+IFERROR(IF(T114>VLOOKUP('CEV-CEVE'!$E$10,$BN$20:$BZ$29,1+E114,0),1,0),0)","v":0}]
[null,null,null,null,null,null,null,null,null,null,null,null,null,null,null,null,null,null,null,null,null,null,null,null,null,null,null,null,null,null,null,null,null,null,null,null,null,null,null,null,null,null,null,null,null,null,null,null,null,null,null,null,null,null,null,null,null,5,"Caso Propuesto Con Clima",{"$f":"+IFERROR(IF(BF115=\"\",0,IF(T115<IF(OR(BF115<=$BP$3,BF115>=$BO$3),VLOOKUP('CEV-CEVE'!$E$10,$BN$7:$BZ$16,1+E115,0)-2,VLOOKUP('CEV-CEVE'!$E$10,$BN$7:$BZ$16,1+E115,0)),1,0)),0)","v":0},{"$f":"+IFERROR(IF(T115>VLOOKUP('CEV-CEVE'!$E$10,$BN$20:$BZ$29,1+E115,0),1,0),0)","v":0}]
[null,null,null,null,null,null,null,null,null,null,null,null,null,null,null,null,null,null,null,null,null,null,null,null,null,null,null,null,null,null,null,null,null,null,null,null,null,null,null,null,null,null,null,null,null,null,null,null,null,null,null,null,null,null,null,null,null,6,"Caso Propuesto Con Clima",{"$f":"+IFERROR(IF(BF116=\"\",0,IF(T116<IF(OR(BF116<=$BP$3,BF116>=$BO$3),VLOOKUP('CEV-CEVE'!$E$10,$BN$7:$BZ$16,1+E116,0)-2,VLOOKUP('CEV-CEVE'!$E$10,$BN$7:$BZ$16,1+E116,0)),1,0)),0)","v":0},{"$f":"+IFERROR(IF(T116>VLOOKUP('CEV-CEVE'!$E$10,$BN$20:$BZ$29,1+E116,0),1,0),0)","v":0}]
[null,null,null,null,null,null,null,null,null,null,null,null,null,null,null,null,null,null,null,null,null,null,null,null,null,null,null,null,null,null,null,null,null,null,null,null,null,null,null,null,null,null,null,null,null,null,null,null,null,null,null,null,null,null,null,null,null,7,"Caso Propuesto Con Clima",{"$f":"+IFERROR(IF(BF117=\"\",0,IF(T117<IF(OR(BF117<=$BP$3,BF117>=$BO$3),VLOOKUP('CEV-CEVE'!$E$10,$BN$7:$BZ$16,1+E117,0)-2,VLOOKUP('CEV-CEVE'!$E$10,$BN$7:$BZ$16,1+E117,0)),1,0)),0)","v":0},{"$f":"+IFERROR(IF(T117>VLOOKUP('CEV-CEVE'!$E$10,$BN$20:$BZ$29,1+E117,0),1,0),0)","v":0}]
[null,null,null,null,null,null,null,null,null,null,null,null,null,null,null,null,null,null,null,null,null,null,null,null,null,null,null,null,null,null,null,null,null,null,null,null,null,null,null,null,null,null,null,null,null,null,null,null,null,null,null,null,null,null,null,null,null,8,"Caso Propuesto Con Clima",{"$f":"+IFERROR(IF(BF118=\"\",0,IF(T118<IF(OR(BF118<=$BP$3,BF118>=$BO$3),VLOOKUP('CEV-CEVE'!$E$10,$BN$7:$BZ$16,1+E118,0)-2,VLOOKUP('CEV-CEVE'!$E$10,$BN$7:$BZ$16,1+E118,0)),1,0)),0)","v":0},{"$f":"+IFERROR(IF(T118>VLOOKUP('CEV-CEVE'!$E$10,$BN$20:$BZ$29,1+E118,0),1,0),0)","v":0}]
[null,null,null,null,null,null,null,null,null,null,null,null,null,null,null,null,null,null,null,null,null,null,null,null,null,null,null,null,null,null,null,null,null,null,null,null,null,null,null,null,null,null,null,null,null,null,null,null,null,null,null,null,null,null,null,null,null,9,"Caso Propuesto Con Clima",{"$f":"+IFERROR(IF(BF119=\"\",0,IF(T119<IF(OR(BF119<=$BP$3,BF119>=$BO$3),VLOOKUP('CEV-CEVE'!$E$10,$BN$7:$BZ$16,1+E119,0)-2,VLOOKUP('CEV-CEVE'!$E$10,$BN$7:$BZ$16,1+E119,0)),1,0)),0)","v":0},{"$f":"+IFERROR(IF(T119>VLOOKUP('CEV-CEVE'!$E$10,$BN$20:$BZ$29,1+E119,0),1,0),0)","v":0}]
[null,null,null,null,null,null,null,null,null,null,null,null,null,null,null,null,null,null,null,null,null,null,null,null,null,null,null,null,null,null,null,null,null,null,null,null,null,null,null,null,null,null,null,null,null,null,null,null,null,null,null,null,null,null,null,null,null,10,"Caso Propuesto Con Clima",{"$f":"+IFERROR(IF(BF120=\"\",0,IF(T120<IF(OR(BF120<=$BP$3,BF120>=$BO$3),VLOOKUP('CEV-CEVE'!$E$10,$BN$7:$BZ$16,1+E120,0)-2,VLOOKUP('CEV-CEVE'!$E$10,$BN$7:$BZ$16,1+E120,0)),1,0)),0)","v":0},{"$f":"+IFERROR(IF(T120>VLOOKUP('CEV-CEVE'!$E$10,$BN$20:$BZ$29,1+E120,0),1,0),0)","v":0}]
[null,null,null,null,null,null,null,null,null,null,null,null,null,null,null,null,null,null,null,null,null,null,null,null,null,null,null,null,null,null,null,null,null,null,null,null,null,null,null,null,null,null,null,null,null,null,null,null,null,null,null,null,null,null,null,null,null,11,"Caso Propuesto Con Clima",{"$f":"+IFERROR(IF(BF121=\"\",0,IF(T121<IF(OR(BF121<=$BP$3,BF121>=$BO$3),VLOOKUP('CEV-CEVE'!$E$10,$BN$7:$BZ$16,1+E121,0)-2,VLOOKUP('CEV-CEVE'!$E$10,$BN$7:$BZ$16,1+E121,0)),1,0)),0)","v":0},{"$f":"+IFERROR(IF(T121>VLOOKUP('CEV-CEVE'!$E$10,$BN$20:$BZ$29,1+E121,0),1,0),0)","v":0}]
[null,null,null,null,null,null,null,null,null,null,null,null,null,null,null,null,null,null,null,null,null,null,null,null,null,null,null,null,null,null,null,null,null,null,null,null,null,null,null,null,null,null,null,null,null,null,null,null,null,null,null,null,null,null,null,null,null,12,"Caso Propuesto Con Clima",{"$f":"+IFERROR(IF(BF122=\"\",0,IF(T122<IF(OR(BF122<=$BP$3,BF122>=$BO$3),VLOOKUP('CEV-CEVE'!$E$10,$BN$7:$BZ$16,1+E122,0)-2,VLOOKUP('CEV-CEVE'!$E$10,$BN$7:$BZ$16,1+E122,0)),1,0)),0)","v":0},{"$f":"+IFERROR(IF(T122>VLOOKUP('CEV-CEVE'!$E$10,$BN$20:$BZ$29,1+E122,0),1,0),0)","v":0}]
[null,null,null,null,null,null,null,null,null,null,null,null,null,null,null,null,null,null,null,null,null,null,null,null,null,null,null,null,null,null,null,null,null,null,null,null,null,null,null,null,null,null,null,null,null,null,null,null,null,null,null,null,null,null,null,null,null,13,"Caso Propuesto Con Clima",{"$f":"+IFERROR(IF(BF123=\"\",0,IF(T123<IF(OR(BF123<=$BP$3,BF123>=$BO$3),VLOOKUP('CEV-CEVE'!$E$10,$BN$7:$BZ$16,1+E123,0)-2,VLOOKUP('CEV-CEVE'!$E$10,$BN$7:$BZ$16,1+E123,0)),1,0)),0)","v":0},{"$f":"+IFERROR(IF(T123>VLOOKUP('CEV-CEVE'!$E$10,$BN$20:$BZ$29,1+E123,0),1,0),0)","v":0}]
[null,null,null,null,null,null,null,null,null,null,null,null,null,null,null,null,null,null,null,null,null,null,null,null,null,null,null,null,null,null,null,null,null,null,null,null,null,null,null,null,null,null,null,null,null,null,null,null,null,null,null,null,null,null,null,null,null,14,"Caso Propuesto Con Clima",{"$f":"+IFERROR(IF(BF124=\"\",0,IF(T124<IF(OR(BF124<=$BP$3,BF124>=$BO$3),VLOOKUP('CEV-CEVE'!$E$10,$BN$7:$BZ$16,1+E124,0)-2,VLOOKUP('CEV-CEVE'!$E$10,$BN$7:$BZ$16,1+E124,0)),1,0)),0)","v":0},{"$f":"+IFERROR(IF(T124>VLOOKUP('CEV-CEVE'!$E$10,$BN$20:$BZ$29,1+E124,0),1,0),0)","v":0}]
[null,null,null,null,null,null,null,null,null,null,null,null,null,null,null,null,null,null,null,null,null,null,null,null,null,null,null,null,null,null,null,null,null,null,null,null,null,null,null,null,null,null,null,null,null,null,null,null,null,null,null,null,null,null,null,null,null,15,"Caso Propuesto Con Clima",{"$f":"+IFERROR(IF(BF125=\"\",0,IF(T125<IF(OR(BF125<=$BP$3,BF125>=$BO$3),VLOOKUP('CEV-CEVE'!$E$10,$BN$7:$BZ$16,1+E125,0)-2,VLOOKUP('CEV-CEVE'!$E$10,$BN$7:$BZ$16,1+E125,0)),1,0)),0)","v":0},{"$f":"+IFERROR(IF(T125>VLOOKUP('CEV-CEVE'!$E$10,$BN$20:$BZ$29,1+E125,0),1,0),0)","v":0}]
[null,null,null,null,null,null,null,null,null,null,null,null,null,null,null,null,null,null,null,null,null,null,null,null,null,null,null,null,null,null,null,null,null,null,null,null,null,null,null,null,null,null,null,null,null,null,null,null,null,null,null,null,null,null,null,null,null,16,"Caso Propuesto Con Clima",{"$f":"+IFERROR(IF(BF126=\"\",0,IF(T126<IF(OR(BF126<=$BP$3,BF126>=$BO$3),VLOOKUP('CEV-CEVE'!$E$10,$BN$7:$BZ$16,1+E126,0)-2,VLOOKUP('CEV-CEVE'!$E$10,$BN$7:$BZ$16,1+E126,0)),1,0)),0)","v":0},{"$f":"+IFERROR(IF(T126>VLOOKUP('CEV-CEVE'!$E$10,$BN$20:$BZ$29,1+E126,0),1,0),0)","v":0}]
[null,null,null,null,null,null,null,null,null,null,null,null,null,null,null,null,null,null,null,null,null,null,null,null,null,null,null,null,null,null,null,null,null,null,null,null,null,null,null,null,null,null,null,null,null,null,null,null,null,null,null,null,null,null,null,null,null,17,"Caso Propuesto Con Clima",{"$f":"+IFERROR(IF(BF127=\"\",0,IF(T127<IF(OR(BF127<=$BP$3,BF127>=$BO$3),VLOOKUP('CEV-CEVE'!$E$10,$BN$7:$BZ$16,1+E127,0)-2,VLOOKUP('CEV-CEVE'!$E$10,$BN$7:$BZ$16,1+E127,0)),1,0)),0)","v":0},{"$f":"+IFERROR(IF(T127>VLOOKUP('CEV-CEVE'!$E$10,$BN$20:$BZ$29,1+E127,0),1,0),0)","v":0}]
[null,null,null,null,null,null,null,null,null,null,null,null,null,null,null,null,null,null,null,null,null,null,null,null,null,null,null,null,null,null,null,null,null,null,null,null,null,null,null,null,null,null,null,null,null,null,null,null,null,null,null,null,null,null,null,null,null,18,"Caso Propuesto Con Clima",{"$f":"+IFERROR(IF(BF128=\"\",0,IF(T128<IF(OR(BF128<=$BP$3,BF128>=$BO$3),VLOOKUP('CEV-CEVE'!$E$10,$BN$7:$BZ$16,1+E128,0)-2,VLOOKUP('CEV-CEVE'!$E$10,$BN$7:$BZ$16,1+E128,0)),1,0)),0)","v":0},{"$f":"+IFERROR(IF(T128>VLOOKUP('CEV-CEVE'!$E$10,$BN$20:$BZ$29,1+E128,0),1,0),0)","v":0}]
[null,null,null,null,null,null,null,null,null,null,null,null,null,null,null,null,null,null,null,null,null,null,null,null,null,null,null,null,null,null,null,null,null,null,null,null,null,null,null,null,null,null,null,null,null,null,null,null,null,null,null,null,null,null,null,null,null,19,"Caso Propuesto Con Clima",{"$f":"+IFERROR(IF(BF129=\"\",0,IF(T129<IF(OR(BF129<=$BP$3,BF129>=$BO$3),VLOOKUP('CEV-CEVE'!$E$10,$BN$7:$BZ$16,1+E129,0)-2,VLOOKUP('CEV-CEVE'!$E$10,$BN$7:$BZ$16,1+E129,0)),1,0)),0)","v":0},{"$f":"+IFERROR(IF(T129>VLOOKUP('CEV-CEVE'!$E$10,$BN$20:$BZ$29,1+E129,0),1,0),0)","v":0}]
[null,null,null,null,null,null,null,null,null,null,null,null,null,null,null,null,null,null,null,null,null,null,null,null,null,null,null,null,null,null,null,null,null,null,null,null,null,null,null,null,null,null,null,null,null,null,null,null,null,null,null,null,null,null,null,null,null,20,"Caso Propuesto Con Clima",{"$f":"+IFERROR(IF(BF130=\"\",0,IF(T130<IF(OR(BF130<=$BP$3,BF130>=$BO$3),VLOOKUP('CEV-CEVE'!$E$10,$BN$7:$BZ$16,1+E130,0)-2,VLOOKUP('CEV-CEVE'!$E$10,$BN$7:$BZ$16,1+E130,0)),1,0)),0)","v":0},{"$f":"+IFERROR(IF(T130>VLOOKUP('CEV-CEVE'!$E$10,$BN$20:$BZ$29,1+E130,0),1,0),0)","v":0}]
[null,null,null,null,null,null,null,null,null,null,null,null,null,null,null,null,null,null,null,null,null,null,null,null,null,null,null,null,null,null,null,null,null,null,null,null,null,null,null,null,null,null,null,null,null,null,null,null,null,null,null,null,null,null,null,null,null,21,"Caso Propuesto Con Clima",{"$f":"+IFERROR(IF(BF131=\"\",0,IF(T131<IF(OR(BF131<=$BP$3,BF131>=$BO$3),VLOOKUP('CEV-CEVE'!$E$10,$BN$7:$BZ$16,1+E131,0)-2,VLOOKUP('CEV-CEVE'!$E$10,$BN$7:$BZ$16,1+E131,0)),1,0)),0)","v":0},{"$f":"+IFERROR(IF(T131>VLOOKUP('CEV-CEVE'!$E$10,$BN$20:$BZ$29,1+E131,0),1,0),0)","v":0}]
[null,null,null,null,null,null,null,null,null,null,null,null,null,null,null,null,null,null,null,null,null,null,null,null,null,null,null,null,null,null,null,null,null,null,null,null,null,null,null,null,null,null,null,null,null,null,null,null,null,null,null,null,null,null,null,null,null,22,"Caso Propuesto Con Clima",{"$f":"+IFERROR(IF(BF132=\"\",0,IF(T132<IF(OR(BF132<=$BP$3,BF132>=$BO$3),VLOOKUP('CEV-CEVE'!$E$10,$BN$7:$BZ$16,1+E132,0)-2,VLOOKUP('CEV-CEVE'!$E$10,$BN$7:$BZ$16,1+E132,0)),1,0)),0)","v":0},{"$f":"+IFERROR(IF(T132>VLOOKUP('CEV-CEVE'!$E$10,$BN$20:$BZ$29,1+E132,0),1,0),0)","v":0}]
[null,null,null,null,null,null,null,null,null,null,null,null,null,null,null,null,null,null,null,null,null,null,null,null,null,null,null,null,null,null,null,null,null,null,null,null,null,null,null,null,null,null,null,null,null,null,null,null,null,null,null,null,null,null,null,null,null,23,"Caso Propuesto Con Clima",{"$f":"+IFERROR(IF(BF133=\"\",0,IF(T133<IF(OR(BF133<=$BP$3,BF133>=$BO$3),VLOOKUP('CEV-CEVE'!$E$10,$BN$7:$BZ$16,1+E133,0)-2,VLOOKUP('CEV-CEVE'!$E$10,$BN$7:$BZ$16,1+E133,0)),1,0)),0)","v":0},{"$f":"+IFERROR(IF(T133>VLOOKUP('CEV-CEVE'!$E$10,$BN$20:$BZ$29,1+E133,0),1,0),0)","v":0}]
[null,null,null,null,null,null,null,null,null,null,null,null,null,null,null,null,null,null,null,null,null,null,null,null,null,null,null,null,null,null,null,null,null,null,null,null,null,null,null,null,null,null,null,null,null,null,null,null,null,null,null,null,null,null,null,null,null,null,"Caso Propuesto Con Clima",{"$f":"+IFERROR(IF(BF134=\"\",0,IF(T134<IF(OR(BF134<=$BP$3,BF134>=$BO$3),VLOOKUP('CEV-CEVE'!$E$10,$BN$7:$BZ$16,1+E134,0)-2,VLOOKUP('CEV-CEVE'!$E$10,$BN$7:$BZ$16,1+E134,0)),1,0)),0)","v":0},{"$f":"+IFERROR(IF(T134>VLOOKUP('CEV-CEVE'!$E$10,$BN$20:$BZ$29,1+E134,0),1,0),0)","v":0}]
[null,null,null,null,null,null,null,null,null,null,null,null,null,null,null,null,null,null,null,null,null,null,null,null,null,null,null,null,null,null,null,null,null,null,null,null,null,null,null,null,null,null,null,null,null,null,null,null,null,null,null,null,null,null,null,null,null,null,"Caso Propuesto Con Clima",{"$f":"+IFERROR(IF(BF135=\"\",0,IF(T135<IF(OR(BF135<=$BP$3,BF135>=$BO$3),VLOOKUP('CEV-CEVE'!$E$10,$BN$7:$BZ$16,1+E135,0)-2,VLOOKUP('CEV-CEVE'!$E$10,$BN$7:$BZ$16,1+E135,0)),1,0)),0)","v":0},{"$f":"+IFERROR(IF(T135>VLOOKUP('CEV-CEVE'!$E$10,$BN$20:$BZ$29,1+E135,0),1,0),0)","v":0}]
[null,null,null,null,null,null,null,null,null,null,null,null,null,null,null,null,null,null,null,null,null,null,null,null,null,null,null,null,null,null,null,null,null,null,null,null,null,null,null,null,null,null,null,null,null,null,null,null,null,null,null,null,null,null,null,null,null,0,"Caso Propuesto Con Clima",{"$f":"+IFERROR(IF(BF136=\"\",0,IF(T136<IF(OR(BF136<=$BP$3,BF136>=$BO$3),VLOOKUP('CEV-CEVE'!$E$10,$BN$7:$BZ$16,1+E136,0)-2,VLOOKUP('CEV-CEVE'!$E$10,$BN$7:$BZ$16,1+E136,0)),1,0)),0)","v":0},{"$f":"+IFERROR(IF(T136>VLOOKUP('CEV-CEVE'!$E$10,$BN$20:$BZ$29,1+E136,0),1,0),0)","v":0}]
[null,null,null,null,null,null,null,null,null,null,null,null,null,null,null,null,null,null,null,null,null,null,null,null,null,null,null,null,null,null,null,null,null,null,null,null,null,null,null,null,null,null,null,null,null,null,null,null,null,null,null,null,null,null,null,null,null,{"$f":"+BF136+1","v":1},"Caso Propuesto Con Clima",{"$f":"+IFERROR(IF(BF137=\"\",0,IF(T137<IF(OR(BF137<=$BP$3,BF137>=$BO$3),VLOOKUP('CEV-CEVE'!$E$10,$BN$7:$BZ$16,1+E137,0)-2,VLOOKUP('CEV-CEVE'!$E$10,$BN$7:$BZ$16,1+E137,0)),1,0)),0)","v":0},{"$f":"+IFERROR(IF(T137>VLOOKUP('CEV-CEVE'!$E$10,$BN$20:$BZ$29,1+E137,0),1,0),0)","v":0}]
[null,null,null,null,null,null,null,null,null,null,null,null,null,null,null,null,null,null,null,null,null,null,null,null,null,null,null,null,null,null,null,null,null,null,null,null,null,null,null,null,null,null,null,null,null,null,null,null,null,null,null,null,null,null,null,null,null,{"$f":"+BF137+1","v":2},"Caso Propuesto Con Clima",{"$f":"+IFERROR(IF(BF138=\"\",0,IF(T138<IF(OR(BF138<=$BP$3,BF138>=$BO$3),VLOOKUP('CEV-CEVE'!$E$10,$BN$7:$BZ$16,1+E138,0)-2,VLOOKUP('CEV-CEVE'!$E$10,$BN$7:$BZ$16,1+E138,0)),1,0)),0)","v":0},{"$f":"+IFERROR(IF(T138>VLOOKUP('CEV-CEVE'!$E$10,$BN$20:$BZ$29,1+E138,0),1,0),0)","v":0}]
[null,null,null,null,null,null,null,null,null,null,null,null,null,null,null,null,null,null,null,null,null,null,null,null,null,null,null,null,null,null,null,null,null,null,null,null,null,null,null,null,null,null,null,null,null,null,null,null,null,null,null,null,null,null,null,null,null,3,"Caso Propuesto Con Clima",{"$f":"+IFERROR(IF(BF139=\"\",0,IF(T139<IF(OR(BF139<=$BP$3,BF139>=$BO$3),VLOOKUP('CEV-CEVE'!$E$10,$BN$7:$BZ$16,1+E139,0)-2,VLOOKUP('CEV-CEVE'!$E$10,$BN$7:$BZ$16,1+E139,0)),1,0)),0)","v":0},{"$f":"+IFERROR(IF(T139>VLOOKUP('CEV-CEVE'!$E$10,$BN$20:$BZ$29,1+E139,0),1,0),0)","v":0}]
[null,null,null,null,null,null,null,null,null,null,null,null,null,null,null,null,null,null,null,null,null,null,null,null,null,null,null,null,null,null,null,null,null,null,null,null,null,null,null,null,null,null,null,null,null,null,null,null,null,null,null,null,null,null,null,null,null,4,"Caso Propuesto Con Clima",{"$f":"+IFERROR(IF(BF140=\"\",0,IF(T140<IF(OR(BF140<=$BP$3,BF140>=$BO$3),VLOOKUP('CEV-CEVE'!$E$10,$BN$7:$BZ$16,1+E140,0)-2,VLOOKUP('CEV-CEVE'!$E$10,$BN$7:$BZ$16,1+E140,0)),1,0)),0)","v":0},{"$f":"+IFERROR(IF(T140>VLOOKUP('CEV-CEVE'!$E$10,$BN$20:$BZ$29,1+E140,0),1,0),0)","v":0}]
[null,null,null,null,null,null,null,null,null,null,null,null,null,null,null,null,null,null,null,null,null,null,null,null,null,null,null,null,null,null,null,null,null,null,null,null,null,null,null,null,null,null,null,null,null,null,null,null,null,null,null,null,null,null,null,null,null,5,"Caso Propuesto Con Clima",{"$f":"+IFERROR(IF(BF141=\"\",0,IF(T141<IF(OR(BF141<=$BP$3,BF141>=$BO$3),VLOOKUP('CEV-CEVE'!$E$10,$BN$7:$BZ$16,1+E141,0)-2,VLOOKUP('CEV-CEVE'!$E$10,$BN$7:$BZ$16,1+E141,0)),1,0)),0)","v":0},{"$f":"+IFERROR(IF(T141>VLOOKUP('CEV-CEVE'!$E$10,$BN$20:$BZ$29,1+E141,0),1,0),0)","v":0}]
[null,null,null,null,null,null,null,null,null,null,null,null,null,null,null,null,null,null,null,null,null,null,null,null,null,null,null,null,null,null,null,null,null,null,null,null,null,null,null,null,null,null,null,null,null,null,null,null,null,null,null,null,null,null,null,null,null,6,"Caso Propuesto Con Clima",{"$f":"+IFERROR(IF(BF142=\"\",0,IF(T142<IF(OR(BF142<=$BP$3,BF142>=$BO$3),VLOOKUP('CEV-CEVE'!$E$10,$BN$7:$BZ$16,1+E142,0)-2,VLOOKUP('CEV-CEVE'!$E$10,$BN$7:$BZ$16,1+E142,0)),1,0)),0)","v":0},{"$f":"+IFERROR(IF(T142>VLOOKUP('CEV-CEVE'!$E$10,$BN$20:$BZ$29,1+E142,0),1,0),0)","v":0}]
[null,null,null,null,null,null,null,null,null,null,null,null,null,null,null,null,null,null,null,null,null,null,null,null,null,null,null,null,null,null,null,null,null,null,null,null,null,null,null,null,null,null,null,null,null,null,null,null,null,null,null,null,null,null,null,null,null,7,"Caso Propuesto Con Clima",{"$f":"+IFERROR(IF(BF143=\"\",0,IF(T143<IF(OR(BF143<=$BP$3,BF143>=$BO$3),VLOOKUP('CEV-CEVE'!$E$10,$BN$7:$BZ$16,1+E143,0)-2,VLOOKUP('CEV-CEVE'!$E$10,$BN$7:$BZ$16,1+E143,0)),1,0)),0)","v":0},{"$f":"+IFERROR(IF(T143>VLOOKUP('CEV-CEVE'!$E$10,$BN$20:$BZ$29,1+E143,0),1,0),0)","v":0}]
[null,null,null,null,null,null,null,null,null,null,null,null,null,null,null,null,null,null,null,null,null,null,null,null,null,null,null,null,null,null,null,null,null,null,null,null,null,null,null,null,null,null,null,null,null,null,null,null,null,null,null,null,null,null,null,null,null,8,"Caso Propuesto Con Clima",{"$f":"+IFERROR(IF(BF144=\"\",0,IF(T144<IF(OR(BF144<=$BP$3,BF144>=$BO$3),VLOOKUP('CEV-CEVE'!$E$10,$BN$7:$BZ$16,1+E144,0)-2,VLOOKUP('CEV-CEVE'!$E$10,$BN$7:$BZ$16,1+E144,0)),1,0)),0)","v":0},{"$f":"+IFERROR(IF(T144>VLOOKUP('CEV-CEVE'!$E$10,$BN$20:$BZ$29,1+E144,0),1,0),0)","v":0}]
[null,null,null,null,null,null,null,null,null,null,null,null,null,null,null,null,null,null,null,null,null,null,null,null,null,null,null,null,null,null,null,null,null,null,null,null,null,null,null,null,null,null,null,null,null,null,null,null,null,null,null,null,null,null,null,null,null,9,"Caso Propuesto Con Clima",{"$f":"+IFERROR(IF(BF145=\"\",0,IF(T145<IF(OR(BF145<=$BP$3,BF145>=$BO$3),VLOOKUP('CEV-CEVE'!$E$10,$BN$7:$BZ$16,1+E145,0)-2,VLOOKUP('CEV-CEVE'!$E$10,$BN$7:$BZ$16,1+E145,0)),1,0)),0)","v":0},{"$f":"+IFERROR(IF(T145>VLOOKUP('CEV-CEVE'!$E$10,$BN$20:$BZ$29,1+E145,0),1,0),0)","v":0}]
[null,null,null,null,null,null,null,null,null,null,null,null,null,null,null,null,null,null,null,null,null,null,null,null,null,null,null,null,null,null,null,null,null,null,null,null,null,null,null,null,null,null,null,null,null,null,null,null,null,null,null,null,null,null,null,null,null,10,"Caso Propuesto Con Clima",{"$f":"+IFERROR(IF(BF146=\"\",0,IF(T146<IF(OR(BF146<=$BP$3,BF146>=$BO$3),VLOOKUP('CEV-CEVE'!$E$10,$BN$7:$BZ$16,1+E146,0)-2,VLOOKUP('CEV-CEVE'!$E$10,$BN$7:$BZ$16,1+E146,0)),1,0)),0)","v":0},{"$f":"+IFERROR(IF(T146>VLOOKUP('CEV-CEVE'!$E$10,$BN$20:$BZ$29,1+E146,0),1,0),0)","v":0}]
[null,null,null,null,null,null,null,null,null,null,null,null,null,null,null,null,null,null,null,null,null,null,null,null,null,null,null,null,null,null,null,null,null,null,null,null,null,null,null,null,null,null,null,null,null,null,null,null,null,null,null,null,null,null,null,null,null,11,"Caso Propuesto Con Clima",{"$f":"+IFERROR(IF(BF147=\"\",0,IF(T147<IF(OR(BF147<=$BP$3,BF147>=$BO$3),VLOOKUP('CEV-CEVE'!$E$10,$BN$7:$BZ$16,1+E147,0)-2,VLOOKUP('CEV-CEVE'!$E$10,$BN$7:$BZ$16,1+E147,0)),1,0)),0)","v":0},{"$f":"+IFERROR(IF(T147>VLOOKUP('CEV-CEVE'!$E$10,$BN$20:$BZ$29,1+E147,0),1,0),0)","v":0}]
[null,null,null,null,null,null,null,null,null,null,null,null,null,null,null,null,null,null,null,null,null,null,null,null,null,null,null,null,null,null,null,null,null,null,null,null,null,null,null,null,null,null,null,null,null,null,null,null,null,null,null,null,null,null,null,null,null,12,"Caso Propuesto Con Clima",{"$f":"+IFERROR(IF(BF148=\"\",0,IF(T148<IF(OR(BF148<=$BP$3,BF148>=$BO$3),VLOOKUP('CEV-CEVE'!$E$10,$BN$7:$BZ$16,1+E148,0)-2,VLOOKUP('CEV-CEVE'!$E$10,$BN$7:$BZ$16,1+E148,0)),1,0)),0)","v":0},{"$f":"+IFERROR(IF(T148>VLOOKUP('CEV-CEVE'!$E$10,$BN$20:$BZ$29,1+E148,0),1,0),0)","v":0}]
[null,null,null,null,null,null,null,null,null,null,null,null,null,null,null,null,null,null,null,null,null,null,null,null,null,null,null,null,null,null,null,null,null,null,null,null,null,null,null,null,null,null,null,null,null,null,null,null,null,null,null,null,null,null,null,null,null,13,"Caso Propuesto Con Clima",{"$f":"+IFERROR(IF(BF149=\"\",0,IF(T149<IF(OR(BF149<=$BP$3,BF149>=$BO$3),VLOOKUP('CEV-CEVE'!$E$10,$BN$7:$BZ$16,1+E149,0)-2,VLOOKUP('CEV-CEVE'!$E$10,$BN$7:$BZ$16,1+E149,0)),1,0)),0)","v":0},{"$f":"+IFERROR(IF(T149>VLOOKUP('CEV-CEVE'!$E$10,$BN$20:$BZ$29,1+E149,0),1,0),0)","v":0}]
[null,null,null,null,null,null,null,null,null,null,null,null,null,null,null,null,null,null,null,null,null,null,null,null,null,null,null,null,null,null,null,null,null,null,null,null,null,null,null,null,null,null,null,null,null,null,null,null,null,null,null,null,null,null,null,null,null,14,"Caso Propuesto Con Clima",{"$f":"+IFERROR(IF(BF150=\"\",0,IF(T150<IF(OR(BF150<=$BP$3,BF150>=$BO$3),VLOOKUP('CEV-CEVE'!$E$10,$BN$7:$BZ$16,1+E150,0)-2,VLOOKUP('CEV-CEVE'!$E$10,$BN$7:$BZ$16,1+E150,0)),1,0)),0)","v":0},{"$f":"+IFERROR(IF(T150>VLOOKUP('CEV-CEVE'!$E$10,$BN$20:$BZ$29,1+E150,0),1,0),0)","v":0}]
[null,null,null,null,null,null,null,null,null,null,null,null,null,null,null,null,null,null,null,null,null,null,null,null,null,null,null,null,null,null,null,null,null,null,null,null,null,null,null,null,null,null,null,null,null,null,null,null,null,null,null,null,null,null,null,null,null,15,"Caso Propuesto Con Clima",{"$f":"+IFERROR(IF(BF151=\"\",0,IF(T151<IF(OR(BF151<=$BP$3,BF151>=$BO$3),VLOOKUP('CEV-CEVE'!$E$10,$BN$7:$BZ$16,1+E151,0)-2,VLOOKUP('CEV-CEVE'!$E$10,$BN$7:$BZ$16,1+E151,0)),1,0)),0)","v":0},{"$f":"+IFERROR(IF(T151>VLOOKUP('CEV-CEVE'!$E$10,$BN$20:$BZ$29,1+E151,0),1,0),0)","v":0}]
[null,null,null,null,null,null,null,null,null,null,null,null,null,null,null,null,null,null,null,null,null,null,null,null,null,null,null,null,null,null,null,null,null,null,null,null,null,null,null,null,null,null,null,null,null,null,null,null,null,null,null,null,null,null,null,null,null,16,"Caso Propuesto Con Clima",{"$f":"+IFERROR(IF(BF152=\"\",0,IF(T152<IF(OR(BF152<=$BP$3,BF152>=$BO$3),VLOOKUP('CEV-CEVE'!$E$10,$BN$7:$BZ$16,1+E152,0)-2,VLOOKUP('CEV-CEVE'!$E$10,$BN$7:$BZ$16,1+E152,0)),1,0)),0)","v":0},{"$f":"+IFERROR(IF(T152>VLOOKUP('CEV-CEVE'!$E$10,$BN$20:$BZ$29,1+E152,0),1,0),0)","v":0}]
[null,null,null,null,null,null,null,null,null,null,null,null,null,null,null,null,null,null,null,null,null,null,null,null,null,null,null,null,null,null,null,null,null,null,null,null,null,null,null,null,null,null,null,null,null,null,null,null,null,null,null,null,null,null,null,null,null,17,"Caso Propuesto Con Clima",{"$f":"+IFERROR(IF(BF153=\"\",0,IF(T153<IF(OR(BF153<=$BP$3,BF153>=$BO$3),VLOOKUP('CEV-CEVE'!$E$10,$BN$7:$BZ$16,1+E153,0)-2,VLOOKUP('CEV-CEVE'!$E$10,$BN$7:$BZ$16,1+E153,0)),1,0)),0)","v":0},{"$f":"+IFERROR(IF(T153>VLOOKUP('CEV-CEVE'!$E$10,$BN$20:$BZ$29,1+E153,0),1,0),0)","v":0}]
[null,null,null,null,null,null,null,null,null,null,null,null,null,null,null,null,null,null,null,null,null,null,null,null,null,null,null,null,null,null,null,null,null,null,null,null,null,null,null,null,null,null,null,null,null,null,null,null,null,null,null,null,null,null,null,null,null,18,"Caso Propuesto Con Clima",{"$f":"+IFERROR(IF(BF154=\"\",0,IF(T154<IF(OR(BF154<=$BP$3,BF154>=$BO$3),VLOOKUP('CEV-CEVE'!$E$10,$BN$7:$BZ$16,1+E154,0)-2,VLOOKUP('CEV-CEVE'!$E$10,$BN$7:$BZ$16,1+E154,0)),1,0)),0)","v":0},{"$f":"+IFERROR(IF(T154>VLOOKUP('CEV-CEVE'!$E$10,$BN$20:$BZ$29,1+E154,0),1,0),0)","v":0}]
[null,null,null,null,null,null,null,null,null,null,null,null,null,null,null,null,null,null,null,null,null,null,null,null,null,null,null,null,null,null,null,null,null,null,null,null,null,null,null,null,null,null,null,null,null,null,null,null,null,null,null,null,null,null,null,null,null,19,"Caso Propuesto Con Clima",{"$f":"+IFERROR(IF(BF155=\"\",0,IF(T155<IF(OR(BF155<=$BP$3,BF155>=$BO$3),VLOOKUP('CEV-CEVE'!$E$10,$BN$7:$BZ$16,1+E155,0)-2,VLOOKUP('CEV-CEVE'!$E$10,$BN$7:$BZ$16,1+E155,0)),1,0)),0)","v":0},{"$f":"+IFERROR(IF(T155>VLOOKUP('CEV-CEVE'!$E$10,$BN$20:$BZ$29,1+E155,0),1,0),0)","v":0}]
[null,null,null,null,null,null,null,null,null,null,null,null,null,null,null,null,null,null,null,null,null,null,null,null,null,null,null,null,null,null,null,null,null,null,null,null,null,null,null,null,null,null,null,null,null,null,null,null,null,null,null,null,null,null,null,null,null,20,"Caso Propuesto Con Clima",{"$f":"+IFERROR(IF(BF156=\"\",0,IF(T156<IF(OR(BF156<=$BP$3,BF156>=$BO$3),VLOOKUP('CEV-CEVE'!$E$10,$BN$7:$BZ$16,1+E156,0)-2,VLOOKUP('CEV-CEVE'!$E$10,$BN$7:$BZ$16,1+E156,0)),1,0)),0)","v":0},{"$f":"+IFERROR(IF(T156>VLOOKUP('CEV-CEVE'!$E$10,$BN$20:$BZ$29,1+E156,0),1,0),0)","v":0}]
[null,null,null,null,null,null,null,null,null,null,null,null,null,null,null,null,null,null,null,null,null,null,null,null,null,null,null,null,null,null,null,null,null,null,null,null,null,null,null,null,null,null,null,null,null,null,null,null,null,null,null,null,null,null,null,null,null,21,"Caso Propuesto Con Clima",{"$f":"+IFERROR(IF(BF157=\"\",0,IF(T157<IF(OR(BF157<=$BP$3,BF157>=$BO$3),VLOOKUP('CEV-CEVE'!$E$10,$BN$7:$BZ$16,1+E157,0)-2,VLOOKUP('CEV-CEVE'!$E$10,$BN$7:$BZ$16,1+E157,0)),1,0)),0)","v":0},{"$f":"+IFERROR(IF(T157>VLOOKUP('CEV-CEVE'!$E$10,$BN$20:$BZ$29,1+E157,0),1,0),0)","v":0}]
[null,null,null,null,null,null,null,null,null,null,null,null,null,null,null,null,null,null,null,null,null,null,null,null,null,null,null,null,null,null,null,null,null,null,null,null,null,null,null,null,null,null,null,null,null,null,null,null,null,null,null,null,null,null,null,null,null,22,"Caso Propuesto Con Clima",{"$f":"+IFERROR(IF(BF158=\"\",0,IF(T158<IF(OR(BF158<=$BP$3,BF158>=$BO$3),VLOOKUP('CEV-CEVE'!$E$10,$BN$7:$BZ$16,1+E158,0)-2,VLOOKUP('CEV-CEVE'!$E$10,$BN$7:$BZ$16,1+E158,0)),1,0)),0)","v":0},{"$f":"+IFERROR(IF(T158>VLOOKUP('CEV-CEVE'!$E$10,$BN$20:$BZ$29,1+E158,0),1,0),0)","v":0}]
[null,null,null,null,null,null,null,null,null,null,null,null,null,null,null,null,null,null,null,null,null,null,null,null,null,null,null,null,null,null,null,null,null,null,null,null,null,null,null,null,null,null,null,null,null,null,null,null,null,null,null,null,null,null,null,null,null,23,"Caso Propuesto Con Clima",{"$f":"+IFERROR(IF(BF159=\"\",0,IF(T159<IF(OR(BF159<=$BP$3,BF159>=$BO$3),VLOOKUP('CEV-CEVE'!$E$10,$BN$7:$BZ$16,1+E159,0)-2,VLOOKUP('CEV-CEVE'!$E$10,$BN$7:$BZ$16,1+E159,0)),1,0)),0)","v":0},{"$f":"+IFERROR(IF(T159>VLOOKUP('CEV-CEVE'!$E$10,$BN$20:$BZ$29,1+E159,0),1,0),0)","v":0}]
[null,null,null,null,null,null,null,null,null,null,null,null,null,null,null,null,null,null,null,null,null,null,null,null,null,null,null,null,null,null,null,null,null,null,null,null,null,null,null,null,null,null,null,null,null,null,null,null,null,null,null,null,null,null,null,null,null,null,"Caso Propuesto Con Clima",{"$f":"+IFERROR(IF(BF160=\"\",0,IF(T160<IF(OR(BF160<=$BP$3,BF160>=$BO$3),VLOOKUP('CEV-CEVE'!$E$10,$BN$7:$BZ$16,1+E160,0)-2,VLOOKUP('CEV-CEVE'!$E$10,$BN$7:$BZ$16,1+E160,0)),1,0)),0)","v":0},{"$f":"+IFERROR(IF(T160>VLOOKUP('CEV-CEVE'!$E$10,$BN$20:$BZ$29,1+E160,0),1,0),0)","v":0}]
[null,null,null,null,null,null,null,null,null,null,null,null,null,null,null,null,null,null,null,null,null,null,null,null,null,null,null,null,null,null,null,null,null,null,null,null,null,null,null,null,null,null,null,null,null,null,null,null,null,null,null,null,null,null,null,null,null,null,"Caso Propuesto Con Clima",{"$f":"+IFERROR(IF(BF161=\"\",0,IF(T161<IF(OR(BF161<=$BP$3,BF161>=$BO$3),VLOOKUP('CEV-CEVE'!$E$10,$BN$7:$BZ$16,1+E161,0)-2,VLOOKUP('CEV-CEVE'!$E$10,$BN$7:$BZ$16,1+E161,0)),1,0)),0)","v":0},{"$f":"+IFERROR(IF(T161>VLOOKUP('CEV-CEVE'!$E$10,$BN$20:$BZ$29,1+E161,0),1,0),0)","v":0}]
[null,null,null,null,null,null,null,null,null,null,null,null,null,null,null,null,null,null,null,null,null,null,null,null,null,null,null,null,null,null,null,null,null,null,null,null,null,null,null,null,null,null,null,null,null,null,null,null,null,null,null,null,null,null,null,null,null,0,"Caso Propuesto Con Clima",{"$f":"+IFERROR(IF(BF162=\"\",0,IF(T162<IF(OR(BF162<=$BP$3,BF162>=$BO$3),VLOOKUP('CEV-CEVE'!$E$10,$BN$7:$BZ$16,1+E162,0)-2,VLOOKUP('CEV-CEVE'!$E$10,$BN$7:$BZ$16,1+E162,0)),1,0)),0)","v":0},{"$f":"+IFERROR(IF(T162>VLOOKUP('CEV-CEVE'!$E$10,$BN$20:$BZ$29,1+E162,0),1,0),0)","v":0}]
[null,null,null,null,null,null,null,null,null,null,null,null,null,null,null,null,null,null,null,null,null,null,null,null,null,null,null,null,null,null,null,null,null,null,null,null,null,null,null,null,null,null,null,null,null,null,null,null,null,null,null,null,null,null,null,null,null,{"$f":"+BF162+1","v":1},"Caso Propuesto Con Clima",{"$f":"+IFERROR(IF(BF163=\"\",0,IF(T163<IF(OR(BF163<=$BP$3,BF163>=$BO$3),VLOOKUP('CEV-CEVE'!$E$10,$BN$7:$BZ$16,1+E163,0)-2,VLOOKUP('CEV-CEVE'!$E$10,$BN$7:$BZ$16,1+E163,0)),1,0)),0)","v":0},{"$f":"+IFERROR(IF(T163>VLOOKUP('CEV-CEVE'!$E$10,$BN$20:$BZ$29,1+E163,0),1,0),0)","v":0}]
[null,null,null,null,null,null,null,null,null,null,null,null,null,null,null,null,null,null,null,null,null,null,null,null,null,null,null,null,null,null,null,null,null,null,null,null,null,null,null,null,null,null,null,null,null,null,null,null,null,null,null,null,null,null,null,null,null,{"$f":"+BF163+1","v":2},"Caso Propuesto Con Clima",{"$f":"+IFERROR(IF(BF164=\"\",0,IF(T164<IF(OR(BF164<=$BP$3,BF164>=$BO$3),VLOOKUP('CEV-CEVE'!$E$10,$BN$7:$BZ$16,1+E164,0)-2,VLOOKUP('CEV-CEVE'!$E$10,$BN$7:$BZ$16,1+E164,0)),1,0)),0)","v":0},{"$f":"+IFERROR(IF(T164>VLOOKUP('CEV-CEVE'!$E$10,$BN$20:$BZ$29,1+E164,0),1,0),0)","v":0}]
[null,null,null,null,null,null,null,null,null,null,null,null,null,null,null,null,null,null,null,null,null,null,null,null,null,null,null,null,null,null,null,null,null,null,null,null,null,null,null,null,null,null,null,null,null,null,null,null,null,null,null,null,null,null,null,null,null,3,"Caso Propuesto Con Clima",{"$f":"+IFERROR(IF(BF165=\"\",0,IF(T165<IF(OR(BF165<=$BP$3,BF165>=$BO$3),VLOOKUP('CEV-CEVE'!$E$10,$BN$7:$BZ$16,1+E165,0)-2,VLOOKUP('CEV-CEVE'!$E$10,$BN$7:$BZ$16,1+E165,0)),1,0)),0)","v":0},{"$f":"+IFERROR(IF(T165>VLOOKUP('CEV-CEVE'!$E$10,$BN$20:$BZ$29,1+E165,0),1,0),0)","v":0}]
[null,null,null,null,null,null,null,null,null,null,null,null,null,null,null,null,null,null,null,null,null,null,null,null,null,null,null,null,null,null,null,null,null,null,null,null,null,null,null,null,null,null,null,null,null,null,null,null,null,null,null,null,null,null,null,null,null,4,"Caso Propuesto Con Clima",{"$f":"+IFERROR(IF(BF166=\"\",0,IF(T166<IF(OR(BF166<=$BP$3,BF166>=$BO$3),VLOOKUP('CEV-CEVE'!$E$10,$BN$7:$BZ$16,1+E166,0)-2,VLOOKUP('CEV-CEVE'!$E$10,$BN$7:$BZ$16,1+E166,0)),1,0)),0)","v":0},{"$f":"+IFERROR(IF(T166>VLOOKUP('CEV-CEVE'!$E$10,$BN$20:$BZ$29,1+E166,0),1,0),0)","v":0}]
[null,null,null,null,null,null,null,null,null,null,null,null,null,null,null,null,null,null,null,null,null,null,null,null,null,null,null,null,null,null,null,null,null,null,null,null,null,null,null,null,null,null,null,null,null,null,null,null,null,null,null,null,null,null,null,null,null,5,"Caso Propuesto Con Clima",{"$f":"+IFERROR(IF(BF167=\"\",0,IF(T167<IF(OR(BF167<=$BP$3,BF167>=$BO$3),VLOOKUP('CEV-CEVE'!$E$10,$BN$7:$BZ$16,1+E167,0)-2,VLOOKUP('CEV-CEVE'!$E$10,$BN$7:$BZ$16,1+E167,0)),1,0)),0)","v":0},{"$f":"+IFERROR(IF(T167>VLOOKUP('CEV-CEVE'!$E$10,$BN$20:$BZ$29,1+E167,0),1,0),0)","v":0}]
[null,null,null,null,null,null,null,null,null,null,null,null,null,null,null,null,null,null,null,null,null,null,null,null,null,null,null,null,null,null,null,null,null,null,null,null,null,null,null,null,null,null,null,null,null,null,null,null,null,null,null,null,null,null,null,null,null,6,"Caso Propuesto Con Clima",{"$f":"+IFERROR(IF(BF168=\"\",0,IF(T168<IF(OR(BF168<=$BP$3,BF168>=$BO$3),VLOOKUP('CEV-CEVE'!$E$10,$BN$7:$BZ$16,1+E168,0)-2,VLOOKUP('CEV-CEVE'!$E$10,$BN$7:$BZ$16,1+E168,0)),1,0)),0)","v":0},{"$f":"+IFERROR(IF(T168>VLOOKUP('CEV-CEVE'!$E$10,$BN$20:$BZ$29,1+E168,0),1,0),0)","v":0}]
[null,null,null,null,null,null,null,null,null,null,null,null,null,null,null,null,null,null,null,null,null,null,null,null,null,null,null,null,null,null,null,null,null,null,null,null,null,null,null,null,null,null,null,null,null,null,null,null,null,null,null,null,null,null,null,null,null,7,"Caso Propuesto Con Clima",{"$f":"+IFERROR(IF(BF169=\"\",0,IF(T169<IF(OR(BF169<=$BP$3,BF169>=$BO$3),VLOOKUP('CEV-CEVE'!$E$10,$BN$7:$BZ$16,1+E169,0)-2,VLOOKUP('CEV-CEVE'!$E$10,$BN$7:$BZ$16,1+E169,0)),1,0)),0)","v":0},{"$f":"+IFERROR(IF(T169>VLOOKUP('CEV-CEVE'!$E$10,$BN$20:$BZ$29,1+E169,0),1,0),0)","v":0}]
[null,null,null,null,null,null,null,null,null,null,null,null,null,null,null,null,null,null,null,null,null,null,null,null,null,null,null,null,null,null,null,null,null,null,null,null,null,null,null,null,null,null,null,null,null,null,null,null,null,null,null,null,null,null,null,null,null,8,"Caso Propuesto Con Clima",{"$f":"+IFERROR(IF(BF170=\"\",0,IF(T170<IF(OR(BF170<=$BP$3,BF170>=$BO$3),VLOOKUP('CEV-CEVE'!$E$10,$BN$7:$BZ$16,1+E170,0)-2,VLOOKUP('CEV-CEVE'!$E$10,$BN$7:$BZ$16,1+E170,0)),1,0)),0)","v":0},{"$f":"+IFERROR(IF(T170>VLOOKUP('CEV-CEVE'!$E$10,$BN$20:$BZ$29,1+E170,0),1,0),0)","v":0}]
[null,null,null,null,null,null,null,null,null,null,null,null,null,null,null,null,null,null,null,null,null,null,null,null,null,null,null,null,null,null,null,null,null,null,null,null,null,null,null,null,null,null,null,null,null,null,null,null,null,null,null,null,null,null,null,null,null,9,"Caso Propuesto Con Clima",{"$f":"+IFERROR(IF(BF171=\"\",0,IF(T171<IF(OR(BF171<=$BP$3,BF171>=$BO$3),VLOOKUP('CEV-CEVE'!$E$10,$BN$7:$BZ$16,1+E171,0)-2,VLOOKUP('CEV-CEVE'!$E$10,$BN$7:$BZ$16,1+E171,0)),1,0)),0)","v":0},{"$f":"+IFERROR(IF(T171>VLOOKUP('CEV-CEVE'!$E$10,$BN$20:$BZ$29,1+E171,0),1,0),0)","v":0}]
[null,null,null,null,null,null,null,null,null,null,null,null,null,null,null,null,null,null,null,null,null,null,null,null,null,null,null,null,null,null,null,null,null,null,null,null,null,null,null,null,null,null,null,null,null,null,null,null,null,null,null,null,null,null,null,null,null,10,"Caso Propuesto Con Clima",{"$f":"+IFERROR(IF(BF172=\"\",0,IF(T172<IF(OR(BF172<=$BP$3,BF172>=$BO$3),VLOOKUP('CEV-CEVE'!$E$10,$BN$7:$BZ$16,1+E172,0)-2,VLOOKUP('CEV-CEVE'!$E$10,$BN$7:$BZ$16,1+E172,0)),1,0)),0)","v":0},{"$f":"+IFERROR(IF(T172>VLOOKUP('CEV-CEVE'!$E$10,$BN$20:$BZ$29,1+E172,0),1,0),0)","v":0}]
[null,null,null,null,null,null,null,null,null,null,null,null,null,null,null,null,null,null,null,null,null,null,null,null,null,null,null,null,null,null,null,null,null,null,null,null,null,null,null,null,null,null,null,null,null,null,null,null,null,null,null,null,null,null,null,null,null,11,"Caso Propuesto Con Clima",{"$f":"+IFERROR(IF(BF173=\"\",0,IF(T173<IF(OR(BF173<=$BP$3,BF173>=$BO$3),VLOOKUP('CEV-CEVE'!$E$10,$BN$7:$BZ$16,1+E173,0)-2,VLOOKUP('CEV-CEVE'!$E$10,$BN$7:$BZ$16,1+E173,0)),1,0)),0)","v":0},{"$f":"+IFERROR(IF(T173>VLOOKUP('CEV-CEVE'!$E$10,$BN$20:$BZ$29,1+E173,0),1,0),0)","v":0}]
[null,null,null,null,null,null,null,null,null,null,null,null,null,null,null,null,null,null,null,null,null,null,null,null,null,null,null,null,null,null,null,null,null,null,null,null,null,null,null,null,null,null,null,null,null,null,null,null,null,null,null,null,null,null,null,null,null,12,"Caso Propuesto Con Clima",{"$f":"+IFERROR(IF(BF174=\"\",0,IF(T174<IF(OR(BF174<=$BP$3,BF174>=$BO$3),VLOOKUP('CEV-CEVE'!$E$10,$BN$7:$BZ$16,1+E174,0)-2,VLOOKUP('CEV-CEVE'!$E$10,$BN$7:$BZ$16,1+E174,0)),1,0)),0)","v":0},{"$f":"+IFERROR(IF(T174>VLOOKUP('CEV-CEVE'!$E$10,$BN$20:$BZ$29,1+E174,0),1,0),0)","v":0}]
[null,null,null,null,null,null,null,null,null,null,null,null,null,null,null,null,null,null,null,null,null,null,null,null,null,null,null,null,null,null,null,null,null,null,null,null,null,null,null,null,null,null,null,null,null,null,null,null,null,null,null,null,null,null,null,null,null,13,"Caso Propuesto Con Clima",{"$f":"+IFERROR(IF(BF175=\"\",0,IF(T175<IF(OR(BF175<=$BP$3,BF175>=$BO$3),VLOOKUP('CEV-CEVE'!$E$10,$BN$7:$BZ$16,1+E175,0)-2,VLOOKUP('CEV-CEVE'!$E$10,$BN$7:$BZ$16,1+E175,0)),1,0)),0)","v":0},{"$f":"+IFERROR(IF(T175>VLOOKUP('CEV-CEVE'!$E$10,$BN$20:$BZ$29,1+E175,0),1,0),0)","v":0}]
[null,null,null,null,null,null,null,null,null,null,null,null,null,null,null,null,null,null,null,null,null,null,null,null,null,null,null,null,null,null,null,null,null,null,null,null,null,null,null,null,null,null,null,null,null,null,null,null,null,null,null,null,null,null,null,null,null,14,"Caso Propuesto Con Clima",{"$f":"+IFERROR(IF(BF176=\"\",0,IF(T176<IF(OR(BF176<=$BP$3,BF176>=$BO$3),VLOOKUP('CEV-CEVE'!$E$10,$BN$7:$BZ$16,1+E176,0)-2,VLOOKUP('CEV-CEVE'!$E$10,$BN$7:$BZ$16,1+E176,0)),1,0)),0)","v":0},{"$f":"+IFERROR(IF(T176>VLOOKUP('CEV-CEVE'!$E$10,$BN$20:$BZ$29,1+E176,0),1,0),0)","v":0}]
[null,null,null,null,null,null,null,null,null,null,null,null,null,null,null,null,null,null,null,null,null,null,null,null,null,null,null,null,null,null,null,null,null,null,null,null,null,null,null,null,null,null,null,null,null,null,null,null,null,null,null,null,null,null,null,null,null,15,"Caso Propuesto Con Clima",{"$f":"+IFERROR(IF(BF177=\"\",0,IF(T177<IF(OR(BF177<=$BP$3,BF177>=$BO$3),VLOOKUP('CEV-CEVE'!$E$10,$BN$7:$BZ$16,1+E177,0)-2,VLOOKUP('CEV-CEVE'!$E$10,$BN$7:$BZ$16,1+E177,0)),1,0)),0)","v":0},{"$f":"+IFERROR(IF(T177>VLOOKUP('CEV-CEVE'!$E$10,$BN$20:$BZ$29,1+E177,0),1,0),0)","v":0}]
[null,null,null,null,null,null,null,null,null,null,null,null,null,null,null,null,null,null,null,null,null,null,null,null,null,null,null,null,null,null,null,null,null,null,null,null,null,null,null,null,null,null,null,null,null,null,null,null,null,null,null,null,null,null,null,null,null,16,"Caso Propuesto Con Clima",{"$f":"+IFERROR(IF(BF178=\"\",0,IF(T178<IF(OR(BF178<=$BP$3,BF178>=$BO$3),VLOOKUP('CEV-CEVE'!$E$10,$BN$7:$BZ$16,1+E178,0)-2,VLOOKUP('CEV-CEVE'!$E$10,$BN$7:$BZ$16,1+E178,0)),1,0)),0)","v":0},{"$f":"+IFERROR(IF(T178>VLOOKUP('CEV-CEVE'!$E$10,$BN$20:$BZ$29,1+E178,0),1,0),0)","v":0}]
[null,null,null,null,null,null,null,null,null,null,null,null,null,null,null,null,null,null,null,null,null,null,null,null,null,null,null,null,null,null,null,null,null,null,null,null,null,null,null,null,null,null,null,null,null,null,null,null,null,null,null,null,null,null,null,null,null,17,"Caso Propuesto Con Clima",{"$f":"+IFERROR(IF(BF179=\"\",0,IF(T179<IF(OR(BF179<=$BP$3,BF179>=$BO$3),VLOOKUP('CEV-CEVE'!$E$10,$BN$7:$BZ$16,1+E179,0)-2,VLOOKUP('CEV-CEVE'!$E$10,$BN$7:$BZ$16,1+E179,0)),1,0)),0)","v":0},{"$f":"+IFERROR(IF(T179>VLOOKUP('CEV-CEVE'!$E$10,$BN$20:$BZ$29,1+E179,0),1,0),0)","v":0}]
[null,null,null,null,null,null,null,null,null,null,null,null,null,null,null,null,null,null,null,null,null,null,null,null,null,null,null,null,null,null,null,null,null,null,null,null,null,null,null,null,null,null,null,null,null,null,null,null,null,null,null,null,null,null,null,null,null,18,"Caso Propuesto Con Clima",{"$f":"+IFERROR(IF(BF180=\"\",0,IF(T180<IF(OR(BF180<=$BP$3,BF180>=$BO$3),VLOOKUP('CEV-CEVE'!$E$10,$BN$7:$BZ$16,1+E180,0)-2,VLOOKUP('CEV-CEVE'!$E$10,$BN$7:$BZ$16,1+E180,0)),1,0)),0)","v":0},{"$f":"+IFERROR(IF(T180>VLOOKUP('CEV-CEVE'!$E$10,$BN$20:$BZ$29,1+E180,0),1,0),0)","v":0}]
[null,null,null,null,null,null,null,null,null,null,null,null,null,null,null,null,null,null,null,null,null,null,null,null,null,null,null,null,null,null,null,null,null,null,null,null,null,null,null,null,null,null,null,null,null,null,null,null,null,null,null,null,null,null,null,null,null,19,"Caso Propuesto Con Clima",{"$f":"+IFERROR(IF(BF181=\"\",0,IF(T181<IF(OR(BF181<=$BP$3,BF181>=$BO$3),VLOOKUP('CEV-CEVE'!$E$10,$BN$7:$BZ$16,1+E181,0)-2,VLOOKUP('CEV-CEVE'!$E$10,$BN$7:$BZ$16,1+E181,0)),1,0)),0)","v":0},{"$f":"+IFERROR(IF(T181>VLOOKUP('CEV-CEVE'!$E$10,$BN$20:$BZ$29,1+E181,0),1,0),0)","v":0}]
[null,null,null,null,null,null,null,null,null,null,null,null,null,null,null,null,null,null,null,null,null,null,null,null,null,null,null,null,null,null,null,null,null,null,null,null,null,null,null,null,null,null,null,null,null,null,null,null,null,null,null,null,null,null,null,null,null,20,"Caso Propuesto Con Clima",{"$f":"+IFERROR(IF(BF182=\"\",0,IF(T182<IF(OR(BF182<=$BP$3,BF182>=$BO$3),VLOOKUP('CEV-CEVE'!$E$10,$BN$7:$BZ$16,1+E182,0)-2,VLOOKUP('CEV-CEVE'!$E$10,$BN$7:$BZ$16,1+E182,0)),1,0)),0)","v":0},{"$f":"+IFERROR(IF(T182>VLOOKUP('CEV-CEVE'!$E$10,$BN$20:$BZ$29,1+E182,0),1,0),0)","v":0}]
[null,null,null,null,null,null,null,null,null,null,null,null,null,null,null,null,null,null,null,null,null,null,null,null,null,null,null,null,null,null,null,null,null,null,null,null,null,null,null,null,null,null,null,null,null,null,null,null,null,null,null,null,null,null,null,null,null,21,"Caso Propuesto Con Clima",{"$f":"+IFERROR(IF(BF183=\"\",0,IF(T183<IF(OR(BF183<=$BP$3,BF183>=$BO$3),VLOOKUP('CEV-CEVE'!$E$10,$BN$7:$BZ$16,1+E183,0)-2,VLOOKUP('CEV-CEVE'!$E$10,$BN$7:$BZ$16,1+E183,0)),1,0)),0)","v":0},{"$f":"+IFERROR(IF(T183>VLOOKUP('CEV-CEVE'!$E$10,$BN$20:$BZ$29,1+E183,0),1,0),0)","v":0}]
[null,null,null,null,null,null,null,null,null,null,null,null,null,null,null,null,null,null,null,null,null,null,null,null,null,null,null,null,null,null,null,null,null,null,null,null,null,null,null,null,null,null,null,null,null,null,null,null,null,null,null,null,null,null,null,null,null,22,"Caso Propuesto Con Clima",{"$f":"+IFERROR(IF(BF184=\"\",0,IF(T184<IF(OR(BF184<=$BP$3,BF184>=$BO$3),VLOOKUP('CEV-CEVE'!$E$10,$BN$7:$BZ$16,1+E184,0)-2,VLOOKUP('CEV-CEVE'!$E$10,$BN$7:$BZ$16,1+E184,0)),1,0)),0)","v":0},{"$f":"+IFERROR(IF(T184>VLOOKUP('CEV-CEVE'!$E$10,$BN$20:$BZ$29,1+E184,0),1,0),0)","v":0}]
[null,null,null,null,null,null,null,null,null,null,null,null,null,null,null,null,null,null,null,null,null,null,null,null,null,null,null,null,null,null,null,null,null,null,null,null,null,null,null,null,null,null,null,null,null,null,null,null,null,null,null,null,null,null,null,null,null,23,"Caso Propuesto Con Clima",{"$f":"+IFERROR(IF(BF185=\"\",0,IF(T185<IF(OR(BF185<=$BP$3,BF185>=$BO$3),VLOOKUP('CEV-CEVE'!$E$10,$BN$7:$BZ$16,1+E185,0)-2,VLOOKUP('CEV-CEVE'!$E$10,$BN$7:$BZ$16,1+E185,0)),1,0)),0)","v":0},{"$f":"+IFERROR(IF(T185>VLOOKUP('CEV-CEVE'!$E$10,$BN$20:$BZ$29,1+E185,0),1,0),0)","v":0}]
[null,null,null,null,null,null,null,null,null,null,null,null,null,null,null,null,null,null,null,null,null,null,null,null,null,null,null,null,null,null,null,null,null,null,null,null,null,null,null,null,null,null,null,null,null,null,null,null,null,null,null,null,null,null,null,null,null,null,"Caso Propuesto Con Clima",{"$f":"+IFERROR(IF(BF186=\"\",0,IF(T186<IF(OR(BF186<=$BP$3,BF186>=$BO$3),VLOOKUP('CEV-CEVE'!$E$10,$BN$7:$BZ$16,1+E186,0)-2,VLOOKUP('CEV-CEVE'!$E$10,$BN$7:$BZ$16,1+E186,0)),1,0)),0)","v":0},{"$f":"+IFERROR(IF(T186>VLOOKUP('CEV-CEVE'!$E$10,$BN$20:$BZ$29,1+E186,0),1,0),0)","v":0}]
[null,null,null,null,null,null,null,null,null,null,null,null,null,null,null,null,null,null,null,null,null,null,null,null,null,null,null,null,null,null,null,null,null,null,null,null,null,null,null,null,null,null,null,null,null,null,null,null,null,null,null,null,null,null,null,null,null,null,"Caso Propuesto Con Clima",{"$f":"+IFERROR(IF(BF187=\"\",0,IF(T187<IF(OR(BF187<=$BP$3,BF187>=$BO$3),VLOOKUP('CEV-CEVE'!$E$10,$BN$7:$BZ$16,1+E187,0)-2,VLOOKUP('CEV-CEVE'!$E$10,$BN$7:$BZ$16,1+E187,0)),1,0)),0)","v":0},{"$f":"+IFERROR(IF(T187>VLOOKUP('CEV-CEVE'!$E$10,$BN$20:$BZ$29,1+E187,0),1,0),0)","v":0}]
[null,null,null,null,null,null,null,null,null,null,null,null,null,null,null,null,null,null,null,null,null,null,null,null,null,null,null,null,null,null,null,null,null,null,null,null,null,null,null,null,null,null,null,null,null,null,null,null,null,null,null,null,null,null,null,null,null,0,"Caso Propuesto Con Clima",{"$f":"+IFERROR(IF(BF188=\"\",0,IF(T188<IF(OR(BF188<=$BP$3,BF188>=$BO$3),VLOOKUP('CEV-CEVE'!$E$10,$BN$7:$BZ$16,1+E188,0)-2,VLOOKUP('CEV-CEVE'!$E$10,$BN$7:$BZ$16,1+E188,0)),1,0)),0)","v":0},{"$f":"+IFERROR(IF(T188>VLOOKUP('CEV-CEVE'!$E$10,$BN$20:$BZ$29,1+E188,0),1,0),0)","v":0}]
[null,null,null,null,null,null,null,null,null,null,null,null,null,null,null,null,null,null,null,null,null,null,null,null,null,null,null,null,null,null,null,null,null,null,null,null,null,null,null,null,null,null,null,null,null,null,null,null,null,null,null,null,null,null,null,null,null,{"$f":"+BF188+1","v":1},"Caso Propuesto Con Clima",{"$f":"+IFERROR(IF(BF189=\"\",0,IF(T189<IF(OR(BF189<=$BP$3,BF189>=$BO$3),VLOOKUP('CEV-CEVE'!$E$10,$BN$7:$BZ$16,1+E189,0)-2,VLOOKUP('CEV-CEVE'!$E$10,$BN$7:$BZ$16,1+E189,0)),1,0)),0)","v":0},{"$f":"+IFERROR(IF(T189>VLOOKUP('CEV-CEVE'!$E$10,$BN$20:$BZ$29,1+E189,0),1,0),0)","v":0}]
[null,null,null,null,null,null,null,null,null,null,null,null,null,null,null,null,null,null,null,null,null,null,null,null,null,null,null,null,null,null,null,null,null,null,null,null,null,null,null,null,null,null,null,null,null,null,null,null,null,null,null,null,null,null,null,null,null,{"$f":"+BF189+1","v":2},"Caso Propuesto Con Clima",{"$f":"+IFERROR(IF(BF190=\"\",0,IF(T190<IF(OR(BF190<=$BP$3,BF190>=$BO$3),VLOOKUP('CEV-CEVE'!$E$10,$BN$7:$BZ$16,1+E190,0)-2,VLOOKUP('CEV-CEVE'!$E$10,$BN$7:$BZ$16,1+E190,0)),1,0)),0)","v":0},{"$f":"+IFERROR(IF(T190>VLOOKUP('CEV-CEVE'!$E$10,$BN$20:$BZ$29,1+E190,0),1,0),0)","v":0}]
[null,null,null,null,null,null,null,null,null,null,null,null,null,null,null,null,null,null,null,null,null,null,null,null,null,null,null,null,null,null,null,null,null,null,null,null,null,null,null,null,null,null,null,null,null,null,null,null,null,null,null,null,null,null,null,null,null,3,"Caso Propuesto Con Clima",{"$f":"+IFERROR(IF(BF191=\"\",0,IF(T191<IF(OR(BF191<=$BP$3,BF191>=$BO$3),VLOOKUP('CEV-CEVE'!$E$10,$BN$7:$BZ$16,1+E191,0)-2,VLOOKUP('CEV-CEVE'!$E$10,$BN$7:$BZ$16,1+E191,0)),1,0)),0)","v":0},{"$f":"+IFERROR(IF(T191>VLOOKUP('CEV-CEVE'!$E$10,$BN$20:$BZ$29,1+E191,0),1,0),0)","v":0}]
[null,null,null,null,null,null,null,null,null,null,null,null,null,null,null,null,null,null,null,null,null,null,null,null,null,null,null,null,null,null,null,null,null,null,null,null,null,null,null,null,null,null,null,null,null,null,null,null,null,null,null,null,null,null,null,null,null,4,"Caso Propuesto Con Clima",{"$f":"+IFERROR(IF(BF192=\"\",0,IF(T192<IF(OR(BF192<=$BP$3,BF192>=$BO$3),VLOOKUP('CEV-CEVE'!$E$10,$BN$7:$BZ$16,1+E192,0)-2,VLOOKUP('CEV-CEVE'!$E$10,$BN$7:$BZ$16,1+E192,0)),1,0)),0)","v":0},{"$f":"+IFERROR(IF(T192>VLOOKUP('CEV-CEVE'!$E$10,$BN$20:$BZ$29,1+E192,0),1,0),0)","v":0}]
[null,null,null,null,null,null,null,null,null,null,null,null,null,null,null,null,null,null,null,null,null,null,null,null,null,null,null,null,null,null,null,null,null,null,null,null,null,null,null,null,null,null,null,null,null,null,null,null,null,null,null,null,null,null,null,null,null,5,"Caso Propuesto Con Clima",{"$f":"+IFERROR(IF(BF193=\"\",0,IF(T193<IF(OR(BF193<=$BP$3,BF193>=$BO$3),VLOOKUP('CEV-CEVE'!$E$10,$BN$7:$BZ$16,1+E193,0)-2,VLOOKUP('CEV-CEVE'!$E$10,$BN$7:$BZ$16,1+E193,0)),1,0)),0)","v":0},{"$f":"+IFERROR(IF(T193>VLOOKUP('CEV-CEVE'!$E$10,$BN$20:$BZ$29,1+E193,0),1,0),0)","v":0}]
[null,null,null,null,null,null,null,null,null,null,null,null,null,null,null,null,null,null,null,null,null,null,null,null,null,null,null,null,null,null,null,null,null,null,null,null,null,null,null,null,null,null,null,null,null,null,null,null,null,null,null,null,null,null,null,null,null,6,"Caso Propuesto Con Clima",{"$f":"+IFERROR(IF(BF194=\"\",0,IF(T194<IF(OR(BF194<=$BP$3,BF194>=$BO$3),VLOOKUP('CEV-CEVE'!$E$10,$BN$7:$BZ$16,1+E194,0)-2,VLOOKUP('CEV-CEVE'!$E$10,$BN$7:$BZ$16,1+E194,0)),1,0)),0)","v":0},{"$f":"+IFERROR(IF(T194>VLOOKUP('CEV-CEVE'!$E$10,$BN$20:$BZ$29,1+E194,0),1,0),0)","v":0}]
[null,null,null,null,null,null,null,null,null,null,null,null,null,null,null,null,null,null,null,null,null,null,null,null,null,null,null,null,null,null,null,null,null,null,null,null,null,null,null,null,null,null,null,null,null,null,null,null,null,null,null,null,null,null,null,null,null,7,"Caso Propuesto Con Clima",{"$f":"+IFERROR(IF(BF195=\"\",0,IF(T195<IF(OR(BF195<=$BP$3,BF195>=$BO$3),VLOOKUP('CEV-CEVE'!$E$10,$BN$7:$BZ$16,1+E195,0)-2,VLOOKUP('CEV-CEVE'!$E$10,$BN$7:$BZ$16,1+E195,0)),1,0)),0)","v":0},{"$f":"+IFERROR(IF(T195>VLOOKUP('CEV-CEVE'!$E$10,$BN$20:$BZ$29,1+E195,0),1,0),0)","v":0}]
[null,null,null,null,null,null,null,null,null,null,null,null,null,null,null,null,null,null,null,null,null,null,null,null,null,null,null,null,null,null,null,null,null,null,null,null,null,null,null,null,null,null,null,null,null,null,null,null,null,null,null,null,null,null,null,null,null,8,"Caso Propuesto Con Clima",{"$f":"+IFERROR(IF(BF196=\"\",0,IF(T196<IF(OR(BF196<=$BP$3,BF196>=$BO$3),VLOOKUP('CEV-CEVE'!$E$10,$BN$7:$BZ$16,1+E196,0)-2,VLOOKUP('CEV-CEVE'!$E$10,$BN$7:$BZ$16,1+E196,0)),1,0)),0)","v":0},{"$f":"+IFERROR(IF(T196>VLOOKUP('CEV-CEVE'!$E$10,$BN$20:$BZ$29,1+E196,0),1,0),0)","v":0}]
[null,null,null,null,null,null,null,null,null,null,null,null,null,null,null,null,null,null,null,null,null,null,null,null,null,null,null,null,null,null,null,null,null,null,null,null,null,null,null,null,null,null,null,null,null,null,null,null,null,null,null,null,null,null,null,null,null,9,"Caso Propuesto Con Clima",{"$f":"+IFERROR(IF(BF197=\"\",0,IF(T197<IF(OR(BF197<=$BP$3,BF197>=$BO$3),VLOOKUP('CEV-CEVE'!$E$10,$BN$7:$BZ$16,1+E197,0)-2,VLOOKUP('CEV-CEVE'!$E$10,$BN$7:$BZ$16,1+E197,0)),1,0)),0)","v":0},{"$f":"+IFERROR(IF(T197>VLOOKUP('CEV-CEVE'!$E$10,$BN$20:$BZ$29,1+E197,0),1,0),0)","v":0}]
[null,null,null,null,null,null,null,null,null,null,null,null,null,null,null,null,null,null,null,null,null,null,null,null,null,null,null,null,null,null,null,null,null,null,null,null,null,null,null,null,null,null,null,null,null,null,null,null,null,null,null,null,null,null,null,null,null,10,"Caso Propuesto Con Clima",{"$f":"+IFERROR(IF(BF198=\"\",0,IF(T198<IF(OR(BF198<=$BP$3,BF198>=$BO$3),VLOOKUP('CEV-CEVE'!$E$10,$BN$7:$BZ$16,1+E198,0)-2,VLOOKUP('CEV-CEVE'!$E$10,$BN$7:$BZ$16,1+E198,0)),1,0)),0)","v":0},{"$f":"+IFERROR(IF(T198>VLOOKUP('CEV-CEVE'!$E$10,$BN$20:$BZ$29,1+E198,0),1,0),0)","v":0}]
[null,null,null,null,null,null,null,null,null,null,null,null,null,null,null,null,null,null,null,null,null,null,null,null,null,null,null,null,null,null,null,null,null,null,null,null,null,null,null,null,null,null,null,null,null,null,null,null,null,null,null,null,null,null,null,null,null,11,"Caso Propuesto Con Clima",{"$f":"+IFERROR(IF(BF199=\"\",0,IF(T199<IF(OR(BF199<=$BP$3,BF199>=$BO$3),VLOOKUP('CEV-CEVE'!$E$10,$BN$7:$BZ$16,1+E199,0)-2,VLOOKUP('CEV-CEVE'!$E$10,$BN$7:$BZ$16,1+E199,0)),1,0)),0)","v":0},{"$f":"+IFERROR(IF(T199>VLOOKUP('CEV-CEVE'!$E$10,$BN$20:$BZ$29,1+E199,0),1,0),0)","v":0}]
[null,null,null,null,null,null,null,null,null,null,null,null,null,null,null,null,null,null,null,null,null,null,null,null,null,null,null,null,null,null,null,null,null,null,null,null,null,null,null,null,null,null,null,null,null,null,null,null,null,null,null,null,null,null,null,null,null,12,"Caso Propuesto Con Clima",{"$f":"+IFERROR(IF(BF200=\"\",0,IF(T200<IF(OR(BF200<=$BP$3,BF200>=$BO$3),VLOOKUP('CEV-CEVE'!$E$10,$BN$7:$BZ$16,1+E200,0)-2,VLOOKUP('CEV-CEVE'!$E$10,$BN$7:$BZ$16,1+E200,0)),1,0)),0)","v":0},{"$f":"+IFERROR(IF(T200>VLOOKUP('CEV-CEVE'!$E$10,$BN$20:$BZ$29,1+E200,0),1,0),0)","v":0}]
[null,null,null,null,null,null,null,null,null,null,null,null,null,null,null,null,null,null,null,null,null,null,null,null,null,null,null,null,null,null,null,null,null,null,null,null,null,null,null,null,null,null,null,null,null,null,null,null,null,null,null,null,null,null,null,null,null,13,"Caso Propuesto Con Clima",{"$f":"+IFERROR(IF(BF201=\"\",0,IF(T201<IF(OR(BF201<=$BP$3,BF201>=$BO$3),VLOOKUP('CEV-CEVE'!$E$10,$BN$7:$BZ$16,1+E201,0)-2,VLOOKUP('CEV-CEVE'!$E$10,$BN$7:$BZ$16,1+E201,0)),1,0)),0)","v":0},{"$f":"+IFERROR(IF(T201>VLOOKUP('CEV-CEVE'!$E$10,$BN$20:$BZ$29,1+E201,0),1,0),0)","v":0}]
[null,null,null,null,null,null,null,null,null,null,null,null,null,null,null,null,null,null,null,null,null,null,null,null,null,null,null,null,null,null,null,null,null,null,null,null,null,null,null,null,null,null,null,null,null,null,null,null,null,null,null,null,null,null,null,null,null,14,"Caso Propuesto Con Clima",{"$f":"+IFERROR(IF(BF202=\"\",0,IF(T202<IF(OR(BF202<=$BP$3,BF202>=$BO$3),VLOOKUP('CEV-CEVE'!$E$10,$BN$7:$BZ$16,1+E202,0)-2,VLOOKUP('CEV-CEVE'!$E$10,$BN$7:$BZ$16,1+E202,0)),1,0)),0)","v":0},{"$f":"+IFERROR(IF(T202>VLOOKUP('CEV-CEVE'!$E$10,$BN$20:$BZ$29,1+E202,0),1,0),0)","v":0}]
[null,null,null,null,null,null,null,null,null,null,null,null,null,null,null,null,null,null,null,null,null,null,null,null,null,null,null,null,null,null,null,null,null,null,null,null,null,null,null,null,null,null,null,null,null,null,null,null,null,null,null,null,null,null,null,null,null,15,"Caso Propuesto Con Clima",{"$f":"+IFERROR(IF(BF203=\"\",0,IF(T203<IF(OR(BF203<=$BP$3,BF203>=$BO$3),VLOOKUP('CEV-CEVE'!$E$10,$BN$7:$BZ$16,1+E203,0)-2,VLOOKUP('CEV-CEVE'!$E$10,$BN$7:$BZ$16,1+E203,0)),1,0)),0)","v":0},{"$f":"+IFERROR(IF(T203>VLOOKUP('CEV-CEVE'!$E$10,$BN$20:$BZ$29,1+E203,0),1,0),0)","v":0}]
[null,null,null,null,null,null,null,null,null,null,null,null,null,null,null,null,null,null,null,null,null,null,null,null,null,null,null,null,null,null,null,null,null,null,null,null,null,null,null,null,null,null,null,null,null,null,null,null,null,null,null,null,null,null,null,null,null,16,"Caso Propuesto Con Clima",{"$f":"+IFERROR(IF(BF204=\"\",0,IF(T204<IF(OR(BF204<=$BP$3,BF204>=$BO$3),VLOOKUP('CEV-CEVE'!$E$10,$BN$7:$BZ$16,1+E204,0)-2,VLOOKUP('CEV-CEVE'!$E$10,$BN$7:$BZ$16,1+E204,0)),1,0)),0)","v":0},{"$f":"+IFERROR(IF(T204>VLOOKUP('CEV-CEVE'!$E$10,$BN$20:$BZ$29,1+E204,0),1,0),0)","v":0}]
[null,null,null,null,null,null,null,null,null,null,null,null,null,null,null,null,null,null,null,null,null,null,null,null,null,null,null,null,null,null,null,null,null,null,null,null,null,null,null,null,null,null,null,null,null,null,null,null,null,null,null,null,null,null,null,null,null,17,"Caso Propuesto Con Clima",{"$f":"+IFERROR(IF(BF205=\"\",0,IF(T205<IF(OR(BF205<=$BP$3,BF205>=$BO$3),VLOOKUP('CEV-CEVE'!$E$10,$BN$7:$BZ$16,1+E205,0)-2,VLOOKUP('CEV-CEVE'!$E$10,$BN$7:$BZ$16,1+E205,0)),1,0)),0)","v":0},{"$f":"+IFERROR(IF(T205>VLOOKUP('CEV-CEVE'!$E$10,$BN$20:$BZ$29,1+E205,0),1,0),0)","v":0}]
[null,null,null,null,null,null,null,null,null,null,null,null,null,null,null,null,null,null,null,null,null,null,null,null,null,null,null,null,null,null,null,null,null,null,null,null,null,null,null,null,null,null,null,null,null,null,null,null,null,null,null,null,null,null,null,null,null,18,"Caso Propuesto Con Clima",{"$f":"+IFERROR(IF(BF206=\"\",0,IF(T206<IF(OR(BF206<=$BP$3,BF206>=$BO$3),VLOOKUP('CEV-CEVE'!$E$10,$BN$7:$BZ$16,1+E206,0)-2,VLOOKUP('CEV-CEVE'!$E$10,$BN$7:$BZ$16,1+E206,0)),1,0)),0)","v":0},{"$f":"+IFERROR(IF(T206>VLOOKUP('CEV-CEVE'!$E$10,$BN$20:$BZ$29,1+E206,0),1,0),0)","v":0}]
[null,null,null,null,null,null,null,null,null,null,null,null,null,null,null,null,null,null,null,null,null,null,null,null,null,null,null,null,null,null,null,null,null,null,null,null,null,null,null,null,null,null,null,null,null,null,null,null,null,null,null,null,null,null,null,null,null,19,"Caso Propuesto Con Clima",{"$f":"+IFERROR(IF(BF207=\"\",0,IF(T207<IF(OR(BF207<=$BP$3,BF207>=$BO$3),VLOOKUP('CEV-CEVE'!$E$10,$BN$7:$BZ$16,1+E207,0)-2,VLOOKUP('CEV-CEVE'!$E$10,$BN$7:$BZ$16,1+E207,0)),1,0)),0)","v":0},{"$f":"+IFERROR(IF(T207>VLOOKUP('CEV-CEVE'!$E$10,$BN$20:$BZ$29,1+E207,0),1,0),0)","v":0}]
[null,null,null,null,null,null,null,null,null,null,null,null,null,null,null,null,null,null,null,null,null,null,null,null,null,null,null,null,null,null,null,null,null,null,null,null,null,null,null,null,null,null,null,null,null,null,null,null,null,null,null,null,null,null,null,null,null,20,"Caso Propuesto Con Clima",{"$f":"+IFERROR(IF(BF208=\"\",0,IF(T208<IF(OR(BF208<=$BP$3,BF208>=$BO$3),VLOOKUP('CEV-CEVE'!$E$10,$BN$7:$BZ$16,1+E208,0)-2,VLOOKUP('CEV-CEVE'!$E$10,$BN$7:$BZ$16,1+E208,0)),1,0)),0)","v":0},{"$f":"+IFERROR(IF(T208>VLOOKUP('CEV-CEVE'!$E$10,$BN$20:$BZ$29,1+E208,0),1,0),0)","v":0}]
[null,null,null,null,null,null,null,null,null,null,null,null,null,null,null,null,null,null,null,null,null,null,null,null,null,null,null,null,null,null,null,null,null,null,null,null,null,null,null,null,null,null,null,null,null,null,null,null,null,null,null,null,null,null,null,null,null,21,"Caso Propuesto Con Clima",{"$f":"+IFERROR(IF(BF209=\"\",0,IF(T209<IF(OR(BF209<=$BP$3,BF209>=$BO$3),VLOOKUP('CEV-CEVE'!$E$10,$BN$7:$BZ$16,1+E209,0)-2,VLOOKUP('CEV-CEVE'!$E$10,$BN$7:$BZ$16,1+E209,0)),1,0)),0)","v":0},{"$f":"+IFERROR(IF(T209>VLOOKUP('CEV-CEVE'!$E$10,$BN$20:$BZ$29,1+E209,0),1,0),0)","v":0}]
[null,null,null,null,null,null,null,null,null,null,null,null,null,null,null,null,null,null,null,null,null,null,null,null,null,null,null,null,null,null,null,null,null,null,null,null,null,null,null,null,null,null,null,null,null,null,null,null,null,null,null,null,null,null,null,null,null,22,"Caso Propuesto Con Clima",{"$f":"+IFERROR(IF(BF210=\"\",0,IF(T210<IF(OR(BF210<=$BP$3,BF210>=$BO$3),VLOOKUP('CEV-CEVE'!$E$10,$BN$7:$BZ$16,1+E210,0)-2,VLOOKUP('CEV-CEVE'!$E$10,$BN$7:$BZ$16,1+E210,0)),1,0)),0)","v":0},{"$f":"+IFERROR(IF(T210>VLOOKUP('CEV-CEVE'!$E$10,$BN$20:$BZ$29,1+E210,0),1,0),0)","v":0}]
[null,null,null,null,null,null,null,null,null,null,null,null,null,null,null,null,null,null,null,null,null,null,null,null,null,null,null,null,null,null,null,null,null,null,null,null,null,null,null,null,null,null,null,null,null,null,null,null,null,null,null,null,null,null,null,null,null,23,"Caso Propuesto Con Clima",{"$f":"+IFERROR(IF(BF211=\"\",0,IF(T211<IF(OR(BF211<=$BP$3,BF211>=$BO$3),VLOOKUP('CEV-CEVE'!$E$10,$BN$7:$BZ$16,1+E211,0)-2,VLOOKUP('CEV-CEVE'!$E$10,$BN$7:$BZ$16,1+E211,0)),1,0)),0)","v":0},{"$f":"+IFERROR(IF(T211>VLOOKUP('CEV-CEVE'!$E$10,$BN$20:$BZ$29,1+E211,0),1,0),0)","v":0}]
[null,null,null,null,null,null,null,null,null,null,null,null,null,null,null,null,null,null,null,null,null,null,null,null,null,null,null,null,null,null,null,null,null,null,null,null,null,null,null,null,null,null,null,null,null,null,null,null,null,null,null,null,null,null,null,null,null,null,"Caso Propuesto Con Clima",{"$f":"+IFERROR(IF(BF212=\"\",0,IF(T212<IF(OR(BF212<=$BP$3,BF212>=$BO$3),VLOOKUP('CEV-CEVE'!$E$10,$BN$7:$BZ$16,1+E212,0)-2,VLOOKUP('CEV-CEVE'!$E$10,$BN$7:$BZ$16,1+E212,0)),1,0)),0)","v":0},{"$f":"+IFERROR(IF(T212>VLOOKUP('CEV-CEVE'!$E$10,$BN$20:$BZ$29,1+E212,0),1,0),0)","v":0}]
[null,null,null,null,null,null,null,null,null,null,null,null,null,null,null,null,null,null,null,null,null,null,null,null,null,null,null,null,null,null,null,null,null,null,null,null,null,null,null,null,null,null,null,null,null,null,null,null,null,null,null,null,null,null,null,null,null,null,"Caso Propuesto Con Clima",{"$f":"+IFERROR(IF(BF213=\"\",0,IF(T213<IF(OR(BF213<=$BP$3,BF213>=$BO$3),VLOOKUP('CEV-CEVE'!$E$10,$BN$7:$BZ$16,1+E213,0)-2,VLOOKUP('CEV-CEVE'!$E$10,$BN$7:$BZ$16,1+E213,0)),1,0)),0)","v":0},{"$f":"+IFERROR(IF(T213>VLOOKUP('CEV-CEVE'!$E$10,$BN$20:$BZ$29,1+E213,0),1,0),0)","v":0}]
[null,null,null,null,null,null,null,null,null,null,null,null,null,null,null,null,null,null,null,null,null,null,null,null,null,null,null,null,null,null,null,null,null,null,null,null,null,null,null,null,null,null,null,null,null,null,null,null,null,null,null,null,null,null,null,null,null,0,"Caso Propuesto Con Clima",{"$f":"+IFERROR(IF(BF214=\"\",0,IF(T214<IF(OR(BF214<=$BP$3,BF214>=$BO$3),VLOOKUP('CEV-CEVE'!$E$10,$BN$7:$BZ$16,1+E214,0)-2,VLOOKUP('CEV-CEVE'!$E$10,$BN$7:$BZ$16,1+E214,0)),1,0)),0)","v":0},{"$f":"+IFERROR(IF(T214>VLOOKUP('CEV-CEVE'!$E$10,$BN$20:$BZ$29,1+E214,0),1,0),0)","v":0}]
[null,null,null,null,null,null,null,null,null,null,null,null,null,null,null,null,null,null,null,null,null,null,null,null,null,null,null,null,null,null,null,null,null,null,null,null,null,null,null,null,null,null,null,null,null,null,null,null,null,null,null,null,null,null,null,null,null,{"$f":"+BF214+1","v":1},"Caso Propuesto Con Clima",{"$f":"+IFERROR(IF(BF215=\"\",0,IF(T215<IF(OR(BF215<=$BP$3,BF215>=$BO$3),VLOOKUP('CEV-CEVE'!$E$10,$BN$7:$BZ$16,1+E215,0)-2,VLOOKUP('CEV-CEVE'!$E$10,$BN$7:$BZ$16,1+E215,0)),1,0)),0)","v":0},{"$f":"+IFERROR(IF(T215>VLOOKUP('CEV-CEVE'!$E$10,$BN$20:$BZ$29,1+E215,0),1,0),0)","v":0}]
[null,null,null,null,null,null,null,null,null,null,null,null,null,null,null,null,null,null,null,null,null,null,null,null,null,null,null,null,null,null,null,null,null,null,null,null,null,null,null,null,null,null,null,null,null,null,null,null,null,null,null,null,null,null,null,null,null,{"$f":"+BF215+1","v":2},"Caso Propuesto Con Clima",{"$f":"+IFERROR(IF(BF216=\"\",0,IF(T216<IF(OR(BF216<=$BP$3,BF216>=$BO$3),VLOOKUP('CEV-CEVE'!$E$10,$BN$7:$BZ$16,1+E216,0)-2,VLOOKUP('CEV-CEVE'!$E$10,$BN$7:$BZ$16,1+E216,0)),1,0)),0)","v":0},{"$f":"+IFERROR(IF(T216>VLOOKUP('CEV-CEVE'!$E$10,$BN$20:$BZ$29,1+E216,0),1,0),0)","v":0}]
[null,null,null,null,null,null,null,null,null,null,null,null,null,null,null,null,null,null,null,null,null,null,null,null,null,null,null,null,null,null,null,null,null,null,null,null,null,null,null,null,null,null,null,null,null,null,null,null,null,null,null,null,null,null,null,null,null,3,"Caso Propuesto Con Clima",{"$f":"+IFERROR(IF(BF217=\"\",0,IF(T217<IF(OR(BF217<=$BP$3,BF217>=$BO$3),VLOOKUP('CEV-CEVE'!$E$10,$BN$7:$BZ$16,1+E217,0)-2,VLOOKUP('CEV-CEVE'!$E$10,$BN$7:$BZ$16,1+E217,0)),1,0)),0)","v":0},{"$f":"+IFERROR(IF(T217>VLOOKUP('CEV-CEVE'!$E$10,$BN$20:$BZ$29,1+E217,0),1,0),0)","v":0}]
[null,null,null,null,null,null,null,null,null,null,null,null,null,null,null,null,null,null,null,null,null,null,null,null,null,null,null,null,null,null,null,null,null,null,null,null,null,null,null,null,null,null,null,null,null,null,null,null,null,null,null,null,null,null,null,null,null,4,"Caso Propuesto Con Clima",{"$f":"+IFERROR(IF(BF218=\"\",0,IF(T218<IF(OR(BF218<=$BP$3,BF218>=$BO$3),VLOOKUP('CEV-CEVE'!$E$10,$BN$7:$BZ$16,1+E218,0)-2,VLOOKUP('CEV-CEVE'!$E$10,$BN$7:$BZ$16,1+E218,0)),1,0)),0)","v":0},{"$f":"+IFERROR(IF(T218>VLOOKUP('CEV-CEVE'!$E$10,$BN$20:$BZ$29,1+E218,0),1,0),0)","v":0}]
[null,null,null,null,null,null,null,null,null,null,null,null,null,null,null,null,null,null,null,null,null,null,null,null,null,null,null,null,null,null,null,null,null,null,null,null,null,null,null,null,null,null,null,null,null,null,null,null,null,null,null,null,null,null,null,null,null,5,"Caso Propuesto Con Clima",{"$f":"+IFERROR(IF(BF219=\"\",0,IF(T219<IF(OR(BF219<=$BP$3,BF219>=$BO$3),VLOOKUP('CEV-CEVE'!$E$10,$BN$7:$BZ$16,1+E219,0)-2,VLOOKUP('CEV-CEVE'!$E$10,$BN$7:$BZ$16,1+E219,0)),1,0)),0)","v":0},{"$f":"+IFERROR(IF(T219>VLOOKUP('CEV-CEVE'!$E$10,$BN$20:$BZ$29,1+E219,0),1,0),0)","v":0}]
[null,null,null,null,null,null,null,null,null,null,null,null,null,null,null,null,null,null,null,null,null,null,null,null,null,null,null,null,null,null,null,null,null,null,null,null,null,null,null,null,null,null,null,null,null,null,null,null,null,null,null,null,null,null,null,null,null,6,"Caso Propuesto Con Clima",{"$f":"+IFERROR(IF(BF220=\"\",0,IF(T220<IF(OR(BF220<=$BP$3,BF220>=$BO$3),VLOOKUP('CEV-CEVE'!$E$10,$BN$7:$BZ$16,1+E220,0)-2,VLOOKUP('CEV-CEVE'!$E$10,$BN$7:$BZ$16,1+E220,0)),1,0)),0)","v":0},{"$f":"+IFERROR(IF(T220>VLOOKUP('CEV-CEVE'!$E$10,$BN$20:$BZ$29,1+E220,0),1,0),0)","v":0}]
[null,null,null,null,null,null,null,null,null,null,null,null,null,null,null,null,null,null,null,null,null,null,null,null,null,null,null,null,null,null,null,null,null,null,null,null,null,null,null,null,null,null,null,null,null,null,null,null,null,null,null,null,null,null,null,null,null,7,"Caso Propuesto Con Clima",{"$f":"+IFERROR(IF(BF221=\"\",0,IF(T221<IF(OR(BF221<=$BP$3,BF221>=$BO$3),VLOOKUP('CEV-CEVE'!$E$10,$BN$7:$BZ$16,1+E221,0)-2,VLOOKUP('CEV-CEVE'!$E$10,$BN$7:$BZ$16,1+E221,0)),1,0)),0)","v":0},{"$f":"+IFERROR(IF(T221>VLOOKUP('CEV-CEVE'!$E$10,$BN$20:$BZ$29,1+E221,0),1,0),0)","v":0}]
[null,null,null,null,null,null,null,null,null,null,null,null,null,null,null,null,null,null,null,null,null,null,null,null,null,null,null,null,null,null,null,null,null,null,null,null,null,null,null,null,null,null,null,null,null,null,null,null,null,null,null,null,null,null,null,null,null,8,"Caso Propuesto Con Clima",{"$f":"+IFERROR(IF(BF222=\"\",0,IF(T222<IF(OR(BF222<=$BP$3,BF222>=$BO$3),VLOOKUP('CEV-CEVE'!$E$10,$BN$7:$BZ$16,1+E222,0)-2,VLOOKUP('CEV-CEVE'!$E$10,$BN$7:$BZ$16,1+E222,0)),1,0)),0)","v":0},{"$f":"+IFERROR(IF(T222>VLOOKUP('CEV-CEVE'!$E$10,$BN$20:$BZ$29,1+E222,0),1,0),0)","v":0}]
[null,null,null,null,null,null,null,null,null,null,null,null,null,null,null,null,null,null,null,null,null,null,null,null,null,null,null,null,null,null,null,null,null,null,null,null,null,null,null,null,null,null,null,null,null,null,null,null,null,null,null,null,null,null,null,null,null,9,"Caso Propuesto Con Clima",{"$f":"+IFERROR(IF(BF223=\"\",0,IF(T223<IF(OR(BF223<=$BP$3,BF223>=$BO$3),VLOOKUP('CEV-CEVE'!$E$10,$BN$7:$BZ$16,1+E223,0)-2,VLOOKUP('CEV-CEVE'!$E$10,$BN$7:$BZ$16,1+E223,0)),1,0)),0)","v":0},{"$f":"+IFERROR(IF(T223>VLOOKUP('CEV-CEVE'!$E$10,$BN$20:$BZ$29,1+E223,0),1,0),0)","v":0}]
[null,null,null,null,null,null,null,null,null,null,null,null,null,null,null,null,null,null,null,null,null,null,null,null,null,null,null,null,null,null,null,null,null,null,null,null,null,null,null,null,null,null,null,null,null,null,null,null,null,null,null,null,null,null,null,null,null,10,"Caso Propuesto Con Clima",{"$f":"+IFERROR(IF(BF224=\"\",0,IF(T224<IF(OR(BF224<=$BP$3,BF224>=$BO$3),VLOOKUP('CEV-CEVE'!$E$10,$BN$7:$BZ$16,1+E224,0)-2,VLOOKUP('CEV-CEVE'!$E$10,$BN$7:$BZ$16,1+E224,0)),1,0)),0)","v":0},{"$f":"+IFERROR(IF(T224>VLOOKUP('CEV-CEVE'!$E$10,$BN$20:$BZ$29,1+E224,0),1,0),0)","v":0}]
[null,null,null,null,null,null,null,null,null,null,null,null,null,null,null,null,null,null,null,null,null,null,null,null,null,null,null,null,null,null,null,null,null,null,null,null,null,null,null,null,null,null,null,null,null,null,null,null,null,null,null,null,null,null,null,null,null,11,"Caso Propuesto Con Clima",{"$f":"+IFERROR(IF(BF225=\"\",0,IF(T225<IF(OR(BF225<=$BP$3,BF225>=$BO$3),VLOOKUP('CEV-CEVE'!$E$10,$BN$7:$BZ$16,1+E225,0)-2,VLOOKUP('CEV-CEVE'!$E$10,$BN$7:$BZ$16,1+E225,0)),1,0)),0)","v":0},{"$f":"+IFERROR(IF(T225>VLOOKUP('CEV-CEVE'!$E$10,$BN$20:$BZ$29,1+E225,0),1,0),0)","v":0}]
[null,null,null,null,null,null,null,null,null,null,null,null,null,null,null,null,null,null,null,null,null,null,null,null,null,null,null,null,null,null,null,null,null,null,null,null,null,null,null,null,null,null,null,null,null,null,null,null,null,null,null,null,null,null,null,null,null,12,"Caso Propuesto Con Clima",{"$f":"+IFERROR(IF(BF226=\"\",0,IF(T226<IF(OR(BF226<=$BP$3,BF226>=$BO$3),VLOOKUP('CEV-CEVE'!$E$10,$BN$7:$BZ$16,1+E226,0)-2,VLOOKUP('CEV-CEVE'!$E$10,$BN$7:$BZ$16,1+E226,0)),1,0)),0)","v":0},{"$f":"+IFERROR(IF(T226>VLOOKUP('CEV-CEVE'!$E$10,$BN$20:$BZ$29,1+E226,0),1,0),0)","v":0}]
[null,null,null,null,null,null,null,null,null,null,null,null,null,null,null,null,null,null,null,null,null,null,null,null,null,null,null,null,null,null,null,null,null,null,null,null,null,null,null,null,null,null,null,null,null,null,null,null,null,null,null,null,null,null,null,null,null,13,"Caso Propuesto Con Clima",{"$f":"+IFERROR(IF(BF227=\"\",0,IF(T227<IF(OR(BF227<=$BP$3,BF227>=$BO$3),VLOOKUP('CEV-CEVE'!$E$10,$BN$7:$BZ$16,1+E227,0)-2,VLOOKUP('CEV-CEVE'!$E$10,$BN$7:$BZ$16,1+E227,0)),1,0)),0)","v":0},{"$f":"+IFERROR(IF(T227>VLOOKUP('CEV-CEVE'!$E$10,$BN$20:$BZ$29,1+E227,0),1,0),0)","v":0}]
[null,null,null,null,null,null,null,null,null,null,null,null,null,null,null,null,null,null,null,null,null,null,null,null,null,null,null,null,null,null,null,null,null,null,null,null,null,null,null,null,null,null,null,null,null,null,null,null,null,null,null,null,null,null,null,null,null,14,"Caso Propuesto Con Clima",{"$f":"+IFERROR(IF(BF228=\"\",0,IF(T228<IF(OR(BF228<=$BP$3,BF228>=$BO$3),VLOOKUP('CEV-CEVE'!$E$10,$BN$7:$BZ$16,1+E228,0)-2,VLOOKUP('CEV-CEVE'!$E$10,$BN$7:$BZ$16,1+E228,0)),1,0)),0)","v":0},{"$f":"+IFERROR(IF(T228>VLOOKUP('CEV-CEVE'!$E$10,$BN$20:$BZ$29,1+E228,0),1,0),0)","v":0}]
[null,null,null,null,null,null,null,null,null,null,null,null,null,null,null,null,null,null,null,null,null,null,null,null,null,null,null,null,null,null,null,null,null,null,null,null,null,null,null,null,null,null,null,null,null,null,null,null,null,null,null,null,null,null,null,null,null,15,"Caso Propuesto Con Clima",{"$f":"+IFERROR(IF(BF229=\"\",0,IF(T229<IF(OR(BF229<=$BP$3,BF229>=$BO$3),VLOOKUP('CEV-CEVE'!$E$10,$BN$7:$BZ$16,1+E229,0)-2,VLOOKUP('CEV-CEVE'!$E$10,$BN$7:$BZ$16,1+E229,0)),1,0)),0)","v":0},{"$f":"+IFERROR(IF(T229>VLOOKUP('CEV-CEVE'!$E$10,$BN$20:$BZ$29,1+E229,0),1,0),0)","v":0}]
[null,null,null,null,null,null,null,null,null,null,null,null,null,null,null,null,null,null,null,null,null,null,null,null,null,null,null,null,null,null,null,null,null,null,null,null,null,null,null,null,null,null,null,null,null,null,null,null,null,null,null,null,null,null,null,null,null,16,"Caso Propuesto Con Clima",{"$f":"+IFERROR(IF(BF230=\"\",0,IF(T230<IF(OR(BF230<=$BP$3,BF230>=$BO$3),VLOOKUP('CEV-CEVE'!$E$10,$BN$7:$BZ$16,1+E230,0)-2,VLOOKUP('CEV-CEVE'!$E$10,$BN$7:$BZ$16,1+E230,0)),1,0)),0)","v":0},{"$f":"+IFERROR(IF(T230>VLOOKUP('CEV-CEVE'!$E$10,$BN$20:$BZ$29,1+E230,0),1,0),0)","v":0}]
[null,null,null,null,null,null,null,null,null,null,null,null,null,null,null,null,null,null,null,null,null,null,null,null,null,null,null,null,null,null,null,null,null,null,null,null,null,null,null,null,null,null,null,null,null,null,null,null,null,null,null,null,null,null,null,null,null,17,"Caso Propuesto Con Clima",{"$f":"+IFERROR(IF(BF231=\"\",0,IF(T231<IF(OR(BF231<=$BP$3,BF231>=$BO$3),VLOOKUP('CEV-CEVE'!$E$10,$BN$7:$BZ$16,1+E231,0)-2,VLOOKUP('CEV-CEVE'!$E$10,$BN$7:$BZ$16,1+E231,0)),1,0)),0)","v":0},{"$f":"+IFERROR(IF(T231>VLOOKUP('CEV-CEVE'!$E$10,$BN$20:$BZ$29,1+E231,0),1,0),0)","v":0}]
[null,null,null,null,null,null,null,null,null,null,null,null,null,null,null,null,null,null,null,null,null,null,null,null,null,null,null,null,null,null,null,null,null,null,null,null,null,null,null,null,null,null,null,null,null,null,null,null,null,null,null,null,null,null,null,null,null,18,"Caso Propuesto Con Clima",{"$f":"+IFERROR(IF(BF232=\"\",0,IF(T232<IF(OR(BF232<=$BP$3,BF232>=$BO$3),VLOOKUP('CEV-CEVE'!$E$10,$BN$7:$BZ$16,1+E232,0)-2,VLOOKUP('CEV-CEVE'!$E$10,$BN$7:$BZ$16,1+E232,0)),1,0)),0)","v":0},{"$f":"+IFERROR(IF(T232>VLOOKUP('CEV-CEVE'!$E$10,$BN$20:$BZ$29,1+E232,0),1,0),0)","v":0}]
[null,null,null,null,null,null,null,null,null,null,null,null,null,null,null,null,null,null,null,null,null,null,null,null,null,null,null,null,null,null,null,null,null,null,null,null,null,null,null,null,null,null,null,null,null,null,null,null,null,null,null,null,null,null,null,null,null,19,"Caso Propuesto Con Clima",{"$f":"+IFERROR(IF(BF233=\"\",0,IF(T233<IF(OR(BF233<=$BP$3,BF233>=$BO$3),VLOOKUP('CEV-CEVE'!$E$10,$BN$7:$BZ$16,1+E233,0)-2,VLOOKUP('CEV-CEVE'!$E$10,$BN$7:$BZ$16,1+E233,0)),1,0)),0)","v":0},{"$f":"+IFERROR(IF(T233>VLOOKUP('CEV-CEVE'!$E$10,$BN$20:$BZ$29,1+E233,0),1,0),0)","v":0}]
[null,null,null,null,null,null,null,null,null,null,null,null,null,null,null,null,null,null,null,null,null,null,null,null,null,null,null,null,null,null,null,null,null,null,null,null,null,null,null,null,null,null,null,null,null,null,null,null,null,null,null,null,null,null,null,null,null,20,"Caso Propuesto Con Clima",{"$f":"+IFERROR(IF(BF234=\"\",0,IF(T234<IF(OR(BF234<=$BP$3,BF234>=$BO$3),VLOOKUP('CEV-CEVE'!$E$10,$BN$7:$BZ$16,1+E234,0)-2,VLOOKUP('CEV-CEVE'!$E$10,$BN$7:$BZ$16,1+E234,0)),1,0)),0)","v":0},{"$f":"+IFERROR(IF(T234>VLOOKUP('CEV-CEVE'!$E$10,$BN$20:$BZ$29,1+E234,0),1,0),0)","v":0}]
[null,null,null,null,null,null,null,null,null,null,null,null,null,null,null,null,null,null,null,null,null,null,null,null,null,null,null,null,null,null,null,null,null,null,null,null,null,null,null,null,null,null,null,null,null,null,null,null,null,null,null,null,null,null,null,null,null,21,"Caso Propuesto Con Clima",{"$f":"+IFERROR(IF(BF235=\"\",0,IF(T235<IF(OR(BF235<=$BP$3,BF235>=$BO$3),VLOOKUP('CEV-CEVE'!$E$10,$BN$7:$BZ$16,1+E235,0)-2,VLOOKUP('CEV-CEVE'!$E$10,$BN$7:$BZ$16,1+E235,0)),1,0)),0)","v":0},{"$f":"+IFERROR(IF(T235>VLOOKUP('CEV-CEVE'!$E$10,$BN$20:$BZ$29,1+E235,0),1,0),0)","v":0}]
[null,null,null,null,null,null,null,null,null,null,null,null,null,null,null,null,null,null,null,null,null,null,null,null,null,null,null,null,null,null,null,null,null,null,null,null,null,null,null,null,null,null,null,null,null,null,null,null,null,null,null,null,null,null,null,null,null,22,"Caso Propuesto Con Clima",{"$f":"+IFERROR(IF(BF236=\"\",0,IF(T236<IF(OR(BF236<=$BP$3,BF236>=$BO$3),VLOOKUP('CEV-CEVE'!$E$10,$BN$7:$BZ$16,1+E236,0)-2,VLOOKUP('CEV-CEVE'!$E$10,$BN$7:$BZ$16,1+E236,0)),1,0)),0)","v":0},{"$f":"+IFERROR(IF(T236>VLOOKUP('CEV-CEVE'!$E$10,$BN$20:$BZ$29,1+E236,0),1,0),0)","v":0}]
[null,null,null,null,null,null,null,null,null,null,null,null,null,null,null,null,null,null,null,null,null,null,null,null,null,null,null,null,null,null,null,null,null,null,null,null,null,null,null,null,null,null,null,null,null,null,null,null,null,null,null,null,null,null,null,null,null,23,"Caso Propuesto Con Clima",{"$f":"+IFERROR(IF(BF237=\"\",0,IF(T237<IF(OR(BF237<=$BP$3,BF237>=$BO$3),VLOOKUP('CEV-CEVE'!$E$10,$BN$7:$BZ$16,1+E237,0)-2,VLOOKUP('CEV-CEVE'!$E$10,$BN$7:$BZ$16,1+E237,0)),1,0)),0)","v":0},{"$f":"+IFERROR(IF(T237>VLOOKUP('CEV-CEVE'!$E$10,$BN$20:$BZ$29,1+E237,0),1,0),0)","v":0}]
[null,null,null,null,null,null,null,null,null,null,null,null,null,null,null,null,null,null,null,null,null,null,null,null,null,null,null,null,null,null,null,null,null,null,null,null,null,null,null,null,null,null,null,null,null,null,null,null,null,null,null,null,null,null,null,null,null,null,"Caso Propuesto Con Clima",{"$f":"+IFERROR(IF(BF238=\"\",0,IF(T238<IF(OR(BF238<=$BP$3,BF238>=$BO$3),VLOOKUP('CEV-CEVE'!$E$10,$BN$7:$BZ$16,1+E238,0)-2,VLOOKUP('CEV-CEVE'!$E$10,$BN$7:$BZ$16,1+E238,0)),1,0)),0)","v":0},{"$f":"+IFERROR(IF(T238>VLOOKUP('CEV-CEVE'!$E$10,$BN$20:$BZ$29,1+E238,0),1,0),0)","v":0}]
[null,null,null,null,null,null,null,null,null,null,null,null,null,null,null,null,null,null,null,null,null,null,null,null,null,null,null,null,null,null,null,null,null,null,null,null,null,null,null,null,null,null,null,null,null,null,null,null,null,null,null,null,null,null,null,null,null,null,"Caso Propuesto Con Clima",{"$f":"+IFERROR(IF(BF239=\"\",0,IF(T239<IF(OR(BF239<=$BP$3,BF239>=$BO$3),VLOOKUP('CEV-CEVE'!$E$10,$BN$7:$BZ$16,1+E239,0)-2,VLOOKUP('CEV-CEVE'!$E$10,$BN$7:$BZ$16,1+E239,0)),1,0)),0)","v":0},{"$f":"+IFERROR(IF(T239>VLOOKUP('CEV-CEVE'!$E$10,$BN$20:$BZ$29,1+E239,0),1,0),0)","v":0}]
[null,null,null,null,null,null,null,null,null,null,null,null,null,null,null,null,null,null,null,null,null,null,null,null,null,null,null,null,null,null,null,null,null,null,null,null,null,null,null,null,null,null,null,null,null,null,null,null,null,null,null,null,null,null,null,null,null,0,"Caso Propuesto Con Clima",{"$f":"+IFERROR(IF(BF240=\"\",0,IF(T240<IF(OR(BF240<=$BP$3,BF240>=$BO$3),VLOOKUP('CEV-CEVE'!$E$10,$BN$7:$BZ$16,1+E240,0)-2,VLOOKUP('CEV-CEVE'!$E$10,$BN$7:$BZ$16,1+E240,0)),1,0)),0)","v":0},{"$f":"+IFERROR(IF(T240>VLOOKUP('CEV-CEVE'!$E$10,$BN$20:$BZ$29,1+E240,0),1,0),0)","v":0}]
[null,null,null,null,null,null,null,null,null,null,null,null,null,null,null,null,null,null,null,null,null,null,null,null,null,null,null,null,null,null,null,null,null,null,null,null,null,null,null,null,null,null,null,null,null,null,null,null,null,null,null,null,null,null,null,null,null,{"$f":"+BF240+1","v":1},"Caso Propuesto Con Clima",{"$f":"+IFERROR(IF(BF241=\"\",0,IF(T241<IF(OR(BF241<=$BP$3,BF241>=$BO$3),VLOOKUP('CEV-CEVE'!$E$10,$BN$7:$BZ$16,1+E241,0)-2,VLOOKUP('CEV-CEVE'!$E$10,$BN$7:$BZ$16,1+E241,0)),1,0)),0)","v":0},{"$f":"+IFERROR(IF(T241>VLOOKUP('CEV-CEVE'!$E$10,$BN$20:$BZ$29,1+E241,0),1,0),0)","v":0}]
[null,null,null,null,null,null,null,null,null,null,null,null,null,null,null,null,null,null,null,null,null,null,null,null,null,null,null,null,null,null,null,null,null,null,null,null,null,null,null,null,null,null,null,null,null,null,null,null,null,null,null,null,null,null,null,null,null,{"$f":"+BF241+1","v":2},"Caso Propuesto Con Clima",{"$f":"+IFERROR(IF(BF242=\"\",0,IF(T242<IF(OR(BF242<=$BP$3,BF242>=$BO$3),VLOOKUP('CEV-CEVE'!$E$10,$BN$7:$BZ$16,1+E242,0)-2,VLOOKUP('CEV-CEVE'!$E$10,$BN$7:$BZ$16,1+E242,0)),1,0)),0)","v":0},{"$f":"+IFERROR(IF(T242>VLOOKUP('CEV-CEVE'!$E$10,$BN$20:$BZ$29,1+E242,0),1,0),0)","v":0}]
[null,null,null,null,null,null,null,null,null,null,null,null,null,null,null,null,null,null,null,null,null,null,null,null,null,null,null,null,null,null,null,null,null,null,null,null,null,null,null,null,null,null,null,null,null,null,null,null,null,null,null,null,null,null,null,null,null,3,"Caso Propuesto Con Clima",{"$f":"+IFERROR(IF(BF243=\"\",0,IF(T243<IF(OR(BF243<=$BP$3,BF243>=$BO$3),VLOOKUP('CEV-CEVE'!$E$10,$BN$7:$BZ$16,1+E243,0)-2,VLOOKUP('CEV-CEVE'!$E$10,$BN$7:$BZ$16,1+E243,0)),1,0)),0)","v":0},{"$f":"+IFERROR(IF(T243>VLOOKUP('CEV-CEVE'!$E$10,$BN$20:$BZ$29,1+E243,0),1,0),0)","v":0}]
[null,null,null,null,null,null,null,null,null,null,null,null,null,null,null,null,null,null,null,null,null,null,null,null,null,null,null,null,null,null,null,null,null,null,null,null,null,null,null,null,null,null,null,null,null,null,null,null,null,null,null,null,null,null,null,null,null,4,"Caso Propuesto Con Clima",{"$f":"+IFERROR(IF(BF244=\"\",0,IF(T244<IF(OR(BF244<=$BP$3,BF244>=$BO$3),VLOOKUP('CEV-CEVE'!$E$10,$BN$7:$BZ$16,1+E244,0)-2,VLOOKUP('CEV-CEVE'!$E$10,$BN$7:$BZ$16,1+E244,0)),1,0)),0)","v":0},{"$f":"+IFERROR(IF(T244>VLOOKUP('CEV-CEVE'!$E$10,$BN$20:$BZ$29,1+E244,0),1,0),0)","v":0}]
[null,null,null,null,null,null,null,null,null,null,null,null,null,null,null,null,null,null,null,null,null,null,null,null,null,null,null,null,null,null,null,null,null,null,null,null,null,null,null,null,null,null,null,null,null,null,null,null,null,null,null,null,null,null,null,null,null,5,"Caso Propuesto Con Clima",{"$f":"+IFERROR(IF(BF245=\"\",0,IF(T245<IF(OR(BF245<=$BP$3,BF245>=$BO$3),VLOOKUP('CEV-CEVE'!$E$10,$BN$7:$BZ$16,1+E245,0)-2,VLOOKUP('CEV-CEVE'!$E$10,$BN$7:$BZ$16,1+E245,0)),1,0)),0)","v":0},{"$f":"+IFERROR(IF(T245>VLOOKUP('CEV-CEVE'!$E$10,$BN$20:$BZ$29,1+E245,0),1,0),0)","v":0}]
[null,null,null,null,null,null,null,null,null,null,null,null,null,null,null,null,null,null,null,null,null,null,null,null,null,null,null,null,null,null,null,null,null,null,null,null,null,null,null,null,null,null,null,null,null,null,null,null,null,null,null,null,null,null,null,null,null,6,"Caso Propuesto Con Clima",{"$f":"+IFERROR(IF(BF246=\"\",0,IF(T246<IF(OR(BF246<=$BP$3,BF246>=$BO$3),VLOOKUP('CEV-CEVE'!$E$10,$BN$7:$BZ$16,1+E246,0)-2,VLOOKUP('CEV-CEVE'!$E$10,$BN$7:$BZ$16,1+E246,0)),1,0)),0)","v":0},{"$f":"+IFERROR(IF(T246>VLOOKUP('CEV-CEVE'!$E$10,$BN$20:$BZ$29,1+E246,0),1,0),0)","v":0}]
[null,null,null,null,null,null,null,null,null,null,null,null,null,null,null,null,null,null,null,null,null,null,null,null,null,null,null,null,null,null,null,null,null,null,null,null,null,null,null,null,null,null,null,null,null,null,null,null,null,null,null,null,null,null,null,null,null,7,"Caso Propuesto Con Clima",{"$f":"+IFERROR(IF(BF247=\"\",0,IF(T247<IF(OR(BF247<=$BP$3,BF247>=$BO$3),VLOOKUP('CEV-CEVE'!$E$10,$BN$7:$BZ$16,1+E247,0)-2,VLOOKUP('CEV-CEVE'!$E$10,$BN$7:$BZ$16,1+E247,0)),1,0)),0)","v":0},{"$f":"+IFERROR(IF(T247>VLOOKUP('CEV-CEVE'!$E$10,$BN$20:$BZ$29,1+E247,0),1,0),0)","v":0}]
[null,null,null,null,null,null,null,null,null,null,null,null,null,null,null,null,null,null,null,null,null,null,null,null,null,null,null,null,null,null,null,null,null,null,null,null,null,null,null,null,null,null,null,null,null,null,null,null,null,null,null,null,null,null,null,null,null,8,"Caso Propuesto Con Clima",{"$f":"+IFERROR(IF(BF248=\"\",0,IF(T248<IF(OR(BF248<=$BP$3,BF248>=$BO$3),VLOOKUP('CEV-CEVE'!$E$10,$BN$7:$BZ$16,1+E248,0)-2,VLOOKUP('CEV-CEVE'!$E$10,$BN$7:$BZ$16,1+E248,0)),1,0)),0)","v":0},{"$f":"+IFERROR(IF(T248>VLOOKUP('CEV-CEVE'!$E$10,$BN$20:$BZ$29,1+E248,0),1,0),0)","v":0}]
[null,null,null,null,null,null,null,null,null,null,null,null,null,null,null,null,null,null,null,null,null,null,null,null,null,null,null,null,null,null,null,null,null,null,null,null,null,null,null,null,null,null,null,null,null,null,null,null,null,null,null,null,null,null,null,null,null,9,"Caso Propuesto Con Clima",{"$f":"+IFERROR(IF(BF249=\"\",0,IF(T249<IF(OR(BF249<=$BP$3,BF249>=$BO$3),VLOOKUP('CEV-CEVE'!$E$10,$BN$7:$BZ$16,1+E249,0)-2,VLOOKUP('CEV-CEVE'!$E$10,$BN$7:$BZ$16,1+E249,0)),1,0)),0)","v":0},{"$f":"+IFERROR(IF(T249>VLOOKUP('CEV-CEVE'!$E$10,$BN$20:$BZ$29,1+E249,0),1,0),0)","v":0}]
[null,null,null,null,null,null,null,null,null,null,null,null,null,null,null,null,null,null,null,null,null,null,null,null,null,null,null,null,null,null,null,null,null,null,null,null,null,null,null,null,null,null,null,null,null,null,null,null,null,null,null,null,null,null,null,null,null,10,"Caso Propuesto Con Clima",{"$f":"+IFERROR(IF(BF250=\"\",0,IF(T250<IF(OR(BF250<=$BP$3,BF250>=$BO$3),VLOOKUP('CEV-CEVE'!$E$10,$BN$7:$BZ$16,1+E250,0)-2,VLOOKUP('CEV-CEVE'!$E$10,$BN$7:$BZ$16,1+E250,0)),1,0)),0)","v":0},{"$f":"+IFERROR(IF(T250>VLOOKUP('CEV-CEVE'!$E$10,$BN$20:$BZ$29,1+E250,0),1,0),0)","v":0}]
[null,null,null,null,null,null,null,null,null,null,null,null,null,null,null,null,null,null,null,null,null,null,null,null,null,null,null,null,null,null,null,null,null,null,null,null,null,null,null,null,null,null,null,null,null,null,null,null,null,null,null,null,null,null,null,null,null,11,"Caso Propuesto Con Clima",{"$f":"+IFERROR(IF(BF251=\"\",0,IF(T251<IF(OR(BF251<=$BP$3,BF251>=$BO$3),VLOOKUP('CEV-CEVE'!$E$10,$BN$7:$BZ$16,1+E251,0)-2,VLOOKUP('CEV-CEVE'!$E$10,$BN$7:$BZ$16,1+E251,0)),1,0)),0)","v":0},{"$f":"+IFERROR(IF(T251>VLOOKUP('CEV-CEVE'!$E$10,$BN$20:$BZ$29,1+E251,0),1,0),0)","v":0}]
[null,null,null,null,null,null,null,null,null,null,null,null,null,null,null,null,null,null,null,null,null,null,null,null,null,null,null,null,null,null,null,null,null,null,null,null,null,null,null,null,null,null,null,null,null,null,null,null,null,null,null,null,null,null,null,null,null,12,"Caso Propuesto Con Clima",{"$f":"+IFERROR(IF(BF252=\"\",0,IF(T252<IF(OR(BF252<=$BP$3,BF252>=$BO$3),VLOOKUP('CEV-CEVE'!$E$10,$BN$7:$BZ$16,1+E252,0)-2,VLOOKUP('CEV-CEVE'!$E$10,$BN$7:$BZ$16,1+E252,0)),1,0)),0)","v":0},{"$f":"+IFERROR(IF(T252>VLOOKUP('CEV-CEVE'!$E$10,$BN$20:$BZ$29,1+E252,0),1,0),0)","v":0}]
[null,null,null,null,null,null,null,null,null,null,null,null,null,null,null,null,null,null,null,null,null,null,null,null,null,null,null,null,null,null,null,null,null,null,null,null,null,null,null,null,null,null,null,null,null,null,null,null,null,null,null,null,null,null,null,null,null,13,"Caso Propuesto Con Clima",{"$f":"+IFERROR(IF(BF253=\"\",0,IF(T253<IF(OR(BF253<=$BP$3,BF253>=$BO$3),VLOOKUP('CEV-CEVE'!$E$10,$BN$7:$BZ$16,1+E253,0)-2,VLOOKUP('CEV-CEVE'!$E$10,$BN$7:$BZ$16,1+E253,0)),1,0)),0)","v":0},{"$f":"+IFERROR(IF(T253>VLOOKUP('CEV-CEVE'!$E$10,$BN$20:$BZ$29,1+E253,0),1,0),0)","v":0}]
[null,null,null,null,null,null,null,null,null,null,null,null,null,null,null,null,null,null,null,null,null,null,null,null,null,null,null,null,null,null,null,null,null,null,null,null,null,null,null,null,null,null,null,null,null,null,null,null,null,null,null,null,null,null,null,null,null,14,"Caso Propuesto Con Clima",{"$f":"+IFERROR(IF(BF254=\"\",0,IF(T254<IF(OR(BF254<=$BP$3,BF254>=$BO$3),VLOOKUP('CEV-CEVE'!$E$10,$BN$7:$BZ$16,1+E254,0)-2,VLOOKUP('CEV-CEVE'!$E$10,$BN$7:$BZ$16,1+E254,0)),1,0)),0)","v":0},{"$f":"+IFERROR(IF(T254>VLOOKUP('CEV-CEVE'!$E$10,$BN$20:$BZ$29,1+E254,0),1,0),0)","v":0}]
[null,null,null,null,null,null,null,null,null,null,null,null,null,null,null,null,null,null,null,null,null,null,null,null,null,null,null,null,null,null,null,null,null,null,null,null,null,null,null,null,null,null,null,null,null,null,null,null,null,null,null,null,null,null,null,null,null,15,"Caso Propuesto Con Clima",{"$f":"+IFERROR(IF(BF255=\"\",0,IF(T255<IF(OR(BF255<=$BP$3,BF255>=$BO$3),VLOOKUP('CEV-CEVE'!$E$10,$BN$7:$BZ$16,1+E255,0)-2,VLOOKUP('CEV-CEVE'!$E$10,$BN$7:$BZ$16,1+E255,0)),1,0)),0)","v":0},{"$f":"+IFERROR(IF(T255>VLOOKUP('CEV-CEVE'!$E$10,$BN$20:$BZ$29,1+E255,0),1,0),0)","v":0}]
[null,null,null,null,null,null,null,null,null,null,null,null,null,null,null,null,null,null,null,null,null,null,null,null,null,null,null,null,null,null,null,null,null,null,null,null,null,null,null,null,null,null,null,null,null,null,null,null,null,null,null,null,null,null,null,null,null,16,"Caso Propuesto Con Clima",{"$f":"+IFERROR(IF(BF256=\"\",0,IF(T256<IF(OR(BF256<=$BP$3,BF256>=$BO$3),VLOOKUP('CEV-CEVE'!$E$10,$BN$7:$BZ$16,1+E256,0)-2,VLOOKUP('CEV-CEVE'!$E$10,$BN$7:$BZ$16,1+E256,0)),1,0)),0)","v":0},{"$f":"+IFERROR(IF(T256>VLOOKUP('CEV-CEVE'!$E$10,$BN$20:$BZ$29,1+E256,0),1,0),0)","v":0}]
[null,null,null,null,null,null,null,null,null,null,null,null,null,null,null,null,null,null,null,null,null,null,null,null,null,null,null,null,null,null,null,null,null,null,null,null,null,null,null,null,null,null,null,null,null,null,null,null,null,null,null,null,null,null,null,null,null,17,"Caso Propuesto Con Clima",{"$f":"+IFERROR(IF(BF257=\"\",0,IF(T257<IF(OR(BF257<=$BP$3,BF257>=$BO$3),VLOOKUP('CEV-CEVE'!$E$10,$BN$7:$BZ$16,1+E257,0)-2,VLOOKUP('CEV-CEVE'!$E$10,$BN$7:$BZ$16,1+E257,0)),1,0)),0)","v":0},{"$f":"+IFERROR(IF(T257>VLOOKUP('CEV-CEVE'!$E$10,$BN$20:$BZ$29,1+E257,0),1,0),0)","v":0}]
[null,null,null,null,null,null,null,null,null,null,null,null,null,null,null,null,null,null,null,null,null,null,null,null,null,null,null,null,null,null,null,null,null,null,null,null,null,null,null,null,null,null,null,null,null,null,null,null,null,null,null,null,null,null,null,null,null,18,"Caso Propuesto Con Clima",{"$f":"+IFERROR(IF(BF258=\"\",0,IF(T258<IF(OR(BF258<=$BP$3,BF258>=$BO$3),VLOOKUP('CEV-CEVE'!$E$10,$BN$7:$BZ$16,1+E258,0)-2,VLOOKUP('CEV-CEVE'!$E$10,$BN$7:$BZ$16,1+E258,0)),1,0)),0)","v":0},{"$f":"+IFERROR(IF(T258>VLOOKUP('CEV-CEVE'!$E$10,$BN$20:$BZ$29,1+E258,0),1,0),0)","v":0}]
[null,null,null,null,null,null,null,null,null,null,null,null,null,null,null,null,null,null,null,null,null,null,null,null,null,null,null,null,null,null,null,null,null,null,null,null,null,null,null,null,null,null,null,null,null,null,null,null,null,null,null,null,null,null,null,null,null,19,"Caso Propuesto Con Clima",{"$f":"+IFERROR(IF(BF259=\"\",0,IF(T259<IF(OR(BF259<=$BP$3,BF259>=$BO$3),VLOOKUP('CEV-CEVE'!$E$10,$BN$7:$BZ$16,1+E259,0)-2,VLOOKUP('CEV-CEVE'!$E$10,$BN$7:$BZ$16,1+E259,0)),1,0)),0)","v":0},{"$f":"+IFERROR(IF(T259>VLOOKUP('CEV-CEVE'!$E$10,$BN$20:$BZ$29,1+E259,0),1,0),0)","v":0}]
[null,null,null,null,null,null,null,null,null,null,null,null,null,null,null,null,null,null,null,null,null,null,null,null,null,null,null,null,null,null,null,null,null,null,null,null,null,null,null,null,null,null,null,null,null,null,null,null,null,null,null,null,null,null,null,null,null,20,"Caso Propuesto Con Clima",{"$f":"+IFERROR(IF(BF260=\"\",0,IF(T260<IF(OR(BF260<=$BP$3,BF260>=$BO$3),VLOOKUP('CEV-CEVE'!$E$10,$BN$7:$BZ$16,1+E260,0)-2,VLOOKUP('CEV-CEVE'!$E$10,$BN$7:$BZ$16,1+E260,0)),1,0)),0)","v":0},{"$f":"+IFERROR(IF(T260>VLOOKUP('CEV-CEVE'!$E$10,$BN$20:$BZ$29,1+E260,0),1,0),0)","v":0}]
[null,null,null,null,null,null,null,null,null,null,null,null,null,null,null,null,null,null,null,null,null,null,null,null,null,null,null,null,null,null,null,null,null,null,null,null,null,null,null,null,null,null,null,null,null,null,null,null,null,null,null,null,null,null,null,null,null,21,"Caso Propuesto Con Clima",{"$f":"+IFERROR(IF(BF261=\"\",0,IF(T261<IF(OR(BF261<=$BP$3,BF261>=$BO$3),VLOOKUP('CEV-CEVE'!$E$10,$BN$7:$BZ$16,1+E261,0)-2,VLOOKUP('CEV-CEVE'!$E$10,$BN$7:$BZ$16,1+E261,0)),1,0)),0)","v":0},{"$f":"+IFERROR(IF(T261>VLOOKUP('CEV-CEVE'!$E$10,$BN$20:$BZ$29,1+E261,0),1,0),0)","v":0}]
[null,null,null,null,null,null,null,null,null,null,null,null,null,null,null,null,null,null,null,null,null,null,null,null,null,null,null,null,null,null,null,null,null,null,null,null,null,null,null,null,null,null,null,null,null,null,null,null,null,null,null,null,null,null,null,null,null,22,"Caso Propuesto Con Clima",{"$f":"+IFERROR(IF(BF262=\"\",0,IF(T262<IF(OR(BF262<=$BP$3,BF262>=$BO$3),VLOOKUP('CEV-CEVE'!$E$10,$BN$7:$BZ$16,1+E262,0)-2,VLOOKUP('CEV-CEVE'!$E$10,$BN$7:$BZ$16,1+E262,0)),1,0)),0)","v":0},{"$f":"+IFERROR(IF(T262>VLOOKUP('CEV-CEVE'!$E$10,$BN$20:$BZ$29,1+E262,0),1,0),0)","v":0}]
[null,null,null,null,null,null,null,null,null,null,null,null,null,null,null,null,null,null,null,null,null,null,null,null,null,null,null,null,null,null,null,null,null,null,null,null,null,null,null,null,null,null,null,null,null,null,null,null,null,null,null,null,null,null,null,null,null,23,"Caso Propuesto Con Clima",{"$f":"+IFERROR(IF(BF263=\"\",0,IF(T263<IF(OR(BF263<=$BP$3,BF263>=$BO$3),VLOOKUP('CEV-CEVE'!$E$10,$BN$7:$BZ$16,1+E263,0)-2,VLOOKUP('CEV-CEVE'!$E$10,$BN$7:$BZ$16,1+E263,0)),1,0)),0)","v":0},{"$f":"+IFERROR(IF(T263>VLOOKUP('CEV-CEVE'!$E$10,$BN$20:$BZ$29,1+E263,0),1,0),0)","v":0}]
[null,null,null,null,null,null,null,null,null,null,null,null,null,null,null,null,null,null,null,null,null,null,null,null,null,null,null,null,null,null,null,null,null,null,null,null,null,null,null,null,null,null,null,null,null,null,null,null,null,null,null,null,null,null,null,null,null,null,"Caso Propuesto Con Clima",{"$f":"+IFERROR(IF(BF264=\"\",0,IF(T264<IF(OR(BF264<=$BP$3,BF264>=$BO$3),VLOOKUP('CEV-CEVE'!$E$10,$BN$7:$BZ$16,1+E264,0)-2,VLOOKUP('CEV-CEVE'!$E$10,$BN$7:$BZ$16,1+E264,0)),1,0)),0)","v":0},{"$f":"+IFERROR(IF(T264>VLOOKUP('CEV-CEVE'!$E$10,$BN$20:$BZ$29,1+E264,0),1,0),0)","v":0}]
[null,null,null,null,null,null,null,null,null,null,null,null,null,null,null,null,null,null,null,null,null,null,null,null,null,null,null,null,null,null,null,null,null,null,null,null,null,null,null,null,null,null,null,null,null,null,null,null,null,null,null,null,null,null,null,null,null,null,"Caso Propuesto Con Clima",{"$f":"+IFERROR(IF(BF265=\"\",0,IF(T265<IF(OR(BF265<=$BP$3,BF265>=$BO$3),VLOOKUP('CEV-CEVE'!$E$10,$BN$7:$BZ$16,1+E265,0)-2,VLOOKUP('CEV-CEVE'!$E$10,$BN$7:$BZ$16,1+E265,0)),1,0)),0)","v":0},{"$f":"+IFERROR(IF(T265>VLOOKUP('CEV-CEVE'!$E$10,$BN$20:$BZ$29,1+E265,0),1,0),0)","v":0}]
[null,null,null,null,null,null,null,null,null,null,null,null,null,null,null,null,null,null,null,null,null,null,null,null,null,null,null,null,null,null,null,null,null,null,null,null,null,null,null,null,null,null,null,null,null,null,null,null,null,null,null,null,null,null,null,null,null,0,"Caso Propuesto Con Clima",{"$f":"+IFERROR(IF(BF266=\"\",0,IF(T266<IF(OR(BF266<=$BP$3,BF266>=$BO$3),VLOOKUP('CEV-CEVE'!$E$10,$BN$7:$BZ$16,1+E266,0)-2,VLOOKUP('CEV-CEVE'!$E$10,$BN$7:$BZ$16,1+E266,0)),1,0)),0)","v":0},{"$f":"+IFERROR(IF(T266>VLOOKUP('CEV-CEVE'!$E$10,$BN$20:$BZ$29,1+E266,0),1,0),0)","v":0}]
[null,null,null,null,null,null,null,null,null,null,null,null,null,null,null,null,null,null,null,null,null,null,null,null,null,null,null,null,null,null,null,null,null,null,null,null,null,null,null,null,null,null,null,null,null,null,null,null,null,null,null,null,null,null,null,null,null,{"$f":"+BF266+1","v":1},"Caso Propuesto Con Clima",{"$f":"+IFERROR(IF(BF267=\"\",0,IF(T267<IF(OR(BF267<=$BP$3,BF267>=$BO$3),VLOOKUP('CEV-CEVE'!$E$10,$BN$7:$BZ$16,1+E267,0)-2,VLOOKUP('CEV-CEVE'!$E$10,$BN$7:$BZ$16,1+E267,0)),1,0)),0)","v":0},{"$f":"+IFERROR(IF(T267>VLOOKUP('CEV-CEVE'!$E$10,$BN$20:$BZ$29,1+E267,0),1,0),0)","v":0}]
[null,null,null,null,null,null,null,null,null,null,null,null,null,null,null,null,null,null,null,null,null,null,null,null,null,null,null,null,null,null,null,null,null,null,null,null,null,null,null,null,null,null,null,null,null,null,null,null,null,null,null,null,null,null,null,null,null,{"$f":"+BF267+1","v":2},"Caso Propuesto Con Clima",{"$f":"+IFERROR(IF(BF268=\"\",0,IF(T268<IF(OR(BF268<=$BP$3,BF268>=$BO$3),VLOOKUP('CEV-CEVE'!$E$10,$BN$7:$BZ$16,1+E268,0)-2,VLOOKUP('CEV-CEVE'!$E$10,$BN$7:$BZ$16,1+E268,0)),1,0)),0)","v":0},{"$f":"+IFERROR(IF(T268>VLOOKUP('CEV-CEVE'!$E$10,$BN$20:$BZ$29,1+E268,0),1,0),0)","v":0}]
[null,null,null,null,null,null,null,null,null,null,null,null,null,null,null,null,null,null,null,null,null,null,null,null,null,null,null,null,null,null,null,null,null,null,null,null,null,null,null,null,null,null,null,null,null,null,null,null,null,null,null,null,null,null,null,null,null,3,"Caso Propuesto Con Clima",{"$f":"+IFERROR(IF(BF269=\"\",0,IF(T269<IF(OR(BF269<=$BP$3,BF269>=$BO$3),VLOOKUP('CEV-CEVE'!$E$10,$BN$7:$BZ$16,1+E269,0)-2,VLOOKUP('CEV-CEVE'!$E$10,$BN$7:$BZ$16,1+E269,0)),1,0)),0)","v":0},{"$f":"+IFERROR(IF(T269>VLOOKUP('CEV-CEVE'!$E$10,$BN$20:$BZ$29,1+E269,0),1,0),0)","v":0}]
[null,null,null,null,null,null,null,null,null,null,null,null,null,null,null,null,null,null,null,null,null,null,null,null,null,null,null,null,null,null,null,null,null,null,null,null,null,null,null,null,null,null,null,null,null,null,null,null,null,null,null,null,null,null,null,null,null,4,"Caso Propuesto Con Clima",{"$f":"+IFERROR(IF(BF270=\"\",0,IF(T270<IF(OR(BF270<=$BP$3,BF270>=$BO$3),VLOOKUP('CEV-CEVE'!$E$10,$BN$7:$BZ$16,1+E270,0)-2,VLOOKUP('CEV-CEVE'!$E$10,$BN$7:$BZ$16,1+E270,0)),1,0)),0)","v":0},{"$f":"+IFERROR(IF(T270>VLOOKUP('CEV-CEVE'!$E$10,$BN$20:$BZ$29,1+E270,0),1,0),0)","v":0}]
[null,null,null,null,null,null,null,null,null,null,null,null,null,null,null,null,null,null,null,null,null,null,null,null,null,null,null,null,null,null,null,null,null,null,null,null,null,null,null,null,null,null,null,null,null,null,null,null,null,null,null,null,null,null,null,null,null,5,"Caso Propuesto Con Clima",{"$f":"+IFERROR(IF(BF271=\"\",0,IF(T271<IF(OR(BF271<=$BP$3,BF271>=$BO$3),VLOOKUP('CEV-CEVE'!$E$10,$BN$7:$BZ$16,1+E271,0)-2,VLOOKUP('CEV-CEVE'!$E$10,$BN$7:$BZ$16,1+E271,0)),1,0)),0)","v":0},{"$f":"+IFERROR(IF(T271>VLOOKUP('CEV-CEVE'!$E$10,$BN$20:$BZ$29,1+E271,0),1,0),0)","v":0}]
[null,null,null,null,null,null,null,null,null,null,null,null,null,null,null,null,null,null,null,null,null,null,null,null,null,null,null,null,null,null,null,null,null,null,null,null,null,null,null,null,null,null,null,null,null,null,null,null,null,null,null,null,null,null,null,null,null,6,"Caso Propuesto Con Clima",{"$f":"+IFERROR(IF(BF272=\"\",0,IF(T272<IF(OR(BF272<=$BP$3,BF272>=$BO$3),VLOOKUP('CEV-CEVE'!$E$10,$BN$7:$BZ$16,1+E272,0)-2,VLOOKUP('CEV-CEVE'!$E$10,$BN$7:$BZ$16,1+E272,0)),1,0)),0)","v":0},{"$f":"+IFERROR(IF(T272>VLOOKUP('CEV-CEVE'!$E$10,$BN$20:$BZ$29,1+E272,0),1,0),0)","v":0}]
[null,null,null,null,null,null,null,null,null,null,null,null,null,null,null,null,null,null,null,null,null,null,null,null,null,null,null,null,null,null,null,null,null,null,null,null,null,null,null,null,null,null,null,null,null,null,null,null,null,null,null,null,null,null,null,null,null,7,"Caso Propuesto Con Clima",{"$f":"+IFERROR(IF(BF273=\"\",0,IF(T273<IF(OR(BF273<=$BP$3,BF273>=$BO$3),VLOOKUP('CEV-CEVE'!$E$10,$BN$7:$BZ$16,1+E273,0)-2,VLOOKUP('CEV-CEVE'!$E$10,$BN$7:$BZ$16,1+E273,0)),1,0)),0)","v":0},{"$f":"+IFERROR(IF(T273>VLOOKUP('CEV-CEVE'!$E$10,$BN$20:$BZ$29,1+E273,0),1,0),0)","v":0}]
[null,null,null,null,null,null,null,null,null,null,null,null,null,null,null,null,null,null,null,null,null,null,null,null,null,null,null,null,null,null,null,null,null,null,null,null,null,null,null,null,null,null,null,null,null,null,null,null,null,null,null,null,null,null,null,null,null,8,"Caso Propuesto Con Clima",{"$f":"+IFERROR(IF(BF274=\"\",0,IF(T274<IF(OR(BF274<=$BP$3,BF274>=$BO$3),VLOOKUP('CEV-CEVE'!$E$10,$BN$7:$BZ$16,1+E274,0)-2,VLOOKUP('CEV-CEVE'!$E$10,$BN$7:$BZ$16,1+E274,0)),1,0)),0)","v":0},{"$f":"+IFERROR(IF(T274>VLOOKUP('CEV-CEVE'!$E$10,$BN$20:$BZ$29,1+E274,0),1,0),0)","v":0}]
[null,null,null,null,null,null,null,null,null,null,null,null,null,null,null,null,null,null,null,null,null,null,null,null,null,null,null,null,null,null,null,null,null,null,null,null,null,null,null,null,null,null,null,null,null,null,null,null,null,null,null,null,null,null,null,null,null,9,"Caso Propuesto Con Clima",{"$f":"+IFERROR(IF(BF275=\"\",0,IF(T275<IF(OR(BF275<=$BP$3,BF275>=$BO$3),VLOOKUP('CEV-CEVE'!$E$10,$BN$7:$BZ$16,1+E275,0)-2,VLOOKUP('CEV-CEVE'!$E$10,$BN$7:$BZ$16,1+E275,0)),1,0)),0)","v":0},{"$f":"+IFERROR(IF(T275>VLOOKUP('CEV-CEVE'!$E$10,$BN$20:$BZ$29,1+E275,0),1,0),0)","v":0}]
[null,null,null,null,null,null,null,null,null,null,null,null,null,null,null,null,null,null,null,null,null,null,null,null,null,null,null,null,null,null,null,null,null,null,null,null,null,null,null,null,null,null,null,null,null,null,null,null,null,null,null,null,null,null,null,null,null,10,"Caso Propuesto Con Clima",{"$f":"+IFERROR(IF(BF276=\"\",0,IF(T276<IF(OR(BF276<=$BP$3,BF276>=$BO$3),VLOOKUP('CEV-CEVE'!$E$10,$BN$7:$BZ$16,1+E276,0)-2,VLOOKUP('CEV-CEVE'!$E$10,$BN$7:$BZ$16,1+E276,0)),1,0)),0)","v":0},{"$f":"+IFERROR(IF(T276>VLOOKUP('CEV-CEVE'!$E$10,$BN$20:$BZ$29,1+E276,0),1,0),0)","v":0}]
[null,null,null,null,null,null,null,null,null,null,null,null,null,null,null,null,null,null,null,null,null,null,null,null,null,null,null,null,null,null,null,null,null,null,null,null,null,null,null,null,null,null,null,null,null,null,null,null,null,null,null,null,null,null,null,null,null,11,"Caso Propuesto Con Clima",{"$f":"+IFERROR(IF(BF277=\"\",0,IF(T277<IF(OR(BF277<=$BP$3,BF277>=$BO$3),VLOOKUP('CEV-CEVE'!$E$10,$BN$7:$BZ$16,1+E277,0)-2,VLOOKUP('CEV-CEVE'!$E$10,$BN$7:$BZ$16,1+E277,0)),1,0)),0)","v":0},{"$f":"+IFERROR(IF(T277>VLOOKUP('CEV-CEVE'!$E$10,$BN$20:$BZ$29,1+E277,0),1,0),0)","v":0}]
[null,null,null,null,null,null,null,null,null,null,null,null,null,null,null,null,null,null,null,null,null,null,null,null,null,null,null,null,null,null,null,null,null,null,null,null,null,null,null,null,null,null,null,null,null,null,null,null,null,null,null,null,null,null,null,null,null,12,"Caso Propuesto Con Clima",{"$f":"+IFERROR(IF(BF278=\"\",0,IF(T278<IF(OR(BF278<=$BP$3,BF278>=$BO$3),VLOOKUP('CEV-CEVE'!$E$10,$BN$7:$BZ$16,1+E278,0)-2,VLOOKUP('CEV-CEVE'!$E$10,$BN$7:$BZ$16,1+E278,0)),1,0)),0)","v":0},{"$f":"+IFERROR(IF(T278>VLOOKUP('CEV-CEVE'!$E$10,$BN$20:$BZ$29,1+E278,0),1,0),0)","v":0}]
[null,null,null,null,null,null,null,null,null,null,null,null,null,null,null,null,null,null,null,null,null,null,null,null,null,null,null,null,null,null,null,null,null,null,null,null,null,null,null,null,null,null,null,null,null,null,null,null,null,null,null,null,null,null,null,null,null,13,"Caso Propuesto Con Clima",{"$f":"+IFERROR(IF(BF279=\"\",0,IF(T279<IF(OR(BF279<=$BP$3,BF279>=$BO$3),VLOOKUP('CEV-CEVE'!$E$10,$BN$7:$BZ$16,1+E279,0)-2,VLOOKUP('CEV-CEVE'!$E$10,$BN$7:$BZ$16,1+E279,0)),1,0)),0)","v":0},{"$f":"+IFERROR(IF(T279>VLOOKUP('CEV-CEVE'!$E$10,$BN$20:$BZ$29,1+E279,0),1,0),0)","v":0}]
[null,null,null,null,null,null,null,null,null,null,null,null,null,null,null,null,null,null,null,null,null,null,null,null,null,null,null,null,null,null,null,null,null,null,null,null,null,null,null,null,null,null,null,null,null,null,null,null,null,null,null,null,null,null,null,null,null,14,"Caso Propuesto Con Clima",{"$f":"+IFERROR(IF(BF280=\"\",0,IF(T280<IF(OR(BF280<=$BP$3,BF280>=$BO$3),VLOOKUP('CEV-CEVE'!$E$10,$BN$7:$BZ$16,1+E280,0)-2,VLOOKUP('CEV-CEVE'!$E$10,$BN$7:$BZ$16,1+E280,0)),1,0)),0)","v":0},{"$f":"+IFERROR(IF(T280>VLOOKUP('CEV-CEVE'!$E$10,$BN$20:$BZ$29,1+E280,0),1,0),0)","v":0}]
[null,null,null,null,null,null,null,null,null,null,null,null,null,null,null,null,null,null,null,null,null,null,null,null,null,null,null,null,null,null,null,null,null,null,null,null,null,null,null,null,null,null,null,null,null,null,null,null,null,null,null,null,null,null,null,null,null,15,"Caso Propuesto Con Clima",{"$f":"+IFERROR(IF(BF281=\"\",0,IF(T281<IF(OR(BF281<=$BP$3,BF281>=$BO$3),VLOOKUP('CEV-CEVE'!$E$10,$BN$7:$BZ$16,1+E281,0)-2,VLOOKUP('CEV-CEVE'!$E$10,$BN$7:$BZ$16,1+E281,0)),1,0)),0)","v":0},{"$f":"+IFERROR(IF(T281>VLOOKUP('CEV-CEVE'!$E$10,$BN$20:$BZ$29,1+E281,0),1,0),0)","v":0}]
[null,null,null,null,null,null,null,null,null,null,null,null,null,null,null,null,null,null,null,null,null,null,null,null,null,null,null,null,null,null,null,null,null,null,null,null,null,null,null,null,null,null,null,null,null,null,null,null,null,null,null,null,null,null,null,null,null,16,"Caso Propuesto Con Clima",{"$f":"+IFERROR(IF(BF282=\"\",0,IF(T282<IF(OR(BF282<=$BP$3,BF282>=$BO$3),VLOOKUP('CEV-CEVE'!$E$10,$BN$7:$BZ$16,1+E282,0)-2,VLOOKUP('CEV-CEVE'!$E$10,$BN$7:$BZ$16,1+E282,0)),1,0)),0)","v":0},{"$f":"+IFERROR(IF(T282>VLOOKUP('CEV-CEVE'!$E$10,$BN$20:$BZ$29,1+E282,0),1,0),0)","v":0}]
[null,null,null,null,null,null,null,null,null,null,null,null,null,null,null,null,null,null,null,null,null,null,null,null,null,null,null,null,null,null,null,null,null,null,null,null,null,null,null,null,null,null,null,null,null,null,null,null,null,null,null,null,null,null,null,null,null,17,"Caso Propuesto Con Clima",{"$f":"+IFERROR(IF(BF283=\"\",0,IF(T283<IF(OR(BF283<=$BP$3,BF283>=$BO$3),VLOOKUP('CEV-CEVE'!$E$10,$BN$7:$BZ$16,1+E283,0)-2,VLOOKUP('CEV-CEVE'!$E$10,$BN$7:$BZ$16,1+E283,0)),1,0)),0)","v":0},{"$f":"+IFERROR(IF(T283>VLOOKUP('CEV-CEVE'!$E$10,$BN$20:$BZ$29,1+E283,0),1,0),0)","v":0}]
[null,null,null,null,null,null,null,null,null,null,null,null,null,null,null,null,null,null,null,null,null,null,null,null,null,null,null,null,null,null,null,null,null,null,null,null,null,null,null,null,null,null,null,null,null,null,null,null,null,null,null,null,null,null,null,null,null,18,"Caso Propuesto Con Clima",{"$f":"+IFERROR(IF(BF284=\"\",0,IF(T284<IF(OR(BF284<=$BP$3,BF284>=$BO$3),VLOOKUP('CEV-CEVE'!$E$10,$BN$7:$BZ$16,1+E284,0)-2,VLOOKUP('CEV-CEVE'!$E$10,$BN$7:$BZ$16,1+E284,0)),1,0)),0)","v":0},{"$f":"+IFERROR(IF(T284>VLOOKUP('CEV-CEVE'!$E$10,$BN$20:$BZ$29,1+E284,0),1,0),0)","v":0}]
[null,null,null,null,null,null,null,null,null,null,null,null,null,null,null,null,null,null,null,null,null,null,null,null,null,null,null,null,null,null,null,null,null,null,null,null,null,null,null,null,null,null,null,null,null,null,null,null,null,null,null,null,null,null,null,null,null,19,"Caso Propuesto Con Clima",{"$f":"+IFERROR(IF(BF285=\"\",0,IF(T285<IF(OR(BF285<=$BP$3,BF285>=$BO$3),VLOOKUP('CEV-CEVE'!$E$10,$BN$7:$BZ$16,1+E285,0)-2,VLOOKUP('CEV-CEVE'!$E$10,$BN$7:$BZ$16,1+E285,0)),1,0)),0)","v":0},{"$f":"+IFERROR(IF(T285>VLOOKUP('CEV-CEVE'!$E$10,$BN$20:$BZ$29,1+E285,0),1,0),0)","v":0}]
[null,null,null,null,null,null,null,null,null,null,null,null,null,null,null,null,null,null,null,null,null,null,null,null,null,null,null,null,null,null,null,null,null,null,null,null,null,null,null,null,null,null,null,null,null,null,null,null,null,null,null,null,null,null,null,null,null,20,"Caso Propuesto Con Clima",{"$f":"+IFERROR(IF(BF286=\"\",0,IF(T286<IF(OR(BF286<=$BP$3,BF286>=$BO$3),VLOOKUP('CEV-CEVE'!$E$10,$BN$7:$BZ$16,1+E286,0)-2,VLOOKUP('CEV-CEVE'!$E$10,$BN$7:$BZ$16,1+E286,0)),1,0)),0)","v":0},{"$f":"+IFERROR(IF(T286>VLOOKUP('CEV-CEVE'!$E$10,$BN$20:$BZ$29,1+E286,0),1,0),0)","v":0}]
[null,null,null,null,null,null,null,null,null,null,null,null,null,null,null,null,null,null,null,null,null,null,null,null,null,null,null,null,null,null,null,null,null,null,null,null,null,null,null,null,null,null,null,null,null,null,null,null,null,null,null,null,null,null,null,null,null,21,"Caso Propuesto Con Clima",{"$f":"+IFERROR(IF(BF287=\"\",0,IF(T287<IF(OR(BF287<=$BP$3,BF287>=$BO$3),VLOOKUP('CEV-CEVE'!$E$10,$BN$7:$BZ$16,1+E287,0)-2,VLOOKUP('CEV-CEVE'!$E$10,$BN$7:$BZ$16,1+E287,0)),1,0)),0)","v":0},{"$f":"+IFERROR(IF(T287>VLOOKUP('CEV-CEVE'!$E$10,$BN$20:$BZ$29,1+E287,0),1,0),0)","v":0}]
[null,null,null,null,null,null,null,null,null,null,null,null,null,null,null,null,null,null,null,null,null,null,null,null,null,null,null,null,null,null,null,null,null,null,null,null,null,null,null,null,null,null,null,null,null,null,null,null,null,null,null,null,null,null,null,null,null,22,"Caso Propuesto Con Clima",{"$f":"+IFERROR(IF(BF288=\"\",0,IF(T288<IF(OR(BF288<=$BP$3,BF288>=$BO$3),VLOOKUP('CEV-CEVE'!$E$10,$BN$7:$BZ$16,1+E288,0)-2,VLOOKUP('CEV-CEVE'!$E$10,$BN$7:$BZ$16,1+E288,0)),1,0)),0)","v":0},{"$f":"+IFERROR(IF(T288>VLOOKUP('CEV-CEVE'!$E$10,$BN$20:$BZ$29,1+E288,0),1,0),0)","v":0}]
[null,null,null,null,null,null,null,null,null,null,null,null,null,null,null,null,null,null,null,null,null,null,null,null,null,null,null,null,null,null,null,null,null,null,null,null,null,null,null,null,null,null,null,null,null,null,null,null,null,null,null,null,null,null,null,null,null,23,"Caso Propuesto Con Clima",{"$f":"+IFERROR(IF(BF289=\"\",0,IF(T289<IF(OR(BF289<=$BP$3,BF289>=$BO$3),VLOOKUP('CEV-CEVE'!$E$10,$BN$7:$BZ$16,1+E289,0)-2,VLOOKUP('CEV-CEVE'!$E$10,$BN$7:$BZ$16,1+E289,0)),1,0)),0)","v":0},{"$f":"+IFERROR(IF(T289>VLOOKUP('CEV-CEVE'!$E$10,$BN$20:$BZ$29,1+E289,0),1,0),0)","v":0}]
[null,null,null,null,null,null,null,null,null,null,null,null,null,null,null,null,null,null,null,null,null,null,null,null,null,null,null,null,null,null,null,null,null,null,null,null,null,null,null,null,null,null,null,null,null,null,null,null,null,null,null,null,null,null,null,null,null,null,"Caso Propuesto Con Clima",{"$f":"+IFERROR(IF(BF290=\"\",0,IF(T290<IF(OR(BF290<=$BP$3,BF290>=$BO$3),VLOOKUP('CEV-CEVE'!$E$10,$BN$7:$BZ$16,1+E290,0)-2,VLOOKUP('CEV-CEVE'!$E$10,$BN$7:$BZ$16,1+E290,0)),1,0)),0)","v":0},{"$f":"+IFERROR(IF(T290>VLOOKUP('CEV-CEVE'!$E$10,$BN$20:$BZ$29,1+E290,0),1,0),0)","v":0}]
[null,null,null,null,null,null,null,null,null,null,null,null,null,null,null,null,null,null,null,null,null,null,null,null,null,null,null,null,null,null,null,null,null,null,null,null,null,null,null,null,null,null,null,null,null,null,null,null,null,null,null,null,null,null,null,null,null,null,"Caso Propuesto Con Clima",{"$f":"+IFERROR(IF(BF291=\"\",0,IF(T291<IF(OR(BF291<=$BP$3,BF291>=$BO$3),VLOOKUP('CEV-CEVE'!$E$10,$BN$7:$BZ$16,1+E291,0)-2,VLOOKUP('CEV-CEVE'!$E$10,$BN$7:$BZ$16,1+E291,0)),1,0)),0)","v":0},{"$f":"+IFERROR(IF(T291>VLOOKUP('CEV-CEVE'!$E$10,$BN$20:$BZ$29,1+E291,0),1,0),0)","v":0}]
[null,null,null,null,null,null,null,null,null,null,null,null,null,null,null,null,null,null,null,null,null,null,null,null,null,null,null,null,null,null,null,null,null,null,null,null,null,null,null,null,null,null,null,null,null,null,null,null,null,null,null,null,null,null,null,null,null,0,"Caso Propuesto Con Clima",{"$f":"+IFERROR(IF(BF292=\"\",0,IF(T292<IF(OR(BF292<=$BP$3,BF292>=$BO$3),VLOOKUP('CEV-CEVE'!$E$10,$BN$7:$BZ$16,1+E292,0)-2,VLOOKUP('CEV-CEVE'!$E$10,$BN$7:$BZ$16,1+E292,0)),1,0)),0)","v":0},{"$f":"+IFERROR(IF(T292>VLOOKUP('CEV-CEVE'!$E$10,$BN$20:$BZ$29,1+E292,0),1,0),0)","v":0}]
[null,null,null,null,null,null,null,null,null,null,null,null,null,null,null,null,null,null,null,null,null,null,null,null,null,null,null,null,null,null,null,null,null,null,null,null,null,null,null,null,null,null,null,null,null,null,null,null,null,null,null,null,null,null,null,null,null,{"$f":"+BF292+1","v":1},"Caso Propuesto Con Clima",{"$f":"+IFERROR(IF(BF293=\"\",0,IF(T293<IF(OR(BF293<=$BP$3,BF293>=$BO$3),VLOOKUP('CEV-CEVE'!$E$10,$BN$7:$BZ$16,1+E293,0)-2,VLOOKUP('CEV-CEVE'!$E$10,$BN$7:$BZ$16,1+E293,0)),1,0)),0)","v":0},{"$f":"+IFERROR(IF(T293>VLOOKUP('CEV-CEVE'!$E$10,$BN$20:$BZ$29,1+E293,0),1,0),0)","v":0}]
[null,null,null,null,null,null,null,null,null,null,null,null,null,null,null,null,null,null,null,null,null,null,null,null,null,null,null,null,null,null,null,null,null,null,null,null,null,null,null,null,null,null,null,null,null,null,null,null,null,null,null,null,null,null,null,null,null,{"$f":"+BF293+1","v":2},"Caso Propuesto Con Clima",{"$f":"+IFERROR(IF(BF294=\"\",0,IF(T294<IF(OR(BF294<=$BP$3,BF294>=$BO$3),VLOOKUP('CEV-CEVE'!$E$10,$BN$7:$BZ$16,1+E294,0)-2,VLOOKUP('CEV-CEVE'!$E$10,$BN$7:$BZ$16,1+E294,0)),1,0)),0)","v":0},{"$f":"+IFERROR(IF(T294>VLOOKUP('CEV-CEVE'!$E$10,$BN$20:$BZ$29,1+E294,0),1,0),0)","v":0}]
[null,null,null,null,null,null,null,null,null,null,null,null,null,null,null,null,null,null,null,null,null,null,null,null,null,null,null,null,null,null,null,null,null,null,null,null,null,null,null,null,null,null,null,null,null,null,null,null,null,null,null,null,null,null,null,null,null,3,"Caso Propuesto Con Clima",{"$f":"+IFERROR(IF(BF295=\"\",0,IF(T295<IF(OR(BF295<=$BP$3,BF295>=$BO$3),VLOOKUP('CEV-CEVE'!$E$10,$BN$7:$BZ$16,1+E295,0)-2,VLOOKUP('CEV-CEVE'!$E$10,$BN$7:$BZ$16,1+E295,0)),1,0)),0)","v":0},{"$f":"+IFERROR(IF(T295>VLOOKUP('CEV-CEVE'!$E$10,$BN$20:$BZ$29,1+E295,0),1,0),0)","v":0}]
[null,null,null,null,null,null,null,null,null,null,null,null,null,null,null,null,null,null,null,null,null,null,null,null,null,null,null,null,null,null,null,null,null,null,null,null,null,null,null,null,null,null,null,null,null,null,null,null,null,null,null,null,null,null,null,null,null,4,"Caso Propuesto Con Clima",{"$f":"+IFERROR(IF(BF296=\"\",0,IF(T296<IF(OR(BF296<=$BP$3,BF296>=$BO$3),VLOOKUP('CEV-CEVE'!$E$10,$BN$7:$BZ$16,1+E296,0)-2,VLOOKUP('CEV-CEVE'!$E$10,$BN$7:$BZ$16,1+E296,0)),1,0)),0)","v":0},{"$f":"+IFERROR(IF(T296>VLOOKUP('CEV-CEVE'!$E$10,$BN$20:$BZ$29,1+E296,0),1,0),0)","v":0}]
[null,null,null,null,null,null,null,null,null,null,null,null,null,null,null,null,null,null,null,null,null,null,null,null,null,null,null,null,null,null,null,null,null,null,null,null,null,null,null,null,null,null,null,null,null,null,null,null,null,null,null,null,null,null,null,null,null,5,"Caso Propuesto Con Clima",{"$f":"+IFERROR(IF(BF297=\"\",0,IF(T297<IF(OR(BF297<=$BP$3,BF297>=$BO$3),VLOOKUP('CEV-CEVE'!$E$10,$BN$7:$BZ$16,1+E297,0)-2,VLOOKUP('CEV-CEVE'!$E$10,$BN$7:$BZ$16,1+E297,0)),1,0)),0)","v":0},{"$f":"+IFERROR(IF(T297>VLOOKUP('CEV-CEVE'!$E$10,$BN$20:$BZ$29,1+E297,0),1,0),0)","v":0}]
[null,null,null,null,null,null,null,null,null,null,null,null,null,null,null,null,null,null,null,null,null,null,null,null,null,null,null,null,null,null,null,null,null,null,null,null,null,null,null,null,null,null,null,null,null,null,null,null,null,null,null,null,null,null,null,null,null,6,"Caso Propuesto Con Clima",{"$f":"+IFERROR(IF(BF298=\"\",0,IF(T298<IF(OR(BF298<=$BP$3,BF298>=$BO$3),VLOOKUP('CEV-CEVE'!$E$10,$BN$7:$BZ$16,1+E298,0)-2,VLOOKUP('CEV-CEVE'!$E$10,$BN$7:$BZ$16,1+E298,0)),1,0)),0)","v":0},{"$f":"+IFERROR(IF(T298>VLOOKUP('CEV-CEVE'!$E$10,$BN$20:$BZ$29,1+E298,0),1,0),0)","v":0}]
[null,null,null,null,null,null,null,null,null,null,null,null,null,null,null,null,null,null,null,null,null,null,null,null,null,null,null,null,null,null,null,null,null,null,null,null,null,null,null,null,null,null,null,null,null,null,null,null,null,null,null,null,null,null,null,null,null,7,"Caso Propuesto Con Clima",{"$f":"+IFERROR(IF(BF299=\"\",0,IF(T299<IF(OR(BF299<=$BP$3,BF299>=$BO$3),VLOOKUP('CEV-CEVE'!$E$10,$BN$7:$BZ$16,1+E299,0)-2,VLOOKUP('CEV-CEVE'!$E$10,$BN$7:$BZ$16,1+E299,0)),1,0)),0)","v":0},{"$f":"+IFERROR(IF(T299>VLOOKUP('CEV-CEVE'!$E$10,$BN$20:$BZ$29,1+E299,0),1,0),0)","v":0}]
[null,null,null,null,null,null,null,null,null,null,null,null,null,null,null,null,null,null,null,null,null,null,null,null,null,null,null,null,null,null,null,null,null,null,null,null,null,null,null,null,null,null,null,null,null,null,null,null,null,null,null,null,null,null,null,null,null,8,"Caso Propuesto Con Clima",{"$f":"+IFERROR(IF(BF300=\"\",0,IF(T300<IF(OR(BF300<=$BP$3,BF300>=$BO$3),VLOOKUP('CEV-CEVE'!$E$10,$BN$7:$BZ$16,1+E300,0)-2,VLOOKUP('CEV-CEVE'!$E$10,$BN$7:$BZ$16,1+E300,0)),1,0)),0)","v":0},{"$f":"+IFERROR(IF(T300>VLOOKUP('CEV-CEVE'!$E$10,$BN$20:$BZ$29,1+E300,0),1,0),0)","v":0}]
[null,null,null,null,null,null,null,null,null,null,null,null,null,null,null,null,null,null,null,null,null,null,null,null,null,null,null,null,null,null,null,null,null,null,null,null,null,null,null,null,null,null,null,null,null,null,null,null,null,null,null,null,null,null,null,null,null,9,"Caso Propuesto Con Clima",{"$f":"+IFERROR(IF(BF301=\"\",0,IF(T301<IF(OR(BF301<=$BP$3,BF301>=$BO$3),VLOOKUP('CEV-CEVE'!$E$10,$BN$7:$BZ$16,1+E301,0)-2,VLOOKUP('CEV-CEVE'!$E$10,$BN$7:$BZ$16,1+E301,0)),1,0)),0)","v":0},{"$f":"+IFERROR(IF(T301>VLOOKUP('CEV-CEVE'!$E$10,$BN$20:$BZ$29,1+E301,0),1,0),0)","v":0}]
[null,null,null,null,null,null,null,null,null,null,null,null,null,null,null,null,null,null,null,null,null,null,null,null,null,null,null,null,null,null,null,null,null,null,null,null,null,null,null,null,null,null,null,null,null,null,null,null,null,null,null,null,null,null,null,null,null,10,"Caso Propuesto Con Clima",{"$f":"+IFERROR(IF(BF302=\"\",0,IF(T302<IF(OR(BF302<=$BP$3,BF302>=$BO$3),VLOOKUP('CEV-CEVE'!$E$10,$BN$7:$BZ$16,1+E302,0)-2,VLOOKUP('CEV-CEVE'!$E$10,$BN$7:$BZ$16,1+E302,0)),1,0)),0)","v":0},{"$f":"+IFERROR(IF(T302>VLOOKUP('CEV-CEVE'!$E$10,$BN$20:$BZ$29,1+E302,0),1,0),0)","v":0}]
[null,null,null,null,null,null,null,null,null,null,null,null,null,null,null,null,null,null,null,null,null,null,null,null,null,null,null,null,null,null,null,null,null,null,null,null,null,null,null,null,null,null,null,null,null,null,null,null,null,null,null,null,null,null,null,null,null,11,"Caso Propuesto Con Clima",{"$f":"+IFERROR(IF(BF303=\"\",0,IF(T303<IF(OR(BF303<=$BP$3,BF303>=$BO$3),VLOOKUP('CEV-CEVE'!$E$10,$BN$7:$BZ$16,1+E303,0)-2,VLOOKUP('CEV-CEVE'!$E$10,$BN$7:$BZ$16,1+E303,0)),1,0)),0)","v":0},{"$f":"+IFERROR(IF(T303>VLOOKUP('CEV-CEVE'!$E$10,$BN$20:$BZ$29,1+E303,0),1,0),0)","v":0}]
[null,null,null,null,null,null,null,null,null,null,null,null,null,null,null,null,null,null,null,null,null,null,null,null,null,null,null,null,null,null,null,null,null,null,null,null,null,null,null,null,null,null,null,null,null,null,null,null,null,null,null,null,null,null,null,null,null,12,"Caso Propuesto Con Clima",{"$f":"+IFERROR(IF(BF304=\"\",0,IF(T304<IF(OR(BF304<=$BP$3,BF304>=$BO$3),VLOOKUP('CEV-CEVE'!$E$10,$BN$7:$BZ$16,1+E304,0)-2,VLOOKUP('CEV-CEVE'!$E$10,$BN$7:$BZ$16,1+E304,0)),1,0)),0)","v":0},{"$f":"+IFERROR(IF(T304>VLOOKUP('CEV-CEVE'!$E$10,$BN$20:$BZ$29,1+E304,0),1,0),0)","v":0}]
[null,null,null,null,null,null,null,null,null,null,null,null,null,null,null,null,null,null,null,null,null,null,null,null,null,null,null,null,null,null,null,null,null,null,null,null,null,null,null,null,null,null,null,null,null,null,null,null,null,null,null,null,null,null,null,null,null,13,"Caso Propuesto Con Clima",{"$f":"+IFERROR(IF(BF305=\"\",0,IF(T305<IF(OR(BF305<=$BP$3,BF305>=$BO$3),VLOOKUP('CEV-CEVE'!$E$10,$BN$7:$BZ$16,1+E305,0)-2,VLOOKUP('CEV-CEVE'!$E$10,$BN$7:$BZ$16,1+E305,0)),1,0)),0)","v":0},{"$f":"+IFERROR(IF(T305>VLOOKUP('CEV-CEVE'!$E$10,$BN$20:$BZ$29,1+E305,0),1,0),0)","v":0}]
[null,null,null,null,null,null,null,null,null,null,null,null,null,null,null,null,null,null,null,null,null,null,null,null,null,null,null,null,null,null,null,null,null,null,null,null,null,null,null,null,null,null,null,null,null,null,null,null,null,null,null,null,null,null,null,null,null,14,"Caso Propuesto Con Clima",{"$f":"+IFERROR(IF(BF306=\"\",0,IF(T306<IF(OR(BF306<=$BP$3,BF306>=$BO$3),VLOOKUP('CEV-CEVE'!$E$10,$BN$7:$BZ$16,1+E306,0)-2,VLOOKUP('CEV-CEVE'!$E$10,$BN$7:$BZ$16,1+E306,0)),1,0)),0)","v":0},{"$f":"+IFERROR(IF(T306>VLOOKUP('CEV-CEVE'!$E$10,$BN$20:$BZ$29,1+E306,0),1,0),0)","v":0}]
[null,null,null,null,null,null,null,null,null,null,null,null,null,null,null,null,null,null,null,null,null,null,null,null,null,null,null,null,null,null,null,null,null,null,null,null,null,null,null,null,null,null,null,null,null,null,null,null,null,null,null,null,null,null,null,null,null,15,"Caso Propuesto Con Clima",{"$f":"+IFERROR(IF(BF307=\"\",0,IF(T307<IF(OR(BF307<=$BP$3,BF307>=$BO$3),VLOOKUP('CEV-CEVE'!$E$10,$BN$7:$BZ$16,1+E307,0)-2,VLOOKUP('CEV-CEVE'!$E$10,$BN$7:$BZ$16,1+E307,0)),1,0)),0)","v":0},{"$f":"+IFERROR(IF(T307>VLOOKUP('CEV-CEVE'!$E$10,$BN$20:$BZ$29,1+E307,0),1,0),0)","v":0}]
[null,null,null,null,null,null,null,null,null,null,null,null,null,null,null,null,null,null,null,null,null,null,null,null,null,null,null,null,null,null,null,null,null,null,null,null,null,null,null,null,null,null,null,null,null,null,null,null,null,null,null,null,null,null,null,null,null,16,"Caso Propuesto Con Clima",{"$f":"+IFERROR(IF(BF308=\"\",0,IF(T308<IF(OR(BF308<=$BP$3,BF308>=$BO$3),VLOOKUP('CEV-CEVE'!$E$10,$BN$7:$BZ$16,1+E308,0)-2,VLOOKUP('CEV-CEVE'!$E$10,$BN$7:$BZ$16,1+E308,0)),1,0)),0)","v":0},{"$f":"+IFERROR(IF(T308>VLOOKUP('CEV-CEVE'!$E$10,$BN$20:$BZ$29,1+E308,0),1,0),0)","v":0}]
[null,null,null,null,null,null,null,null,null,null,null,null,null,null,null,null,null,null,null,null,null,null,null,null,null,null,null,null,null,null,null,null,null,null,null,null,null,null,null,null,null,null,null,null,null,null,null,null,null,null,null,null,null,null,null,null,null,17,"Caso Propuesto Con Clima",{"$f":"+IFERROR(IF(BF309=\"\",0,IF(T309<IF(OR(BF309<=$BP$3,BF309>=$BO$3),VLOOKUP('CEV-CEVE'!$E$10,$BN$7:$BZ$16,1+E309,0)-2,VLOOKUP('CEV-CEVE'!$E$10,$BN$7:$BZ$16,1+E309,0)),1,0)),0)","v":0},{"$f":"+IFERROR(IF(T309>VLOOKUP('CEV-CEVE'!$E$10,$BN$20:$BZ$29,1+E309,0),1,0),0)","v":0}]
[null,null,null,null,null,null,null,null,null,null,null,null,null,null,null,null,null,null,null,null,null,null,null,null,null,null,null,null,null,null,null,null,null,null,null,null,null,null,null,null,null,null,null,null,null,null,null,null,null,null,null,null,null,null,null,null,null,18,"Caso Propuesto Con Clima",{"$f":"+IFERROR(IF(BF310=\"\",0,IF(T310<IF(OR(BF310<=$BP$3,BF310>=$BO$3),VLOOKUP('CEV-CEVE'!$E$10,$BN$7:$BZ$16,1+E310,0)-2,VLOOKUP('CEV-CEVE'!$E$10,$BN$7:$BZ$16,1+E310,0)),1,0)),0)","v":0},{"$f":"+IFERROR(IF(T310>VLOOKUP('CEV-CEVE'!$E$10,$BN$20:$BZ$29,1+E310,0),1,0),0)","v":0}]
[null,null,null,null,null,null,null,null,null,null,null,null,null,null,null,null,null,null,null,null,null,null,null,null,null,null,null,null,null,null,null,null,null,null,null,null,null,null,null,null,null,null,null,null,null,null,null,null,null,null,null,null,null,null,null,null,null,19,"Caso Propuesto Con Clima",{"$f":"+IFERROR(IF(BF311=\"\",0,IF(T311<IF(OR(BF311<=$BP$3,BF311>=$BO$3),VLOOKUP('CEV-CEVE'!$E$10,$BN$7:$BZ$16,1+E311,0)-2,VLOOKUP('CEV-CEVE'!$E$10,$BN$7:$BZ$16,1+E311,0)),1,0)),0)","v":0},{"$f":"+IFERROR(IF(T311>VLOOKUP('CEV-CEVE'!$E$10,$BN$20:$BZ$29,1+E311,0),1,0),0)","v":0}]
[null,null,null,null,null,null,null,null,null,null,null,null,null,null,null,null,null,null,null,null,null,null,null,null,null,null,null,null,null,null,null,null,null,null,null,null,null,null,null,null,null,null,null,null,null,null,null,null,null,null,null,null,null,null,null,null,null,20,"Caso Propuesto Con Clima",{"$f":"+IFERROR(IF(BF312=\"\",0,IF(T312<IF(OR(BF312<=$BP$3,BF312>=$BO$3),VLOOKUP('CEV-CEVE'!$E$10,$BN$7:$BZ$16,1+E312,0)-2,VLOOKUP('CEV-CEVE'!$E$10,$BN$7:$BZ$16,1+E312,0)),1,0)),0)","v":0},{"$f":"+IFERROR(IF(T312>VLOOKUP('CEV-CEVE'!$E$10,$BN$20:$BZ$29,1+E312,0),1,0),0)","v":0}]
[null,null,null,null,null,null,null,null,null,null,null,null,null,null,null,null,null,null,null,null,null,null,null,null,null,null,null,null,null,null,null,null,null,null,null,null,null,null,null,null,null,null,null,null,null,null,null,null,null,null,null,null,null,null,null,null,null,21,"Caso Propuesto Con Clima",{"$f":"+IFERROR(IF(BF313=\"\",0,IF(T313<IF(OR(BF313<=$BP$3,BF313>=$BO$3),VLOOKUP('CEV-CEVE'!$E$10,$BN$7:$BZ$16,1+E313,0)-2,VLOOKUP('CEV-CEVE'!$E$10,$BN$7:$BZ$16,1+E313,0)),1,0)),0)","v":0},{"$f":"+IFERROR(IF(T313>VLOOKUP('CEV-CEVE'!$E$10,$BN$20:$BZ$29,1+E313,0),1,0),0)","v":0}]
[null,null,null,null,null,null,null,null,null,null,null,null,null,null,null,null,null,null,null,null,null,null,null,null,null,null,null,null,null,null,null,null,null,null,null,null,null,null,null,null,null,null,null,null,null,null,null,null,null,null,null,null,null,null,null,null,null,22,"Caso Propuesto Con Clima",{"$f":"+IFERROR(IF(BF314=\"\",0,IF(T314<IF(OR(BF314<=$BP$3,BF314>=$BO$3),VLOOKUP('CEV-CEVE'!$E$10,$BN$7:$BZ$16,1+E314,0)-2,VLOOKUP('CEV-CEVE'!$E$10,$BN$7:$BZ$16,1+E314,0)),1,0)),0)","v":0},{"$f":"+IFERROR(IF(T314>VLOOKUP('CEV-CEVE'!$E$10,$BN$20:$BZ$29,1+E314,0),1,0),0)","v":0}]
[null,null,null,null,null,null,null,null,null,null,null,null,null,null,null,null,null,null,null,null,null,null,null,null,null,null,null,null,null,null,null,null,null,null,null,null,null,null,null,null,null,null,null,null,null,null,null,null,null,null,null,null,null,null,null,null,null,23,"Caso Propuesto Con Clima",{"$f":"+IFERROR(IF(BF315=\"\",0,IF(T315<IF(OR(BF315<=$BP$3,BF315>=$BO$3),VLOOKUP('CEV-CEVE'!$E$10,$BN$7:$BZ$16,1+E315,0)-2,VLOOKUP('CEV-CEVE'!$E$10,$BN$7:$BZ$16,1+E315,0)),1,0)),0)","v":0},{"$f":"+IFERROR(IF(T315>VLOOKUP('CEV-CEVE'!$E$10,$BN$20:$BZ$29,1+E315,0),1,0),0)","v":0}]
[null,null,null,null,null,null,null,null,null,null,null,null,null,null,null,null,null,null,null,null,null,null,null,null,null,null,null,null,null,null,null,null,null,null,null,null,null,null,null,null,null,null,null,null,null,null,null,null,null,null,null,null,null,null,null,null,null,null,"Caso Propuesto Con Clima",{"$f":"+IFERROR(IF(BF316=\"\",0,IF(T316<IF(OR(BF316<=$BP$3,BF316>=$BO$3),VLOOKUP('CEV-CEVE'!$E$10,$BN$7:$BZ$16,1+E316,0)-2,VLOOKUP('CEV-CEVE'!$E$10,$BN$7:$BZ$16,1+E316,0)),1,0)),0)","v":0},{"$f":"+IFERROR(IF(T316>VLOOKUP('CEV-CEVE'!$E$10,$BN$20:$BZ$29,1+E316,0),1,0),0)","v":0}]
[null,null,null,null,null,null,null,null,null,null,null,null,null,null,null,null,null,null,null,null,null,null,null,null,null,null,null,null,null,null,null,null,null,null,null,null,null,null,null,null,null,null,null,null,null,null,null,null,null,null,null,null,null,null,null,null,null,null,"Caso Propuesto Con Clima",{"$f":"+IFERROR(IF(BF317=\"\",0,IF(T317<IF(OR(BF317<=$BP$3,BF317>=$BO$3),VLOOKUP('CEV-CEVE'!$E$10,$BN$7:$BZ$16,1+E317,0)-2,VLOOKUP('CEV-CEVE'!$E$10,$BN$7:$BZ$16,1+E317,0)),1,0)),0)","v":0},{"$f":"+IFERROR(IF(T317>VLOOKUP('CEV-CEVE'!$E$10,$BN$20:$BZ$29,1+E317,0),1,0),0)","v":0}]
[null,null,null,null,null,null,null,null,null,null,null,null,null,null,null,null,null,null,null,null,null,null,null,null,null,null,null,null,null,null,null,null,null,null,null,null,null,null,null,null,null,null,null,null,null,null,null,null,null,null,null,null,null,null,null,null,null,0,"Caso Propuesto Sin Clima",{"$f":"+IFERROR(IF(BF318=\"\",0,IF(T318<IF(OR(BF318<=$BP$3,BF318>=$BO$3),VLOOKUP('CEV-CEVE'!$E$10,$BN$7:$BZ$16,1+E318,0)-2,VLOOKUP('CEV-CEVE'!$E$10,$BN$7:$BZ$16,1+E318,0)),1,0)),0)","v":0},{"$f":"+IFERROR(IF(T318>VLOOKUP('CEV-CEVE'!$E$10,$BN$20:$BZ$29,1+E318,0),1,0),0)","v":0}]
[null,null,null,null,null,null,null,null,null,null,null,null,null,null,null,null,null,null,null,null,null,null,null,null,null,null,null,null,null,null,null,null,null,null,null,null,null,null,null,null,null,null,null,null,null,null,null,null,null,null,null,null,null,null,null,null,null,{"$f":"+BF318+1","v":1},"Caso Propuesto Sin Clima",{"$f":"+IFERROR(IF(BF319=\"\",0,IF(T319<IF(OR(BF319<=$BP$3,BF319>=$BO$3),VLOOKUP('CEV-CEVE'!$E$10,$BN$7:$BZ$16,1+E319,0)-2,VLOOKUP('CEV-CEVE'!$E$10,$BN$7:$BZ$16,1+E319,0)),1,0)),0)","v":0},{"$f":"+IFERROR(IF(T319>VLOOKUP('CEV-CEVE'!$E$10,$BN$20:$BZ$29,1+E319,0),1,0),0)","v":0}]
[null,null,null,null,null,null,null,null,null,null,null,null,null,null,null,null,null,null,null,null,null,null,null,null,null,null,null,null,null,null,null,null,null,null,null,null,null,null,null,null,null,null,null,null,null,null,null,null,null,null,null,null,null,null,null,null,null,{"$f":"+BF319+1","v":2},"Caso Propuesto Sin Clima",{"$f":"+IFERROR(IF(BF320=\"\",0,IF(T320<IF(OR(BF320<=$BP$3,BF320>=$BO$3),VLOOKUP('CEV-CEVE'!$E$10,$BN$7:$BZ$16,1+E320,0)-2,VLOOKUP('CEV-CEVE'!$E$10,$BN$7:$BZ$16,1+E320,0)),1,0)),0)","v":0},{"$f":"+IFERROR(IF(T320>VLOOKUP('CEV-CEVE'!$E$10,$BN$20:$BZ$29,1+E320,0),1,0),0)","v":0}]
[null,null,null,null,null,null,null,null,null,null,null,null,null,null,null,null,null,null,null,null,null,null,null,null,null,null,null,null,null,null,null,null,null,null,null,null,null,null,null,null,null,null,null,null,null,null,null,null,null,null,null,null,null,null,null,null,null,3,"Caso Propuesto Sin Clima",{"$f":"+IFERROR(IF(BF321=\"\",0,IF(T321<IF(OR(BF321<=$BP$3,BF321>=$BO$3),VLOOKUP('CEV-CEVE'!$E$10,$BN$7:$BZ$16,1+E321,0)-2,VLOOKUP('CEV-CEVE'!$E$10,$BN$7:$BZ$16,1+E321,0)),1,0)),0)","v":0},{"$f":"+IFERROR(IF(T321>VLOOKUP('CEV-CEVE'!$E$10,$BN$20:$BZ$29,1+E321,0),1,0),0)","v":0}]
[null,null,null,null,null,null,null,null,null,null,null,null,null,null,null,null,null,null,null,null,null,null,null,null,null,null,null,null,null,null,null,null,null,null,null,null,null,null,null,null,null,null,null,null,null,null,null,null,null,null,null,null,null,null,null,null,null,4,"Caso Propuesto Sin Clima",{"$f":"+IFERROR(IF(BF322=\"\",0,IF(T322<IF(OR(BF322<=$BP$3,BF322>=$BO$3),VLOOKUP('CEV-CEVE'!$E$10,$BN$7:$BZ$16,1+E322,0)-2,VLOOKUP('CEV-CEVE'!$E$10,$BN$7:$BZ$16,1+E322,0)),1,0)),0)","v":0},{"$f":"+IFERROR(IF(T322>VLOOKUP('CEV-CEVE'!$E$10,$BN$20:$BZ$29,1+E322,0),1,0),0)","v":0}]
[null,null,null,null,null,null,null,null,null,null,null,null,null,null,null,null,null,null,null,null,null,null,null,null,null,null,null,null,null,null,null,null,null,null,null,null,null,null,null,null,null,null,null,null,null,null,null,null,null,null,null,null,null,null,null,null,null,5,"Caso Propuesto Sin Clima",{"$f":"+IFERROR(IF(BF323=\"\",0,IF(T323<IF(OR(BF323<=$BP$3,BF323>=$BO$3),VLOOKUP('CEV-CEVE'!$E$10,$BN$7:$BZ$16,1+E323,0)-2,VLOOKUP('CEV-CEVE'!$E$10,$BN$7:$BZ$16,1+E323,0)),1,0)),0)","v":0},{"$f":"+IFERROR(IF(T323>VLOOKUP('CEV-CEVE'!$E$10,$BN$20:$BZ$29,1+E323,0),1,0),0)","v":0}]
[null,null,null,null,null,null,null,null,null,null,null,null,null,null,null,null,null,null,null,null,null,null,null,null,null,null,null,null,null,null,null,null,null,null,null,null,null,null,null,null,null,null,null,null,null,null,null,null,null,null,null,null,null,null,null,null,null,6,"Caso Propuesto Sin Clima",{"$f":"+IFERROR(IF(BF324=\"\",0,IF(T324<IF(OR(BF324<=$BP$3,BF324>=$BO$3),VLOOKUP('CEV-CEVE'!$E$10,$BN$7:$BZ$16,1+E324,0)-2,VLOOKUP('CEV-CEVE'!$E$10,$BN$7:$BZ$16,1+E324,0)),1,0)),0)","v":0},{"$f":"+IFERROR(IF(T324>VLOOKUP('CEV-CEVE'!$E$10,$BN$20:$BZ$29,1+E324,0),1,0),0)","v":0}]
[null,null,null,null,null,null,null,null,null,null,null,null,null,null,null,null,null,null,null,null,null,null,null,null,null,null,null,null,null,null,null,null,null,null,null,null,null,null,null,null,null,null,null,null,null,null,null,null,null,null,null,null,null,null,null,null,null,7,"Caso Propuesto Sin Clima",{"$f":"+IFERROR(IF(BF325=\"\",0,IF(T325<IF(OR(BF325<=$BP$3,BF325>=$BO$3),VLOOKUP('CEV-CEVE'!$E$10,$BN$7:$BZ$16,1+E325,0)-2,VLOOKUP('CEV-CEVE'!$E$10,$BN$7:$BZ$16,1+E325,0)),1,0)),0)","v":0},{"$f":"+IFERROR(IF(T325>VLOOKUP('CEV-CEVE'!$E$10,$BN$20:$BZ$29,1+E325,0),1,0),0)","v":0}]
[null,null,null,null,null,null,null,null,null,null,null,null,null,null,null,null,null,null,null,null,null,null,null,null,null,null,null,null,null,null,null,null,null,null,null,null,null,null,null,null,null,null,null,null,null,null,null,null,null,null,null,null,null,null,null,null,null,8,"Caso Propuesto Sin Clima",{"$f":"+IFERROR(IF(BF326=\"\",0,IF(T326<IF(OR(BF326<=$BP$3,BF326>=$BO$3),VLOOKUP('CEV-CEVE'!$E$10,$BN$7:$BZ$16,1+E326,0)-2,VLOOKUP('CEV-CEVE'!$E$10,$BN$7:$BZ$16,1+E326,0)),1,0)),0)","v":0},{"$f":"+IFERROR(IF(T326>VLOOKUP('CEV-CEVE'!$E$10,$BN$20:$BZ$29,1+E326,0),1,0),0)","v":0}]
[null,null,null,null,null,null,null,null,null,null,null,null,null,null,null,null,null,null,null,null,null,null,null,null,null,null,null,null,null,null,null,null,null,null,null,null,null,null,null,null,null,null,null,null,null,null,null,null,null,null,null,null,null,null,null,null,null,9,"Caso Propuesto Sin Clima",{"$f":"+IFERROR(IF(BF327=\"\",0,IF(T327<IF(OR(BF327<=$BP$3,BF327>=$BO$3),VLOOKUP('CEV-CEVE'!$E$10,$BN$7:$BZ$16,1+E327,0)-2,VLOOKUP('CEV-CEVE'!$E$10,$BN$7:$BZ$16,1+E327,0)),1,0)),0)","v":0},{"$f":"+IFERROR(IF(T327>VLOOKUP('CEV-CEVE'!$E$10,$BN$20:$BZ$29,1+E327,0),1,0),0)","v":0}]
[null,null,null,null,null,null,null,null,null,null,null,null,null,null,null,null,null,null,null,null,null,null,null,null,null,null,null,null,null,null,null,null,null,null,null,null,null,null,null,null,null,null,null,null,null,null,null,null,null,null,null,null,null,null,null,null,null,10,"Caso Propuesto Sin Clima",{"$f":"+IFERROR(IF(BF328=\"\",0,IF(T328<IF(OR(BF328<=$BP$3,BF328>=$BO$3),VLOOKUP('CEV-CEVE'!$E$10,$BN$7:$BZ$16,1+E328,0)-2,VLOOKUP('CEV-CEVE'!$E$10,$BN$7:$BZ$16,1+E328,0)),1,0)),0)","v":0},{"$f":"+IFERROR(IF(T328>VLOOKUP('CEV-CEVE'!$E$10,$BN$20:$BZ$29,1+E328,0),1,0),0)","v":0}]
[null,null,null,null,null,null,null,null,null,null,null,null,null,null,null,null,null,null,null,null,null,null,null,null,null,null,null,null,null,null,null,null,null,null,null,null,null,null,null,null,null,null,null,null,null,null,null,null,null,null,null,null,null,null,null,null,null,11,"Caso Propuesto Sin Clima",{"$f":"+IFERROR(IF(BF329=\"\",0,IF(T329<IF(OR(BF329<=$BP$3,BF329>=$BO$3),VLOOKUP('CEV-CEVE'!$E$10,$BN$7:$BZ$16,1+E329,0)-2,VLOOKUP('CEV-CEVE'!$E$10,$BN$7:$BZ$16,1+E329,0)),1,0)),0)","v":0},{"$f":"+IFERROR(IF(T329>VLOOKUP('CEV-CEVE'!$E$10,$BN$20:$BZ$29,1+E329,0),1,0),0)","v":0}]
[null,null,null,null,null,null,null,null,null,null,null,null,null,null,null,null,null,null,null,null,null,null,null,null,null,null,null,null,null,null,null,null,null,null,null,null,null,null,null,null,null,null,null,null,null,null,null,null,null,null,null,null,null,null,null,null,null,12,"Caso Propuesto Sin Clima",{"$f":"+IFERROR(IF(BF330=\"\",0,IF(T330<IF(OR(BF330<=$BP$3,BF330>=$BO$3),VLOOKUP('CEV-CEVE'!$E$10,$BN$7:$BZ$16,1+E330,0)-2,VLOOKUP('CEV-CEVE'!$E$10,$BN$7:$BZ$16,1+E330,0)),1,0)),0)","v":0},{"$f":"+IFERROR(IF(T330>VLOOKUP('CEV-CEVE'!$E$10,$BN$20:$BZ$29,1+E330,0),1,0),0)","v":0}]
[null,null,null,null,null,null,null,null,null,null,null,null,null,null,null,null,null,null,null,null,null,null,null,null,null,null,null,null,null,null,null,null,null,null,null,null,null,null,null,null,null,null,null,null,null,null,null,null,null,null,null,null,null,null,null,null,null,13,"Caso Propuesto Sin Clima",{"$f":"+IFERROR(IF(BF331=\"\",0,IF(T331<IF(OR(BF331<=$BP$3,BF331>=$BO$3),VLOOKUP('CEV-CEVE'!$E$10,$BN$7:$BZ$16,1+E331,0)-2,VLOOKUP('CEV-CEVE'!$E$10,$BN$7:$BZ$16,1+E331,0)),1,0)),0)","v":0},{"$f":"+IFERROR(IF(T331>VLOOKUP('CEV-CEVE'!$E$10,$BN$20:$BZ$29,1+E331,0),1,0),0)","v":0}]
[null,null,null,null,null,null,null,null,null,null,null,null,null,null,null,null,null,null,null,null,null,null,null,null,null,null,null,null,null,null,null,null,null,null,null,null,null,null,null,null,null,null,null,null,null,null,null,null,null,null,null,null,null,null,null,null,null,14,"Caso Propuesto Sin Clima",{"$f":"+IFERROR(IF(BF332=\"\",0,IF(T332<IF(OR(BF332<=$BP$3,BF332>=$BO$3),VLOOKUP('CEV-CEVE'!$E$10,$BN$7:$BZ$16,1+E332,0)-2,VLOOKUP('CEV-CEVE'!$E$10,$BN$7:$BZ$16,1+E332,0)),1,0)),0)","v":0},{"$f":"+IFERROR(IF(T332>VLOOKUP('CEV-CEVE'!$E$10,$BN$20:$BZ$29,1+E332,0),1,0),0)","v":0}]
[null,null,null,null,null,null,null,null,null,null,null,null,null,null,null,null,null,null,null,null,null,null,null,null,null,null,null,null,null,null,null,null,null,null,null,null,null,null,null,null,null,null,null,null,null,null,null,null,null,null,null,null,null,null,null,null,null,15,"Caso Propuesto Sin Clima",{"$f":"+IFERROR(IF(BF333=\"\",0,IF(T333<IF(OR(BF333<=$BP$3,BF333>=$BO$3),VLOOKUP('CEV-CEVE'!$E$10,$BN$7:$BZ$16,1+E333,0)-2,VLOOKUP('CEV-CEVE'!$E$10,$BN$7:$BZ$16,1+E333,0)),1,0)),0)","v":0},{"$f":"+IFERROR(IF(T333>VLOOKUP('CEV-CEVE'!$E$10,$BN$20:$BZ$29,1+E333,0),1,0),0)","v":0}]
[null,null,null,null,null,null,null,null,null,null,null,null,null,null,null,null,null,null,null,null,null,null,null,null,null,null,null,null,null,null,null,null,null,null,null,null,null,null,null,null,null,null,null,null,null,null,null,null,null,null,null,null,null,null,null,null,null,16,"Caso Propuesto Sin Clima",{"$f":"+IFERROR(IF(BF334=\"\",0,IF(T334<IF(OR(BF334<=$BP$3,BF334>=$BO$3),VLOOKUP('CEV-CEVE'!$E$10,$BN$7:$BZ$16,1+E334,0)-2,VLOOKUP('CEV-CEVE'!$E$10,$BN$7:$BZ$16,1+E334,0)),1,0)),0)","v":0},{"$f":"+IFERROR(IF(T334>VLOOKUP('CEV-CEVE'!$E$10,$BN$20:$BZ$29,1+E334,0),1,0),0)","v":0}]
[null,null,null,null,null,null,null,null,null,null,null,null,null,null,null,null,null,null,null,null,null,null,null,null,null,null,null,null,null,null,null,null,null,null,null,null,null,null,null,null,null,null,null,null,null,null,null,null,null,null,null,null,null,null,null,null,null,17,"Caso Propuesto Sin Clima",{"$f":"+IFERROR(IF(BF335=\"\",0,IF(T335<IF(OR(BF335<=$BP$3,BF335>=$BO$3),VLOOKUP('CEV-CEVE'!$E$10,$BN$7:$BZ$16,1+E335,0)-2,VLOOKUP('CEV-CEVE'!$E$10,$BN$7:$BZ$16,1+E335,0)),1,0)),0)","v":0},{"$f":"+IFERROR(IF(T335>VLOOKUP('CEV-CEVE'!$E$10,$BN$20:$BZ$29,1+E335,0),1,0),0)","v":0}]
[null,null,null,null,null,null,null,null,null,null,null,null,null,null,null,null,null,null,null,null,null,null,null,null,null,null,null,null,null,null,null,null,null,null,null,null,null,null,null,null,null,null,null,null,null,null,null,null,null,null,null,null,null,null,null,null,null,18,"Caso Propuesto Sin Clima",{"$f":"+IFERROR(IF(BF336=\"\",0,IF(T336<IF(OR(BF336<=$BP$3,BF336>=$BO$3),VLOOKUP('CEV-CEVE'!$E$10,$BN$7:$BZ$16,1+E336,0)-2,VLOOKUP('CEV-CEVE'!$E$10,$BN$7:$BZ$16,1+E336,0)),1,0)),0)","v":0},{"$f":"+IFERROR(IF(T336>VLOOKUP('CEV-CEVE'!$E$10,$BN$20:$BZ$29,1+E336,0),1,0),0)","v":0}]
[null,null,null,null,null,null,null,null,null,null,null,null,null,null,null,null,null,null,null,null,null,null,null,null,null,null,null,null,null,null,null,null,null,null,null,null,null,null,null,null,null,null,null,null,null,null,null,null,null,null,null,null,null,null,null,null,null,19,"Caso Propuesto Sin Clima",{"$f":"+IFERROR(IF(BF337=\"\",0,IF(T337<IF(OR(BF337<=$BP$3,BF337>=$BO$3),VLOOKUP('CEV-CEVE'!$E$10,$BN$7:$BZ$16,1+E337,0)-2,VLOOKUP('CEV-CEVE'!$E$10,$BN$7:$BZ$16,1+E337,0)),1,0)),0)","v":0},{"$f":"+IFERROR(IF(T337>VLOOKUP('CEV-CEVE'!$E$10,$BN$20:$BZ$29,1+E337,0),1,0),0)","v":0}]
[null,null,null,null,null,null,null,null,null,null,null,null,null,null,null,null,null,null,null,null,null,null,null,null,null,null,null,null,null,null,null,null,null,null,null,null,null,null,null,null,null,null,null,null,null,null,null,null,null,null,null,null,null,null,null,null,null,20,"Caso Propuesto Sin Clima",{"$f":"+IFERROR(IF(BF338=\"\",0,IF(T338<IF(OR(BF338<=$BP$3,BF338>=$BO$3),VLOOKUP('CEV-CEVE'!$E$10,$BN$7:$BZ$16,1+E338,0)-2,VLOOKUP('CEV-CEVE'!$E$10,$BN$7:$BZ$16,1+E338,0)),1,0)),0)","v":0},{"$f":"+IFERROR(IF(T338>VLOOKUP('CEV-CEVE'!$E$10,$BN$20:$BZ$29,1+E338,0),1,0),0)","v":0}]
[null,null,null,null,null,null,null,null,null,null,null,null,null,null,null,null,null,null,null,null,null,null,null,null,null,null,null,null,null,null,null,null,null,null,null,null,null,null,null,null,null,null,null,null,null,null,null,null,null,null,null,null,null,null,null,null,null,21,"Caso Propuesto Sin Clima",{"$f":"+IFERROR(IF(BF339=\"\",0,IF(T339<IF(OR(BF339<=$BP$3,BF339>=$BO$3),VLOOKUP('CEV-CEVE'!$E$10,$BN$7:$BZ$16,1+E339,0)-2,VLOOKUP('CEV-CEVE'!$E$10,$BN$7:$BZ$16,1+E339,0)),1,0)),0)","v":0},{"$f":"+IFERROR(IF(T339>VLOOKUP('CEV-CEVE'!$E$10,$BN$20:$BZ$29,1+E339,0),1,0),0)","v":0}]
[null,null,null,null,null,null,null,null,null,null,null,null,null,null,null,null,null,null,null,null,null,null,null,null,null,null,null,null,null,null,null,null,null,null,null,null,null,null,null,null,null,null,null,null,null,null,null,null,null,null,null,null,null,null,null,null,null,22,"Caso Propuesto Sin Clima",{"$f":"+IFERROR(IF(BF340=\"\",0,IF(T340<IF(OR(BF340<=$BP$3,BF340>=$BO$3),VLOOKUP('CEV-CEVE'!$E$10,$BN$7:$BZ$16,1+E340,0)-2,VLOOKUP('CEV-CEVE'!$E$10,$BN$7:$BZ$16,1+E340,0)),1,0)),0)","v":0},{"$f":"+IFERROR(IF(T340>VLOOKUP('CEV-CEVE'!$E$10,$BN$20:$BZ$29,1+E340,0),1,0),0)","v":0}]
[null,null,null,null,null,null,null,null,null,null,null,null,null,null,null,null,null,null,null,null,null,null,null,null,null,null,null,null,null,null,null,null,null,null,null,null,null,null,null,null,null,null,null,null,null,null,null,null,null,null,null,null,null,null,null,null,null,23,"Caso Propuesto Sin Clima",{"$f":"+IFERROR(IF(BF341=\"\",0,IF(T341<IF(OR(BF341<=$BP$3,BF341>=$BO$3),VLOOKUP('CEV-CEVE'!$E$10,$BN$7:$BZ$16,1+E341,0)-2,VLOOKUP('CEV-CEVE'!$E$10,$BN$7:$BZ$16,1+E341,0)),1,0)),0)","v":0},{"$f":"+IFERROR(IF(T341>VLOOKUP('CEV-CEVE'!$E$10,$BN$20:$BZ$29,1+E341,0),1,0),0)","v":0}]
[null,null,null,null,null,null,null,null,null,null,null,null,null,null,null,null,null,null,null,null,null,null,null,null,null,null,null,null,null,null,null,null,null,null,null,null,null,null,null,null,null,null,null,null,null,null,null,null,null,null,null,null,null,null,null,null,null,null,"Caso Propuesto Sin Clima",{"$f":"+IFERROR(IF(BF342=\"\",0,IF(T342<IF(OR(BF342<=$BP$3,BF342>=$BO$3),VLOOKUP('CEV-CEVE'!$E$10,$BN$7:$BZ$16,1+E342,0)-2,VLOOKUP('CEV-CEVE'!$E$10,$BN$7:$BZ$16,1+E342,0)),1,0)),0)","v":0},{"$f":"+IFERROR(IF(T342>VLOOKUP('CEV-CEVE'!$E$10,$BN$20:$BZ$29,1+E342,0),1,0),0)","v":0}]
[null,null,null,null,null,null,null,null,null,null,null,null,null,null,null,null,null,null,null,null,null,null,null,null,null,null,null,null,null,null,null,null,null,null,null,null,null,null,null,null,null,null,null,null,null,null,null,null,null,null,null,null,null,null,null,null,null,null,"Caso Propuesto Sin Clima",{"$f":"+IFERROR(IF(BF343=\"\",0,IF(T343<IF(OR(BF343<=$BP$3,BF343>=$BO$3),VLOOKUP('CEV-CEVE'!$E$10,$BN$7:$BZ$16,1+E343,0)-2,VLOOKUP('CEV-CEVE'!$E$10,$BN$7:$BZ$16,1+E343,0)),1,0)),0)","v":0},{"$f":"+IFERROR(IF(T343>VLOOKUP('CEV-CEVE'!$E$10,$BN$20:$BZ$29,1+E343,0),1,0),0)","v":0}]
[null,null,null,null,null,null,null,null,null,null,null,null,null,null,null,null,null,null,null,null,null,null,null,null,null,null,null,null,null,null,null,null,null,null,null,null,null,null,null,null,null,null,null,null,null,null,null,null,null,null,null,null,null,null,null,null,null,0,"Caso Propuesto Sin Clima",{"$f":"+IFERROR(IF(BF344=\"\",0,IF(T344<IF(OR(BF344<=$BP$3,BF344>=$BO$3),VLOOKUP('CEV-CEVE'!$E$10,$BN$7:$BZ$16,1+E344,0)-2,VLOOKUP('CEV-CEVE'!$E$10,$BN$7:$BZ$16,1+E344,0)),1,0)),0)","v":0},{"$f":"+IFERROR(IF(T344>VLOOKUP('CEV-CEVE'!$E$10,$BN$20:$BZ$29,1+E344,0),1,0),0)","v":0}]
[null,null,null,null,null,null,null,null,null,null,null,null,null,null,null,null,null,null,null,null,null,null,null,null,null,null,null,null,null,null,null,null,null,null,null,null,null,null,null,null,null,null,null,null,null,null,null,null,null,null,null,null,null,null,null,null,null,{"$f":"+BF344+1","v":1},"Caso Propuesto Sin Clima",{"$f":"+IFERROR(IF(BF345=\"\",0,IF(T345<IF(OR(BF345<=$BP$3,BF345>=$BO$3),VLOOKUP('CEV-CEVE'!$E$10,$BN$7:$BZ$16,1+E345,0)-2,VLOOKUP('CEV-CEVE'!$E$10,$BN$7:$BZ$16,1+E345,0)),1,0)),0)","v":0},{"$f":"+IFERROR(IF(T345>VLOOKUP('CEV-CEVE'!$E$10,$BN$20:$BZ$29,1+E345,0),1,0),0)","v":0}]
[null,null,null,null,null,null,null,null,null,null,null,null,null,null,null,null,null,null,null,null,null,null,null,null,null,null,null,null,null,null,null,null,null,null,null,null,null,null,null,null,null,null,null,null,null,null,null,null,null,null,null,null,null,null,null,null,null,{"$f":"+BF345+1","v":2},"Caso Propuesto Sin Clima",{"$f":"+IFERROR(IF(BF346=\"\",0,IF(T346<IF(OR(BF346<=$BP$3,BF346>=$BO$3),VLOOKUP('CEV-CEVE'!$E$10,$BN$7:$BZ$16,1+E346,0)-2,VLOOKUP('CEV-CEVE'!$E$10,$BN$7:$BZ$16,1+E346,0)),1,0)),0)","v":0},{"$f":"+IFERROR(IF(T346>VLOOKUP('CEV-CEVE'!$E$10,$BN$20:$BZ$29,1+E346,0),1,0),0)","v":0}]
[null,null,null,null,null,null,null,null,null,null,null,null,null,null,null,null,null,null,null,null,null,null,null,null,null,null,null,null,null,null,null,null,null,null,null,null,null,null,null,null,null,null,null,null,null,null,null,null,null,null,null,null,null,null,null,null,null,3,"Caso Propuesto Sin Clima",{"$f":"+IFERROR(IF(BF347=\"\",0,IF(T347<IF(OR(BF347<=$BP$3,BF347>=$BO$3),VLOOKUP('CEV-CEVE'!$E$10,$BN$7:$BZ$16,1+E347,0)-2,VLOOKUP('CEV-CEVE'!$E$10,$BN$7:$BZ$16,1+E347,0)),1,0)),0)","v":0},{"$f":"+IFERROR(IF(T347>VLOOKUP('CEV-CEVE'!$E$10,$BN$20:$BZ$29,1+E347,0),1,0),0)","v":0}]
[null,null,null,null,null,null,null,null,null,null,null,null,null,null,null,null,null,null,null,null,null,null,null,null,null,null,null,null,null,null,null,null,null,null,null,null,null,null,null,null,null,null,null,null,null,null,null,null,null,null,null,null,null,null,null,null,null,4,"Caso Propuesto Sin Clima",{"$f":"+IFERROR(IF(BF348=\"\",0,IF(T348<IF(OR(BF348<=$BP$3,BF348>=$BO$3),VLOOKUP('CEV-CEVE'!$E$10,$BN$7:$BZ$16,1+E348,0)-2,VLOOKUP('CEV-CEVE'!$E$10,$BN$7:$BZ$16,1+E348,0)),1,0)),0)","v":0},{"$f":"+IFERROR(IF(T348>VLOOKUP('CEV-CEVE'!$E$10,$BN$20:$BZ$29,1+E348,0),1,0),0)","v":0}]
[null,null,null,null,null,null,null,null,null,null,null,null,null,null,null,null,null,null,null,null,null,null,null,null,null,null,null,null,null,null,null,null,null,null,null,null,null,null,null,null,null,null,null,null,null,null,null,null,null,null,null,null,null,null,null,null,null,5,"Caso Propuesto Sin Clima",{"$f":"+IFERROR(IF(BF349=\"\",0,IF(T349<IF(OR(BF349<=$BP$3,BF349>=$BO$3),VLOOKUP('CEV-CEVE'!$E$10,$BN$7:$BZ$16,1+E349,0)-2,VLOOKUP('CEV-CEVE'!$E$10,$BN$7:$BZ$16,1+E349,0)),1,0)),0)","v":0},{"$f":"+IFERROR(IF(T349>VLOOKUP('CEV-CEVE'!$E$10,$BN$20:$BZ$29,1+E349,0),1,0),0)","v":0}]
[null,null,null,null,null,null,null,null,null,null,null,null,null,null,null,null,null,null,null,null,null,null,null,null,null,null,null,null,null,null,null,null,null,null,null,null,null,null,null,null,null,null,null,null,null,null,null,null,null,null,null,null,null,null,null,null,null,6,"Caso Propuesto Sin Clima",{"$f":"+IFERROR(IF(BF350=\"\",0,IF(T350<IF(OR(BF350<=$BP$3,BF350>=$BO$3),VLOOKUP('CEV-CEVE'!$E$10,$BN$7:$BZ$16,1+E350,0)-2,VLOOKUP('CEV-CEVE'!$E$10,$BN$7:$BZ$16,1+E350,0)),1,0)),0)","v":0},{"$f":"+IFERROR(IF(T350>VLOOKUP('CEV-CEVE'!$E$10,$BN$20:$BZ$29,1+E350,0),1,0),0)","v":0}]
[null,null,null,null,null,null,null,null,null,null,null,null,null,null,null,null,null,null,null,null,null,null,null,null,null,null,null,null,null,null,null,null,null,null,null,null,null,null,null,null,null,null,null,null,null,null,null,null,null,null,null,null,null,null,null,null,null,7,"Caso Propuesto Sin Clima",{"$f":"+IFERROR(IF(BF351=\"\",0,IF(T351<IF(OR(BF351<=$BP$3,BF351>=$BO$3),VLOOKUP('CEV-CEVE'!$E$10,$BN$7:$BZ$16,1+E351,0)-2,VLOOKUP('CEV-CEVE'!$E$10,$BN$7:$BZ$16,1+E351,0)),1,0)),0)","v":0},{"$f":"+IFERROR(IF(T351>VLOOKUP('CEV-CEVE'!$E$10,$BN$20:$BZ$29,1+E351,0),1,0),0)","v":0}]
[null,null,null,null,null,null,null,null,null,null,null,null,null,null,null,null,null,null,null,null,null,null,null,null,null,null,null,null,null,null,null,null,null,null,null,null,null,null,null,null,null,null,null,null,null,null,null,null,null,null,null,null,null,null,null,null,null,8,"Caso Propuesto Sin Clima",{"$f":"+IFERROR(IF(BF352=\"\",0,IF(T352<IF(OR(BF352<=$BP$3,BF352>=$BO$3),VLOOKUP('CEV-CEVE'!$E$10,$BN$7:$BZ$16,1+E352,0)-2,VLOOKUP('CEV-CEVE'!$E$10,$BN$7:$BZ$16,1+E352,0)),1,0)),0)","v":0},{"$f":"+IFERROR(IF(T352>VLOOKUP('CEV-CEVE'!$E$10,$BN$20:$BZ$29,1+E352,0),1,0),0)","v":0}]
[null,null,null,null,null,null,null,null,null,null,null,null,null,null,null,null,null,null,null,null,null,null,null,null,null,null,null,null,null,null,null,null,null,null,null,null,null,null,null,null,null,null,null,null,null,null,null,null,null,null,null,null,null,null,null,null,null,9,"Caso Propuesto Sin Clima",{"$f":"+IFERROR(IF(BF353=\"\",0,IF(T353<IF(OR(BF353<=$BP$3,BF353>=$BO$3),VLOOKUP('CEV-CEVE'!$E$10,$BN$7:$BZ$16,1+E353,0)-2,VLOOKUP('CEV-CEVE'!$E$10,$BN$7:$BZ$16,1+E353,0)),1,0)),0)","v":0},{"$f":"+IFERROR(IF(T353>VLOOKUP('CEV-CEVE'!$E$10,$BN$20:$BZ$29,1+E353,0),1,0),0)","v":0}]
[null,null,null,null,null,null,null,null,null,null,null,null,null,null,null,null,null,null,null,null,null,null,null,null,null,null,null,null,null,null,null,null,null,null,null,null,null,null,null,null,null,null,null,null,null,null,null,null,null,null,null,null,null,null,null,null,null,10,"Caso Propuesto Sin Clima",{"$f":"+IFERROR(IF(BF354=\"\",0,IF(T354<IF(OR(BF354<=$BP$3,BF354>=$BO$3),VLOOKUP('CEV-CEVE'!$E$10,$BN$7:$BZ$16,1+E354,0)-2,VLOOKUP('CEV-CEVE'!$E$10,$BN$7:$BZ$16,1+E354,0)),1,0)),0)","v":0},{"$f":"+IFERROR(IF(T354>VLOOKUP('CEV-CEVE'!$E$10,$BN$20:$BZ$29,1+E354,0),1,0),0)","v":0}]
[null,null,null,null,null,null,null,null,null,null,null,null,null,null,null,null,null,null,null,null,null,null,null,null,null,null,null,null,null,null,null,null,null,null,null,null,null,null,null,null,null,null,null,null,null,null,null,null,null,null,null,null,null,null,null,null,null,11,"Caso Propuesto Sin Clima",{"$f":"+IFERROR(IF(BF355=\"\",0,IF(T355<IF(OR(BF355<=$BP$3,BF355>=$BO$3),VLOOKUP('CEV-CEVE'!$E$10,$BN$7:$BZ$16,1+E355,0)-2,VLOOKUP('CEV-CEVE'!$E$10,$BN$7:$BZ$16,1+E355,0)),1,0)),0)","v":0},{"$f":"+IFERROR(IF(T355>VLOOKUP('CEV-CEVE'!$E$10,$BN$20:$BZ$29,1+E355,0),1,0),0)","v":0}]
[null,null,null,null,null,null,null,null,null,null,null,null,null,null,null,null,null,null,null,null,null,null,null,null,null,null,null,null,null,null,null,null,null,null,null,null,null,null,null,null,null,null,null,null,null,null,null,null,null,null,null,null,null,null,null,null,null,12,"Caso Propuesto Sin Clima",{"$f":"+IFERROR(IF(BF356=\"\",0,IF(T356<IF(OR(BF356<=$BP$3,BF356>=$BO$3),VLOOKUP('CEV-CEVE'!$E$10,$BN$7:$BZ$16,1+E356,0)-2,VLOOKUP('CEV-CEVE'!$E$10,$BN$7:$BZ$16,1+E356,0)),1,0)),0)","v":0},{"$f":"+IFERROR(IF(T356>VLOOKUP('CEV-CEVE'!$E$10,$BN$20:$BZ$29,1+E356,0),1,0),0)","v":0}]
[null,null,null,null,null,null,null,null,null,null,null,null,null,null,null,null,null,null,null,null,null,null,null,null,null,null,null,null,null,null,null,null,null,null,null,null,null,null,null,null,null,null,null,null,null,null,null,null,null,null,null,null,null,null,null,null,null,13,"Caso Propuesto Sin Clima",{"$f":"+IFERROR(IF(BF357=\"\",0,IF(T357<IF(OR(BF357<=$BP$3,BF357>=$BO$3),VLOOKUP('CEV-CEVE'!$E$10,$BN$7:$BZ$16,1+E357,0)-2,VLOOKUP('CEV-CEVE'!$E$10,$BN$7:$BZ$16,1+E357,0)),1,0)),0)","v":0},{"$f":"+IFERROR(IF(T357>VLOOKUP('CEV-CEVE'!$E$10,$BN$20:$BZ$29,1+E357,0),1,0),0)","v":0}]
[null,null,null,null,null,null,null,null,null,null,null,null,null,null,null,null,null,null,null,null,null,null,null,null,null,null,null,null,null,null,null,null,null,null,null,null,null,null,null,null,null,null,null,null,null,null,null,null,null,null,null,null,null,null,null,null,null,14,"Caso Propuesto Sin Clima",{"$f":"+IFERROR(IF(BF358=\"\",0,IF(T358<IF(OR(BF358<=$BP$3,BF358>=$BO$3),VLOOKUP('CEV-CEVE'!$E$10,$BN$7:$BZ$16,1+E358,0)-2,VLOOKUP('CEV-CEVE'!$E$10,$BN$7:$BZ$16,1+E358,0)),1,0)),0)","v":0},{"$f":"+IFERROR(IF(T358>VLOOKUP('CEV-CEVE'!$E$10,$BN$20:$BZ$29,1+E358,0),1,0),0)","v":0}]
[null,null,null,null,null,null,null,null,null,null,null,null,null,null,null,null,null,null,null,null,null,null,null,null,null,null,null,null,null,null,null,null,null,null,null,null,null,null,null,null,null,null,null,null,null,null,null,null,null,null,null,null,null,null,null,null,null,15,"Caso Propuesto Sin Clima",{"$f":"+IFERROR(IF(BF359=\"\",0,IF(T359<IF(OR(BF359<=$BP$3,BF359>=$BO$3),VLOOKUP('CEV-CEVE'!$E$10,$BN$7:$BZ$16,1+E359,0)-2,VLOOKUP('CEV-CEVE'!$E$10,$BN$7:$BZ$16,1+E359,0)),1,0)),0)","v":0},{"$f":"+IFERROR(IF(T359>VLOOKUP('CEV-CEVE'!$E$10,$BN$20:$BZ$29,1+E359,0),1,0),0)","v":0}]
[null,null,null,null,null,null,null,null,null,null,null,null,null,null,null,null,null,null,null,null,null,null,null,null,null,null,null,null,null,null,null,null,null,null,null,null,null,null,null,null,null,null,null,null,null,null,null,null,null,null,null,null,null,null,null,null,null,16,"Caso Propuesto Sin Clima",{"$f":"+IFERROR(IF(BF360=\"\",0,IF(T360<IF(OR(BF360<=$BP$3,BF360>=$BO$3),VLOOKUP('CEV-CEVE'!$E$10,$BN$7:$BZ$16,1+E360,0)-2,VLOOKUP('CEV-CEVE'!$E$10,$BN$7:$BZ$16,1+E360,0)),1,0)),0)","v":0},{"$f":"+IFERROR(IF(T360>VLOOKUP('CEV-CEVE'!$E$10,$BN$20:$BZ$29,1+E360,0),1,0),0)","v":0}]
[null,null,null,null,null,null,null,null,null,null,null,null,null,null,null,null,null,null,null,null,null,null,null,null,null,null,null,null,null,null,null,null,null,null,null,null,null,null,null,null,null,null,null,null,null,null,null,null,null,null,null,null,null,null,null,null,null,17,"Caso Propuesto Sin Clima",{"$f":"+IFERROR(IF(BF361=\"\",0,IF(T361<IF(OR(BF361<=$BP$3,BF361>=$BO$3),VLOOKUP('CEV-CEVE'!$E$10,$BN$7:$BZ$16,1+E361,0)-2,VLOOKUP('CEV-CEVE'!$E$10,$BN$7:$BZ$16,1+E361,0)),1,0)),0)","v":0},{"$f":"+IFERROR(IF(T361>VLOOKUP('CEV-CEVE'!$E$10,$BN$20:$BZ$29,1+E361,0),1,0),0)","v":0}]
[null,null,null,null,null,null,null,null,null,null,null,null,null,null,null,null,null,null,null,null,null,null,null,null,null,null,null,null,null,null,null,null,null,null,null,null,null,null,null,null,null,null,null,null,null,null,null,null,null,null,null,null,null,null,null,null,null,18,"Caso Propuesto Sin Clima",{"$f":"+IFERROR(IF(BF362=\"\",0,IF(T362<IF(OR(BF362<=$BP$3,BF362>=$BO$3),VLOOKUP('CEV-CEVE'!$E$10,$BN$7:$BZ$16,1+E362,0)-2,VLOOKUP('CEV-CEVE'!$E$10,$BN$7:$BZ$16,1+E362,0)),1,0)),0)","v":0},{"$f":"+IFERROR(IF(T362>VLOOKUP('CEV-CEVE'!$E$10,$BN$20:$BZ$29,1+E362,0),1,0),0)","v":0}]
[null,null,null,null,null,null,null,null,null,null,null,null,null,null,null,null,null,null,null,null,null,null,null,null,null,null,null,null,null,null,null,null,null,null,null,null,null,null,null,null,null,null,null,null,null,null,null,null,null,null,null,null,null,null,null,null,null,19,"Caso Propuesto Sin Clima",{"$f":"+IFERROR(IF(BF363=\"\",0,IF(T363<IF(OR(BF363<=$BP$3,BF363>=$BO$3),VLOOKUP('CEV-CEVE'!$E$10,$BN$7:$BZ$16,1+E363,0)-2,VLOOKUP('CEV-CEVE'!$E$10,$BN$7:$BZ$16,1+E363,0)),1,0)),0)","v":0},{"$f":"+IFERROR(IF(T363>VLOOKUP('CEV-CEVE'!$E$10,$BN$20:$BZ$29,1+E363,0),1,0),0)","v":0}]
[null,null,null,null,null,null,null,null,null,null,null,null,null,null,null,null,null,null,null,null,null,null,null,null,null,null,null,null,null,null,null,null,null,null,null,null,null,null,null,null,null,null,null,null,null,null,null,null,null,null,null,null,null,null,null,null,null,20,"Caso Propuesto Sin Clima",{"$f":"+IFERROR(IF(BF364=\"\",0,IF(T364<IF(OR(BF364<=$BP$3,BF364>=$BO$3),VLOOKUP('CEV-CEVE'!$E$10,$BN$7:$BZ$16,1+E364,0)-2,VLOOKUP('CEV-CEVE'!$E$10,$BN$7:$BZ$16,1+E364,0)),1,0)),0)","v":0},{"$f":"+IFERROR(IF(T364>VLOOKUP('CEV-CEVE'!$E$10,$BN$20:$BZ$29,1+E364,0),1,0),0)","v":0}]
[null,null,null,null,null,null,null,null,null,null,null,null,null,null,null,null,null,null,null,null,null,null,null,null,null,null,null,null,null,null,null,null,null,null,null,null,null,null,null,null,null,null,null,null,null,null,null,null,null,null,null,null,null,null,null,null,null,21,"Caso Propuesto Sin Clima",{"$f":"+IFERROR(IF(BF365=\"\",0,IF(T365<IF(OR(BF365<=$BP$3,BF365>=$BO$3),VLOOKUP('CEV-CEVE'!$E$10,$BN$7:$BZ$16,1+E365,0)-2,VLOOKUP('CEV-CEVE'!$E$10,$BN$7:$BZ$16,1+E365,0)),1,0)),0)","v":0},{"$f":"+IFERROR(IF(T365>VLOOKUP('CEV-CEVE'!$E$10,$BN$20:$BZ$29,1+E365,0),1,0),0)","v":0}]
[null,null,null,null,null,null,null,null,null,null,null,null,null,null,null,null,null,null,null,null,null,null,null,null,null,null,null,null,null,null,null,null,null,null,null,null,null,null,null,null,null,null,null,null,null,null,null,null,null,null,null,null,null,null,null,null,null,22,"Caso Propuesto Sin Clima",{"$f":"+IFERROR(IF(BF366=\"\",0,IF(T366<IF(OR(BF366<=$BP$3,BF366>=$BO$3),VLOOKUP('CEV-CEVE'!$E$10,$BN$7:$BZ$16,1+E366,0)-2,VLOOKUP('CEV-CEVE'!$E$10,$BN$7:$BZ$16,1+E366,0)),1,0)),0)","v":0},{"$f":"+IFERROR(IF(T366>VLOOKUP('CEV-CEVE'!$E$10,$BN$20:$BZ$29,1+E366,0),1,0),0)","v":0}]
[null,null,null,null,null,null,null,null,null,null,null,null,null,null,null,null,null,null,null,null,null,null,null,null,null,null,null,null,null,null,null,null,null,null,null,null,null,null,null,null,null,null,null,null,null,null,null,null,null,null,null,null,null,null,null,null,null,23,"Caso Propuesto Sin Clima",{"$f":"+IFERROR(IF(BF367=\"\",0,IF(T367<IF(OR(BF367<=$BP$3,BF367>=$BO$3),VLOOKUP('CEV-CEVE'!$E$10,$BN$7:$BZ$16,1+E367,0)-2,VLOOKUP('CEV-CEVE'!$E$10,$BN$7:$BZ$16,1+E367,0)),1,0)),0)","v":0},{"$f":"+IFERROR(IF(T367>VLOOKUP('CEV-CEVE'!$E$10,$BN$20:$BZ$29,1+E367,0),1,0),0)","v":0}]
[null,null,null,null,null,null,null,null,null,null,null,null,null,null,null,null,null,null,null,null,null,null,null,null,null,null,null,null,null,null,null,null,null,null,null,null,null,null,null,null,null,null,null,null,null,null,null,null,null,null,null,null,null,null,null,null,null,null,"Caso Propuesto Sin Clima",{"$f":"+IFERROR(IF(BF368=\"\",0,IF(T368<IF(OR(BF368<=$BP$3,BF368>=$BO$3),VLOOKUP('CEV-CEVE'!$E$10,$BN$7:$BZ$16,1+E368,0)-2,VLOOKUP('CEV-CEVE'!$E$10,$BN$7:$BZ$16,1+E368,0)),1,0)),0)","v":0},{"$f":"+IFERROR(IF(T368>VLOOKUP('CEV-CEVE'!$E$10,$BN$20:$BZ$29,1+E368,0),1,0),0)","v":0}]
[null,null,null,null,null,null,null,null,null,null,null,null,null,null,null,null,null,null,null,null,null,null,null,null,null,null,null,null,null,null,null,null,null,null,null,null,null,null,null,null,null,null,null,null,null,null,null,null,null,null,null,null,null,null,null,null,null,null,"Caso Propuesto Sin Clima",{"$f":"+IFERROR(IF(BF369=\"\",0,IF(T369<IF(OR(BF369<=$BP$3,BF369>=$BO$3),VLOOKUP('CEV-CEVE'!$E$10,$BN$7:$BZ$16,1+E369,0)-2,VLOOKUP('CEV-CEVE'!$E$10,$BN$7:$BZ$16,1+E369,0)),1,0)),0)","v":0},{"$f":"+IFERROR(IF(T369>VLOOKUP('CEV-CEVE'!$E$10,$BN$20:$BZ$29,1+E369,0),1,0),0)","v":0}]
[null,null,null,null,null,null,null,null,null,null,null,null,null,null,null,null,null,null,null,null,null,null,null,null,null,null,null,null,null,null,null,null,null,null,null,null,null,null,null,null,null,null,null,null,null,null,null,null,null,null,null,null,null,null,null,null,null,0,"Caso Propuesto Sin Clima",{"$f":"+IFERROR(IF(BF370=\"\",0,IF(T370<IF(OR(BF370<=$BP$3,BF370>=$BO$3),VLOOKUP('CEV-CEVE'!$E$10,$BN$7:$BZ$16,1+E370,0)-2,VLOOKUP('CEV-CEVE'!$E$10,$BN$7:$BZ$16,1+E370,0)),1,0)),0)","v":0},{"$f":"+IFERROR(IF(T370>VLOOKUP('CEV-CEVE'!$E$10,$BN$20:$BZ$29,1+E370,0),1,0),0)","v":0}]
[null,null,null,null,null,null,null,null,null,null,null,null,null,null,null,null,null,null,null,null,null,null,null,null,null,null,null,null,null,null,null,null,null,null,null,null,null,null,null,null,null,null,null,null,null,null,null,null,null,null,null,null,null,null,null,null,null,{"$f":"+BF370+1","v":1},"Caso Propuesto Sin Clima",{"$f":"+IFERROR(IF(BF371=\"\",0,IF(T371<IF(OR(BF371<=$BP$3,BF371>=$BO$3),VLOOKUP('CEV-CEVE'!$E$10,$BN$7:$BZ$16,1+E371,0)-2,VLOOKUP('CEV-CEVE'!$E$10,$BN$7:$BZ$16,1+E371,0)),1,0)),0)","v":0},{"$f":"+IFERROR(IF(T371>VLOOKUP('CEV-CEVE'!$E$10,$BN$20:$BZ$29,1+E371,0),1,0),0)","v":0}]
[null,null,null,null,null,null,null,null,null,null,null,null,null,null,null,null,null,null,null,null,null,null,null,null,null,null,null,null,null,null,null,null,null,null,null,null,null,null,null,null,null,null,null,null,null,null,null,null,null,null,null,null,null,null,null,null,null,{"$f":"+BF371+1","v":2},"Caso Propuesto Sin Clima",{"$f":"+IFERROR(IF(BF372=\"\",0,IF(T372<IF(OR(BF372<=$BP$3,BF372>=$BO$3),VLOOKUP('CEV-CEVE'!$E$10,$BN$7:$BZ$16,1+E372,0)-2,VLOOKUP('CEV-CEVE'!$E$10,$BN$7:$BZ$16,1+E372,0)),1,0)),0)","v":0},{"$f":"+IFERROR(IF(T372>VLOOKUP('CEV-CEVE'!$E$10,$BN$20:$BZ$29,1+E372,0),1,0),0)","v":0}]
[null,null,null,null,null,null,null,null,null,null,null,null,null,null,null,null,null,null,null,null,null,null,null,null,null,null,null,null,null,null,null,null,null,null,null,null,null,null,null,null,null,null,null,null,null,null,null,null,null,null,null,null,null,null,null,null,null,3,"Caso Propuesto Sin Clima",{"$f":"+IFERROR(IF(BF373=\"\",0,IF(T373<IF(OR(BF373<=$BP$3,BF373>=$BO$3),VLOOKUP('CEV-CEVE'!$E$10,$BN$7:$BZ$16,1+E373,0)-2,VLOOKUP('CEV-CEVE'!$E$10,$BN$7:$BZ$16,1+E373,0)),1,0)),0)","v":0},{"$f":"+IFERROR(IF(T373>VLOOKUP('CEV-CEVE'!$E$10,$BN$20:$BZ$29,1+E373,0),1,0),0)","v":0}]
[null,null,null,null,null,null,null,null,null,null,null,null,null,null,null,null,null,null,null,null,null,null,null,null,null,null,null,null,null,null,null,null,null,null,null,null,null,null,null,null,null,null,null,null,null,null,null,null,null,null,null,null,null,null,null,null,null,4,"Caso Propuesto Sin Clima",{"$f":"+IFERROR(IF(BF374=\"\",0,IF(T374<IF(OR(BF374<=$BP$3,BF374>=$BO$3),VLOOKUP('CEV-CEVE'!$E$10,$BN$7:$BZ$16,1+E374,0)-2,VLOOKUP('CEV-CEVE'!$E$10,$BN$7:$BZ$16,1+E374,0)),1,0)),0)","v":0},{"$f":"+IFERROR(IF(T374>VLOOKUP('CEV-CEVE'!$E$10,$BN$20:$BZ$29,1+E374,0),1,0),0)","v":0}]
[null,null,null,null,null,null,null,null,null,null,null,null,null,null,null,null,null,null,null,null,null,null,null,null,null,null,null,null,null,null,null,null,null,null,null,null,null,null,null,null,null,null,null,null,null,null,null,null,null,null,null,null,null,null,null,null,null,5,"Caso Propuesto Sin Clima",{"$f":"+IFERROR(IF(BF375=\"\",0,IF(T375<IF(OR(BF375<=$BP$3,BF375>=$BO$3),VLOOKUP('CEV-CEVE'!$E$10,$BN$7:$BZ$16,1+E375,0)-2,VLOOKUP('CEV-CEVE'!$E$10,$BN$7:$BZ$16,1+E375,0)),1,0)),0)","v":0},{"$f":"+IFERROR(IF(T375>VLOOKUP('CEV-CEVE'!$E$10,$BN$20:$BZ$29,1+E375,0),1,0),0)","v":0}]
[null,null,null,null,null,null,null,null,null,null,null,null,null,null,null,null,null,null,null,null,null,null,null,null,null,null,null,null,null,null,null,null,null,null,null,null,null,null,null,null,null,null,null,null,null,null,null,null,null,null,null,null,null,null,null,null,null,6,"Caso Propuesto Sin Clima",{"$f":"+IFERROR(IF(BF376=\"\",0,IF(T376<IF(OR(BF376<=$BP$3,BF376>=$BO$3),VLOOKUP('CEV-CEVE'!$E$10,$BN$7:$BZ$16,1+E376,0)-2,VLOOKUP('CEV-CEVE'!$E$10,$BN$7:$BZ$16,1+E376,0)),1,0)),0)","v":0},{"$f":"+IFERROR(IF(T376>VLOOKUP('CEV-CEVE'!$E$10,$BN$20:$BZ$29,1+E376,0),1,0),0)","v":0}]
[null,null,null,null,null,null,null,null,null,null,null,null,null,null,null,null,null,null,null,null,null,null,null,null,null,null,null,null,null,null,null,null,null,null,null,null,null,null,null,null,null,null,null,null,null,null,null,null,null,null,null,null,null,null,null,null,null,7,"Caso Propuesto Sin Clima",{"$f":"+IFERROR(IF(BF377=\"\",0,IF(T377<IF(OR(BF377<=$BP$3,BF377>=$BO$3),VLOOKUP('CEV-CEVE'!$E$10,$BN$7:$BZ$16,1+E377,0)-2,VLOOKUP('CEV-CEVE'!$E$10,$BN$7:$BZ$16,1+E377,0)),1,0)),0)","v":0},{"$f":"+IFERROR(IF(T377>VLOOKUP('CEV-CEVE'!$E$10,$BN$20:$BZ$29,1+E377,0),1,0),0)","v":0}]
[null,null,null,null,null,null,null,null,null,null,null,null,null,null,null,null,null,null,null,null,null,null,null,null,null,null,null,null,null,null,null,null,null,null,null,null,null,null,null,null,null,null,null,null,null,null,null,null,null,null,null,null,null,null,null,null,null,8,"Caso Propuesto Sin Clima",{"$f":"+IFERROR(IF(BF378=\"\",0,IF(T378<IF(OR(BF378<=$BP$3,BF378>=$BO$3),VLOOKUP('CEV-CEVE'!$E$10,$BN$7:$BZ$16,1+E378,0)-2,VLOOKUP('CEV-CEVE'!$E$10,$BN$7:$BZ$16,1+E378,0)),1,0)),0)","v":0},{"$f":"+IFERROR(IF(T378>VLOOKUP('CEV-CEVE'!$E$10,$BN$20:$BZ$29,1+E378,0),1,0),0)","v":0}]
[null,null,null,null,null,null,null,null,null,null,null,null,null,null,null,null,null,null,null,null,null,null,null,null,null,null,null,null,null,null,null,null,null,null,null,null,null,null,null,null,null,null,null,null,null,null,null,null,null,null,null,null,null,null,null,null,null,9,"Caso Propuesto Sin Clima",{"$f":"+IFERROR(IF(BF379=\"\",0,IF(T379<IF(OR(BF379<=$BP$3,BF379>=$BO$3),VLOOKUP('CEV-CEVE'!$E$10,$BN$7:$BZ$16,1+E379,0)-2,VLOOKUP('CEV-CEVE'!$E$10,$BN$7:$BZ$16,1+E379,0)),1,0)),0)","v":0},{"$f":"+IFERROR(IF(T379>VLOOKUP('CEV-CEVE'!$E$10,$BN$20:$BZ$29,1+E379,0),1,0),0)","v":0}]
[null,null,null,null,null,null,null,null,null,null,null,null,null,null,null,null,null,null,null,null,null,null,null,null,null,null,null,null,null,null,null,null,null,null,null,null,null,null,null,null,null,null,null,null,null,null,null,null,null,null,null,null,null,null,null,null,null,10,"Caso Propuesto Sin Clima",{"$f":"+IFERROR(IF(BF380=\"\",0,IF(T380<IF(OR(BF380<=$BP$3,BF380>=$BO$3),VLOOKUP('CEV-CEVE'!$E$10,$BN$7:$BZ$16,1+E380,0)-2,VLOOKUP('CEV-CEVE'!$E$10,$BN$7:$BZ$16,1+E380,0)),1,0)),0)","v":0},{"$f":"+IFERROR(IF(T380>VLOOKUP('CEV-CEVE'!$E$10,$BN$20:$BZ$29,1+E380,0),1,0),0)","v":0}]
[null,null,null,null,null,null,null,null,null,null,null,null,null,null,null,null,null,null,null,null,null,null,null,null,null,null,null,null,null,null,null,null,null,null,null,null,null,null,null,null,null,null,null,null,null,null,null,null,null,null,null,null,null,null,null,null,null,11,"Caso Propuesto Sin Clima",{"$f":"+IFERROR(IF(BF381=\"\",0,IF(T381<IF(OR(BF381<=$BP$3,BF381>=$BO$3),VLOOKUP('CEV-CEVE'!$E$10,$BN$7:$BZ$16,1+E381,0)-2,VLOOKUP('CEV-CEVE'!$E$10,$BN$7:$BZ$16,1+E381,0)),1,0)),0)","v":0},{"$f":"+IFERROR(IF(T381>VLOOKUP('CEV-CEVE'!$E$10,$BN$20:$BZ$29,1+E381,0),1,0),0)","v":0}]
[null,null,null,null,null,null,null,null,null,null,null,null,null,null,null,null,null,null,null,null,null,null,null,null,null,null,null,null,null,null,null,null,null,null,null,null,null,null,null,null,null,null,null,null,null,null,null,null,null,null,null,null,null,null,null,null,null,12,"Caso Propuesto Sin Clima",{"$f":"+IFERROR(IF(BF382=\"\",0,IF(T382<IF(OR(BF382<=$BP$3,BF382>=$BO$3),VLOOKUP('CEV-CEVE'!$E$10,$BN$7:$BZ$16,1+E382,0)-2,VLOOKUP('CEV-CEVE'!$E$10,$BN$7:$BZ$16,1+E382,0)),1,0)),0)","v":0},{"$f":"+IFERROR(IF(T382>VLOOKUP('CEV-CEVE'!$E$10,$BN$20:$BZ$29,1+E382,0),1,0),0)","v":0}]
[null,null,null,null,null,null,null,null,null,null,null,null,null,null,null,null,null,null,null,null,null,null,null,null,null,null,null,null,null,null,null,null,null,null,null,null,null,null,null,null,null,null,null,null,null,null,null,null,null,null,null,null,null,null,null,null,null,13,"Caso Propuesto Sin Clima",{"$f":"+IFERROR(IF(BF383=\"\",0,IF(T383<IF(OR(BF383<=$BP$3,BF383>=$BO$3),VLOOKUP('CEV-CEVE'!$E$10,$BN$7:$BZ$16,1+E383,0)-2,VLOOKUP('CEV-CEVE'!$E$10,$BN$7:$BZ$16,1+E383,0)),1,0)),0)","v":0},{"$f":"+IFERROR(IF(T383>VLOOKUP('CEV-CEVE'!$E$10,$BN$20:$BZ$29,1+E383,0),1,0),0)","v":0}]
[null,null,null,null,null,null,null,null,null,null,null,null,null,null,null,null,null,null,null,null,null,null,null,null,null,null,null,null,null,null,null,null,null,null,null,null,null,null,null,null,null,null,null,null,null,null,null,null,null,null,null,null,null,null,null,null,null,14,"Caso Propuesto Sin Clima",{"$f":"+IFERROR(IF(BF384=\"\",0,IF(T384<IF(OR(BF384<=$BP$3,BF384>=$BO$3),VLOOKUP('CEV-CEVE'!$E$10,$BN$7:$BZ$16,1+E384,0)-2,VLOOKUP('CEV-CEVE'!$E$10,$BN$7:$BZ$16,1+E384,0)),1,0)),0)","v":0},{"$f":"+IFERROR(IF(T384>VLOOKUP('CEV-CEVE'!$E$10,$BN$20:$BZ$29,1+E384,0),1,0),0)","v":0}]
[null,null,null,null,null,null,null,null,null,null,null,null,null,null,null,null,null,null,null,null,null,null,null,null,null,null,null,null,null,null,null,null,null,null,null,null,null,null,null,null,null,null,null,null,null,null,null,null,null,null,null,null,null,null,null,null,null,15,"Caso Propuesto Sin Clima",{"$f":"+IFERROR(IF(BF385=\"\",0,IF(T385<IF(OR(BF385<=$BP$3,BF385>=$BO$3),VLOOKUP('CEV-CEVE'!$E$10,$BN$7:$BZ$16,1+E385,0)-2,VLOOKUP('CEV-CEVE'!$E$10,$BN$7:$BZ$16,1+E385,0)),1,0)),0)","v":0},{"$f":"+IFERROR(IF(T385>VLOOKUP('CEV-CEVE'!$E$10,$BN$20:$BZ$29,1+E385,0),1,0),0)","v":0}]
[null,null,null,null,null,null,null,null,null,null,null,null,null,null,null,null,null,null,null,null,null,null,null,null,null,null,null,null,null,null,null,null,null,null,null,null,null,null,null,null,null,null,null,null,null,null,null,null,null,null,null,null,null,null,null,null,null,16,"Caso Propuesto Sin Clima",{"$f":"+IFERROR(IF(BF386=\"\",0,IF(T386<IF(OR(BF386<=$BP$3,BF386>=$BO$3),VLOOKUP('CEV-CEVE'!$E$10,$BN$7:$BZ$16,1+E386,0)-2,VLOOKUP('CEV-CEVE'!$E$10,$BN$7:$BZ$16,1+E386,0)),1,0)),0)","v":0},{"$f":"+IFERROR(IF(T386>VLOOKUP('CEV-CEVE'!$E$10,$BN$20:$BZ$29,1+E386,0),1,0),0)","v":0}]
[null,null,null,null,null,null,null,null,null,null,null,null,null,null,null,null,null,null,null,null,null,null,null,null,null,null,null,null,null,null,null,null,null,null,null,null,null,null,null,null,null,null,null,null,null,null,null,null,null,null,null,null,null,null,null,null,null,17,"Caso Propuesto Sin Clima",{"$f":"+IFERROR(IF(BF387=\"\",0,IF(T387<IF(OR(BF387<=$BP$3,BF387>=$BO$3),VLOOKUP('CEV-CEVE'!$E$10,$BN$7:$BZ$16,1+E387,0)-2,VLOOKUP('CEV-CEVE'!$E$10,$BN$7:$BZ$16,1+E387,0)),1,0)),0)","v":0},{"$f":"+IFERROR(IF(T387>VLOOKUP('CEV-CEVE'!$E$10,$BN$20:$BZ$29,1+E387,0),1,0),0)","v":0}]
[null,null,null,null,null,null,null,null,null,null,null,null,null,null,null,null,null,null,null,null,null,null,null,null,null,null,null,null,null,null,null,null,null,null,null,null,null,null,null,null,null,null,null,null,null,null,null,null,null,null,null,null,null,null,null,null,null,18,"Caso Propuesto Sin Clima",{"$f":"+IFERROR(IF(BF388=\"\",0,IF(T388<IF(OR(BF388<=$BP$3,BF388>=$BO$3),VLOOKUP('CEV-CEVE'!$E$10,$BN$7:$BZ$16,1+E388,0)-2,VLOOKUP('CEV-CEVE'!$E$10,$BN$7:$BZ$16,1+E388,0)),1,0)),0)","v":0},{"$f":"+IFERROR(IF(T388>VLOOKUP('CEV-CEVE'!$E$10,$BN$20:$BZ$29,1+E388,0),1,0),0)","v":0}]
[null,null,null,null,null,null,null,null,null,null,null,null,null,null,null,null,null,null,null,null,null,null,null,null,null,null,null,null,null,null,null,null,null,null,null,null,null,null,null,null,null,null,null,null,null,null,null,null,null,null,null,null,null,null,null,null,null,19,"Caso Propuesto Sin Clima",{"$f":"+IFERROR(IF(BF389=\"\",0,IF(T389<IF(OR(BF389<=$BP$3,BF389>=$BO$3),VLOOKUP('CEV-CEVE'!$E$10,$BN$7:$BZ$16,1+E389,0)-2,VLOOKUP('CEV-CEVE'!$E$10,$BN$7:$BZ$16,1+E389,0)),1,0)),0)","v":0},{"$f":"+IFERROR(IF(T389>VLOOKUP('CEV-CEVE'!$E$10,$BN$20:$BZ$29,1+E389,0),1,0),0)","v":0}]
[null,null,null,null,null,null,null,null,null,null,null,null,null,null,null,null,null,null,null,null,null,null,null,null,null,null,null,null,null,null,null,null,null,null,null,null,null,null,null,null,null,null,null,null,null,null,null,null,null,null,null,null,null,null,null,null,null,20,"Caso Propuesto Sin Clima",{"$f":"+IFERROR(IF(BF390=\"\",0,IF(T390<IF(OR(BF390<=$BP$3,BF390>=$BO$3),VLOOKUP('CEV-CEVE'!$E$10,$BN$7:$BZ$16,1+E390,0)-2,VLOOKUP('CEV-CEVE'!$E$10,$BN$7:$BZ$16,1+E390,0)),1,0)),0)","v":0},{"$f":"+IFERROR(IF(T390>VLOOKUP('CEV-CEVE'!$E$10,$BN$20:$BZ$29,1+E390,0),1,0),0)","v":0}]
[null,null,null,null,null,null,null,null,null,null,null,null,null,null,null,null,null,null,null,null,null,null,null,null,null,null,null,null,null,null,null,null,null,null,null,null,null,null,null,null,null,null,null,null,null,null,null,null,null,null,null,null,null,null,null,null,null,21,"Caso Propuesto Sin Clima",{"$f":"+IFERROR(IF(BF391=\"\",0,IF(T391<IF(OR(BF391<=$BP$3,BF391>=$BO$3),VLOOKUP('CEV-CEVE'!$E$10,$BN$7:$BZ$16,1+E391,0)-2,VLOOKUP('CEV-CEVE'!$E$10,$BN$7:$BZ$16,1+E391,0)),1,0)),0)","v":0},{"$f":"+IFERROR(IF(T391>VLOOKUP('CEV-CEVE'!$E$10,$BN$20:$BZ$29,1+E391,0),1,0),0)","v":0}]
[null,null,null,null,null,null,null,null,null,null,null,null,null,null,null,null,null,null,null,null,null,null,null,null,null,null,null,null,null,null,null,null,null,null,null,null,null,null,null,null,null,null,null,null,null,null,null,null,null,null,null,null,null,null,null,null,null,22,"Caso Propuesto Sin Clima",{"$f":"+IFERROR(IF(BF392=\"\",0,IF(T392<IF(OR(BF392<=$BP$3,BF392>=$BO$3),VLOOKUP('CEV-CEVE'!$E$10,$BN$7:$BZ$16,1+E392,0)-2,VLOOKUP('CEV-CEVE'!$E$10,$BN$7:$BZ$16,1+E392,0)),1,0)),0)","v":0},{"$f":"+IFERROR(IF(T392>VLOOKUP('CEV-CEVE'!$E$10,$BN$20:$BZ$29,1+E392,0),1,0),0)","v":0}]
[null,null,null,null,null,null,null,null,null,null,null,null,null,null,null,null,null,null,null,null,null,null,null,null,null,null,null,null,null,null,null,null,null,null,null,null,null,null,null,null,null,null,null,null,null,null,null,null,null,null,null,null,null,null,null,null,null,23,"Caso Propuesto Sin Clima",{"$f":"+IFERROR(IF(BF393=\"\",0,IF(T393<IF(OR(BF393<=$BP$3,BF393>=$BO$3),VLOOKUP('CEV-CEVE'!$E$10,$BN$7:$BZ$16,1+E393,0)-2,VLOOKUP('CEV-CEVE'!$E$10,$BN$7:$BZ$16,1+E393,0)),1,0)),0)","v":0},{"$f":"+IFERROR(IF(T393>VLOOKUP('CEV-CEVE'!$E$10,$BN$20:$BZ$29,1+E393,0),1,0),0)","v":0}]
[null,null,null,null,null,null,null,null,null,null,null,null,null,null,null,null,null,null,null,null,null,null,null,null,null,null,null,null,null,null,null,null,null,null,null,null,null,null,null,null,null,null,null,null,null,null,null,null,null,null,null,null,null,null,null,null,null,null,"Caso Propuesto Sin Clima",{"$f":"+IFERROR(IF(BF394=\"\",0,IF(T394<IF(OR(BF394<=$BP$3,BF394>=$BO$3),VLOOKUP('CEV-CEVE'!$E$10,$BN$7:$BZ$16,1+E394,0)-2,VLOOKUP('CEV-CEVE'!$E$10,$BN$7:$BZ$16,1+E394,0)),1,0)),0)","v":0},{"$f":"+IFERROR(IF(T394>VLOOKUP('CEV-CEVE'!$E$10,$BN$20:$BZ$29,1+E394,0),1,0),0)","v":0}]
[null,null,null,null,null,null,null,null,null,null,null,null,null,null,null,null,null,null,null,null,null,null,null,null,null,null,null,null,null,null,null,null,null,null,null,null,null,null,null,null,null,null,null,null,null,null,null,null,null,null,null,null,null,null,null,null,null,null,"Caso Propuesto Sin Clima",{"$f":"+IFERROR(IF(BF395=\"\",0,IF(T395<IF(OR(BF395<=$BP$3,BF395>=$BO$3),VLOOKUP('CEV-CEVE'!$E$10,$BN$7:$BZ$16,1+E395,0)-2,VLOOKUP('CEV-CEVE'!$E$10,$BN$7:$BZ$16,1+E395,0)),1,0)),0)","v":0},{"$f":"+IFERROR(IF(T395>VLOOKUP('CEV-CEVE'!$E$10,$BN$20:$BZ$29,1+E395,0),1,0),0)","v":0}]
[null,null,null,null,null,null,null,null,null,null,null,null,null,null,null,null,null,null,null,null,null,null,null,null,null,null,null,null,null,null,null,null,null,null,null,null,null,null,null,null,null,null,null,null,null,null,null,null,null,null,null,null,null,null,null,null,null,0,"Caso Propuesto Sin Clima",{"$f":"+IFERROR(IF(BF396=\"\",0,IF(T396<IF(OR(BF396<=$BP$3,BF396>=$BO$3),VLOOKUP('CEV-CEVE'!$E$10,$BN$7:$BZ$16,1+E396,0)-2,VLOOKUP('CEV-CEVE'!$E$10,$BN$7:$BZ$16,1+E396,0)),1,0)),0)","v":0},{"$f":"+IFERROR(IF(T396>VLOOKUP('CEV-CEVE'!$E$10,$BN$20:$BZ$29,1+E396,0),1,0),0)","v":0}]
[null,null,null,null,null,null,null,null,null,null,null,null,null,null,null,null,null,null,null,null,null,null,null,null,null,null,null,null,null,null,null,null,null,null,null,null,null,null,null,null,null,null,null,null,null,null,null,null,null,null,null,null,null,null,null,null,null,{"$f":"+BF396+1","v":1},"Caso Propuesto Sin Clima",{"$f":"+IFERROR(IF(BF397=\"\",0,IF(T397<IF(OR(BF397<=$BP$3,BF397>=$BO$3),VLOOKUP('CEV-CEVE'!$E$10,$BN$7:$BZ$16,1+E397,0)-2,VLOOKUP('CEV-CEVE'!$E$10,$BN$7:$BZ$16,1+E397,0)),1,0)),0)","v":0},{"$f":"+IFERROR(IF(T397>VLOOKUP('CEV-CEVE'!$E$10,$BN$20:$BZ$29,1+E397,0),1,0),0)","v":0}]
[null,null,null,null,null,null,null,null,null,null,null,null,null,null,null,null,null,null,null,null,null,null,null,null,null,null,null,null,null,null,null,null,null,null,null,null,null,null,null,null,null,null,null,null,null,null,null,null,null,null,null,null,null,null,null,null,null,{"$f":"+BF397+1","v":2},"Caso Propuesto Sin Clima",{"$f":"+IFERROR(IF(BF398=\"\",0,IF(T398<IF(OR(BF398<=$BP$3,BF398>=$BO$3),VLOOKUP('CEV-CEVE'!$E$10,$BN$7:$BZ$16,1+E398,0)-2,VLOOKUP('CEV-CEVE'!$E$10,$BN$7:$BZ$16,1+E398,0)),1,0)),0)","v":0},{"$f":"+IFERROR(IF(T398>VLOOKUP('CEV-CEVE'!$E$10,$BN$20:$BZ$29,1+E398,0),1,0),0)","v":0}]
[null,null,null,null,null,null,null,null,null,null,null,null,null,null,null,null,null,null,null,null,null,null,null,null,null,null,null,null,null,null,null,null,null,null,null,null,null,null,null,null,null,null,null,null,null,null,null,null,null,null,null,null,null,null,null,null,null,3,"Caso Propuesto Sin Clima",{"$f":"+IFERROR(IF(BF399=\"\",0,IF(T399<IF(OR(BF399<=$BP$3,BF399>=$BO$3),VLOOKUP('CEV-CEVE'!$E$10,$BN$7:$BZ$16,1+E399,0)-2,VLOOKUP('CEV-CEVE'!$E$10,$BN$7:$BZ$16,1+E399,0)),1,0)),0)","v":0},{"$f":"+IFERROR(IF(T399>VLOOKUP('CEV-CEVE'!$E$10,$BN$20:$BZ$29,1+E399,0),1,0),0)","v":0}]
[null,null,null,null,null,null,null,null,null,null,null,null,null,null,null,null,null,null,null,null,null,null,null,null,null,null,null,null,null,null,null,null,null,null,null,null,null,null,null,null,null,null,null,null,null,null,null,null,null,null,null,null,null,null,null,null,null,4,"Caso Propuesto Sin Clima",{"$f":"+IFERROR(IF(BF400=\"\",0,IF(T400<IF(OR(BF400<=$BP$3,BF400>=$BO$3),VLOOKUP('CEV-CEVE'!$E$10,$BN$7:$BZ$16,1+E400,0)-2,VLOOKUP('CEV-CEVE'!$E$10,$BN$7:$BZ$16,1+E400,0)),1,0)),0)","v":0},{"$f":"+IFERROR(IF(T400>VLOOKUP('CEV-CEVE'!$E$10,$BN$20:$BZ$29,1+E400,0),1,0),0)","v":0}]
[null,null,null,null,null,null,null,null,null,null,null,null,null,null,null,null,null,null,null,null,null,null,null,null,null,null,null,null,null,null,null,null,null,null,null,null,null,null,null,null,null,null,null,null,null,null,null,null,null,null,null,null,null,null,null,null,null,5,"Caso Propuesto Sin Clima",{"$f":"+IFERROR(IF(BF401=\"\",0,IF(T401<IF(OR(BF401<=$BP$3,BF401>=$BO$3),VLOOKUP('CEV-CEVE'!$E$10,$BN$7:$BZ$16,1+E401,0)-2,VLOOKUP('CEV-CEVE'!$E$10,$BN$7:$BZ$16,1+E401,0)),1,0)),0)","v":0},{"$f":"+IFERROR(IF(T401>VLOOKUP('CEV-CEVE'!$E$10,$BN$20:$BZ$29,1+E401,0),1,0),0)","v":0}]
[null,null,null,null,null,null,null,null,null,null,null,null,null,null,null,null,null,null,null,null,null,null,null,null,null,null,null,null,null,null,null,null,null,null,null,null,null,null,null,null,null,null,null,null,null,null,null,null,null,null,null,null,null,null,null,null,null,6,"Caso Propuesto Sin Clima",{"$f":"+IFERROR(IF(BF402=\"\",0,IF(T402<IF(OR(BF402<=$BP$3,BF402>=$BO$3),VLOOKUP('CEV-CEVE'!$E$10,$BN$7:$BZ$16,1+E402,0)-2,VLOOKUP('CEV-CEVE'!$E$10,$BN$7:$BZ$16,1+E402,0)),1,0)),0)","v":0},{"$f":"+IFERROR(IF(T402>VLOOKUP('CEV-CEVE'!$E$10,$BN$20:$BZ$29,1+E402,0),1,0),0)","v":0}]
[null,null,null,null,null,null,null,null,null,null,null,null,null,null,null,null,null,null,null,null,null,null,null,null,null,null,null,null,null,null,null,null,null,null,null,null,null,null,null,null,null,null,null,null,null,null,null,null,null,null,null,null,null,null,null,null,null,7,"Caso Propuesto Sin Clima",{"$f":"+IFERROR(IF(BF403=\"\",0,IF(T403<IF(OR(BF403<=$BP$3,BF403>=$BO$3),VLOOKUP('CEV-CEVE'!$E$10,$BN$7:$BZ$16,1+E403,0)-2,VLOOKUP('CEV-CEVE'!$E$10,$BN$7:$BZ$16,1+E403,0)),1,0)),0)","v":0},{"$f":"+IFERROR(IF(T403>VLOOKUP('CEV-CEVE'!$E$10,$BN$20:$BZ$29,1+E403,0),1,0),0)","v":0}]
[null,null,null,null,null,null,null,null,null,null,null,null,null,null,null,null,null,null,null,null,null,null,null,null,null,null,null,null,null,null,null,null,null,null,null,null,null,null,null,null,null,null,null,null,null,null,null,null,null,null,null,null,null,null,null,null,null,8,"Caso Propuesto Sin Clima",{"$f":"+IFERROR(IF(BF404=\"\",0,IF(T404<IF(OR(BF404<=$BP$3,BF404>=$BO$3),VLOOKUP('CEV-CEVE'!$E$10,$BN$7:$BZ$16,1+E404,0)-2,VLOOKUP('CEV-CEVE'!$E$10,$BN$7:$BZ$16,1+E404,0)),1,0)),0)","v":0},{"$f":"+IFERROR(IF(T404>VLOOKUP('CEV-CEVE'!$E$10,$BN$20:$BZ$29,1+E404,0),1,0),0)","v":0}]
[null,null,null,null,null,null,null,null,null,null,null,null,null,null,null,null,null,null,null,null,null,null,null,null,null,null,null,null,null,null,null,null,null,null,null,null,null,null,null,null,null,null,null,null,null,null,null,null,null,null,null,null,null,null,null,null,null,9,"Caso Propuesto Sin Clima",{"$f":"+IFERROR(IF(BF405=\"\",0,IF(T405<IF(OR(BF405<=$BP$3,BF405>=$BO$3),VLOOKUP('CEV-CEVE'!$E$10,$BN$7:$BZ$16,1+E405,0)-2,VLOOKUP('CEV-CEVE'!$E$10,$BN$7:$BZ$16,1+E405,0)),1,0)),0)","v":0},{"$f":"+IFERROR(IF(T405>VLOOKUP('CEV-CEVE'!$E$10,$BN$20:$BZ$29,1+E405,0),1,0),0)","v":0}]
[null,null,null,null,null,null,null,null,null,null,null,null,null,null,null,null,null,null,null,null,null,null,null,null,null,null,null,null,null,null,null,null,null,null,null,null,null,null,null,null,null,null,null,null,null,null,null,null,null,null,null,null,null,null,null,null,null,10,"Caso Propuesto Sin Clima",{"$f":"+IFERROR(IF(BF406=\"\",0,IF(T406<IF(OR(BF406<=$BP$3,BF406>=$BO$3),VLOOKUP('CEV-CEVE'!$E$10,$BN$7:$BZ$16,1+E406,0)-2,VLOOKUP('CEV-CEVE'!$E$10,$BN$7:$BZ$16,1+E406,0)),1,0)),0)","v":0},{"$f":"+IFERROR(IF(T406>VLOOKUP('CEV-CEVE'!$E$10,$BN$20:$BZ$29,1+E406,0),1,0),0)","v":0}]
[null,null,null,null,null,null,null,null,null,null,null,null,null,null,null,null,null,null,null,null,null,null,null,null,null,null,null,null,null,null,null,null,null,null,null,null,null,null,null,null,null,null,null,null,null,null,null,null,null,null,null,null,null,null,null,null,null,11,"Caso Propuesto Sin Clima",{"$f":"+IFERROR(IF(BF407=\"\",0,IF(T407<IF(OR(BF407<=$BP$3,BF407>=$BO$3),VLOOKUP('CEV-CEVE'!$E$10,$BN$7:$BZ$16,1+E407,0)-2,VLOOKUP('CEV-CEVE'!$E$10,$BN$7:$BZ$16,1+E407,0)),1,0)),0)","v":0},{"$f":"+IFERROR(IF(T407>VLOOKUP('CEV-CEVE'!$E$10,$BN$20:$BZ$29,1+E407,0),1,0),0)","v":0}]
[null,null,null,null,null,null,null,null,null,null,null,null,null,null,null,null,null,null,null,null,null,null,null,null,null,null,null,null,null,null,null,null,null,null,null,null,null,null,null,null,null,null,null,null,null,null,null,null,null,null,null,null,null,null,null,null,null,12,"Caso Propuesto Sin Clima",{"$f":"+IFERROR(IF(BF408=\"\",0,IF(T408<IF(OR(BF408<=$BP$3,BF408>=$BO$3),VLOOKUP('CEV-CEVE'!$E$10,$BN$7:$BZ$16,1+E408,0)-2,VLOOKUP('CEV-CEVE'!$E$10,$BN$7:$BZ$16,1+E408,0)),1,0)),0)","v":0},{"$f":"+IFERROR(IF(T408>VLOOKUP('CEV-CEVE'!$E$10,$BN$20:$BZ$29,1+E408,0),1,0),0)","v":0}]
[null,null,null,null,null,null,null,null,null,null,null,null,null,null,null,null,null,null,null,null,null,null,null,null,null,null,null,null,null,null,null,null,null,null,null,null,null,null,null,null,null,null,null,null,null,null,null,null,null,null,null,null,null,null,null,null,null,13,"Caso Propuesto Sin Clima",{"$f":"+IFERROR(IF(BF409=\"\",0,IF(T409<IF(OR(BF409<=$BP$3,BF409>=$BO$3),VLOOKUP('CEV-CEVE'!$E$10,$BN$7:$BZ$16,1+E409,0)-2,VLOOKUP('CEV-CEVE'!$E$10,$BN$7:$BZ$16,1+E409,0)),1,0)),0)","v":0},{"$f":"+IFERROR(IF(T409>VLOOKUP('CEV-CEVE'!$E$10,$BN$20:$BZ$29,1+E409,0),1,0),0)","v":0}]
[null,null,null,null,null,null,null,null,null,null,null,null,null,null,null,null,null,null,null,null,null,null,null,null,null,null,null,null,null,null,null,null,null,null,null,null,null,null,null,null,null,null,null,null,null,null,null,null,null,null,null,null,null,null,null,null,null,14,"Caso Propuesto Sin Clima",{"$f":"+IFERROR(IF(BF410=\"\",0,IF(T410<IF(OR(BF410<=$BP$3,BF410>=$BO$3),VLOOKUP('CEV-CEVE'!$E$10,$BN$7:$BZ$16,1+E410,0)-2,VLOOKUP('CEV-CEVE'!$E$10,$BN$7:$BZ$16,1+E410,0)),1,0)),0)","v":0},{"$f":"+IFERROR(IF(T410>VLOOKUP('CEV-CEVE'!$E$10,$BN$20:$BZ$29,1+E410,0),1,0),0)","v":0}]
[null,null,null,null,null,null,null,null,null,null,null,null,null,null,null,null,null,null,null,null,null,null,null,null,null,null,null,null,null,null,null,null,null,null,null,null,null,null,null,null,null,null,null,null,null,null,null,null,null,null,null,null,null,null,null,null,null,15,"Caso Propuesto Sin Clima",{"$f":"+IFERROR(IF(BF411=\"\",0,IF(T411<IF(OR(BF411<=$BP$3,BF411>=$BO$3),VLOOKUP('CEV-CEVE'!$E$10,$BN$7:$BZ$16,1+E411,0)-2,VLOOKUP('CEV-CEVE'!$E$10,$BN$7:$BZ$16,1+E411,0)),1,0)),0)","v":0},{"$f":"+IFERROR(IF(T411>VLOOKUP('CEV-CEVE'!$E$10,$BN$20:$BZ$29,1+E411,0),1,0),0)","v":0}]
[null,null,null,null,null,null,null,null,null,null,null,null,null,null,null,null,null,null,null,null,null,null,null,null,null,null,null,null,null,null,null,null,null,null,null,null,null,null,null,null,null,null,null,null,null,null,null,null,null,null,null,null,null,null,null,null,null,16,"Caso Propuesto Sin Clima",{"$f":"+IFERROR(IF(BF412=\"\",0,IF(T412<IF(OR(BF412<=$BP$3,BF412>=$BO$3),VLOOKUP('CEV-CEVE'!$E$10,$BN$7:$BZ$16,1+E412,0)-2,VLOOKUP('CEV-CEVE'!$E$10,$BN$7:$BZ$16,1+E412,0)),1,0)),0)","v":0},{"$f":"+IFERROR(IF(T412>VLOOKUP('CEV-CEVE'!$E$10,$BN$20:$BZ$29,1+E412,0),1,0),0)","v":0}]
[null,null,null,null,null,null,null,null,null,null,null,null,null,null,null,null,null,null,null,null,null,null,null,null,null,null,null,null,null,null,null,null,null,null,null,null,null,null,null,null,null,null,null,null,null,null,null,null,null,null,null,null,null,null,null,null,null,17,"Caso Propuesto Sin Clima",{"$f":"+IFERROR(IF(BF413=\"\",0,IF(T413<IF(OR(BF413<=$BP$3,BF413>=$BO$3),VLOOKUP('CEV-CEVE'!$E$10,$BN$7:$BZ$16,1+E413,0)-2,VLOOKUP('CEV-CEVE'!$E$10,$BN$7:$BZ$16,1+E413,0)),1,0)),0)","v":0},{"$f":"+IFERROR(IF(T413>VLOOKUP('CEV-CEVE'!$E$10,$BN$20:$BZ$29,1+E413,0),1,0),0)","v":0}]
[null,null,null,null,null,null,null,null,null,null,null,null,null,null,null,null,null,null,null,null,null,null,null,null,null,null,null,null,null,null,null,null,null,null,null,null,null,null,null,null,null,null,null,null,null,null,null,null,null,null,null,null,null,null,null,null,null,18,"Caso Propuesto Sin Clima",{"$f":"+IFERROR(IF(BF414=\"\",0,IF(T414<IF(OR(BF414<=$BP$3,BF414>=$BO$3),VLOOKUP('CEV-CEVE'!$E$10,$BN$7:$BZ$16,1+E414,0)-2,VLOOKUP('CEV-CEVE'!$E$10,$BN$7:$BZ$16,1+E414,0)),1,0)),0)","v":0},{"$f":"+IFERROR(IF(T414>VLOOKUP('CEV-CEVE'!$E$10,$BN$20:$BZ$29,1+E414,0),1,0),0)","v":0}]
[null,null,null,null,null,null,null,null,null,null,null,null,null,null,null,null,null,null,null,null,null,null,null,null,null,null,null,null,null,null,null,null,null,null,null,null,null,null,null,null,null,null,null,null,null,null,null,null,null,null,null,null,null,null,null,null,null,19,"Caso Propuesto Sin Clima",{"$f":"+IFERROR(IF(BF415=\"\",0,IF(T415<IF(OR(BF415<=$BP$3,BF415>=$BO$3),VLOOKUP('CEV-CEVE'!$E$10,$BN$7:$BZ$16,1+E415,0)-2,VLOOKUP('CEV-CEVE'!$E$10,$BN$7:$BZ$16,1+E415,0)),1,0)),0)","v":0},{"$f":"+IFERROR(IF(T415>VLOOKUP('CEV-CEVE'!$E$10,$BN$20:$BZ$29,1+E415,0),1,0),0)","v":0}]
[null,null,null,null,null,null,null,null,null,null,null,null,null,null,null,null,null,null,null,null,null,null,null,null,null,null,null,null,null,null,null,null,null,null,null,null,null,null,null,null,null,null,null,null,null,null,null,null,null,null,null,null,null,null,null,null,null,20,"Caso Propuesto Sin Clima",{"$f":"+IFERROR(IF(BF416=\"\",0,IF(T416<IF(OR(BF416<=$BP$3,BF416>=$BO$3),VLOOKUP('CEV-CEVE'!$E$10,$BN$7:$BZ$16,1+E416,0)-2,VLOOKUP('CEV-CEVE'!$E$10,$BN$7:$BZ$16,1+E416,0)),1,0)),0)","v":0},{"$f":"+IFERROR(IF(T416>VLOOKUP('CEV-CEVE'!$E$10,$BN$20:$BZ$29,1+E416,0),1,0),0)","v":0}]
[null,null,null,null,null,null,null,null,null,null,null,null,null,null,null,null,null,null,null,null,null,null,null,null,null,null,null,null,null,null,null,null,null,null,null,null,null,null,null,null,null,null,null,null,null,null,null,null,null,null,null,null,null,null,null,null,null,21,"Caso Propuesto Sin Clima",{"$f":"+IFERROR(IF(BF417=\"\",0,IF(T417<IF(OR(BF417<=$BP$3,BF417>=$BO$3),VLOOKUP('CEV-CEVE'!$E$10,$BN$7:$BZ$16,1+E417,0)-2,VLOOKUP('CEV-CEVE'!$E$10,$BN$7:$BZ$16,1+E417,0)),1,0)),0)","v":0},{"$f":"+IFERROR(IF(T417>VLOOKUP('CEV-CEVE'!$E$10,$BN$20:$BZ$29,1+E417,0),1,0),0)","v":0}]
[null,null,null,null,null,null,null,null,null,null,null,null,null,null,null,null,null,null,null,null,null,null,null,null,null,null,null,null,null,null,null,null,null,null,null,null,null,null,null,null,null,null,null,null,null,null,null,null,null,null,null,null,null,null,null,null,null,22,"Caso Propuesto Sin Clima",{"$f":"+IFERROR(IF(BF418=\"\",0,IF(T418<IF(OR(BF418<=$BP$3,BF418>=$BO$3),VLOOKUP('CEV-CEVE'!$E$10,$BN$7:$BZ$16,1+E418,0)-2,VLOOKUP('CEV-CEVE'!$E$10,$BN$7:$BZ$16,1+E418,0)),1,0)),0)","v":0},{"$f":"+IFERROR(IF(T418>VLOOKUP('CEV-CEVE'!$E$10,$BN$20:$BZ$29,1+E418,0),1,0),0)","v":0}]
[null,null,null,null,null,null,null,null,null,null,null,null,null,null,null,null,null,null,null,null,null,null,null,null,null,null,null,null,null,null,null,null,null,null,null,null,null,null,null,null,null,null,null,null,null,null,null,null,null,null,null,null,null,null,null,null,null,23,"Caso Propuesto Sin Clima",{"$f":"+IFERROR(IF(BF419=\"\",0,IF(T419<IF(OR(BF419<=$BP$3,BF419>=$BO$3),VLOOKUP('CEV-CEVE'!$E$10,$BN$7:$BZ$16,1+E419,0)-2,VLOOKUP('CEV-CEVE'!$E$10,$BN$7:$BZ$16,1+E419,0)),1,0)),0)","v":0},{"$f":"+IFERROR(IF(T419>VLOOKUP('CEV-CEVE'!$E$10,$BN$20:$BZ$29,1+E419,0),1,0),0)","v":0}]
[null,null,null,null,null,null,null,null,null,null,null,null,null,null,null,null,null,null,null,null,null,null,null,null,null,null,null,null,null,null,null,null,null,null,null,null,null,null,null,null,null,null,null,null,null,null,null,null,null,null,null,null,null,null,null,null,null,null,"Caso Propuesto Sin Clima",{"$f":"+IFERROR(IF(BF420=\"\",0,IF(T420<IF(OR(BF420<=$BP$3,BF420>=$BO$3),VLOOKUP('CEV-CEVE'!$E$10,$BN$7:$BZ$16,1+E420,0)-2,VLOOKUP('CEV-CEVE'!$E$10,$BN$7:$BZ$16,1+E420,0)),1,0)),0)","v":0},{"$f":"+IFERROR(IF(T420>VLOOKUP('CEV-CEVE'!$E$10,$BN$20:$BZ$29,1+E420,0),1,0),0)","v":0}]
[null,null,null,null,null,null,null,null,null,null,null,null,null,null,null,null,null,null,null,null,null,null,null,null,null,null,null,null,null,null,null,null,null,null,null,null,null,null,null,null,null,null,null,null,null,null,null,null,null,null,null,null,null,null,null,null,null,null,"Caso Propuesto Sin Clima",{"$f":"+IFERROR(IF(BF421=\"\",0,IF(T421<IF(OR(BF421<=$BP$3,BF421>=$BO$3),VLOOKUP('CEV-CEVE'!$E$10,$BN$7:$BZ$16,1+E421,0)-2,VLOOKUP('CEV-CEVE'!$E$10,$BN$7:$BZ$16,1+E421,0)),1,0)),0)","v":0},{"$f":"+IFERROR(IF(T421>VLOOKUP('CEV-CEVE'!$E$10,$BN$20:$BZ$29,1+E421,0),1,0),0)","v":0}]
[null,null,null,null,null,null,null,null,null,null,null,null,null,null,null,null,null,null,null,null,null,null,null,null,null,null,null,null,null,null,null,null,null,null,null,null,null,null,null,null,null,null,null,null,null,null,null,null,null,null,null,null,null,null,null,null,null,0,"Caso Propuesto Sin Clima",{"$f":"+IFERROR(IF(BF422=\"\",0,IF(T422<IF(OR(BF422<=$BP$3,BF422>=$BO$3),VLOOKUP('CEV-CEVE'!$E$10,$BN$7:$BZ$16,1+E422,0)-2,VLOOKUP('CEV-CEVE'!$E$10,$BN$7:$BZ$16,1+E422,0)),1,0)),0)","v":0},{"$f":"+IFERROR(IF(T422>VLOOKUP('CEV-CEVE'!$E$10,$BN$20:$BZ$29,1+E422,0),1,0),0)","v":0}]
[null,null,null,null,null,null,null,null,null,null,null,null,null,null,null,null,null,null,null,null,null,null,null,null,null,null,null,null,null,null,null,null,null,null,null,null,null,null,null,null,null,null,null,null,null,null,null,null,null,null,null,null,null,null,null,null,null,{"$f":"+BF422+1","v":1},"Caso Propuesto Sin Clima",{"$f":"+IFERROR(IF(BF423=\"\",0,IF(T423<IF(OR(BF423<=$BP$3,BF423>=$BO$3),VLOOKUP('CEV-CEVE'!$E$10,$BN$7:$BZ$16,1+E423,0)-2,VLOOKUP('CEV-CEVE'!$E$10,$BN$7:$BZ$16,1+E423,0)),1,0)),0)","v":0},{"$f":"+IFERROR(IF(T423>VLOOKUP('CEV-CEVE'!$E$10,$BN$20:$BZ$29,1+E423,0),1,0),0)","v":0}]
[null,null,null,null,null,null,null,null,null,null,null,null,null,null,null,null,null,null,null,null,null,null,null,null,null,null,null,null,null,null,null,null,null,null,null,null,null,null,null,null,null,null,null,null,null,null,null,null,null,null,null,null,null,null,null,null,null,{"$f":"+BF423+1","v":2},"Caso Propuesto Sin Clima",{"$f":"+IFERROR(IF(BF424=\"\",0,IF(T424<IF(OR(BF424<=$BP$3,BF424>=$BO$3),VLOOKUP('CEV-CEVE'!$E$10,$BN$7:$BZ$16,1+E424,0)-2,VLOOKUP('CEV-CEVE'!$E$10,$BN$7:$BZ$16,1+E424,0)),1,0)),0)","v":0},{"$f":"+IFERROR(IF(T424>VLOOKUP('CEV-CEVE'!$E$10,$BN$20:$BZ$29,1+E424,0),1,0),0)","v":0}]
[null,null,null,null,null,null,null,null,null,null,null,null,null,null,null,null,null,null,null,null,null,null,null,null,null,null,null,null,null,null,null,null,null,null,null,null,null,null,null,null,null,null,null,null,null,null,null,null,null,null,null,null,null,null,null,null,null,3,"Caso Propuesto Sin Clima",{"$f":"+IFERROR(IF(BF425=\"\",0,IF(T425<IF(OR(BF425<=$BP$3,BF425>=$BO$3),VLOOKUP('CEV-CEVE'!$E$10,$BN$7:$BZ$16,1+E425,0)-2,VLOOKUP('CEV-CEVE'!$E$10,$BN$7:$BZ$16,1+E425,0)),1,0)),0)","v":0},{"$f":"+IFERROR(IF(T425>VLOOKUP('CEV-CEVE'!$E$10,$BN$20:$BZ$29,1+E425,0),1,0),0)","v":0}]
[null,null,null,null,null,null,null,null,null,null,null,null,null,null,null,null,null,null,null,null,null,null,null,null,null,null,null,null,null,null,null,null,null,null,null,null,null,null,null,null,null,null,null,null,null,null,null,null,null,null,null,null,null,null,null,null,null,4,"Caso Propuesto Sin Clima",{"$f":"+IFERROR(IF(BF426=\"\",0,IF(T426<IF(OR(BF426<=$BP$3,BF426>=$BO$3),VLOOKUP('CEV-CEVE'!$E$10,$BN$7:$BZ$16,1+E426,0)-2,VLOOKUP('CEV-CEVE'!$E$10,$BN$7:$BZ$16,1+E426,0)),1,0)),0)","v":0},{"$f":"+IFERROR(IF(T426>VLOOKUP('CEV-CEVE'!$E$10,$BN$20:$BZ$29,1+E426,0),1,0),0)","v":0}]
[null,null,null,null,null,null,null,null,null,null,null,null,null,null,null,null,null,null,null,null,null,null,null,null,null,null,null,null,null,null,null,null,null,null,null,null,null,null,null,null,null,null,null,null,null,null,null,null,null,null,null,null,null,null,null,null,null,5,"Caso Propuesto Sin Clima",{"$f":"+IFERROR(IF(BF427=\"\",0,IF(T427<IF(OR(BF427<=$BP$3,BF427>=$BO$3),VLOOKUP('CEV-CEVE'!$E$10,$BN$7:$BZ$16,1+E427,0)-2,VLOOKUP('CEV-CEVE'!$E$10,$BN$7:$BZ$16,1+E427,0)),1,0)),0)","v":0},{"$f":"+IFERROR(IF(T427>VLOOKUP('CEV-CEVE'!$E$10,$BN$20:$BZ$29,1+E427,0),1,0),0)","v":0}]
[null,null,null,null,null,null,null,null,null,null,null,null,null,null,null,null,null,null,null,null,null,null,null,null,null,null,null,null,null,null,null,null,null,null,null,null,null,null,null,null,null,null,null,null,null,null,null,null,null,null,null,null,null,null,null,null,null,6,"Caso Propuesto Sin Clima",{"$f":"+IFERROR(IF(BF428=\"\",0,IF(T428<IF(OR(BF428<=$BP$3,BF428>=$BO$3),VLOOKUP('CEV-CEVE'!$E$10,$BN$7:$BZ$16,1+E428,0)-2,VLOOKUP('CEV-CEVE'!$E$10,$BN$7:$BZ$16,1+E428,0)),1,0)),0)","v":0},{"$f":"+IFERROR(IF(T428>VLOOKUP('CEV-CEVE'!$E$10,$BN$20:$BZ$29,1+E428,0),1,0),0)","v":0}]
[null,null,null,null,null,null,null,null,null,null,null,null,null,null,null,null,null,null,null,null,null,null,null,null,null,null,null,null,null,null,null,null,null,null,null,null,null,null,null,null,null,null,null,null,null,null,null,null,null,null,null,null,null,null,null,null,null,7,"Caso Propuesto Sin Clima",{"$f":"+IFERROR(IF(BF429=\"\",0,IF(T429<IF(OR(BF429<=$BP$3,BF429>=$BO$3),VLOOKUP('CEV-CEVE'!$E$10,$BN$7:$BZ$16,1+E429,0)-2,VLOOKUP('CEV-CEVE'!$E$10,$BN$7:$BZ$16,1+E429,0)),1,0)),0)","v":0},{"$f":"+IFERROR(IF(T429>VLOOKUP('CEV-CEVE'!$E$10,$BN$20:$BZ$29,1+E429,0),1,0),0)","v":0}]
[null,null,null,null,null,null,null,null,null,null,null,null,null,null,null,null,null,null,null,null,null,null,null,null,null,null,null,null,null,null,null,null,null,null,null,null,null,null,null,null,null,null,null,null,null,null,null,null,null,null,null,null,null,null,null,null,null,8,"Caso Propuesto Sin Clima",{"$f":"+IFERROR(IF(BF430=\"\",0,IF(T430<IF(OR(BF430<=$BP$3,BF430>=$BO$3),VLOOKUP('CEV-CEVE'!$E$10,$BN$7:$BZ$16,1+E430,0)-2,VLOOKUP('CEV-CEVE'!$E$10,$BN$7:$BZ$16,1+E430,0)),1,0)),0)","v":0},{"$f":"+IFERROR(IF(T430>VLOOKUP('CEV-CEVE'!$E$10,$BN$20:$BZ$29,1+E430,0),1,0),0)","v":0}]
[null,null,null,null,null,null,null,null,null,null,null,null,null,null,null,null,null,null,null,null,null,null,null,null,null,null,null,null,null,null,null,null,null,null,null,null,null,null,null,null,null,null,null,null,null,null,null,null,null,null,null,null,null,null,null,null,null,9,"Caso Propuesto Sin Clima",{"$f":"+IFERROR(IF(BF431=\"\",0,IF(T431<IF(OR(BF431<=$BP$3,BF431>=$BO$3),VLOOKUP('CEV-CEVE'!$E$10,$BN$7:$BZ$16,1+E431,0)-2,VLOOKUP('CEV-CEVE'!$E$10,$BN$7:$BZ$16,1+E431,0)),1,0)),0)","v":0},{"$f":"+IFERROR(IF(T431>VLOOKUP('CEV-CEVE'!$E$10,$BN$20:$BZ$29,1+E431,0),1,0),0)","v":0}]
[null,null,null,null,null,null,null,null,null,null,null,null,null,null,null,null,null,null,null,null,null,null,null,null,null,null,null,null,null,null,null,null,null,null,null,null,null,null,null,null,null,null,null,null,null,null,null,null,null,null,null,null,null,null,null,null,null,10,"Caso Propuesto Sin Clima",{"$f":"+IFERROR(IF(BF432=\"\",0,IF(T432<IF(OR(BF432<=$BP$3,BF432>=$BO$3),VLOOKUP('CEV-CEVE'!$E$10,$BN$7:$BZ$16,1+E432,0)-2,VLOOKUP('CEV-CEVE'!$E$10,$BN$7:$BZ$16,1+E432,0)),1,0)),0)","v":0},{"$f":"+IFERROR(IF(T432>VLOOKUP('CEV-CEVE'!$E$10,$BN$20:$BZ$29,1+E432,0),1,0),0)","v":0}]
[null,null,null,null,null,null,null,null,null,null,null,null,null,null,null,null,null,null,null,null,null,null,null,null,null,null,null,null,null,null,null,null,null,null,null,null,null,null,null,null,null,null,null,null,null,null,null,null,null,null,null,null,null,null,null,null,null,11,"Caso Propuesto Sin Clima",{"$f":"+IFERROR(IF(BF433=\"\",0,IF(T433<IF(OR(BF433<=$BP$3,BF433>=$BO$3),VLOOKUP('CEV-CEVE'!$E$10,$BN$7:$BZ$16,1+E433,0)-2,VLOOKUP('CEV-CEVE'!$E$10,$BN$7:$BZ$16,1+E433,0)),1,0)),0)","v":0},{"$f":"+IFERROR(IF(T433>VLOOKUP('CEV-CEVE'!$E$10,$BN$20:$BZ$29,1+E433,0),1,0),0)","v":0}]
[null,null,null,null,null,null,null,null,null,null,null,null,null,null,null,null,null,null,null,null,null,null,null,null,null,null,null,null,null,null,null,null,null,null,null,null,null,null,null,null,null,null,null,null,null,null,null,null,null,null,null,null,null,null,null,null,null,12,"Caso Propuesto Sin Clima",{"$f":"+IFERROR(IF(BF434=\"\",0,IF(T434<IF(OR(BF434<=$BP$3,BF434>=$BO$3),VLOOKUP('CEV-CEVE'!$E$10,$BN$7:$BZ$16,1+E434,0)-2,VLOOKUP('CEV-CEVE'!$E$10,$BN$7:$BZ$16,1+E434,0)),1,0)),0)","v":0},{"$f":"+IFERROR(IF(T434>VLOOKUP('CEV-CEVE'!$E$10,$BN$20:$BZ$29,1+E434,0),1,0),0)","v":0}]
[null,null,null,null,null,null,null,null,null,null,null,null,null,null,null,null,null,null,null,null,null,null,null,null,null,null,null,null,null,null,null,null,null,null,null,null,null,null,null,null,null,null,null,null,null,null,null,null,null,null,null,null,null,null,null,null,null,13,"Caso Propuesto Sin Clima",{"$f":"+IFERROR(IF(BF435=\"\",0,IF(T435<IF(OR(BF435<=$BP$3,BF435>=$BO$3),VLOOKUP('CEV-CEVE'!$E$10,$BN$7:$BZ$16,1+E435,0)-2,VLOOKUP('CEV-CEVE'!$E$10,$BN$7:$BZ$16,1+E435,0)),1,0)),0)","v":0},{"$f":"+IFERROR(IF(T435>VLOOKUP('CEV-CEVE'!$E$10,$BN$20:$BZ$29,1+E435,0),1,0),0)","v":0}]
[null,null,null,null,null,null,null,null,null,null,null,null,null,null,null,null,null,null,null,null,null,null,null,null,null,null,null,null,null,null,null,null,null,null,null,null,null,null,null,null,null,null,null,null,null,null,null,null,null,null,null,null,null,null,null,null,null,14,"Caso Propuesto Sin Clima",{"$f":"+IFERROR(IF(BF436=\"\",0,IF(T436<IF(OR(BF436<=$BP$3,BF436>=$BO$3),VLOOKUP('CEV-CEVE'!$E$10,$BN$7:$BZ$16,1+E436,0)-2,VLOOKUP('CEV-CEVE'!$E$10,$BN$7:$BZ$16,1+E436,0)),1,0)),0)","v":0},{"$f":"+IFERROR(IF(T436>VLOOKUP('CEV-CEVE'!$E$10,$BN$20:$BZ$29,1+E436,0),1,0),0)","v":0}]
[null,null,null,null,null,null,null,null,null,null,null,null,null,null,null,null,null,null,null,null,null,null,null,null,null,null,null,null,null,null,null,null,null,null,null,null,null,null,null,null,null,null,null,null,null,null,null,null,null,null,null,null,null,null,null,null,null,15,"Caso Propuesto Sin Clima",{"$f":"+IFERROR(IF(BF437=\"\",0,IF(T437<IF(OR(BF437<=$BP$3,BF437>=$BO$3),VLOOKUP('CEV-CEVE'!$E$10,$BN$7:$BZ$16,1+E437,0)-2,VLOOKUP('CEV-CEVE'!$E$10,$BN$7:$BZ$16,1+E437,0)),1,0)),0)","v":0},{"$f":"+IFERROR(IF(T437>VLOOKUP('CEV-CEVE'!$E$10,$BN$20:$BZ$29,1+E437,0),1,0),0)","v":0}]
[null,null,null,null,null,null,null,null,null,null,null,null,null,null,null,null,null,null,null,null,null,null,null,null,null,null,null,null,null,null,null,null,null,null,null,null,null,null,null,null,null,null,null,null,null,null,null,null,null,null,null,null,null,null,null,null,null,16,"Caso Propuesto Sin Clima",{"$f":"+IFERROR(IF(BF438=\"\",0,IF(T438<IF(OR(BF438<=$BP$3,BF438>=$BO$3),VLOOKUP('CEV-CEVE'!$E$10,$BN$7:$BZ$16,1+E438,0)-2,VLOOKUP('CEV-CEVE'!$E$10,$BN$7:$BZ$16,1+E438,0)),1,0)),0)","v":0},{"$f":"+IFERROR(IF(T438>VLOOKUP('CEV-CEVE'!$E$10,$BN$20:$BZ$29,1+E438,0),1,0),0)","v":0}]
[null,null,null,null,null,null,null,null,null,null,null,null,null,null,null,null,null,null,null,null,null,null,null,null,null,null,null,null,null,null,null,null,null,null,null,null,null,null,null,null,null,null,null,null,null,null,null,null,null,null,null,null,null,null,null,null,null,17,"Caso Propuesto Sin Clima",{"$f":"+IFERROR(IF(BF439=\"\",0,IF(T439<IF(OR(BF439<=$BP$3,BF439>=$BO$3),VLOOKUP('CEV-CEVE'!$E$10,$BN$7:$BZ$16,1+E439,0)-2,VLOOKUP('CEV-CEVE'!$E$10,$BN$7:$BZ$16,1+E439,0)),1,0)),0)","v":0},{"$f":"+IFERROR(IF(T439>VLOOKUP('CEV-CEVE'!$E$10,$BN$20:$BZ$29,1+E439,0),1,0),0)","v":0}]
[null,null,null,null,null,null,null,null,null,null,null,null,null,null,null,null,null,null,null,null,null,null,null,null,null,null,null,null,null,null,null,null,null,null,null,null,null,null,null,null,null,null,null,null,null,null,null,null,null,null,null,null,null,null,null,null,null,18,"Caso Propuesto Sin Clima",{"$f":"+IFERROR(IF(BF440=\"\",0,IF(T440<IF(OR(BF440<=$BP$3,BF440>=$BO$3),VLOOKUP('CEV-CEVE'!$E$10,$BN$7:$BZ$16,1+E440,0)-2,VLOOKUP('CEV-CEVE'!$E$10,$BN$7:$BZ$16,1+E440,0)),1,0)),0)","v":0},{"$f":"+IFERROR(IF(T440>VLOOKUP('CEV-CEVE'!$E$10,$BN$20:$BZ$29,1+E440,0),1,0),0)","v":0}]
[null,null,null,null,null,null,null,null,null,null,null,null,null,null,null,null,null,null,null,null,null,null,null,null,null,null,null,null,null,null,null,null,null,null,null,null,null,null,null,null,null,null,null,null,null,null,null,null,null,null,null,null,null,null,null,null,null,19,"Caso Propuesto Sin Clima",{"$f":"+IFERROR(IF(BF441=\"\",0,IF(T441<IF(OR(BF441<=$BP$3,BF441>=$BO$3),VLOOKUP('CEV-CEVE'!$E$10,$BN$7:$BZ$16,1+E441,0)-2,VLOOKUP('CEV-CEVE'!$E$10,$BN$7:$BZ$16,1+E441,0)),1,0)),0)","v":0},{"$f":"+IFERROR(IF(T441>VLOOKUP('CEV-CEVE'!$E$10,$BN$20:$BZ$29,1+E441,0),1,0),0)","v":0}]
[null,null,null,null,null,null,null,null,null,null,null,null,null,null,null,null,null,null,null,null,null,null,null,null,null,null,null,null,null,null,null,null,null,null,null,null,null,null,null,null,null,null,null,null,null,null,null,null,null,null,null,null,null,null,null,null,null,20,"Caso Propuesto Sin Clima",{"$f":"+IFERROR(IF(BF442=\"\",0,IF(T442<IF(OR(BF442<=$BP$3,BF442>=$BO$3),VLOOKUP('CEV-CEVE'!$E$10,$BN$7:$BZ$16,1+E442,0)-2,VLOOKUP('CEV-CEVE'!$E$10,$BN$7:$BZ$16,1+E442,0)),1,0)),0)","v":0},{"$f":"+IFERROR(IF(T442>VLOOKUP('CEV-CEVE'!$E$10,$BN$20:$BZ$29,1+E442,0),1,0),0)","v":0}]
[null,null,null,null,null,null,null,null,null,null,null,null,null,null,null,null,null,null,null,null,null,null,null,null,null,null,null,null,null,null,null,null,null,null,null,null,null,null,null,null,null,null,null,null,null,null,null,null,null,null,null,null,null,null,null,null,null,21,"Caso Propuesto Sin Clima",{"$f":"+IFERROR(IF(BF443=\"\",0,IF(T443<IF(OR(BF443<=$BP$3,BF443>=$BO$3),VLOOKUP('CEV-CEVE'!$E$10,$BN$7:$BZ$16,1+E443,0)-2,VLOOKUP('CEV-CEVE'!$E$10,$BN$7:$BZ$16,1+E443,0)),1,0)),0)","v":0},{"$f":"+IFERROR(IF(T443>VLOOKUP('CEV-CEVE'!$E$10,$BN$20:$BZ$29,1+E443,0),1,0),0)","v":0}]
[null,null,null,null,null,null,null,null,null,null,null,null,null,null,null,null,null,null,null,null,null,null,null,null,null,null,null,null,null,null,null,null,null,null,null,null,null,null,null,null,null,null,null,null,null,null,null,null,null,null,null,null,null,null,null,null,null,22,"Caso Propuesto Sin Clima",{"$f":"+IFERROR(IF(BF444=\"\",0,IF(T444<IF(OR(BF444<=$BP$3,BF444>=$BO$3),VLOOKUP('CEV-CEVE'!$E$10,$BN$7:$BZ$16,1+E444,0)-2,VLOOKUP('CEV-CEVE'!$E$10,$BN$7:$BZ$16,1+E444,0)),1,0)),0)","v":0},{"$f":"+IFERROR(IF(T444>VLOOKUP('CEV-CEVE'!$E$10,$BN$20:$BZ$29,1+E444,0),1,0),0)","v":0}]
[null,null,null,null,null,null,null,null,null,null,null,null,null,null,null,null,null,null,null,null,null,null,null,null,null,null,null,null,null,null,null,null,null,null,null,null,null,null,null,null,null,null,null,null,null,null,null,null,null,null,null,null,null,null,null,null,null,23,"Caso Propuesto Sin Clima",{"$f":"+IFERROR(IF(BF445=\"\",0,IF(T445<IF(OR(BF445<=$BP$3,BF445>=$BO$3),VLOOKUP('CEV-CEVE'!$E$10,$BN$7:$BZ$16,1+E445,0)-2,VLOOKUP('CEV-CEVE'!$E$10,$BN$7:$BZ$16,1+E445,0)),1,0)),0)","v":0},{"$f":"+IFERROR(IF(T445>VLOOKUP('CEV-CEVE'!$E$10,$BN$20:$BZ$29,1+E445,0),1,0),0)","v":0}]
[null,null,null,null,null,null,null,null,null,null,null,null,null,null,null,null,null,null,null,null,null,null,null,null,null,null,null,null,null,null,null,null,null,null,null,null,null,null,null,null,null,null,null,null,null,null,null,null,null,null,null,null,null,null,null,null,null,null,"Caso Propuesto Sin Clima",{"$f":"+IFERROR(IF(BF446=\"\",0,IF(T446<IF(OR(BF446<=$BP$3,BF446>=$BO$3),VLOOKUP('CEV-CEVE'!$E$10,$BN$7:$BZ$16,1+E446,0)-2,VLOOKUP('CEV-CEVE'!$E$10,$BN$7:$BZ$16,1+E446,0)),1,0)),0)","v":0},{"$f":"+IFERROR(IF(T446>VLOOKUP('CEV-CEVE'!$E$10,$BN$20:$BZ$29,1+E446,0),1,0),0)","v":0}]
[null,null,null,null,null,null,null,null,null,null,null,null,null,null,null,null,null,null,null,null,null,null,null,null,null,null,null,null,null,null,null,null,null,null,null,null,null,null,null,null,null,null,null,null,null,null,null,null,null,null,null,null,null,null,null,null,null,null,"Caso Propuesto Sin Clima",{"$f":"+IFERROR(IF(BF447=\"\",0,IF(T447<IF(OR(BF447<=$BP$3,BF447>=$BO$3),VLOOKUP('CEV-CEVE'!$E$10,$BN$7:$BZ$16,1+E447,0)-2,VLOOKUP('CEV-CEVE'!$E$10,$BN$7:$BZ$16,1+E447,0)),1,0)),0)","v":0},{"$f":"+IFERROR(IF(T447>VLOOKUP('CEV-CEVE'!$E$10,$BN$20:$BZ$29,1+E447,0),1,0),0)","v":0}]
[null,null,null,null,null,null,null,null,null,null,null,null,null,null,null,null,null,null,null,null,null,null,null,null,null,null,null,null,null,null,null,null,null,null,null,null,null,null,null,null,null,null,null,null,null,null,null,null,null,null,null,null,null,null,null,null,null,0,"Caso Propuesto Sin Clima",{"$f":"+IFERROR(IF(BF448=\"\",0,IF(T448<IF(OR(BF448<=$BP$3,BF448>=$BO$3),VLOOKUP('CEV-CEVE'!$E$10,$BN$7:$BZ$16,1+E448,0)-2,VLOOKUP('CEV-CEVE'!$E$10,$BN$7:$BZ$16,1+E448,0)),1,0)),0)","v":0},{"$f":"+IFERROR(IF(T448>VLOOKUP('CEV-CEVE'!$E$10,$BN$20:$BZ$29,1+E448,0),1,0),0)","v":0}]
[null,null,null,null,null,null,null,null,null,null,null,null,null,null,null,null,null,null,null,null,null,null,null,null,null,null,null,null,null,null,null,null,null,null,null,null,null,null,null,null,null,null,null,null,null,null,null,null,null,null,null,null,null,null,null,null,null,{"$f":"+BF448+1","v":1},"Caso Propuesto Sin Clima",{"$f":"+IFERROR(IF(BF449=\"\",0,IF(T449<IF(OR(BF449<=$BP$3,BF449>=$BO$3),VLOOKUP('CEV-CEVE'!$E$10,$BN$7:$BZ$16,1+E449,0)-2,VLOOKUP('CEV-CEVE'!$E$10,$BN$7:$BZ$16,1+E449,0)),1,0)),0)","v":0},{"$f":"+IFERROR(IF(T449>VLOOKUP('CEV-CEVE'!$E$10,$BN$20:$BZ$29,1+E449,0),1,0),0)","v":0}]
[null,null,null,null,null,null,null,null,null,null,null,null,null,null,null,null,null,null,null,null,null,null,null,null,null,null,null,null,null,null,null,null,null,null,null,null,null,null,null,null,null,null,null,null,null,null,null,null,null,null,null,null,null,null,null,null,null,{"$f":"+BF449+1","v":2},"Caso Propuesto Sin Clima",{"$f":"+IFERROR(IF(BF450=\"\",0,IF(T450<IF(OR(BF450<=$BP$3,BF450>=$BO$3),VLOOKUP('CEV-CEVE'!$E$10,$BN$7:$BZ$16,1+E450,0)-2,VLOOKUP('CEV-CEVE'!$E$10,$BN$7:$BZ$16,1+E450,0)),1,0)),0)","v":0},{"$f":"+IFERROR(IF(T450>VLOOKUP('CEV-CEVE'!$E$10,$BN$20:$BZ$29,1+E450,0),1,0),0)","v":0}]
[null,null,null,null,null,null,null,null,null,null,null,null,null,null,null,null,null,null,null,null,null,null,null,null,null,null,null,null,null,null,null,null,null,null,null,null,null,null,null,null,null,null,null,null,null,null,null,null,null,null,null,null,null,null,null,null,null,3,"Caso Propuesto Sin Clima",{"$f":"+IFERROR(IF(BF451=\"\",0,IF(T451<IF(OR(BF451<=$BP$3,BF451>=$BO$3),VLOOKUP('CEV-CEVE'!$E$10,$BN$7:$BZ$16,1+E451,0)-2,VLOOKUP('CEV-CEVE'!$E$10,$BN$7:$BZ$16,1+E451,0)),1,0)),0)","v":0},{"$f":"+IFERROR(IF(T451>VLOOKUP('CEV-CEVE'!$E$10,$BN$20:$BZ$29,1+E451,0),1,0),0)","v":0}]
[null,null,null,null,null,null,null,null,null,null,null,null,null,null,null,null,null,null,null,null,null,null,null,null,null,null,null,null,null,null,null,null,null,null,null,null,null,null,null,null,null,null,null,null,null,null,null,null,null,null,null,null,null,null,null,null,null,4,"Caso Propuesto Sin Clima",{"$f":"+IFERROR(IF(BF452=\"\",0,IF(T452<IF(OR(BF452<=$BP$3,BF452>=$BO$3),VLOOKUP('CEV-CEVE'!$E$10,$BN$7:$BZ$16,1+E452,0)-2,VLOOKUP('CEV-CEVE'!$E$10,$BN$7:$BZ$16,1+E452,0)),1,0)),0)","v":0},{"$f":"+IFERROR(IF(T452>VLOOKUP('CEV-CEVE'!$E$10,$BN$20:$BZ$29,1+E452,0),1,0),0)","v":0}]
[null,null,null,null,null,null,null,null,null,null,null,null,null,null,null,null,null,null,null,null,null,null,null,null,null,null,null,null,null,null,null,null,null,null,null,null,null,null,null,null,null,null,null,null,null,null,null,null,null,null,null,null,null,null,null,null,null,5,"Caso Propuesto Sin Clima",{"$f":"+IFERROR(IF(BF453=\"\",0,IF(T453<IF(OR(BF453<=$BP$3,BF453>=$BO$3),VLOOKUP('CEV-CEVE'!$E$10,$BN$7:$BZ$16,1+E453,0)-2,VLOOKUP('CEV-CEVE'!$E$10,$BN$7:$BZ$16,1+E453,0)),1,0)),0)","v":0},{"$f":"+IFERROR(IF(T453>VLOOKUP('CEV-CEVE'!$E$10,$BN$20:$BZ$29,1+E453,0),1,0),0)","v":0}]
[null,null,null,null,null,null,null,null,null,null,null,null,null,null,null,null,null,null,null,null,null,null,null,null,null,null,null,null,null,null,null,null,null,null,null,null,null,null,null,null,null,null,null,null,null,null,null,null,null,null,null,null,null,null,null,null,null,6,"Caso Propuesto Sin Clima",{"$f":"+IFERROR(IF(BF454=\"\",0,IF(T454<IF(OR(BF454<=$BP$3,BF454>=$BO$3),VLOOKUP('CEV-CEVE'!$E$10,$BN$7:$BZ$16,1+E454,0)-2,VLOOKUP('CEV-CEVE'!$E$10,$BN$7:$BZ$16,1+E454,0)),1,0)),0)","v":0},{"$f":"+IFERROR(IF(T454>VLOOKUP('CEV-CEVE'!$E$10,$BN$20:$BZ$29,1+E454,0),1,0),0)","v":0}]
[null,null,null,null,null,null,null,null,null,null,null,null,null,null,null,null,null,null,null,null,null,null,null,null,null,null,null,null,null,null,null,null,null,null,null,null,null,null,null,null,null,null,null,null,null,null,null,null,null,null,null,null,null,null,null,null,null,7,"Caso Propuesto Sin Clima",{"$f":"+IFERROR(IF(BF455=\"\",0,IF(T455<IF(OR(BF455<=$BP$3,BF455>=$BO$3),VLOOKUP('CEV-CEVE'!$E$10,$BN$7:$BZ$16,1+E455,0)-2,VLOOKUP('CEV-CEVE'!$E$10,$BN$7:$BZ$16,1+E455,0)),1,0)),0)","v":0},{"$f":"+IFERROR(IF(T455>VLOOKUP('CEV-CEVE'!$E$10,$BN$20:$BZ$29,1+E455,0),1,0),0)","v":0}]
[null,null,null,null,null,null,null,null,null,null,null,null,null,null,null,null,null,null,null,null,null,null,null,null,null,null,null,null,null,null,null,null,null,null,null,null,null,null,null,null,null,null,null,null,null,null,null,null,null,null,null,null,null,null,null,null,null,8,"Caso Propuesto Sin Clima",{"$f":"+IFERROR(IF(BF456=\"\",0,IF(T456<IF(OR(BF456<=$BP$3,BF456>=$BO$3),VLOOKUP('CEV-CEVE'!$E$10,$BN$7:$BZ$16,1+E456,0)-2,VLOOKUP('CEV-CEVE'!$E$10,$BN$7:$BZ$16,1+E456,0)),1,0)),0)","v":0},{"$f":"+IFERROR(IF(T456>VLOOKUP('CEV-CEVE'!$E$10,$BN$20:$BZ$29,1+E456,0),1,0),0)","v":0}]
[null,null,null,null,null,null,null,null,null,null,null,null,null,null,null,null,null,null,null,null,null,null,null,null,null,null,null,null,null,null,null,null,null,null,null,null,null,null,null,null,null,null,null,null,null,null,null,null,null,null,null,null,null,null,null,null,null,9,"Caso Propuesto Sin Clima",{"$f":"+IFERROR(IF(BF457=\"\",0,IF(T457<IF(OR(BF457<=$BP$3,BF457>=$BO$3),VLOOKUP('CEV-CEVE'!$E$10,$BN$7:$BZ$16,1+E457,0)-2,VLOOKUP('CEV-CEVE'!$E$10,$BN$7:$BZ$16,1+E457,0)),1,0)),0)","v":0},{"$f":"+IFERROR(IF(T457>VLOOKUP('CEV-CEVE'!$E$10,$BN$20:$BZ$29,1+E457,0),1,0),0)","v":0}]
[null,null,null,null,null,null,null,null,null,null,null,null,null,null,null,null,null,null,null,null,null,null,null,null,null,null,null,null,null,null,null,null,null,null,null,null,null,null,null,null,null,null,null,null,null,null,null,null,null,null,null,null,null,null,null,null,null,10,"Caso Propuesto Sin Clima",{"$f":"+IFERROR(IF(BF458=\"\",0,IF(T458<IF(OR(BF458<=$BP$3,BF458>=$BO$3),VLOOKUP('CEV-CEVE'!$E$10,$BN$7:$BZ$16,1+E458,0)-2,VLOOKUP('CEV-CEVE'!$E$10,$BN$7:$BZ$16,1+E458,0)),1,0)),0)","v":0},{"$f":"+IFERROR(IF(T458>VLOOKUP('CEV-CEVE'!$E$10,$BN$20:$BZ$29,1+E458,0),1,0),0)","v":0}]
[null,null,null,null,null,null,null,null,null,null,null,null,null,null,null,null,null,null,null,null,null,null,null,null,null,null,null,null,null,null,null,null,null,null,null,null,null,null,null,null,null,null,null,null,null,null,null,null,null,null,null,null,null,null,null,null,null,11,"Caso Propuesto Sin Clima",{"$f":"+IFERROR(IF(BF459=\"\",0,IF(T459<IF(OR(BF459<=$BP$3,BF459>=$BO$3),VLOOKUP('CEV-CEVE'!$E$10,$BN$7:$BZ$16,1+E459,0)-2,VLOOKUP('CEV-CEVE'!$E$10,$BN$7:$BZ$16,1+E459,0)),1,0)),0)","v":0},{"$f":"+IFERROR(IF(T459>VLOOKUP('CEV-CEVE'!$E$10,$BN$20:$BZ$29,1+E459,0),1,0),0)","v":0}]
[null,null,null,null,null,null,null,null,null,null,null,null,null,null,null,null,null,null,null,null,null,null,null,null,null,null,null,null,null,null,null,null,null,null,null,null,null,null,null,null,null,null,null,null,null,null,null,null,null,null,null,null,null,null,null,null,null,12,"Caso Propuesto Sin Clima",{"$f":"+IFERROR(IF(BF460=\"\",0,IF(T460<IF(OR(BF460<=$BP$3,BF460>=$BO$3),VLOOKUP('CEV-CEVE'!$E$10,$BN$7:$BZ$16,1+E460,0)-2,VLOOKUP('CEV-CEVE'!$E$10,$BN$7:$BZ$16,1+E460,0)),1,0)),0)","v":0},{"$f":"+IFERROR(IF(T460>VLOOKUP('CEV-CEVE'!$E$10,$BN$20:$BZ$29,1+E460,0),1,0),0)","v":0}]
[null,null,null,null,null,null,null,null,null,null,null,null,null,null,null,null,null,null,null,null,null,null,null,null,null,null,null,null,null,null,null,null,null,null,null,null,null,null,null,null,null,null,null,null,null,null,null,null,null,null,null,null,null,null,null,null,null,13,"Caso Propuesto Sin Clima",{"$f":"+IFERROR(IF(BF461=\"\",0,IF(T461<IF(OR(BF461<=$BP$3,BF461>=$BO$3),VLOOKUP('CEV-CEVE'!$E$10,$BN$7:$BZ$16,1+E461,0)-2,VLOOKUP('CEV-CEVE'!$E$10,$BN$7:$BZ$16,1+E461,0)),1,0)),0)","v":0},{"$f":"+IFERROR(IF(T461>VLOOKUP('CEV-CEVE'!$E$10,$BN$20:$BZ$29,1+E461,0),1,0),0)","v":0}]
[null,null,null,null,null,null,null,null,null,null,null,null,null,null,null,null,null,null,null,null,null,null,null,null,null,null,null,null,null,null,null,null,null,null,null,null,null,null,null,null,null,null,null,null,null,null,null,null,null,null,null,null,null,null,null,null,null,14,"Caso Propuesto Sin Clima",{"$f":"+IFERROR(IF(BF462=\"\",0,IF(T462<IF(OR(BF462<=$BP$3,BF462>=$BO$3),VLOOKUP('CEV-CEVE'!$E$10,$BN$7:$BZ$16,1+E462,0)-2,VLOOKUP('CEV-CEVE'!$E$10,$BN$7:$BZ$16,1+E462,0)),1,0)),0)","v":0},{"$f":"+IFERROR(IF(T462>VLOOKUP('CEV-CEVE'!$E$10,$BN$20:$BZ$29,1+E462,0),1,0),0)","v":0}]
[null,null,null,null,null,null,null,null,null,null,null,null,null,null,null,null,null,null,null,null,null,null,null,null,null,null,null,null,null,null,null,null,null,null,null,null,null,null,null,null,null,null,null,null,null,null,null,null,null,null,null,null,null,null,null,null,null,15,"Caso Propuesto Sin Clima",{"$f":"+IFERROR(IF(BF463=\"\",0,IF(T463<IF(OR(BF463<=$BP$3,BF463>=$BO$3),VLOOKUP('CEV-CEVE'!$E$10,$BN$7:$BZ$16,1+E463,0)-2,VLOOKUP('CEV-CEVE'!$E$10,$BN$7:$BZ$16,1+E463,0)),1,0)),0)","v":0},{"$f":"+IFERROR(IF(T463>VLOOKUP('CEV-CEVE'!$E$10,$BN$20:$BZ$29,1+E463,0),1,0),0)","v":0}]
[null,null,null,null,null,null,null,null,null,null,null,null,null,null,null,null,null,null,null,null,null,null,null,null,null,null,null,null,null,null,null,null,null,null,null,null,null,null,null,null,null,null,null,null,null,null,null,null,null,null,null,null,null,null,null,null,null,16,"Caso Propuesto Sin Clima",{"$f":"+IFERROR(IF(BF464=\"\",0,IF(T464<IF(OR(BF464<=$BP$3,BF464>=$BO$3),VLOOKUP('CEV-CEVE'!$E$10,$BN$7:$BZ$16,1+E464,0)-2,VLOOKUP('CEV-CEVE'!$E$10,$BN$7:$BZ$16,1+E464,0)),1,0)),0)","v":0},{"$f":"+IFERROR(IF(T464>VLOOKUP('CEV-CEVE'!$E$10,$BN$20:$BZ$29,1+E464,0),1,0),0)","v":0}]
[null,null,null,null,null,null,null,null,null,null,null,null,null,null,null,null,null,null,null,null,null,null,null,null,null,null,null,null,null,null,null,null,null,null,null,null,null,null,null,null,null,null,null,null,null,null,null,null,null,null,null,null,null,null,null,null,null,17,"Caso Propuesto Sin Clima",{"$f":"+IFERROR(IF(BF465=\"\",0,IF(T465<IF(OR(BF465<=$BP$3,BF465>=$BO$3),VLOOKUP('CEV-CEVE'!$E$10,$BN$7:$BZ$16,1+E465,0)-2,VLOOKUP('CEV-CEVE'!$E$10,$BN$7:$BZ$16,1+E465,0)),1,0)),0)","v":0},{"$f":"+IFERROR(IF(T465>VLOOKUP('CEV-CEVE'!$E$10,$BN$20:$BZ$29,1+E465,0),1,0),0)","v":0}]
[null,null,null,null,null,null,null,null,null,null,null,null,null,null,null,null,null,null,null,null,null,null,null,null,null,null,null,null,null,null,null,null,null,null,null,null,null,null,null,null,null,null,null,null,null,null,null,null,null,null,null,null,null,null,null,null,null,18,"Caso Propuesto Sin Clima",{"$f":"+IFERROR(IF(BF466=\"\",0,IF(T466<IF(OR(BF466<=$BP$3,BF466>=$BO$3),VLOOKUP('CEV-CEVE'!$E$10,$BN$7:$BZ$16,1+E466,0)-2,VLOOKUP('CEV-CEVE'!$E$10,$BN$7:$BZ$16,1+E466,0)),1,0)),0)","v":0},{"$f":"+IFERROR(IF(T466>VLOOKUP('CEV-CEVE'!$E$10,$BN$20:$BZ$29,1+E466,0),1,0),0)","v":0}]
[null,null,null,null,null,null,null,null,null,null,null,null,null,null,null,null,null,null,null,null,null,null,null,null,null,null,null,null,null,null,null,null,null,null,null,null,null,null,null,null,null,null,null,null,null,null,null,null,null,null,null,null,null,null,null,null,null,19,"Caso Propuesto Sin Clima",{"$f":"+IFERROR(IF(BF467=\"\",0,IF(T467<IF(OR(BF467<=$BP$3,BF467>=$BO$3),VLOOKUP('CEV-CEVE'!$E$10,$BN$7:$BZ$16,1+E467,0)-2,VLOOKUP('CEV-CEVE'!$E$10,$BN$7:$BZ$16,1+E467,0)),1,0)),0)","v":0},{"$f":"+IFERROR(IF(T467>VLOOKUP('CEV-CEVE'!$E$10,$BN$20:$BZ$29,1+E467,0),1,0),0)","v":0}]
[null,null,null,null,null,null,null,null,null,null,null,null,null,null,null,null,null,null,null,null,null,null,null,null,null,null,null,null,null,null,null,null,null,null,null,null,null,null,null,null,null,null,null,null,null,null,null,null,null,null,null,null,null,null,null,null,null,20,"Caso Propuesto Sin Clima",{"$f":"+IFERROR(IF(BF468=\"\",0,IF(T468<IF(OR(BF468<=$BP$3,BF468>=$BO$3),VLOOKUP('CEV-CEVE'!$E$10,$BN$7:$BZ$16,1+E468,0)-2,VLOOKUP('CEV-CEVE'!$E$10,$BN$7:$BZ$16,1+E468,0)),1,0)),0)","v":0},{"$f":"+IFERROR(IF(T468>VLOOKUP('CEV-CEVE'!$E$10,$BN$20:$BZ$29,1+E468,0),1,0),0)","v":0}]
[null,null,null,null,null,null,null,null,null,null,null,null,null,null,null,null,null,null,null,null,null,null,null,null,null,null,null,null,null,null,null,null,null,null,null,null,null,null,null,null,null,null,null,null,null,null,null,null,null,null,null,null,null,null,null,null,null,21,"Caso Propuesto Sin Clima",{"$f":"+IFERROR(IF(BF469=\"\",0,IF(T469<IF(OR(BF469<=$BP$3,BF469>=$BO$3),VLOOKUP('CEV-CEVE'!$E$10,$BN$7:$BZ$16,1+E469,0)-2,VLOOKUP('CEV-CEVE'!$E$10,$BN$7:$BZ$16,1+E469,0)),1,0)),0)","v":0},{"$f":"+IFERROR(IF(T469>VLOOKUP('CEV-CEVE'!$E$10,$BN$20:$BZ$29,1+E469,0),1,0),0)","v":0}]
[null,null,null,null,null,null,null,null,null,null,null,null,null,null,null,null,null,null,null,null,null,null,null,null,null,null,null,null,null,null,null,null,null,null,null,null,null,null,null,null,null,null,null,null,null,null,null,null,null,null,null,null,null,null,null,null,null,22,"Caso Propuesto Sin Clima",{"$f":"+IFERROR(IF(BF470=\"\",0,IF(T470<IF(OR(BF470<=$BP$3,BF470>=$BO$3),VLOOKUP('CEV-CEVE'!$E$10,$BN$7:$BZ$16,1+E470,0)-2,VLOOKUP('CEV-CEVE'!$E$10,$BN$7:$BZ$16,1+E470,0)),1,0)),0)","v":0},{"$f":"+IFERROR(IF(T470>VLOOKUP('CEV-CEVE'!$E$10,$BN$20:$BZ$29,1+E470,0),1,0),0)","v":0}]
[null,null,null,null,null,null,null,null,null,null,null,null,null,null,null,null,null,null,null,null,null,null,null,null,null,null,null,null,null,null,null,null,null,null,null,null,null,null,null,null,null,null,null,null,null,null,null,null,null,null,null,null,null,null,null,null,null,23,"Caso Propuesto Sin Clima",{"$f":"+IFERROR(IF(BF471=\"\",0,IF(T471<IF(OR(BF471<=$BP$3,BF471>=$BO$3),VLOOKUP('CEV-CEVE'!$E$10,$BN$7:$BZ$16,1+E471,0)-2,VLOOKUP('CEV-CEVE'!$E$10,$BN$7:$BZ$16,1+E471,0)),1,0)),0)","v":0},{"$f":"+IFERROR(IF(T471>VLOOKUP('CEV-CEVE'!$E$10,$BN$20:$BZ$29,1+E471,0),1,0),0)","v":0}]
[null,null,null,null,null,null,null,null,null,null,null,null,null,null,null,null,null,null,null,null,null,null,null,null,null,null,null,null,null,null,null,null,null,null,null,null,null,null,null,null,null,null,null,null,null,null,null,null,null,null,null,null,null,null,null,null,null,null,"Caso Propuesto Sin Clima",{"$f":"+IFERROR(IF(BF472=\"\",0,IF(T472<IF(OR(BF472<=$BP$3,BF472>=$BO$3),VLOOKUP('CEV-CEVE'!$E$10,$BN$7:$BZ$16,1+E472,0)-2,VLOOKUP('CEV-CEVE'!$E$10,$BN$7:$BZ$16,1+E472,0)),1,0)),0)","v":0},{"$f":"+IFERROR(IF(T472>VLOOKUP('CEV-CEVE'!$E$10,$BN$20:$BZ$29,1+E472,0),1,0),0)","v":0}]
[null,null,null,null,null,null,null,null,null,null,null,null,null,null,null,null,null,null,null,null,null,null,null,null,null,null,null,null,null,null,null,null,null,null,null,null,null,null,null,null,null,null,null,null,null,null,null,null,null,null,null,null,null,null,null,null,null,null,"Caso Propuesto Sin Clima",{"$f":"+IFERROR(IF(BF473=\"\",0,IF(T473<IF(OR(BF473<=$BP$3,BF473>=$BO$3),VLOOKUP('CEV-CEVE'!$E$10,$BN$7:$BZ$16,1+E473,0)-2,VLOOKUP('CEV-CEVE'!$E$10,$BN$7:$BZ$16,1+E473,0)),1,0)),0)","v":0},{"$f":"+IFERROR(IF(T473>VLOOKUP('CEV-CEVE'!$E$10,$BN$20:$BZ$29,1+E473,0),1,0),0)","v":0}]
[null,null,null,null,null,null,null,null,null,null,null,null,null,null,null,null,null,null,null,null,null,null,null,null,null,null,null,null,null,null,null,null,null,null,null,null,null,null,null,null,null,null,null,null,null,null,null,null,null,null,null,null,null,null,null,null,null,0,"Caso Propuesto Sin Clima",{"$f":"+IFERROR(IF(BF474=\"\",0,IF(T474<IF(OR(BF474<=$BP$3,BF474>=$BO$3),VLOOKUP('CEV-CEVE'!$E$10,$BN$7:$BZ$16,1+E474,0)-2,VLOOKUP('CEV-CEVE'!$E$10,$BN$7:$BZ$16,1+E474,0)),1,0)),0)","v":0},{"$f":"+IFERROR(IF(T474>VLOOKUP('CEV-CEVE'!$E$10,$BN$20:$BZ$29,1+E474,0),1,0),0)","v":0}]
[null,null,null,null,null,null,null,null,null,null,null,null,null,null,null,null,null,null,null,null,null,null,null,null,null,null,null,null,null,null,null,null,null,null,null,null,null,null,null,null,null,null,null,null,null,null,null,null,null,null,null,null,null,null,null,null,null,{"$f":"+BF474+1","v":1},"Caso Propuesto Sin Clima",{"$f":"+IFERROR(IF(BF475=\"\",0,IF(T475<IF(OR(BF475<=$BP$3,BF475>=$BO$3),VLOOKUP('CEV-CEVE'!$E$10,$BN$7:$BZ$16,1+E475,0)-2,VLOOKUP('CEV-CEVE'!$E$10,$BN$7:$BZ$16,1+E475,0)),1,0)),0)","v":0},{"$f":"+IFERROR(IF(T475>VLOOKUP('CEV-CEVE'!$E$10,$BN$20:$BZ$29,1+E475,0),1,0),0)","v":0}]
[null,null,null,null,null,null,null,null,null,null,null,null,null,null,null,null,null,null,null,null,null,null,null,null,null,null,null,null,null,null,null,null,null,null,null,null,null,null,null,null,null,null,null,null,null,null,null,null,null,null,null,null,null,null,null,null,null,{"$f":"+BF475+1","v":2},"Caso Propuesto Sin Clima",{"$f":"+IFERROR(IF(BF476=\"\",0,IF(T476<IF(OR(BF476<=$BP$3,BF476>=$BO$3),VLOOKUP('CEV-CEVE'!$E$10,$BN$7:$BZ$16,1+E476,0)-2,VLOOKUP('CEV-CEVE'!$E$10,$BN$7:$BZ$16,1+E476,0)),1,0)),0)","v":0},{"$f":"+IFERROR(IF(T476>VLOOKUP('CEV-CEVE'!$E$10,$BN$20:$BZ$29,1+E476,0),1,0),0)","v":0}]
[null,null,null,null,null,null,null,null,null,null,null,null,null,null,null,null,null,null,null,null,null,null,null,null,null,null,null,null,null,null,null,null,null,null,null,null,null,null,null,null,null,null,null,null,null,null,null,null,null,null,null,null,null,null,null,null,null,3,"Caso Propuesto Sin Clima",{"$f":"+IFERROR(IF(BF477=\"\",0,IF(T477<IF(OR(BF477<=$BP$3,BF477>=$BO$3),VLOOKUP('CEV-CEVE'!$E$10,$BN$7:$BZ$16,1+E477,0)-2,VLOOKUP('CEV-CEVE'!$E$10,$BN$7:$BZ$16,1+E477,0)),1,0)),0)","v":0},{"$f":"+IFERROR(IF(T477>VLOOKUP('CEV-CEVE'!$E$10,$BN$20:$BZ$29,1+E477,0),1,0),0)","v":0}]
[null,null,null,null,null,null,null,null,null,null,null,null,null,null,null,null,null,null,null,null,null,null,null,null,null,null,null,null,null,null,null,null,null,null,null,null,null,null,null,null,null,null,null,null,null,null,null,null,null,null,null,null,null,null,null,null,null,4,"Caso Propuesto Sin Clima",{"$f":"+IFERROR(IF(BF478=\"\",0,IF(T478<IF(OR(BF478<=$BP$3,BF478>=$BO$3),VLOOKUP('CEV-CEVE'!$E$10,$BN$7:$BZ$16,1+E478,0)-2,VLOOKUP('CEV-CEVE'!$E$10,$BN$7:$BZ$16,1+E478,0)),1,0)),0)","v":0},{"$f":"+IFERROR(IF(T478>VLOOKUP('CEV-CEVE'!$E$10,$BN$20:$BZ$29,1+E478,0),1,0),0)","v":0}]
[null,null,null,null,null,null,null,null,null,null,null,null,null,null,null,null,null,null,null,null,null,null,null,null,null,null,null,null,null,null,null,null,null,null,null,null,null,null,null,null,null,null,null,null,null,null,null,null,null,null,null,null,null,null,null,null,null,5,"Caso Propuesto Sin Clima",{"$f":"+IFERROR(IF(BF479=\"\",0,IF(T479<IF(OR(BF479<=$BP$3,BF479>=$BO$3),VLOOKUP('CEV-CEVE'!$E$10,$BN$7:$BZ$16,1+E479,0)-2,VLOOKUP('CEV-CEVE'!$E$10,$BN$7:$BZ$16,1+E479,0)),1,0)),0)","v":0},{"$f":"+IFERROR(IF(T479>VLOOKUP('CEV-CEVE'!$E$10,$BN$20:$BZ$29,1+E479,0),1,0),0)","v":0}]
[null,null,null,null,null,null,null,null,null,null,null,null,null,null,null,null,null,null,null,null,null,null,null,null,null,null,null,null,null,null,null,null,null,null,null,null,null,null,null,null,null,null,null,null,null,null,null,null,null,null,null,null,null,null,null,null,null,6,"Caso Propuesto Sin Clima",{"$f":"+IFERROR(IF(BF480=\"\",0,IF(T480<IF(OR(BF480<=$BP$3,BF480>=$BO$3),VLOOKUP('CEV-CEVE'!$E$10,$BN$7:$BZ$16,1+E480,0)-2,VLOOKUP('CEV-CEVE'!$E$10,$BN$7:$BZ$16,1+E480,0)),1,0)),0)","v":0},{"$f":"+IFERROR(IF(T480>VLOOKUP('CEV-CEVE'!$E$10,$BN$20:$BZ$29,1+E480,0),1,0),0)","v":0}]
[null,null,null,null,null,null,null,null,null,null,null,null,null,null,null,null,null,null,null,null,null,null,null,null,null,null,null,null,null,null,null,null,null,null,null,null,null,null,null,null,null,null,null,null,null,null,null,null,null,null,null,null,null,null,null,null,null,7,"Caso Propuesto Sin Clima",{"$f":"+IFERROR(IF(BF481=\"\",0,IF(T481<IF(OR(BF481<=$BP$3,BF481>=$BO$3),VLOOKUP('CEV-CEVE'!$E$10,$BN$7:$BZ$16,1+E481,0)-2,VLOOKUP('CEV-CEVE'!$E$10,$BN$7:$BZ$16,1+E481,0)),1,0)),0)","v":0},{"$f":"+IFERROR(IF(T481>VLOOKUP('CEV-CEVE'!$E$10,$BN$20:$BZ$29,1+E481,0),1,0),0)","v":0}]
[null,null,null,null,null,null,null,null,null,null,null,null,null,null,null,null,null,null,null,null,null,null,null,null,null,null,null,null,null,null,null,null,null,null,null,null,null,null,null,null,null,null,null,null,null,null,null,null,null,null,null,null,null,null,null,null,null,8,"Caso Propuesto Sin Clima",{"$f":"+IFERROR(IF(BF482=\"\",0,IF(T482<IF(OR(BF482<=$BP$3,BF482>=$BO$3),VLOOKUP('CEV-CEVE'!$E$10,$BN$7:$BZ$16,1+E482,0)-2,VLOOKUP('CEV-CEVE'!$E$10,$BN$7:$BZ$16,1+E482,0)),1,0)),0)","v":0},{"$f":"+IFERROR(IF(T482>VLOOKUP('CEV-CEVE'!$E$10,$BN$20:$BZ$29,1+E482,0),1,0),0)","v":0}]
[null,null,null,null,null,null,null,null,null,null,null,null,null,null,null,null,null,null,null,null,null,null,null,null,null,null,null,null,null,null,null,null,null,null,null,null,null,null,null,null,null,null,null,null,null,null,null,null,null,null,null,null,null,null,null,null,null,9,"Caso Propuesto Sin Clima",{"$f":"+IFERROR(IF(BF483=\"\",0,IF(T483<IF(OR(BF483<=$BP$3,BF483>=$BO$3),VLOOKUP('CEV-CEVE'!$E$10,$BN$7:$BZ$16,1+E483,0)-2,VLOOKUP('CEV-CEVE'!$E$10,$BN$7:$BZ$16,1+E483,0)),1,0)),0)","v":0},{"$f":"+IFERROR(IF(T483>VLOOKUP('CEV-CEVE'!$E$10,$BN$20:$BZ$29,1+E483,0),1,0),0)","v":0}]
[null,null,null,null,null,null,null,null,null,null,null,null,null,null,null,null,null,null,null,null,null,null,null,null,null,null,null,null,null,null,null,null,null,null,null,null,null,null,null,null,null,null,null,null,null,null,null,null,null,null,null,null,null,null,null,null,null,10,"Caso Propuesto Sin Clima",{"$f":"+IFERROR(IF(BF484=\"\",0,IF(T484<IF(OR(BF484<=$BP$3,BF484>=$BO$3),VLOOKUP('CEV-CEVE'!$E$10,$BN$7:$BZ$16,1+E484,0)-2,VLOOKUP('CEV-CEVE'!$E$10,$BN$7:$BZ$16,1+E484,0)),1,0)),0)","v":0},{"$f":"+IFERROR(IF(T484>VLOOKUP('CEV-CEVE'!$E$10,$BN$20:$BZ$29,1+E484,0),1,0),0)","v":0}]
[null,null,null,null,null,null,null,null,null,null,null,null,null,null,null,null,null,null,null,null,null,null,null,null,null,null,null,null,null,null,null,null,null,null,null,null,null,null,null,null,null,null,null,null,null,null,null,null,null,null,null,null,null,null,null,null,null,11,"Caso Propuesto Sin Clima",{"$f":"+IFERROR(IF(BF485=\"\",0,IF(T485<IF(OR(BF485<=$BP$3,BF485>=$BO$3),VLOOKUP('CEV-CEVE'!$E$10,$BN$7:$BZ$16,1+E485,0)-2,VLOOKUP('CEV-CEVE'!$E$10,$BN$7:$BZ$16,1+E485,0)),1,0)),0)","v":0},{"$f":"+IFERROR(IF(T485>VLOOKUP('CEV-CEVE'!$E$10,$BN$20:$BZ$29,1+E485,0),1,0),0)","v":0}]
[null,null,null,null,null,null,null,null,null,null,null,null,null,null,null,null,null,null,null,null,null,null,null,null,null,null,null,null,null,null,null,null,null,null,null,null,null,null,null,null,null,null,null,null,null,null,null,null,null,null,null,null,null,null,null,null,null,12,"Caso Propuesto Sin Clima",{"$f":"+IFERROR(IF(BF486=\"\",0,IF(T486<IF(OR(BF486<=$BP$3,BF486>=$BO$3),VLOOKUP('CEV-CEVE'!$E$10,$BN$7:$BZ$16,1+E486,0)-2,VLOOKUP('CEV-CEVE'!$E$10,$BN$7:$BZ$16,1+E486,0)),1,0)),0)","v":0},{"$f":"+IFERROR(IF(T486>VLOOKUP('CEV-CEVE'!$E$10,$BN$20:$BZ$29,1+E486,0),1,0),0)","v":0}]
[null,null,null,null,null,null,null,null,null,null,null,null,null,null,null,null,null,null,null,null,null,null,null,null,null,null,null,null,null,null,null,null,null,null,null,null,null,null,null,null,null,null,null,null,null,null,null,null,null,null,null,null,null,null,null,null,null,13,"Caso Propuesto Sin Clima",{"$f":"+IFERROR(IF(BF487=\"\",0,IF(T487<IF(OR(BF487<=$BP$3,BF487>=$BO$3),VLOOKUP('CEV-CEVE'!$E$10,$BN$7:$BZ$16,1+E487,0)-2,VLOOKUP('CEV-CEVE'!$E$10,$BN$7:$BZ$16,1+E487,0)),1,0)),0)","v":0},{"$f":"+IFERROR(IF(T487>VLOOKUP('CEV-CEVE'!$E$10,$BN$20:$BZ$29,1+E487,0),1,0),0)","v":0}]
[null,null,null,null,null,null,null,null,null,null,null,null,null,null,null,null,null,null,null,null,null,null,null,null,null,null,null,null,null,null,null,null,null,null,null,null,null,null,null,null,null,null,null,null,null,null,null,null,null,null,null,null,null,null,null,null,null,14,"Caso Propuesto Sin Clima",{"$f":"+IFERROR(IF(BF488=\"\",0,IF(T488<IF(OR(BF488<=$BP$3,BF488>=$BO$3),VLOOKUP('CEV-CEVE'!$E$10,$BN$7:$BZ$16,1+E488,0)-2,VLOOKUP('CEV-CEVE'!$E$10,$BN$7:$BZ$16,1+E488,0)),1,0)),0)","v":0},{"$f":"+IFERROR(IF(T488>VLOOKUP('CEV-CEVE'!$E$10,$BN$20:$BZ$29,1+E488,0),1,0),0)","v":0}]
[null,null,null,null,null,null,null,null,null,null,null,null,null,null,null,null,null,null,null,null,null,null,null,null,null,null,null,null,null,null,null,null,null,null,null,null,null,null,null,null,null,null,null,null,null,null,null,null,null,null,null,null,null,null,null,null,null,15,"Caso Propuesto Sin Clima",{"$f":"+IFERROR(IF(BF489=\"\",0,IF(T489<IF(OR(BF489<=$BP$3,BF489>=$BO$3),VLOOKUP('CEV-CEVE'!$E$10,$BN$7:$BZ$16,1+E489,0)-2,VLOOKUP('CEV-CEVE'!$E$10,$BN$7:$BZ$16,1+E489,0)),1,0)),0)","v":0},{"$f":"+IFERROR(IF(T489>VLOOKUP('CEV-CEVE'!$E$10,$BN$20:$BZ$29,1+E489,0),1,0),0)","v":0}]
[null,null,null,null,null,null,null,null,null,null,null,null,null,null,null,null,null,null,null,null,null,null,null,null,null,null,null,null,null,null,null,null,null,null,null,null,null,null,null,null,null,null,null,null,null,null,null,null,null,null,null,null,null,null,null,null,null,16,"Caso Propuesto Sin Clima",{"$f":"+IFERROR(IF(BF490=\"\",0,IF(T490<IF(OR(BF490<=$BP$3,BF490>=$BO$3),VLOOKUP('CEV-CEVE'!$E$10,$BN$7:$BZ$16,1+E490,0)-2,VLOOKUP('CEV-CEVE'!$E$10,$BN$7:$BZ$16,1+E490,0)),1,0)),0)","v":0},{"$f":"+IFERROR(IF(T490>VLOOKUP('CEV-CEVE'!$E$10,$BN$20:$BZ$29,1+E490,0),1,0),0)","v":0}]
[null,null,null,null,null,null,null,null,null,null,null,null,null,null,null,null,null,null,null,null,null,null,null,null,null,null,null,null,null,null,null,null,null,null,null,null,null,null,null,null,null,null,null,null,null,null,null,null,null,null,null,null,null,null,null,null,null,17,"Caso Propuesto Sin Clima",{"$f":"+IFERROR(IF(BF491=\"\",0,IF(T491<IF(OR(BF491<=$BP$3,BF491>=$BO$3),VLOOKUP('CEV-CEVE'!$E$10,$BN$7:$BZ$16,1+E491,0)-2,VLOOKUP('CEV-CEVE'!$E$10,$BN$7:$BZ$16,1+E491,0)),1,0)),0)","v":0},{"$f":"+IFERROR(IF(T491>VLOOKUP('CEV-CEVE'!$E$10,$BN$20:$BZ$29,1+E491,0),1,0),0)","v":0}]
[null,null,null,null,null,null,null,null,null,null,null,null,null,null,null,null,null,null,null,null,null,null,null,null,null,null,null,null,null,null,null,null,null,null,null,null,null,null,null,null,null,null,null,null,null,null,null,null,null,null,null,null,null,null,null,null,null,18,"Caso Propuesto Sin Clima",{"$f":"+IFERROR(IF(BF492=\"\",0,IF(T492<IF(OR(BF492<=$BP$3,BF492>=$BO$3),VLOOKUP('CEV-CEVE'!$E$10,$BN$7:$BZ$16,1+E492,0)-2,VLOOKUP('CEV-CEVE'!$E$10,$BN$7:$BZ$16,1+E492,0)),1,0)),0)","v":0},{"$f":"+IFERROR(IF(T492>VLOOKUP('CEV-CEVE'!$E$10,$BN$20:$BZ$29,1+E492,0),1,0),0)","v":0}]
[null,null,null,null,null,null,null,null,null,null,null,null,null,null,null,null,null,null,null,null,null,null,null,null,null,null,null,null,null,null,null,null,null,null,null,null,null,null,null,null,null,null,null,null,null,null,null,null,null,null,null,null,null,null,null,null,null,19,"Caso Propuesto Sin Clima",{"$f":"+IFERROR(IF(BF493=\"\",0,IF(T493<IF(OR(BF493<=$BP$3,BF493>=$BO$3),VLOOKUP('CEV-CEVE'!$E$10,$BN$7:$BZ$16,1+E493,0)-2,VLOOKUP('CEV-CEVE'!$E$10,$BN$7:$BZ$16,1+E493,0)),1,0)),0)","v":0},{"$f":"+IFERROR(IF(T493>VLOOKUP('CEV-CEVE'!$E$10,$BN$20:$BZ$29,1+E493,0),1,0),0)","v":0}]
[null,null,null,null,null,null,null,null,null,null,null,null,null,null,null,null,null,null,null,null,null,null,null,null,null,null,null,null,null,null,null,null,null,null,null,null,null,null,null,null,null,null,null,null,null,null,null,null,null,null,null,null,null,null,null,null,null,20,"Caso Propuesto Sin Clima",{"$f":"+IFERROR(IF(BF494=\"\",0,IF(T494<IF(OR(BF494<=$BP$3,BF494>=$BO$3),VLOOKUP('CEV-CEVE'!$E$10,$BN$7:$BZ$16,1+E494,0)-2,VLOOKUP('CEV-CEVE'!$E$10,$BN$7:$BZ$16,1+E494,0)),1,0)),0)","v":0},{"$f":"+IFERROR(IF(T494>VLOOKUP('CEV-CEVE'!$E$10,$BN$20:$BZ$29,1+E494,0),1,0),0)","v":0}]
[null,null,null,null,null,null,null,null,null,null,null,null,null,null,null,null,null,null,null,null,null,null,null,null,null,null,null,null,null,null,null,null,null,null,null,null,null,null,null,null,null,null,null,null,null,null,null,null,null,null,null,null,null,null,null,null,null,21,"Caso Propuesto Sin Clima",{"$f":"+IFERROR(IF(BF495=\"\",0,IF(T495<IF(OR(BF495<=$BP$3,BF495>=$BO$3),VLOOKUP('CEV-CEVE'!$E$10,$BN$7:$BZ$16,1+E495,0)-2,VLOOKUP('CEV-CEVE'!$E$10,$BN$7:$BZ$16,1+E495,0)),1,0)),0)","v":0},{"$f":"+IFERROR(IF(T495>VLOOKUP('CEV-CEVE'!$E$10,$BN$20:$BZ$29,1+E495,0),1,0),0)","v":0}]
[null,null,null,null,null,null,null,null,null,null,null,null,null,null,null,null,null,null,null,null,null,null,null,null,null,null,null,null,null,null,null,null,null,null,null,null,null,null,null,null,null,null,null,null,null,null,null,null,null,null,null,null,null,null,null,null,null,22,"Caso Propuesto Sin Clima",{"$f":"+IFERROR(IF(BF496=\"\",0,IF(T496<IF(OR(BF496<=$BP$3,BF496>=$BO$3),VLOOKUP('CEV-CEVE'!$E$10,$BN$7:$BZ$16,1+E496,0)-2,VLOOKUP('CEV-CEVE'!$E$10,$BN$7:$BZ$16,1+E496,0)),1,0)),0)","v":0},{"$f":"+IFERROR(IF(T496>VLOOKUP('CEV-CEVE'!$E$10,$BN$20:$BZ$29,1+E496,0),1,0),0)","v":0}]
[null,null,null,null,null,null,null,null,null,null,null,null,null,null,null,null,null,null,null,null,null,null,null,null,null,null,null,null,null,null,null,null,null,null,null,null,null,null,null,null,null,null,null,null,null,null,null,null,null,null,null,null,null,null,null,null,null,23,"Caso Propuesto Sin Clima",{"$f":"+IFERROR(IF(BF497=\"\",0,IF(T497<IF(OR(BF497<=$BP$3,BF497>=$BO$3),VLOOKUP('CEV-CEVE'!$E$10,$BN$7:$BZ$16,1+E497,0)-2,VLOOKUP('CEV-CEVE'!$E$10,$BN$7:$BZ$16,1+E497,0)),1,0)),0)","v":0},{"$f":"+IFERROR(IF(T497>VLOOKUP('CEV-CEVE'!$E$10,$BN$20:$BZ$29,1+E497,0),1,0),0)","v":0}]
[null,null,null,null,null,null,null,null,null,null,null,null,null,null,null,null,null,null,null,null,null,null,null,null,null,null,null,null,null,null,null,null,null,null,null,null,null,null,null,null,null,null,null,null,null,null,null,null,null,null,null,null,null,null,null,null,null,null,"Caso Propuesto Sin Clima",{"$f":"+IFERROR(IF(BF498=\"\",0,IF(T498<IF(OR(BF498<=$BP$3,BF498>=$BO$3),VLOOKUP('CEV-CEVE'!$E$10,$BN$7:$BZ$16,1+E498,0)-2,VLOOKUP('CEV-CEVE'!$E$10,$BN$7:$BZ$16,1+E498,0)),1,0)),0)","v":0},{"$f":"+IFERROR(IF(T498>VLOOKUP('CEV-CEVE'!$E$10,$BN$20:$BZ$29,1+E498,0),1,0),0)","v":0}]
[null,null,null,null,null,null,null,null,null,null,null,null,null,null,null,null,null,null,null,null,null,null,null,null,null,null,null,null,null,null,null,null,null,null,null,null,null,null,null,null,null,null,null,null,null,null,null,null,null,null,null,null,null,null,null,null,null,null,"Caso Propuesto Sin Clima",{"$f":"+IFERROR(IF(BF499=\"\",0,IF(T499<IF(OR(BF499<=$BP$3,BF499>=$BO$3),VLOOKUP('CEV-CEVE'!$E$10,$BN$7:$BZ$16,1+E499,0)-2,VLOOKUP('CEV-CEVE'!$E$10,$BN$7:$BZ$16,1+E499,0)),1,0)),0)","v":0},{"$f":"+IFERROR(IF(T499>VLOOKUP('CEV-CEVE'!$E$10,$BN$20:$BZ$29,1+E499,0),1,0),0)","v":0}]
[null,null,null,null,null,null,null,null,null,null,null,null,null,null,null,null,null,null,null,null,null,null,null,null,null,null,null,null,null,null,null,null,null,null,null,null,null,null,null,null,null,null,null,null,null,null,null,null,null,null,null,null,null,null,null,null,null,0,"Caso Propuesto Sin Clima",{"$f":"+IFERROR(IF(BF500=\"\",0,IF(T500<IF(OR(BF500<=$BP$3,BF500>=$BO$3),VLOOKUP('CEV-CEVE'!$E$10,$BN$7:$BZ$16,1+E500,0)-2,VLOOKUP('CEV-CEVE'!$E$10,$BN$7:$BZ$16,1+E500,0)),1,0)),0)","v":0},{"$f":"+IFERROR(IF(T500>VLOOKUP('CEV-CEVE'!$E$10,$BN$20:$BZ$29,1+E500,0),1,0),0)","v":0}]
[null,null,null,null,null,null,null,null,null,null,null,null,null,null,null,null,null,null,null,null,null,null,null,null,null,null,null,null,null,null,null,null,null,null,null,null,null,null,null,null,null,null,null,null,null,null,null,null,null,null,null,null,null,null,null,null,null,{"$f":"+BF500+1","v":1},"Caso Propuesto Sin Clima",{"$f":"+IFERROR(IF(BF501=\"\",0,IF(T501<IF(OR(BF501<=$BP$3,BF501>=$BO$3),VLOOKUP('CEV-CEVE'!$E$10,$BN$7:$BZ$16,1+E501,0)-2,VLOOKUP('CEV-CEVE'!$E$10,$BN$7:$BZ$16,1+E501,0)),1,0)),0)","v":0},{"$f":"+IFERROR(IF(T501>VLOOKUP('CEV-CEVE'!$E$10,$BN$20:$BZ$29,1+E501,0),1,0),0)","v":0}]
[null,null,null,null,null,null,null,null,null,null,null,null,null,null,null,null,null,null,null,null,null,null,null,null,null,null,null,null,null,null,null,null,null,null,null,null,null,null,null,null,null,null,null,null,null,null,null,null,null,null,null,null,null,null,null,null,null,7,"Caso Propuesto Sin Clima",{"$f":"+IFERROR(IF(BF507=\"\",0,IF(T507<IF(OR(BF507<=$BP$3,BF507>=$BO$3),VLOOKUP('CEV-CEVE'!$E$10,$BN$7:$BZ$16,1+E507,0)-2,VLOOKUP('CEV-CEVE'!$E$10,$BN$7:$BZ$16,1+E507,0)),1,0)),0)","v":0},{"$f":"+IFERROR(IF(T507>VLOOKUP('CEV-CEVE'!$E$10,$BN$20:$BZ$29,1+E507,0),1,0),0)","v":0}]
[null,null,null,null,null,null,null,null,null,null,null,null,null,null,null,null,null,null,null,null,null,null,null,null,null,null,null,null,null,null,null,null,null,null,null,null,null,null,null,null,null,null,null,null,null,null,null,null,null,null,null,null,null,null,null,null,null,12,"Caso Propuesto Sin Clima",{"$f":"+IFERROR(IF(BF512=\"\",0,IF(T512<IF(OR(BF512<=$BP$3,BF512>=$BO$3),VLOOKUP('CEV-CEVE'!$E$10,$BN$7:$BZ$16,1+E512,0)-2,VLOOKUP('CEV-CEVE'!$E$10,$BN$7:$BZ$16,1+E512,0)),1,0)),0)","v":0},{"$f":"+IFERROR(IF(T512>VLOOKUP('CEV-CEVE'!$E$10,$BN$20:$BZ$29,1+E512,0),1,0),0)","v":0}]
[null,null,null,null,null,null,null,null,null,null,null,null,null,null,null,null,null,null,null,null,null,null,null,null,null,null,null,null,null,null,null,null,null,null,null,null,null,null,null,null,null,null,null,null,null,null,null,null,null,null,null,null,null,null,null,null,null,18,"Caso Propuesto Sin Clima",{"$f":"+IFERROR(IF(BF518=\"\",0,IF(T518<IF(OR(BF518<=$BP$3,BF518>=$BO$3),VLOOKUP('CEV-CEVE'!$E$10,$BN$7:$BZ$16,1+E518,0)-2,VLOOKUP('CEV-CEVE'!$E$10,$BN$7:$BZ$16,1+E518,0)),1,0)),0)","v":0},{"$f":"+IFERROR(IF(T518>VLOOKUP('CEV-CEVE'!$E$10,$BN$20:$BZ$29,1+E518,0),1,0),0)","v":0}]
[null,null,null,null,null,null,null,null,null,null,null,null,null,null,null,null,null,null,null,null,null,null,null,null,null,null,null,null,null,null,null,null,null,null,null,null,null,null,null,null,null,null,null,null,null,null,null,null,null,null,null,null,null,null,null,null,null,23,"Caso Propuesto Sin Clima",{"$f":"+IFERROR(IF(BF523=\"\",0,IF(T523<IF(OR(BF523<=$BP$3,BF523>=$BO$3),VLOOKUP('CEV-CEVE'!$E$10,$BN$7:$BZ$16,1+E523,0)-2,VLOOKUP('CEV-CEVE'!$E$10,$BN$7:$BZ$16,1+E523,0)),1,0)),0)","v":0},{"$f":"+IFERROR(IF(T523>VLOOKUP('CEV-CEVE'!$E$10,$BN$20:$BZ$29,1+E523,0),1,0),0)","v":0}]
[null,null,null,null,null,null,null,null,null,null,null,null,null,null,null,null,null,null,null,null,null,null,null,null,null,null,null,null,null,null,null,null,null,null,null,null,null,null,null,null,null,null,null,null,null,null,null,null,null,null,null,null,null,null,null,null,null,{"$f":"+BF527+1","v":2},"Caso Propuesto Sin Clima",{"$f":"+IFERROR(IF(BF528=\"\",0,IF(T528<IF(OR(BF528<=$BP$3,BF528>=$BO$3),VLOOKUP('CEV-CEVE'!$E$10,$BN$7:$BZ$16,1+E528,0)-2,VLOOKUP('CEV-CEVE'!$E$10,$BN$7:$BZ$16,1+E528,0)),1,0)),0)","v":0},{"$f":"+IFERROR(IF(T528>VLOOKUP('CEV-CEVE'!$E$10,$BN$20:$BZ$29,1+E528,0),1,0),0)","v":0}]
[null,null,null,null,null,null,null,null,null,null,null,null,null,null,null,null,null,null,null,null,null,null,null,null,null,null,null,null,null,null,null,null,null,null,null,null,null,null,null,null,null,null,null,null,null,null,null,null,null,null,null,null,null,null,null,null,null,8,"Caso Propuesto Sin Clima",{"$f":"+IFERROR(IF(BF534=\"\",0,IF(T534<IF(OR(BF534<=$BP$3,BF534>=$BO$3),VLOOKUP('CEV-CEVE'!$E$10,$BN$7:$BZ$16,1+E534,0)-2,VLOOKUP('CEV-CEVE'!$E$10,$BN$7:$BZ$16,1+E534,0)),1,0)),0)","v":0},{"$f":"+IFERROR(IF(T534>VLOOKUP('CEV-CEVE'!$E$10,$BN$20:$BZ$29,1+E534,0),1,0),0)","v":0}]
[null,null,null,null,null,null,null,null,null,null,null,null,null,null,null,null,null,null,null,null,null,null,null,null,null,null,null,null,null,null,null,null,null,null,null,null,null,null,null,null,null,null,null,null,null,null,null,null,null,null,null,null,null,null,null,null,null,13,"Caso Propuesto Sin Clima",{"$f":"+IFERROR(IF(BF539=\"\",0,IF(T539<IF(OR(BF539<=$BP$3,BF539>=$BO$3),VLOOKUP('CEV-CEVE'!$E$10,$BN$7:$BZ$16,1+E539,0)-2,VLOOKUP('CEV-CEVE'!$E$10,$BN$7:$BZ$16,1+E539,0)),1,0)),0)","v":0},{"$f":"+IFERROR(IF(T539>VLOOKUP('CEV-CEVE'!$E$10,$BN$20:$BZ$29,1+E539,0),1,0),0)","v":0}]
[null,null,null,null,null,null,null,null,null,null,null,null,null,null,null,null,null,null,null,null,null,null,null,null,null,null,null,null,null,null,null,null,null,null,null,null,null,null,null,null,null,null,null,null,null,null,null,null,null,null,null,null,null,null,null,null,null,19,"Caso Propuesto Sin Clima",{"$f":"+IFERROR(IF(BF545=\"\",0,IF(T545<IF(OR(BF545<=$BP$3,BF545>=$BO$3),VLOOKUP('CEV-CEVE'!$E$10,$BN$7:$BZ$16,1+E545,0)-2,VLOOKUP('CEV-CEVE'!$E$10,$BN$7:$BZ$16,1+E545,0)),1,0)),0)","v":0},{"$f":"+IFERROR(IF(T545>VLOOKUP('CEV-CEVE'!$E$10,$BN$20:$BZ$29,1+E545,0),1,0),0)","v":0}]
[null,null,null,null,null,null,null,null,null,null,null,null,null,null,null,null,null,null,null,null,null,null,null,null,null,null,null,null,null,null,null,null,null,null,null,null,null,null,null,null,null,null,null,null,null,null,null,null,null,null,null,null,null,null,null,null,null,null,"Caso Propuesto Sin Clima",{"$f":"+IFERROR(IF(BF550=\"\",0,IF(T550<IF(OR(BF550<=$BP$3,BF550>=$BO$3),VLOOKUP('CEV-CEVE'!$E$10,$BN$7:$BZ$16,1+E550,0)-2,VLOOKUP('CEV-CEVE'!$E$10,$BN$7:$BZ$16,1+E550,0)),1,0)),0)","v":0},{"$f":"+IFERROR(IF(T550>VLOOKUP('CEV-CEVE'!$E$10,$BN$20:$BZ$29,1+E550,0),1,0),0)","v":0}]
[null,null,null,null,null,null,null,null,null,null,null,null,null,null,null,null,null,null,null,null,null,null,null,null,null,null,null,null,null,null,null,null,null,null,null,null,null,null,null,null,null,null,null,null,null,null,null,null,null,null,null,null,null,null,null,null,null,3,"Caso Propuesto Sin Clima",{"$f":"+IFERROR(IF(BF555=\"\",0,IF(T555<IF(OR(BF555<=$BP$3,BF555>=$BO$3),VLOOKUP('CEV-CEVE'!$E$10,$BN$7:$BZ$16,1+E555,0)-2,VLOOKUP('CEV-CEVE'!$E$10,$BN$7:$BZ$16,1+E555,0)),1,0)),0)","v":0},{"$f":"+IFERROR(IF(T555>VLOOKUP('CEV-CEVE'!$E$10,$BN$20:$BZ$29,1+E555,0),1,0),0)","v":0}]
[null,null,null,null,null,null,null,null,null,null,null,null,null,null,null,null,null,null,null,null,null,null,null,null,null,null,null,null,null,null,null,null,null,null,null,null,null,null,null,null,null,null,null,null,null,null,null,null,null,null,null,null,null,null,null,null,null,4,"Caso Propuesto Sin Clima",{"$f":"+IFERROR(IF(BF556=\"\",0,IF(T556<IF(OR(BF556<=$BP$3,BF556>=$BO$3),VLOOKUP('CEV-CEVE'!$E$10,$BN$7:$BZ$16,1+E556,0)-2,VLOOKUP('CEV-CEVE'!$E$10,$BN$7:$BZ$16,1+E556,0)),1,0)),0)","v":0},{"$f":"+IFERROR(IF(T556>VLOOKUP('CEV-CEVE'!$E$10,$BN$20:$BZ$29,1+E556,0),1,0),0)","v":0}]
[null,null,null,null,null,null,null,null,null,null,null,null,null,null,null,null,null,null,null,null,null,null,null,null,null,null,null,null,null,null,null,null,null,null,null,null,null,null,null,null,null,null,null,null,null,null,null,null,null,null,null,null,null,null,null,null,null,9,"Caso Propuesto Sin Clima",{"$f":"+IFERROR(IF(BF561=\"\",0,IF(T561<IF(OR(BF561<=$BP$3,BF561>=$BO$3),VLOOKUP('CEV-CEVE'!$E$10,$BN$7:$BZ$16,1+E561,0)-2,VLOOKUP('CEV-CEVE'!$E$10,$BN$7:$BZ$16,1+E561,0)),1,0)),0)","v":0},{"$f":"+IFERROR(IF(T561>VLOOKUP('CEV-CEVE'!$E$10,$BN$20:$BZ$29,1+E561,0),1,0),0)","v":0}]
[null,null,null,null,null,null,null,null,null,null,null,null,null,null,null,null,null,null,null,null,null,null,null,null,null,null,null,null,null,null,null,null,null,null,null,null,null,null,null,null,null,null,null,null,null,null,null,null,null,null,null,null,null,null,null,null,null,14,"Caso Propuesto Sin Clima",{"$f":"+IFERROR(IF(BF566=\"\",0,IF(T566<IF(OR(BF566<=$BP$3,BF566>=$BO$3),VLOOKUP('CEV-CEVE'!$E$10,$BN$7:$BZ$16,1+E566,0)-2,VLOOKUP('CEV-CEVE'!$E$10,$BN$7:$BZ$16,1+E566,0)),1,0)),0)","v":0},{"$f":"+IFERROR(IF(T566>VLOOKUP('CEV-CEVE'!$E$10,$BN$20:$BZ$29,1+E566,0),1,0),0)","v":0}]
[null,null,null,null,null,null,null,null,null,null,null,null,null,null,null,null,null,null,null,null,null,null,null,null,null,null,null,null,null,null,null,null,null,null,null,null,null,null,null,null,null,null,null,null,null,null,null,null,null,null,null,null,null,null,null,null,null,20,"Caso Propuesto Sin Clima",{"$f":"+IFERROR(IF(BF572=\"\",0,IF(T572<IF(OR(BF572<=$BP$3,BF572>=$BO$3),VLOOKUP('CEV-CEVE'!$E$10,$BN$7:$BZ$16,1+E572,0)-2,VLOOKUP('CEV-CEVE'!$E$10,$BN$7:$BZ$16,1+E572,0)),1,0)),0)","v":0},{"$f":"+IFERROR(IF(T572>VLOOKUP('CEV-CEVE'!$E$10,$BN$20:$BZ$29,1+E572,0),1,0),0)","v":0}]
[null,null,null,null,null,null,null,null,null,null,null,null,null,null,null,null,null,null,null,null,null,null,null,null,null,null,null,null,null,null,null,null,null,null,null,null,null,null,null,null,null,null,null,null,null,null,null,null,null,null,null,null,null,null,null,null,null,null,"Caso Propuesto Sin Clima",{"$f":"+IFERROR(IF(BF577=\"\",0,IF(T577<IF(OR(BF577<=$BP$3,BF577>=$BO$3),VLOOKUP('CEV-CEVE'!$E$10,$BN$7:$BZ$16,1+E577,0)-2,VLOOKUP('CEV-CEVE'!$E$10,$BN$7:$BZ$16,1+E577,0)),1,0)),0)","v":0},{"$f":"+IFERROR(IF(T577>VLOOKUP('CEV-CEVE'!$E$10,$BN$20:$BZ$29,1+E577,0),1,0),0)","v":0}]
[null,null,null,null,null,null,null,null,null,null,null,null,null,null,null,null,null,null,null,null,null,null,null,null,null,null,null,null,null,null,null,null,null,null,null,null,null,null,null,null,null,null,null,null,null,null,null,null,null,null,null,null,null,null,null,null,null,5,"Caso Propuesto Sin Clima",{"$f":"+IFERROR(IF(BF583=\"\",0,IF(T583<IF(OR(BF583<=$BP$3,BF583>=$BO$3),VLOOKUP('CEV-CEVE'!$E$10,$BN$7:$BZ$16,1+E583,0)-2,VLOOKUP('CEV-CEVE'!$E$10,$BN$7:$BZ$16,1+E583,0)),1,0)),0)","v":0},{"$f":"+IFERROR(IF(T583>VLOOKUP('CEV-CEVE'!$E$10,$BN$20:$BZ$29,1+E583,0),1,0),0)","v":0}]
[null,null,null,null,null,null,null,null,null,null,null,null,null,null,null,null,null,null,null,null,null,null,null,null,null,null,null,null,null,null,null,null,null,null,null,null,null,null,null,null,null,null,null,null,null,null,null,null,null,null,null,null,null,null,null,null,null,10,"Caso Propuesto Sin Clima",{"$f":"+IFERROR(IF(BF588=\"\",0,IF(T588<IF(OR(BF588<=$BP$3,BF588>=$BO$3),VLOOKUP('CEV-CEVE'!$E$10,$BN$7:$BZ$16,1+E588,0)-2,VLOOKUP('CEV-CEVE'!$E$10,$BN$7:$BZ$16,1+E588,0)),1,0)),0)","v":0},{"$f":"+IFERROR(IF(T588>VLOOKUP('CEV-CEVE'!$E$10,$BN$20:$BZ$29,1+E588,0),1,0),0)","v":0}]
[null,null,null,null,null,null,null,null,null,null,null,null,null,null,null,null,null,null,null,null,null,null,null,null,null,null,null,null,null,null,null,null,null,null,null,null,null,null,null,null,null,null,null,null,null,null,null,null,null,null,null,null,null,null,null,null,null,15,"Caso Propuesto Sin Clima",{"$f":"+IFERROR(IF(BF593=\"\",0,IF(T593<IF(OR(BF593<=$BP$3,BF593>=$BO$3),VLOOKUP('CEV-CEVE'!$E$10,$BN$7:$BZ$16,1+E593,0)-2,VLOOKUP('CEV-CEVE'!$E$10,$BN$7:$BZ$16,1+E593,0)),1,0)),0)","v":0},{"$f":"+IFERROR(IF(T593>VLOOKUP('CEV-CEVE'!$E$10,$BN$20:$BZ$29,1+E593,0),1,0),0)","v":0}]
[null,null,null,null,null,null,null,null,null,null,null,null,null,null,null,null,null,null,null,null,null,null,null,null,null,null,null,null,null,null,null,null,null,null,null,null,null,null,null,null,null,null,null,null,null,null,null,null,null,null,null,null,null,null,null,null,null,21,"Caso Propuesto Sin Clima",{"$f":"+IFERROR(IF(BF599=\"\",0,IF(T599<IF(OR(BF599<=$BP$3,BF599>=$BO$3),VLOOKUP('CEV-CEVE'!$E$10,$BN$7:$BZ$16,1+E599,0)-2,VLOOKUP('CEV-CEVE'!$E$10,$BN$7:$BZ$16,1+E599,0)),1,0)),0)","v":0},{"$f":"+IFERROR(IF(T599>VLOOKUP('CEV-CEVE'!$E$10,$BN$20:$BZ$29,1+E599,0),1,0),0)","v":0}]
[null,null,null,null,null,null,null,null,null,null,null,null,null,null,null,null,null,null,null,null,null,null,null,null,null,null,null,null,null,null,null,null,null,null,null,null,null,null,null,null,null,null,null,null,null,null,null,null,null,null,null,null,null,null,null,null,null,0,"Caso Propuesto Sin Clima",{"$f":"+IFERROR(IF(BF604=\"\",0,IF(T604<IF(OR(BF604<=$BP$3,BF604>=$BO$3),VLOOKUP('CEV-CEVE'!$E$10,$BN$7:$BZ$16,1+E604,0)-2,VLOOKUP('CEV-CEVE'!$E$10,$BN$7:$BZ$16,1+E604,0)),1,0)),0)","v":0},{"$f":"+IFERROR(IF(T604>VLOOKUP('CEV-CEVE'!$E$10,$BN$20:$BZ$29,1+E604,0),1,0),0)","v":0}]
[null,null,null,null,null,null,null,null,null,null,null,null,null,null,null,null,null,null,null,null,null,null,null,null,null,null,null,null,null,null,null,null,null,null,null,null,null,null,null,null,null,null,null,null,null,null,null,null,null,null,null,null,null,null,null,null,null,6,"Caso Propuesto Sin Clima",{"$f":"+IFERROR(IF(BF610=\"\",0,IF(T610<IF(OR(BF610<=$BP$3,BF610>=$BO$3),VLOOKUP('CEV-CEVE'!$E$10,$BN$7:$BZ$16,1+E610,0)-2,VLOOKUP('CEV-CEVE'!$E$10,$BN$7:$BZ$16,1+E610,0)),1,0)),0)","v":0},{"$f":"+IFERROR(IF(T610>VLOOKUP('CEV-CEVE'!$E$10,$BN$20:$BZ$29,1+E610,0),1,0),0)","v":0}]
[null,null,null,null,null,null,null,null,null,null,null,null,null,null,null,null,null,null,null,null,null,null,null,null,null,null,null,null,null,null,null,null,null,null,null,null,null,null,null,null,null,null,null,null,null,null,null,null,null,null,null,null,null,null,null,null,null,11,"Caso Propuesto Sin Clima",{"$f":"+IFERROR(IF(BF615=\"\",0,IF(T615<IF(OR(BF615<=$BP$3,BF615>=$BO$3),VLOOKUP('CEV-CEVE'!$E$10,$BN$7:$BZ$16,1+E615,0)-2,VLOOKUP('CEV-CEVE'!$E$10,$BN$7:$BZ$16,1+E615,0)),1,0)),0)","v":0},{"$f":"+IFERROR(IF(T615>VLOOKUP('CEV-CEVE'!$E$10,$BN$20:$BZ$29,1+E615,0),1,0),0)","v":0}]
[null,null,null,null,null,null,null,null,null,null,null,null,null,null,null,null,null,null,null,null,null,null,null,null,null,null,null,null,null,null,null,null,null,null,null,null,null,null,null,null,null,null,null,null,null,null,null,null,null,null,null,null,null,null,null,null,null,16,"Caso Propuesto Sin Clima",{"$f":"+IFERROR(IF(BF620=\"\",0,IF(T620<IF(OR(BF620<=$BP$3,BF620>=$BO$3),VLOOKUP('CEV-CEVE'!$E$10,$BN$7:$BZ$16,1+E620,0)-2,VLOOKUP('CEV-CEVE'!$E$10,$BN$7:$BZ$16,1+E620,0)),1,0)),0)","v":0},{"$f":"+IFERROR(IF(T620>VLOOKUP('CEV-CEVE'!$E$10,$BN$20:$BZ$29,1+E620,0),1,0),0)","v":0}]
[null,null,null,null,null,null,null,null,null,null,null,null,null,null,null,null,null,null,null,null,null,null,null,null,null,null,null,null,null,null,null,null,null,null,null,null,null,null,null,null,null,null,null,null,null,null,null,null,null,null,null,null,null,null,null,null,null,17,"Caso Propuesto Sin Clima",{"$f":"+IFERROR(IF(BF621=\"\",0,IF(T621<IF(OR(BF621<=$BP$3,BF621>=$BO$3),VLOOKUP('CEV-CEVE'!$E$10,$BN$7:$BZ$16,1+E621,0)-2,VLOOKUP('CEV-CEVE'!$E$10,$BN$7:$BZ$16,1+E621,0)),1,0)),0)","v":0},{"$f":"+IFERROR(IF(T621>VLOOKUP('CEV-CEVE'!$E$10,$BN$20:$BZ$29,1+E621,0),1,0),0)","v":0}]
[null,null,null,null,null,null,null,null,null,null,null,null,null,null,null,null,null,null,null,null,null,null,null,null,null,null,null,null,null,null,null,null,null,null,null,null,null,null,null,null,null,null,null,null,null,null,null,null,null,null,null,null,null,null,null,null,null,22,"Caso Propuesto Sin Clima",{"$f":"+IFERROR(IF(BF626=\"\",0,IF(T626<IF(OR(BF626<=$BP$3,BF626>=$BO$3),VLOOKUP('CEV-CEVE'!$E$10,$BN$7:$BZ$16,1+E626,0)-2,VLOOKUP('CEV-CEVE'!$E$10,$BN$7:$BZ$16,1+E626,0)),1,0)),0)","v":0},{"$f":"+IFERROR(IF(T626>VLOOKUP('CEV-CEVE'!$E$10,$BN$20:$BZ$29,1+E626,0),1,0),0)","v":0}]
[null,null,null,null,null,null,null,null,null,null,null,null,null,null,null,null,null,null,null,null,null,null,null,null,null,null,null,null,null,null,null,null,null,null,null,null,null,null,null,null,null,null,null,null,null,null,null,null,null,null,null,null,null,null,null,null,null,{"$f":"+BF630+1","v":1},"Caso Base 0° Con Clima",{"$f":"+IFERROR(IF(BF631=\"\",0,IF(T631<IF(OR(BF631<=$BP$3,BF631>=$BO$3),VLOOKUP('CEV-CEVE'!$E$10,$BN$7:$BZ$16,1+E631,0)-2,VLOOKUP('CEV-CEVE'!$E$10,$BN$7:$BZ$16,1+E631,0)),1,0)),0)","v":0},{"$f":"+IFERROR(IF(T631>VLOOKUP('CEV-CEVE'!$E$10,$BN$20:$BZ$29,1+E631,0),1,0),0)","v":0}]
[null,null,null,null,null,null,null,null,null,null,null,null,null,null,null,null,null,null,null,null,null,null,null,null,null,null,null,null,null,null,null,null,null,null,null,null,null,null,null,null,null,null,null,null,null,null,null,null,null,null,null,null,null,null,null,null,null,7,"Caso Base 0° Con Clima",{"$f":"+IFERROR(IF(BF637=\"\",0,IF(T637<IF(OR(BF637<=$BP$3,BF637>=$BO$3),VLOOKUP('CEV-CEVE'!$E$10,$BN$7:$BZ$16,1+E637,0)-2,VLOOKUP('CEV-CEVE'!$E$10,$BN$7:$BZ$16,1+E637,0)),1,0)),0)","v":0},{"$f":"+IFERROR(IF(T637>VLOOKUP('CEV-CEVE'!$E$10,$BN$20:$BZ$29,1+E637,0),1,0),0)","v":0}]
[null,null,null,null,null,null,null,null,null,null,null,null,null,null,null,null,null,null,null,null,null,null,null,null,null,null,null,null,null,null,null,null,null,null,null,null,null,null,null,null,null,null,null,null,null,null,null,null,null,null,null,null,null,null,null,null,null,12,"Caso Base 0° Con Clima",{"$f":"+IFERROR(IF(BF642=\"\",0,IF(T642<IF(OR(BF642<=$BP$3,BF642>=$BO$3),VLOOKUP('CEV-CEVE'!$E$10,$BN$7:$BZ$16,1+E642,0)-2,VLOOKUP('CEV-CEVE'!$E$10,$BN$7:$BZ$16,1+E642,0)),1,0)),0)","v":0},{"$f":"+IFERROR(IF(T642>VLOOKUP('CEV-CEVE'!$E$10,$BN$20:$BZ$29,1+E642,0),1,0),0)","v":0}]
[null,null,null,null,null,null,null,null,null,null,null,null,null,null,null,null,null,null,null,null,null,null,null,null,null,null,null,null,null,null,null,null,null,null,null,null,null,null,null,null,null,null,null,null,null,null,null,null,null,null,null,null,null,null,null,null,null,18,"Caso Base 0° Con Clima",{"$f":"+IFERROR(IF(BF648=\"\",0,IF(T648<IF(OR(BF648<=$BP$3,BF648>=$BO$3),VLOOKUP('CEV-CEVE'!$E$10,$BN$7:$BZ$16,1+E648,0)-2,VLOOKUP('CEV-CEVE'!$E$10,$BN$7:$BZ$16,1+E648,0)),1,0)),0)","v":0},{"$f":"+IFERROR(IF(T648>VLOOKUP('CEV-CEVE'!$E$10,$BN$20:$BZ$29,1+E648,0),1,0),0)","v":0}]
[null,null,null,null,null,null,null,null,null,null,null,null,null,null,null,null,null,null,null,null,null,null,null,null,null,null,null,null,null,null,null,null,null,null,null,null,null,null,null,null,null,null,null,null,null,null,null,null,null,null,null,null,null,null,null,null,null,23,"Caso Base 0° Con Clima",{"$f":"+IFERROR(IF(BF653=\"\",0,IF(T653<IF(OR(BF653<=$BP$3,BF653>=$BO$3),VLOOKUP('CEV-CEVE'!$E$10,$BN$7:$BZ$16,1+E653,0)-2,VLOOKUP('CEV-CEVE'!$E$10,$BN$7:$BZ$16,1+E653,0)),1,0)),0)","v":0},{"$f":"+IFERROR(IF(T653>VLOOKUP('CEV-CEVE'!$E$10,$BN$20:$BZ$29,1+E653,0),1,0),0)","v":0}]
[null,null,null,null,null,null,null,null,null,null,null,null,null,null,null,null,null,null,null,null,null,null,null,null,null,null,null,null,null,null,null,null,null,null,null,null,null,null,null,null,null,null,null,null,null,null,null,null,null,null,null,null,null,null,null,null,null,{"$f":"+BF657+1","v":2},"Caso Base 0° Con Clima",{"$f":"+IFERROR(IF(BF658=\"\",0,IF(T658<IF(OR(BF658<=$BP$3,BF658>=$BO$3),VLOOKUP('CEV-CEVE'!$E$10,$BN$7:$BZ$16,1+E658,0)-2,VLOOKUP('CEV-CEVE'!$E$10,$BN$7:$BZ$16,1+E658,0)),1,0)),0)","v":0},{"$f":"+IFERROR(IF(T658>VLOOKUP('CEV-CEVE'!$E$10,$BN$20:$BZ$29,1+E658,0),1,0),0)","v":0}]
[null,null,null,null,null,null,null,null,null,null,null,null,null,null,null,null,null,null,null,null,null,null,null,null,null,null,null,null,null,null,null,null,null,null,null,null,null,null,null,null,null,null,null,null,null,null,null,null,null,null,null,null,null,null,null,null,null,8,"Caso Base 0° Con Clima",{"$f":"+IFERROR(IF(BF664=\"\",0,IF(T664<IF(OR(BF664<=$BP$3,BF664>=$BO$3),VLOOKUP('CEV-CEVE'!$E$10,$BN$7:$BZ$16,1+E664,0)-2,VLOOKUP('CEV-CEVE'!$E$10,$BN$7:$BZ$16,1+E664,0)),1,0)),0)","v":0},{"$f":"+IFERROR(IF(T664>VLOOKUP('CEV-CEVE'!$E$10,$BN$20:$BZ$29,1+E664,0),1,0),0)","v":0}]
[null,null,null,null,null,null,null,null,null,null,null,null,null,null,null,null,null,null,null,null,null,null,null,null,null,null,null,null,null,null,null,null,null,null,null,null,null,null,null,null,null,null,null,null,null,null,null,null,null,null,null,null,null,null,null,null,null,13,"Caso Base 0° Con Clima",{"$f":"+IFERROR(IF(BF669=\"\",0,IF(T669<IF(OR(BF669<=$BP$3,BF669>=$BO$3),VLOOKUP('CEV-CEVE'!$E$10,$BN$7:$BZ$16,1+E669,0)-2,VLOOKUP('CEV-CEVE'!$E$10,$BN$7:$BZ$16,1+E669,0)),1,0)),0)","v":0},{"$f":"+IFERROR(IF(T669>VLOOKUP('CEV-CEVE'!$E$10,$BN$20:$BZ$29,1+E669,0),1,0),0)","v":0}]
[null,null,null,null,null,null,null,null,null,null,null,null,null,null,null,null,null,null,null,null,null,null,null,null,null,null,null,null,null,null,null,null,null,null,null,null,null,null,null,null,null,null,null,null,null,null,null,null,null,null,null,null,null,null,null,null,null,18,"Caso Base 0° Con Clima",{"$f":"+IFERROR(IF(BF674=\"\",0,IF(T674<IF(OR(BF674<=$BP$3,BF674>=$BO$3),VLOOKUP('CEV-CEVE'!$E$10,$BN$7:$BZ$16,1+E674,0)-2,VLOOKUP('CEV-CEVE'!$E$10,$BN$7:$BZ$16,1+E674,0)),1,0)),0)","v":0},{"$f":"+IFERROR(IF(T674>VLOOKUP('CEV-CEVE'!$E$10,$BN$20:$BZ$29,1+E674,0),1,0),0)","v":0}]
[null,null,null,null,null,null,null,null,null,null,null,null,null,null,null,null,null,null,null,null,null,null,null,null,null,null,null,null,null,null,null,null,null,null,null,null,null,null,null,null,null,null,null,null,null,null,null,null,null,null,null,null,null,null,null,null,null,null,"Caso Base 0° Con Clima",{"$f":"+IFERROR(IF(BF680=\"\",0,IF(T680<IF(OR(BF680<=$BP$3,BF680>=$BO$3),VLOOKUP('CEV-CEVE'!$E$10,$BN$7:$BZ$16,1+E680,0)-2,VLOOKUP('CEV-CEVE'!$E$10,$BN$7:$BZ$16,1+E680,0)),1,0)),0)","v":0},{"$f":"+IFERROR(IF(T680>VLOOKUP('CEV-CEVE'!$E$10,$BN$20:$BZ$29,1+E680,0),1,0),0)","v":0}]
[null,null,null,null,null,null,null,null,null,null,null,null,null,null,null,null,null,null,null,null,null,null,null,null,null,null,null,null,null,null,null,null,null,null,null,null,null,null,null,null,null,null,null,null,null,null,null,null,null,null,null,null,null,null,null,null,null,3,"Caso Base 0° Con Clima",{"$f":"+IFERROR(IF(BF685=\"\",0,IF(T685<IF(OR(BF685<=$BP$3,BF685>=$BO$3),VLOOKUP('CEV-CEVE'!$E$10,$BN$7:$BZ$16,1+E685,0)-2,VLOOKUP('CEV-CEVE'!$E$10,$BN$7:$BZ$16,1+E685,0)),1,0)),0)","v":0},{"$f":"+IFERROR(IF(T685>VLOOKUP('CEV-CEVE'!$E$10,$BN$20:$BZ$29,1+E685,0),1,0),0)","v":0}]
[null,null,null,null,null,null,null,null,null,null,null,null,null,null,null,null,null,null,null,null,null,null,null,null,null,null,null,null,null,null,null,null,null,null,null,null,null,null,null,null,null,null,null,null,null,null,null,null,null,null,null,null,null,null,null,null,null,4,"Caso Base 0° Con Clima",{"$f":"+IFERROR(IF(BF686=\"\",0,IF(T686<IF(OR(BF686<=$BP$3,BF686>=$BO$3),VLOOKUP('CEV-CEVE'!$E$10,$BN$7:$BZ$16,1+E686,0)-2,VLOOKUP('CEV-CEVE'!$E$10,$BN$7:$BZ$16,1+E686,0)),1,0)),0)","v":0},{"$f":"+IFERROR(IF(T686>VLOOKUP('CEV-CEVE'!$E$10,$BN$20:$BZ$29,1+E686,0),1,0),0)","v":0}]
[null,null,null,null,null,null,null,null,null,null,null,null,null,null,null,null,null,null,null,null,null,null,null,null,null,null,null,null,null,null,null,null,null,null,null,null,null,null,null,null,null,null,null,null,null,null,null,null,null,null,null,null,null,null,null,null,null,9,"Caso Base 0° Con Clima",{"$f":"+IFERROR(IF(BF691=\"\",0,IF(T691<IF(OR(BF691<=$BP$3,BF691>=$BO$3),VLOOKUP('CEV-CEVE'!$E$10,$BN$7:$BZ$16,1+E691,0)-2,VLOOKUP('CEV-CEVE'!$E$10,$BN$7:$BZ$16,1+E691,0)),1,0)),0)","v":0},{"$f":"+IFERROR(IF(T691>VLOOKUP('CEV-CEVE'!$E$10,$BN$20:$BZ$29,1+E691,0),1,0),0)","v":0}]
[null,null,null,null,null,null,null,null,null,null,null,null,null,null,null,null,null,null,null,null,null,null,null,null,null,null,null,null,null,null,null,null,null,null,null,null,null,null,null,null,null,null,null,null,null,null,null,null,null,null,null,null,null,null,null,null,null,14,"Caso Base 0° Con Clima",{"$f":"+IFERROR(IF(BF696=\"\",0,IF(T696<IF(OR(BF696<=$BP$3,BF696>=$BO$3),VLOOKUP('CEV-CEVE'!$E$10,$BN$7:$BZ$16,1+E696,0)-2,VLOOKUP('CEV-CEVE'!$E$10,$BN$7:$BZ$16,1+E696,0)),1,0)),0)","v":0},{"$f":"+IFERROR(IF(T696>VLOOKUP('CEV-CEVE'!$E$10,$BN$20:$BZ$29,1+E696,0),1,0),0)","v":0}]
[null,null,null,null,null,null,null,null,null,null,null,null,null,null,null,null,null,null,null,null,null,null,null,null,null,null,null,null,null,null,null,null,null,null,null,null,null,null,null,null,null,null,null,null,null,null,null,null,null,null,null,null,null,null,null,null,null,20,"Caso Base 0° Con Clima",{"$f":"+IFERROR(IF(BF702=\"\",0,IF(T702<IF(OR(BF702<=$BP$3,BF702>=$BO$3),VLOOKUP('CEV-CEVE'!$E$10,$BN$7:$BZ$16,1+E702,0)-2,VLOOKUP('CEV-CEVE'!$E$10,$BN$7:$BZ$16,1+E702,0)),1,0)),0)","v":0},{"$f":"+IFERROR(IF(T702>VLOOKUP('CEV-CEVE'!$E$10,$BN$20:$BZ$29,1+E702,0),1,0),0)","v":0}]
[null,null,null,null,null,null,null,null,null,null,null,null,null,null,null,null,null,null,null,null,null,null,null,null,null,null,null,null,null,null,null,null,null,null,null,null,null,null,null,null,null,null,null,null,null,null,null,null,null,null,null,null,null,null,null,null,null,null,"Caso Base 0° Con Clima",{"$f":"+IFERROR(IF(BF707=\"\",0,IF(T707<IF(OR(BF707<=$BP$3,BF707>=$BO$3),VLOOKUP('CEV-CEVE'!$E$10,$BN$7:$BZ$16,1+E707,0)-2,VLOOKUP('CEV-CEVE'!$E$10,$BN$7:$BZ$16,1+E707,0)),1,0)),0)","v":0},{"$f":"+IFERROR(IF(T707>VLOOKUP('CEV-CEVE'!$E$10,$BN$20:$BZ$29,1+E707,0),1,0),0)","v":0}]
[null,null,null,null,null,null,null,null,null,null,null,null,null,null,null,null,null,null,null,null,null,null,null,null,null,null,null,null,null,null,null,null,null,null,null,null,null,null,null,null,null,null,null,null,null,null,null,null,null,null,null,null,null,null,null,null,null,5,"Caso Base 0° Con Clima",{"$f":"+IFERROR(IF(BF713=\"\",0,IF(T713<IF(OR(BF713<=$BP$3,BF713>=$BO$3),VLOOKUP('CEV-CEVE'!$E$10,$BN$7:$BZ$16,1+E713,0)-2,VLOOKUP('CEV-CEVE'!$E$10,$BN$7:$BZ$16,1+E713,0)),1,0)),0)","v":0},{"$f":"+IFERROR(IF(T713>VLOOKUP('CEV-CEVE'!$E$10,$BN$20:$BZ$29,1+E713,0),1,0),0)","v":0}]
[null,null,null,null,null,null,null,null,null,null,null,null,null,null,null,null,null,null,null,null,null,null,null,null,null,null,null,null,null,null,null,null,null,null,null,null,null,null,null,null,null,null,null,null,null,null,null,null,null,null,null,null,null,null,null,null,null,10,"Caso Base 0° Con Clima",{"$f":"+IFERROR(IF(BF718=\"\",0,IF(T718<IF(OR(BF718<=$BP$3,BF718>=$BO$3),VLOOKUP('CEV-CEVE'!$E$10,$BN$7:$BZ$16,1+E718,0)-2,VLOOKUP('CEV-CEVE'!$E$10,$BN$7:$BZ$16,1+E718,0)),1,0)),0)","v":0},{"$f":"+IFERROR(IF(T718>VLOOKUP('CEV-CEVE'!$E$10,$BN$20:$BZ$29,1+E718,0),1,0),0)","v":0}]
[null,null,null,null,null,null,null,null,null,null,null,null,null,null,null,null,null,null,null,null,null,null,null,null,null,null,null,null,null,null,null,null,null,null,null,null,null,null,null,null,null,null,null,null,null,null,null,null,null,null,null,null,null,null,null,null,null,15,"Caso Base 0° Con Clima",{"$f":"+IFERROR(IF(BF723=\"\",0,IF(T723<IF(OR(BF723<=$BP$3,BF723>=$BO$3),VLOOKUP('CEV-CEVE'!$E$10,$BN$7:$BZ$16,1+E723,0)-2,VLOOKUP('CEV-CEVE'!$E$10,$BN$7:$BZ$16,1+E723,0)),1,0)),0)","v":0},{"$f":"+IFERROR(IF(T723>VLOOKUP('CEV-CEVE'!$E$10,$BN$20:$BZ$29,1+E723,0),1,0),0)","v":0}]
[null,null,null,null,null,null,null,null,null,null,null,null,null,null,null,null,null,null,null,null,null,null,null,null,null,null,null,null,null,null,null,null,null,null,null,null,null,null,null,null,null,null,null,null,null,null,null,null,null,null,null,null,null,null,null,null,null,21,"Caso Base 0° Con Clima",{"$f":"+IFERROR(IF(BF729=\"\",0,IF(T729<IF(OR(BF729<=$BP$3,BF729>=$BO$3),VLOOKUP('CEV-CEVE'!$E$10,$BN$7:$BZ$16,1+E729,0)-2,VLOOKUP('CEV-CEVE'!$E$10,$BN$7:$BZ$16,1+E729,0)),1,0)),0)","v":0},{"$f":"+IFERROR(IF(T729>VLOOKUP('CEV-CEVE'!$E$10,$BN$20:$BZ$29,1+E729,0),1,0),0)","v":0}]
[null,null,null,null,null,null,null,null,null,null,null,null,null,null,null,null,null,null,null,null,null,null,null,null,null,null,null,null,null,null,null,null,null,null,null,null,null,null,null,null,null,null,null,null,null,null,null,null,null,null,null,null,null,null,null,null,null,0,"Caso Base 0° Con Clima",{"$f":"+IFERROR(IF(BF734=\"\",0,IF(T734<IF(OR(BF734<=$BP$3,BF734>=$BO$3),VLOOKUP('CEV-CEVE'!$E$10,$BN$7:$BZ$16,1+E734,0)-2,VLOOKUP('CEV-CEVE'!$E$10,$BN$7:$BZ$16,1+E734,0)),1,0)),0)","v":0},{"$f":"+IFERROR(IF(T734>VLOOKUP('CEV-CEVE'!$E$10,$BN$20:$BZ$29,1+E734,0),1,0),0)","v":0}]
[null,null,null,null,null,null,null,null,null,null,null,null,null,null,null,null,null,null,null,null,null,null,null,null,null,null,null,null,null,null,null,null,null,null,null,null,null,null,null,null,null,null,null,null,null,null,null,null,null,null,null,null,null,null,null,null,null,5,"Caso Base 0° Con Clima",{"$f":"+IFERROR(IF(BF739=\"\",0,IF(T739<IF(OR(BF739<=$BP$3,BF739>=$BO$3),VLOOKUP('CEV-CEVE'!$E$10,$BN$7:$BZ$16,1+E739,0)-2,VLOOKUP('CEV-CEVE'!$E$10,$BN$7:$BZ$16,1+E739,0)),1,0)),0)","v":0},{"$f":"+IFERROR(IF(T739>VLOOKUP('CEV-CEVE'!$E$10,$BN$20:$BZ$29,1+E739,0),1,0),0)","v":0}]
[null,null,null,null,null,null,null,null,null,null,null,null,null,null,null,null,null,null,null,null,null,null,null,null,null,null,null,null,null,null,null,null,null,null,null,null,null,null,null,null,null,null,null,null,null,null,null,null,null,null,null,null,null,null,null,null,null,11,"Caso Base 0° Con Clima",{"$f":"+IFERROR(IF(BF745=\"\",0,IF(T745<IF(OR(BF745<=$BP$3,BF745>=$BO$3),VLOOKUP('CEV-CEVE'!$E$10,$BN$7:$BZ$16,1+E745,0)-2,VLOOKUP('CEV-CEVE'!$E$10,$BN$7:$BZ$16,1+E745,0)),1,0)),0)","v":0},{"$f":"+IFERROR(IF(T745>VLOOKUP('CEV-CEVE'!$E$10,$BN$20:$BZ$29,1+E745,0),1,0),0)","v":0}]
[null,null,null,null,null,null,null,null,null,null,null,null,null,null,null,null,null,null,null,null,null,null,null,null,null,null,null,null,null,null,null,null,null,null,null,null,null,null,null,null,null,null,null,null,null,null,null,null,null,null,null,null,null,null,null,null,null,16,"Caso Base 0° Con Clima",{"$f":"+IFERROR(IF(BF750=\"\",0,IF(T750<IF(OR(BF750<=$BP$3,BF750>=$BO$3),VLOOKUP('CEV-CEVE'!$E$10,$BN$7:$BZ$16,1+E750,0)-2,VLOOKUP('CEV-CEVE'!$E$10,$BN$7:$BZ$16,1+E750,0)),1,0)),0)","v":0},{"$f":"+IFERROR(IF(T750>VLOOKUP('CEV-CEVE'!$E$10,$BN$20:$BZ$29,1+E750,0),1,0),0)","v":0}]
[null,null,null,null,null,null,null,null,null,null,null,null,null,null,null,null,null,null,null,null,null,null,null,null,null,null,null,null,null,null,null,null,null,null,null,null,null,null,null,null,null,null,null,null,null,null,null,null,null,null,null,null,null,null,null,null,null,17,"Caso Base 0° Con Clima",{"$f":"+IFERROR(IF(BF751=\"\",0,IF(T751<IF(OR(BF751<=$BP$3,BF751>=$BO$3),VLOOKUP('CEV-CEVE'!$E$10,$BN$7:$BZ$16,1+E751,0)-2,VLOOKUP('CEV-CEVE'!$E$10,$BN$7:$BZ$16,1+E751,0)),1,0)),0)","v":0},{"$f":"+IFERROR(IF(T751>VLOOKUP('CEV-CEVE'!$E$10,$BN$20:$BZ$29,1+E751,0),1,0),0)","v":0}]
[null,null,null,null,null,null,null,null,null,null,null,null,null,null,null,null,null,null,null,null,null,null,null,null,null,null,null,null,null,null,null,null,null,null,null,null,null,null,null,null,null,null,null,null,null,null,null,null,null,null,null,null,null,null,null,null,null,22,"Caso Base 0° Con Clima",{"$f":"+IFERROR(IF(BF756=\"\",0,IF(T756<IF(OR(BF756<=$BP$3,BF756>=$BO$3),VLOOKUP('CEV-CEVE'!$E$10,$BN$7:$BZ$16,1+E756,0)-2,VLOOKUP('CEV-CEVE'!$E$10,$BN$7:$BZ$16,1+E756,0)),1,0)),0)","v":0},{"$f":"+IFERROR(IF(T756>VLOOKUP('CEV-CEVE'!$E$10,$BN$20:$BZ$29,1+E756,0),1,0),0)","v":0}]
[null,null,null,null,null,null,null,null,null,null,null,null,null,null,null,null,null,null,null,null,null,null,null,null,null,null,null,null,null,null,null,null,null,null,null,null,null,null,null,null,null,null,null,null,null,null,null,null,null,null,null,null,null,null,null,null,null,{"$f":"+BF760+1","v":1},"Caso Base 0° Con Clima",{"$f":"+IFERROR(IF(BF761=\"\",0,IF(T761<IF(OR(BF761<=$BP$3,BF761>=$BO$3),VLOOKUP('CEV-CEVE'!$E$10,$BN$7:$BZ$16,1+E761,0)-2,VLOOKUP('CEV-CEVE'!$E$10,$BN$7:$BZ$16,1+E761,0)),1,0)),0)","v":0},{"$f":"+IFERROR(IF(T761>VLOOKUP('CEV-CEVE'!$E$10,$BN$20:$BZ$29,1+E761,0),1,0),0)","v":0}]
[null,null,null,null,null,null,null,null,null,null,null,null,null,null,null,null,null,null,null,null,null,null,null,null,null,null,null,null,null,null,null,null,null,null,null,null,null,null,null,null,null,null,null,null,null,null,null,null,null,null,null,null,null,null,null,null,null,7,"Caso Base 0° Con Clima",{"$f":"+IFERROR(IF(BF767=\"\",0,IF(T767<IF(OR(BF767<=$BP$3,BF767>=$BO$3),VLOOKUP('CEV-CEVE'!$E$10,$BN$7:$BZ$16,1+E767,0)-2,VLOOKUP('CEV-CEVE'!$E$10,$BN$7:$BZ$16,1+E767,0)),1,0)),0)","v":0},{"$f":"+IFERROR(IF(T767>VLOOKUP('CEV-CEVE'!$E$10,$BN$20:$BZ$29,1+E767,0),1,0),0)","v":0}]
[null,null,null,null,null,null,null,null,null,null,null,null,null,null,null,null,null,null,null,null,null,null,null,null,null,null,null,null,null,null,null,null,null,null,null,null,null,null,null,null,null,null,null,null,null,null,null,null,null,null,null,null,null,null,null,null,null,12,"Caso Base 0° Con Clima",{"$f":"+IFERROR(IF(BF772=\"\",0,IF(T772<IF(OR(BF772<=$BP$3,BF772>=$BO$3),VLOOKUP('CEV-CEVE'!$E$10,$BN$7:$BZ$16,1+E772,0)-2,VLOOKUP('CEV-CEVE'!$E$10,$BN$7:$BZ$16,1+E772,0)),1,0)),0)","v":0},{"$f":"+IFERROR(IF(T772>VLOOKUP('CEV-CEVE'!$E$10,$BN$20:$BZ$29,1+E772,0),1,0),0)","v":0}]
[null,null,null,null,null,null,null,null,null,null,null,null,null,null,null,null,null,null,null,null,null,null,null,null,null,null,null,null,null,null,null,null,null,null,null,null,null,null,null,null,null,null,null,null,null,null,null,null,null,null,null,null,null,null,null,null,null,18,"Caso Base 0° Con Clima",{"$f":"+IFERROR(IF(BF778=\"\",0,IF(T778<IF(OR(BF778<=$BP$3,BF778>=$BO$3),VLOOKUP('CEV-CEVE'!$E$10,$BN$7:$BZ$16,1+E778,0)-2,VLOOKUP('CEV-CEVE'!$E$10,$BN$7:$BZ$16,1+E778,0)),1,0)),0)","v":0},{"$f":"+IFERROR(IF(T778>VLOOKUP('CEV-CEVE'!$E$10,$BN$20:$BZ$29,1+E778,0),1,0),0)","v":0}]
[null,null,null,null,null,null,null,null,null,null,null,null,null,null,null,null,null,null,null,null,null,null,null,null,null,null,null,null,null,null,null,null,null,null,null,null,null,null,null,null,null,null,null,null,null,null,null,null,null,null,null,null,null,null,null,null,null,23,"Caso Base 0° Con Clima",{"$f":"+IFERROR(IF(BF783=\"\",0,IF(T783<IF(OR(BF783<=$BP$3,BF783>=$BO$3),VLOOKUP('CEV-CEVE'!$E$10,$BN$7:$BZ$16,1+E783,0)-2,VLOOKUP('CEV-CEVE'!$E$10,$BN$7:$BZ$16,1+E783,0)),1,0)),0)","v":0},{"$f":"+IFERROR(IF(T783>VLOOKUP('CEV-CEVE'!$E$10,$BN$20:$BZ$29,1+E783,0),1,0),0)","v":0}]
[null,null,null,null,null,null,null,null,null,null,null,null,null,null,null,null,null,null,null,null,null,null,null,null,null,null,null,null,null,null,null,null,null,null,null,null,null,null,null,null,null,null,null,null,null,null,null,null,null,null,null,null,null,null,null,null,null,{"$f":"+BF787+1","v":2},"Caso Base 0° Con Clima",{"$f":"+IFERROR(IF(BF788=\"\",0,IF(T788<IF(OR(BF788<=$BP$3,BF788>=$BO$3),VLOOKUP('CEV-CEVE'!$E$10,$BN$7:$BZ$16,1+E788,0)-2,VLOOKUP('CEV-CEVE'!$E$10,$BN$7:$BZ$16,1+E788,0)),1,0)),0)","v":0},{"$f":"+IFERROR(IF(T788>VLOOKUP('CEV-CEVE'!$E$10,$BN$20:$BZ$29,1+E788,0),1,0),0)","v":0}]
[null,null,null,null,null,null,null,null,null,null,null,null,null,null,null,null,null,null,null,null,null,null,null,null,null,null,null,null,null,null,null,null,null,null,null,null,null,null,null,null,null,null,null,null,null,null,null,null,null,null,null,null,null,null,null,null,null,8,"Caso Base 0° Con Clima",{"$f":"+IFERROR(IF(BF794=\"\",0,IF(T794<IF(OR(BF794<=$BP$3,BF794>=$BO$3),VLOOKUP('CEV-CEVE'!$E$10,$BN$7:$BZ$16,1+E794,0)-2,VLOOKUP('CEV-CEVE'!$E$10,$BN$7:$BZ$16,1+E794,0)),1,0)),0)","v":0},{"$f":"+IFERROR(IF(T794>VLOOKUP('CEV-CEVE'!$E$10,$BN$20:$BZ$29,1+E794,0),1,0),0)","v":0}]
[null,null,null,null,null,null,null,null,null,null,null,null,null,null,null,null,null,null,null,null,null,null,null,null,null,null,null,null,null,null,null,null,null,null,null,null,null,null,null,null,null,null,null,null,null,null,null,null,null,null,null,null,null,null,null,null,null,13,"Caso Base 0° Con Clima",{"$f":"+IFERROR(IF(BF799=\"\",0,IF(T799<IF(OR(BF799<=$BP$3,BF799>=$BO$3),VLOOKUP('CEV-CEVE'!$E$10,$BN$7:$BZ$16,1+E799,0)-2,VLOOKUP('CEV-CEVE'!$E$10,$BN$7:$BZ$16,1+E799,0)),1,0)),0)","v":0},{"$f":"+IFERROR(IF(T799>VLOOKUP('CEV-CEVE'!$E$10,$BN$20:$BZ$29,1+E799,0),1,0),0)","v":0}]
[null,null,null,null,null,null,null,null,null,null,null,null,null,null,null,null,null,null,null,null,null,null,null,null,null,null,null,null,null,null,null,null,null,null,null,null,null,null,null,null,null,null,null,null,null,null,null,null,null,null,null,null,null,null,null,null,null,18,"Caso Base 0° Con Clima",{"$f":"+IFERROR(IF(BF804=\"\",0,IF(T804<IF(OR(BF804<=$BP$3,BF804>=$BO$3),VLOOKUP('CEV-CEVE'!$E$10,$BN$7:$BZ$16,1+E804,0)-2,VLOOKUP('CEV-CEVE'!$E$10,$BN$7:$BZ$16,1+E804,0)),1,0)),0)","v":0},{"$f":"+IFERROR(IF(T804>VLOOKUP('CEV-CEVE'!$E$10,$BN$20:$BZ$29,1+E804,0),1,0),0)","v":0}]
[null,null,null,null,null,null,null,null,null,null,null,null,null,null,null,null,null,null,null,null,null,null,null,null,null,null,null,null,null,null,null,null,null,null,null,null,null,null,null,null,null,null,null,null,null,null,null,null,null,null,null,null,null,null,null,null,null,null,"Caso Base 0° Con Clima",{"$f":"+IFERROR(IF(BF810=\"\",0,IF(T810<IF(OR(BF810<=$BP$3,BF810>=$BO$3),VLOOKUP('CEV-CEVE'!$E$10,$BN$7:$BZ$16,1+E810,0)-2,VLOOKUP('CEV-CEVE'!$E$10,$BN$7:$BZ$16,1+E810,0)),1,0)),0)","v":0},{"$f":"+IFERROR(IF(T810>VLOOKUP('CEV-CEVE'!$E$10,$BN$20:$BZ$29,1+E810,0),1,0),0)","v":0}]
[null,null,null,null,null,null,null,null,null,null,null,null,null,null,null,null,null,null,null,null,null,null,null,null,null,null,null,null,null,null,null,null,null,null,null,null,null,null,null,null,null,null,null,null,null,null,null,null,null,null,null,null,null,null,null,null,null,3,"Caso Base 0° Con Clima",{"$f":"+IFERROR(IF(BF815=\"\",0,IF(T815<IF(OR(BF815<=$BP$3,BF815>=$BO$3),VLOOKUP('CEV-CEVE'!$E$10,$BN$7:$BZ$16,1+E815,0)-2,VLOOKUP('CEV-CEVE'!$E$10,$BN$7:$BZ$16,1+E815,0)),1,0)),0)","v":0},{"$f":"+IFERROR(IF(T815>VLOOKUP('CEV-CEVE'!$E$10,$BN$20:$BZ$29,1+E815,0),1,0),0)","v":0}]
[null,null,null,null,null,null,null,null,null,null,null,null,null,null,null,null,null,null,null,null,null,null,null,null,null,null,null,null,null,null,null,null,null,null,null,null,null,null,null,null,null,null,null,null,null,null,null,null,null,null,null,null,null,null,null,null,null,4,"Caso Base 0° Con Clima",{"$f":"+IFERROR(IF(BF816=\"\",0,IF(T816<IF(OR(BF816<=$BP$3,BF816>=$BO$3),VLOOKUP('CEV-CEVE'!$E$10,$BN$7:$BZ$16,1+E816,0)-2,VLOOKUP('CEV-CEVE'!$E$10,$BN$7:$BZ$16,1+E816,0)),1,0)),0)","v":0},{"$f":"+IFERROR(IF(T816>VLOOKUP('CEV-CEVE'!$E$10,$BN$20:$BZ$29,1+E816,0),1,0),0)","v":0}]
[null,null,null,null,null,null,null,null,null,null,null,null,null,null,null,null,null,null,null,null,null,null,null,null,null,null,null,null,null,null,null,null,null,null,null,null,null,null,null,null,null,null,null,null,null,null,null,null,null,null,null,null,null,null,null,null,null,9,"Caso Base 0° Con Clima",{"$f":"+IFERROR(IF(BF821=\"\",0,IF(T821<IF(OR(BF821<=$BP$3,BF821>=$BO$3),VLOOKUP('CEV-CEVE'!$E$10,$BN$7:$BZ$16,1+E821,0)-2,VLOOKUP('CEV-CEVE'!$E$10,$BN$7:$BZ$16,1+E821,0)),1,0)),0)","v":0},{"$f":"+IFERROR(IF(T821>VLOOKUP('CEV-CEVE'!$E$10,$BN$20:$BZ$29,1+E821,0),1,0),0)","v":0}]
[null,null,null,null,null,null,null,null,null,null,null,null,null,null,null,null,null,null,null,null,null,null,null,null,null,null,null,null,null,null,null,null,null,null,null,null,null,null,null,null,null,null,null,null,null,null,null,null,null,null,null,null,null,null,null,null,null,14,"Caso Base 0° Con Clima",{"$f":"+IFERROR(IF(BF826=\"\",0,IF(T826<IF(OR(BF826<=$BP$3,BF826>=$BO$3),VLOOKUP('CEV-CEVE'!$E$10,$BN$7:$BZ$16,1+E826,0)-2,VLOOKUP('CEV-CEVE'!$E$10,$BN$7:$BZ$16,1+E826,0)),1,0)),0)","v":0},{"$f":"+IFERROR(IF(T826>VLOOKUP('CEV-CEVE'!$E$10,$BN$20:$BZ$29,1+E826,0),1,0),0)","v":0}]
[null,null,null,null,null,null,null,null,null,null,null,null,null,null,null,null,null,null,null,null,null,null,null,null,null,null,null,null,null,null,null,null,null,null,null,null,null,null,null,null,null,null,null,null,null,null,null,null,null,null,null,null,null,null,null,null,null,20,"Caso Base 0° Con Clima",{"$f":"+IFERROR(IF(BF832=\"\",0,IF(T832<IF(OR(BF832<=$BP$3,BF832>=$BO$3),VLOOKUP('CEV-CEVE'!$E$10,$BN$7:$BZ$16,1+E832,0)-2,VLOOKUP('CEV-CEVE'!$E$10,$BN$7:$BZ$16,1+E832,0)),1,0)),0)","v":0},{"$f":"+IFERROR(IF(T832>VLOOKUP('CEV-CEVE'!$E$10,$BN$20:$BZ$29,1+E832,0),1,0),0)","v":0}]
[null,null,null,null,null,null,null,null,null,null,null,null,null,null,null,null,null,null,null,null,null,null,null,null,null,null,null,null,null,null,null,null,null,null,null,null,null,null,null,null,null,null,null,null,null,null,null,null,null,null,null,null,null,null,null,null,null,null,"Caso Base 0° Con Clima",{"$f":"+IFERROR(IF(BF837=\"\",0,IF(T837<IF(OR(BF837<=$BP$3,BF837>=$BO$3),VLOOKUP('CEV-CEVE'!$E$10,$BN$7:$BZ$16,1+E837,0)-2,VLOOKUP('CEV-CEVE'!$E$10,$BN$7:$BZ$16,1+E837,0)),1,0)),0)","v":0},{"$f":"+IFERROR(IF(T837>VLOOKUP('CEV-CEVE'!$E$10,$BN$20:$BZ$29,1+E837,0),1,0),0)","v":0}]
[null,null,null,null,null,null,null,null,null,null,null,null,null,null,null,null,null,null,null,null,null,null,null,null,null,null,null,null,null,null,null,null,null,null,null,null,null,null,null,null,null,null,null,null,null,null,null,null,null,null,null,null,null,null,null,null,null,4,"Caso Base 0° Con Clima",{"$f":"+IFERROR(IF(BF842=\"\",0,IF(T842<IF(OR(BF842<=$BP$3,BF842>=$BO$3),VLOOKUP('CEV-CEVE'!$E$10,$BN$7:$BZ$16,1+E842,0)-2,VLOOKUP('CEV-CEVE'!$E$10,$BN$7:$BZ$16,1+E842,0)),1,0)),0)","v":0},{"$f":"+IFERROR(IF(T842>VLOOKUP('CEV-CEVE'!$E$10,$BN$20:$BZ$29,1+E842,0),1,0),0)","v":0}]
[null,null,null,null,null,null,null,null,null,null,null,null,null,null,null,null,null,null,null,null,null,null,null,null,null,null,null,null,null,null,null,null,null,null,null,null,null,null,null,null,null,null,null,null,null,null,null,null,null,null,null,null,null,null,null,null,null,10,"Caso Base 0° Con Clima",{"$f":"+IFERROR(IF(BF848=\"\",0,IF(T848<IF(OR(BF848<=$BP$3,BF848>=$BO$3),VLOOKUP('CEV-CEVE'!$E$10,$BN$7:$BZ$16,1+E848,0)-2,VLOOKUP('CEV-CEVE'!$E$10,$BN$7:$BZ$16,1+E848,0)),1,0)),0)","v":0},{"$f":"+IFERROR(IF(T848>VLOOKUP('CEV-CEVE'!$E$10,$BN$20:$BZ$29,1+E848,0),1,0),0)","v":0}]
[null,null,null,null,null,null,null,null,null,null,null,null,null,null,null,null,null,null,null,null,null,null,null,null,null,null,null,null,null,null,null,null,null,null,null,null,null,null,null,null,null,null,null,null,null,null,null,null,null,null,null,null,null,null,null,null,null,15,"Caso Base 0° Con Clima",{"$f":"+IFERROR(IF(BF853=\"\",0,IF(T853<IF(OR(BF853<=$BP$3,BF853>=$BO$3),VLOOKUP('CEV-CEVE'!$E$10,$BN$7:$BZ$16,1+E853,0)-2,VLOOKUP('CEV-CEVE'!$E$10,$BN$7:$BZ$16,1+E853,0)),1,0)),0)","v":0},{"$f":"+IFERROR(IF(T853>VLOOKUP('CEV-CEVE'!$E$10,$BN$20:$BZ$29,1+E853,0),1,0),0)","v":0}]
[null,null,null,null,null,null,null,null,null,null,null,null,null,null,null,null,null,null,null,null,null,null,null,null,null,null,null,null,null,null,null,null,null,null,null,null,null,null,null,null,null,null,null,null,null,null,null,null,null,null,null,null,null,null,null,null,null,21,"Caso Base 0° Con Clima",{"$f":"+IFERROR(IF(BF859=\"\",0,IF(T859<IF(OR(BF859<=$BP$3,BF859>=$BO$3),VLOOKUP('CEV-CEVE'!$E$10,$BN$7:$BZ$16,1+E859,0)-2,VLOOKUP('CEV-CEVE'!$E$10,$BN$7:$BZ$16,1+E859,0)),1,0)),0)","v":0},{"$f":"+IFERROR(IF(T859>VLOOKUP('CEV-CEVE'!$E$10,$BN$20:$BZ$29,1+E859,0),1,0),0)","v":0}]
[null,null,null,null,null,null,null,null,null,null,null,null,null,null,null,null,null,null,null,null,null,null,null,null,null,null,null,null,null,null,null,null,null,null,null,null,null,null,null,null,null,null,null,null,null,null,null,null,null,null,null,null,null,null,null,null,null,0,"Caso Base 0° Con Clima",{"$f":"+IFERROR(IF(BF864=\"\",0,IF(T864<IF(OR(BF864<=$BP$3,BF864>=$BO$3),VLOOKUP('CEV-CEVE'!$E$10,$BN$7:$BZ$16,1+E864,0)-2,VLOOKUP('CEV-CEVE'!$E$10,$BN$7:$BZ$16,1+E864,0)),1,0)),0)","v":0},{"$f":"+IFERROR(IF(T864>VLOOKUP('CEV-CEVE'!$E$10,$BN$20:$BZ$29,1+E864,0),1,0),0)","v":0}]
[null,null,null,null,null,null,null,null,null,null,null,null,null,null,null,null,null,null,null,null,null,null,null,null,null,null,null,null,null,null,null,null,null,null,null,null,null,null,null,null,null,null,null,null,null,null,null,null,null,null,null,null,null,null,null,null,null,5,"Caso Base 0° Con Clima",{"$f":"+IFERROR(IF(BF869=\"\",0,IF(T869<IF(OR(BF869<=$BP$3,BF869>=$BO$3),VLOOKUP('CEV-CEVE'!$E$10,$BN$7:$BZ$16,1+E869,0)-2,VLOOKUP('CEV-CEVE'!$E$10,$BN$7:$BZ$16,1+E869,0)),1,0)),0)","v":0},{"$f":"+IFERROR(IF(T869>VLOOKUP('CEV-CEVE'!$E$10,$BN$20:$BZ$29,1+E869,0),1,0),0)","v":0}]
[null,null,null,null,null,null,null,null,null,null,null,null,null,null,null,null,null,null,null,null,null,null,null,null,null,null,null,null,null,null,null,null,null,null,null,null,null,null,null,null,null,null,null,null,null,null,null,null,null,null,null,null,null,null,null,null,null,11,"Caso Base 0° Con Clima",{"$f":"+IFERROR(IF(BF875=\"\",0,IF(T875<IF(OR(BF875<=$BP$3,BF875>=$BO$3),VLOOKUP('CEV-CEVE'!$E$10,$BN$7:$BZ$16,1+E875,0)-2,VLOOKUP('CEV-CEVE'!$E$10,$BN$7:$BZ$16,1+E875,0)),1,0)),0)","v":0},{"$f":"+IFERROR(IF(T875>VLOOKUP('CEV-CEVE'!$E$10,$BN$20:$BZ$29,1+E875,0),1,0),0)","v":0}]
[null,null,null,null,null,null,null,null,null,null,null,null,null,null,null,null,null,null,null,null,null,null,null,null,null,null,null,null,null,null,null,null,null,null,null,null,null,null,null,null,null,null,null,null,null,null,null,null,null,null,null,null,null,null,null,null,null,16,"Caso Base 0° Con Clima",{"$f":"+IFERROR(IF(BF880=\"\",0,IF(T880<IF(OR(BF880<=$BP$3,BF880>=$BO$3),VLOOKUP('CEV-CEVE'!$E$10,$BN$7:$BZ$16,1+E880,0)-2,VLOOKUP('CEV-CEVE'!$E$10,$BN$7:$BZ$16,1+E880,0)),1,0)),0)","v":0},{"$f":"+IFERROR(IF(T880>VLOOKUP('CEV-CEVE'!$E$10,$BN$20:$BZ$29,1+E880,0),1,0),0)","v":0}]
[null,null,null,null,null,null,null,null,null,null,null,null,null,null,null,null,null,null,null,null,null,null,null,null,null,null,null,null,null,null,null,null,null,null,null,null,null,null,null,null,null,null,null,null,null,null,null,null,null,null,null,null,null,null,null,null,null,17,"Caso Base 0° Con Clima",{"$f":"+IFERROR(IF(BF881=\"\",0,IF(T881<IF(OR(BF881<=$BP$3,BF881>=$BO$3),VLOOKUP('CEV-CEVE'!$E$10,$BN$7:$BZ$16,1+E881,0)-2,VLOOKUP('CEV-CEVE'!$E$10,$BN$7:$BZ$16,1+E881,0)),1,0)),0)","v":0},{"$f":"+IFERROR(IF(T881>VLOOKUP('CEV-CEVE'!$E$10,$BN$20:$BZ$29,1+E881,0),1,0),0)","v":0}]
[null,null,null,null,null,null,null,null,null,null,null,null,null,null,null,null,null,null,null,null,null,null,null,null,null,null,null,null,null,null,null,null,null,null,null,null,null,null,null,null,null,null,null,null,null,null,null,null,null,null,null,null,null,null,null,null,null,22,"Caso Base 0° Con Clima",{"$f":"+IFERROR(IF(BF886=\"\",0,IF(T886<IF(OR(BF886<=$BP$3,BF886>=$BO$3),VLOOKUP('CEV-CEVE'!$E$10,$BN$7:$BZ$16,1+E886,0)-2,VLOOKUP('CEV-CEVE'!$E$10,$BN$7:$BZ$16,1+E886,0)),1,0)),0)","v":0},{"$f":"+IFERROR(IF(T886>VLOOKUP('CEV-CEVE'!$E$10,$BN$20:$BZ$29,1+E886,0),1,0),0)","v":0}]
[null,null,null,null,null,null,null,null,null,null,null,null,null,null,null,null,null,null,null,null,null,null,null,null,null,null,null,null,null,null,null,null,null,null,null,null,null,null,null,null,null,null,null,null,null,null,null,null,null,null,null,null,null,null,null,null,null,{"$f":"+BF890+1","v":1},"Caso Base 0° Con Clima",{"$f":"+IFERROR(IF(BF891=\"\",0,IF(T891<IF(OR(BF891<=$BP$3,BF891>=$BO$3),VLOOKUP('CEV-CEVE'!$E$10,$BN$7:$BZ$16,1+E891,0)-2,VLOOKUP('CEV-CEVE'!$E$10,$BN$7:$BZ$16,1+E891,0)),1,0)),0)","v":0},{"$f":"+IFERROR(IF(T891>VLOOKUP('CEV-CEVE'!$E$10,$BN$20:$BZ$29,1+E891,0),1,0),0)","v":0}]
[null,null,null,null,null,null,null,null,null,null,null,null,null,null,null,null,null,null,null,null,null,null,null,null,null,null,null,null,null,null,null,null,null,null,null,null,null,null,null,null,null,null,null,null,null,null,null,null,null,null,null,null,null,null,null,null,null,7,"Caso Base 0° Con Clima",{"$f":"+IFERROR(IF(BF897=\"\",0,IF(T897<IF(OR(BF897<=$BP$3,BF897>=$BO$3),VLOOKUP('CEV-CEVE'!$E$10,$BN$7:$BZ$16,1+E897,0)-2,VLOOKUP('CEV-CEVE'!$E$10,$BN$7:$BZ$16,1+E897,0)),1,0)),0)","v":0},{"$f":"+IFERROR(IF(T897>VLOOKUP('CEV-CEVE'!$E$10,$BN$20:$BZ$29,1+E897,0),1,0),0)","v":0}]
[null,null,null,null,null,null,null,null,null,null,null,null,null,null,null,null,null,null,null,null,null,null,null,null,null,null,null,null,null,null,null,null,null,null,null,null,null,null,null,null,null,null,null,null,null,null,null,null,null,null,null,null,null,null,null,null,null,12,"Caso Base 0° Con Clima",{"$f":"+IFERROR(IF(BF902=\"\",0,IF(T902<IF(OR(BF902<=$BP$3,BF902>=$BO$3),VLOOKUP('CEV-CEVE'!$E$10,$BN$7:$BZ$16,1+E902,0)-2,VLOOKUP('CEV-CEVE'!$E$10,$BN$7:$BZ$16,1+E902,0)),1,0)),0)","v":0},{"$f":"+IFERROR(IF(T902>VLOOKUP('CEV-CEVE'!$E$10,$BN$20:$BZ$29,1+E902,0),1,0),0)","v":0}]
[null,null,null,null,null,null,null,null,null,null,null,null,null,null,null,null,null,null,null,null,null,null,null,null,null,null,null,null,null,null,null,null,null,null,null,null,null,null,null,null,null,null,null,null,null,null,null,null,null,null,null,null,null,null,null,null,null,17,"Caso Base 0° Con Clima",{"$f":"+IFERROR(IF(BF907=\"\",0,IF(T907<IF(OR(BF907<=$BP$3,BF907>=$BO$3),VLOOKUP('CEV-CEVE'!$E$10,$BN$7:$BZ$16,1+E907,0)-2,VLOOKUP('CEV-CEVE'!$E$10,$BN$7:$BZ$16,1+E907,0)),1,0)),0)","v":0},{"$f":"+IFERROR(IF(T907>VLOOKUP('CEV-CEVE'!$E$10,$BN$20:$BZ$29,1+E907,0),1,0),0)","v":0}]
[null,null,null,null,null,null,null,null,null,null,null,null,null,null,null,null,null,null,null,null,null,null,null,null,null,null,null,null,null,null,null,null,null,null,null,null,null,null,null,null,null,null,null,null,null,null,null,null,null,null,null,null,null,null,null,null,null,23,"Caso Base 0° Con Clima",{"$f":"+IFERROR(IF(BF913=\"\",0,IF(T913<IF(OR(BF913<=$BP$3,BF913>=$BO$3),VLOOKUP('CEV-CEVE'!$E$10,$BN$7:$BZ$16,1+E913,0)-2,VLOOKUP('CEV-CEVE'!$E$10,$BN$7:$BZ$16,1+E913,0)),1,0)),0)","v":0},{"$f":"+IFERROR(IF(T913>VLOOKUP('CEV-CEVE'!$E$10,$BN$20:$BZ$29,1+E913,0),1,0),0)","v":0}]
[null,null,null,null,null,null,null,null,null,null,null,null,null,null,null,null,null,null,null,null,null,null,null,null,null,null,null,null,null,null,null,null,null,null,null,null,null,null,null,null,null,null,null,null,null,null,null,null,null,null,null,null,null,null,null,null,null,{"$f":"+BF917+1","v":2},"Caso Base 0° Con Clima",{"$f":"+IFERROR(IF(BF918=\"\",0,IF(T918<IF(OR(BF918<=$BP$3,BF918>=$BO$3),VLOOKUP('CEV-CEVE'!$E$10,$BN$7:$BZ$16,1+E918,0)-2,VLOOKUP('CEV-CEVE'!$E$10,$BN$7:$BZ$16,1+E918,0)),1,0)),0)","v":0},{"$f":"+IFERROR(IF(T918>VLOOKUP('CEV-CEVE'!$E$10,$BN$20:$BZ$29,1+E918,0),1,0),0)","v":0}]
[null,null,null,null,null,null,null,null,null,null,null,null,null,null,null,null,null,null,null,null,null,null,null,null,null,null,null,null,null,null,null,null,null,null,null,null,null,null,null,null,null,null,null,null,null,null,null,null,null,null,null,null,null,null,null,null,null,8,"Caso Base 0° Con Clima",{"$f":"+IFERROR(IF(BF924=\"\",0,IF(T924<IF(OR(BF924<=$BP$3,BF924>=$BO$3),VLOOKUP('CEV-CEVE'!$E$10,$BN$7:$BZ$16,1+E924,0)-2,VLOOKUP('CEV-CEVE'!$E$10,$BN$7:$BZ$16,1+E924,0)),1,0)),0)","v":0},{"$f":"+IFERROR(IF(T924>VLOOKUP('CEV-CEVE'!$E$10,$BN$20:$BZ$29,1+E924,0),1,0),0)","v":0}]
[null,null,null,null,null,null,null,null,null,null,null,null,null,null,null,null,null,null,null,null,null,null,null,null,null,null,null,null,null,null,null,null,null,null,null,null,null,null,null,null,null,null,null,null,null,null,null,null,null,null,null,null,null,null,null,null,null,13,"Caso Base 0° Con Clima",{"$f":"+IFERROR(IF(BF929=\"\",0,IF(T929<IF(OR(BF929<=$BP$3,BF929>=$BO$3),VLOOKUP('CEV-CEVE'!$E$10,$BN$7:$BZ$16,1+E929,0)-2,VLOOKUP('CEV-CEVE'!$E$10,$BN$7:$BZ$16,1+E929,0)),1,0)),0)","v":0},{"$f":"+IFERROR(IF(T929>VLOOKUP('CEV-CEVE'!$E$10,$BN$20:$BZ$29,1+E929,0),1,0),0)","v":0}]
[null,null,null,null,null,null,null,null,null,null,null,null,null,null,null,null,null,null,null,null,null,null,null,null,null,null,null,null,null,null,null,null,null,null,null,null,null,null,null,null,null,null,null,null,null,null,null,null,null,null,null,null,null,null,null,null,null,18,"Caso Base 0° Con Clima",{"$f":"+IFERROR(IF(BF934=\"\",0,IF(T934<IF(OR(BF934<=$BP$3,BF934>=$BO$3),VLOOKUP('CEV-CEVE'!$E$10,$BN$7:$BZ$16,1+E934,0)-2,VLOOKUP('CEV-CEVE'!$E$10,$BN$7:$BZ$16,1+E934,0)),1,0)),0)","v":0},{"$f":"+IFERROR(IF(T934>VLOOKUP('CEV-CEVE'!$E$10,$BN$20:$BZ$29,1+E934,0),1,0),0)","v":0}]
[null,null,null,null,null,null,null,null,null,null,null,null,null,null,null,null,null,null,null,null,null,null,null,null,null,null,null,null,null,null,null,null,null,null,null,null,null,null,null,null,null,null,null,null,null,null,null,null,null,null,null,null,null,null,null,null,null,null,"Caso Base 0° Con Clima",{"$f":"+IFERROR(IF(BF940=\"\",0,IF(T940<IF(OR(BF940<=$BP$3,BF940>=$BO$3),VLOOKUP('CEV-CEVE'!$E$10,$BN$7:$BZ$16,1+E940,0)-2,VLOOKUP('CEV-CEVE'!$E$10,$BN$7:$BZ$16,1+E940,0)),1,0)),0)","v":0},{"$f":"+IFERROR(IF(T940>VLOOKUP('CEV-CEVE'!$E$10,$BN$20:$BZ$29,1+E940,0),1,0),0)","v":0}]
[null,null,null,null,null,null,null,null,null,null,null,null,null,null,null,null,null,null,null,null,null,null,null,null,null,null,null,null,null,null,null,null,null,null,null,null,null,null,null,null,null,null,null,null,null,null,null,null,null,null,null,null,null,null,null,null,null,3,"Caso Base 0° Sin Clima",{"$f":"+IFERROR(IF(BF945=\"\",0,IF(T945<IF(OR(BF945<=$BP$3,BF945>=$BO$3),VLOOKUP('CEV-CEVE'!$E$10,$BN$7:$BZ$16,1+E945,0)-2,VLOOKUP('CEV-CEVE'!$E$10,$BN$7:$BZ$16,1+E945,0)),1,0)),0)","v":0},{"$f":"+IFERROR(IF(T945>VLOOKUP('CEV-CEVE'!$E$10,$BN$20:$BZ$29,1+E945,0),1,0),0)","v":0}]
[null,null,null,null,null,null,null,null,null,null,null,null,null,null,null,null,null,null,null,null,null,null,null,null,null,null,null,null,null,null,null,null,null,null,null,null,null,null,null,null,null,null,null,null,null,null,null,null,null,null,null,null,null,null,null,null,null,8,"Caso Base 0° Sin Clima",{"$f":"+IFERROR(IF(BF950=\"\",0,IF(T950<IF(OR(BF950<=$BP$3,BF950>=$BO$3),VLOOKUP('CEV-CEVE'!$E$10,$BN$7:$BZ$16,1+E950,0)-2,VLOOKUP('CEV-CEVE'!$E$10,$BN$7:$BZ$16,1+E950,0)),1,0)),0)","v":0},{"$f":"+IFERROR(IF(T950>VLOOKUP('CEV-CEVE'!$E$10,$BN$20:$BZ$29,1+E950,0),1,0),0)","v":0}]
[null,null,null,null,null,null,null,null,null,null,null,null,null,null,null,null,null,null,null,null,null,null,null,null,null,null,null,null,null,null,null,null,null,null,null,null,null,null,null,null,null,null,null,null,null,null,null,null,null,null,null,null,null,null,null,null,null,9,"Caso Base 0° Sin Clima",{"$f":"+IFERROR(IF(BF951=\"\",0,IF(T951<IF(OR(BF951<=$BP$3,BF951>=$BO$3),VLOOKUP('CEV-CEVE'!$E$10,$BN$7:$BZ$16,1+E951,0)-2,VLOOKUP('CEV-CEVE'!$E$10,$BN$7:$BZ$16,1+E951,0)),1,0)),0)","v":0},{"$f":"+IFERROR(IF(T951>VLOOKUP('CEV-CEVE'!$E$10,$BN$20:$BZ$29,1+E951,0),1,0),0)","v":0}]
[null,null,null,null,null,null,null,null,null,null,null,null,null,null,null,null,null,null,null,null,null,null,null,null,null,null,null,null,null,null,null,null,null,null,null,null,null,null,null,null,null,null,null,null,null,null,null,null,null,null,null,null,null,null,null,null,null,14,"Caso Base 0° Sin Clima",{"$f":"+IFERROR(IF(BF956=\"\",0,IF(T956<IF(OR(BF956<=$BP$3,BF956>=$BO$3),VLOOKUP('CEV-CEVE'!$E$10,$BN$7:$BZ$16,1+E956,0)-2,VLOOKUP('CEV-CEVE'!$E$10,$BN$7:$BZ$16,1+E956,0)),1,0)),0)","v":0},{"$f":"+IFERROR(IF(T956>VLOOKUP('CEV-CEVE'!$E$10,$BN$20:$BZ$29,1+E956,0),1,0),0)","v":0}]
[null,null,null,null,null,null,null,null,null,null,null,null,null,null,null,null,null,null,null,null,null,null,null,null,null,null,null,null,null,null,null,null,null,null,null,null,null,null,null,null,null,null,null,null,null,null,null,null,null,null,null,null,null,null,null,null,null,20,"Caso Base 0° Sin Clima",{"$f":"+IFERROR(IF(BF962=\"\",0,IF(T962<IF(OR(BF962<=$BP$3,BF962>=$BO$3),VLOOKUP('CEV-CEVE'!$E$10,$BN$7:$BZ$16,1+E962,0)-2,VLOOKUP('CEV-CEVE'!$E$10,$BN$7:$BZ$16,1+E962,0)),1,0)),0)","v":0},{"$f":"+IFERROR(IF(T962>VLOOKUP('CEV-CEVE'!$E$10,$BN$20:$BZ$29,1+E962,0),1,0),0)","v":0}]
[null,null,null,null,null,null,null,null,null,null,null,null,null,null,null,null,null,null,null,null,null,null,null,null,null,null,null,null,null,null,null,null,null,null,null,null,null,null,null,null,null,null,null,null,null,null,null,null,null,null,null,null,null,null,null,null,null,null,"Caso Base 0° Sin Clima",{"$f":"+IFERROR(IF(BF967=\"\",0,IF(T967<IF(OR(BF967<=$BP$3,BF967>=$BO$3),VLOOKUP('CEV-CEVE'!$E$10,$BN$7:$BZ$16,1+E967,0)-2,VLOOKUP('CEV-CEVE'!$E$10,$BN$7:$BZ$16,1+E967,0)),1,0)),0)","v":0},{"$f":"+IFERROR(IF(T967>VLOOKUP('CEV-CEVE'!$E$10,$BN$20:$BZ$29,1+E967,0),1,0),0)","v":0}]
[null,null,null,null,null,null,null,null,null,null,null,null,null,null,null,null,null,null,null,null,null,null,null,null,null,null,null,null,null,null,null,null,null,null,null,null,null,null,null,null,null,null,null,null,null,null,null,null,null,null,null,null,null,null,null,null,null,4,"Caso Base 0° Sin Clima",{"$f":"+IFERROR(IF(BF972=\"\",0,IF(T972<IF(OR(BF972<=$BP$3,BF972>=$BO$3),VLOOKUP('CEV-CEVE'!$E$10,$BN$7:$BZ$16,1+E972,0)-2,VLOOKUP('CEV-CEVE'!$E$10,$BN$7:$BZ$16,1+E972,0)),1,0)),0)","v":0},{"$f":"+IFERROR(IF(T972>VLOOKUP('CEV-CEVE'!$E$10,$BN$20:$BZ$29,1+E972,0),1,0),0)","v":0}]
[null,null,null,null,null,null,null,null,null,null,null,null,null,null,null,null,null,null,null,null,null,null,null,null,null,null,null,null,null,null,null,null,null,null,null,null,null,null,null,null,null,null,null,null,null,null,null,null,null,null,null,null,null,null,null,null,null,10,"Caso Base 0° Sin Clima",{"$f":"+IFERROR(IF(BF978=\"\",0,IF(T978<IF(OR(BF978<=$BP$3,BF978>=$BO$3),VLOOKUP('CEV-CEVE'!$E$10,$BN$7:$BZ$16,1+E978,0)-2,VLOOKUP('CEV-CEVE'!$E$10,$BN$7:$BZ$16,1+E978,0)),1,0)),0)","v":0},{"$f":"+IFERROR(IF(T978>VLOOKUP('CEV-CEVE'!$E$10,$BN$20:$BZ$29,1+E978,0),1,0),0)","v":0}]
[null,null,null,null,null,null,null,null,null,null,null,null,null,null,null,null,null,null,null,null,null,null,null,null,null,null,null,null,null,null,null,null,null,null,null,null,null,null,null,null,null,null,null,null,null,null,null,null,null,null,null,null,null,null,null,null,null,15,"Caso Base 0° Sin Clima",{"$f":"+IFERROR(IF(BF983=\"\",0,IF(T983<IF(OR(BF983<=$BP$3,BF983>=$BO$3),VLOOKUP('CEV-CEVE'!$E$10,$BN$7:$BZ$16,1+E983,0)-2,VLOOKUP('CEV-CEVE'!$E$10,$BN$7:$BZ$16,1+E983,0)),1,0)),0)","v":0},{"$f":"+IFERROR(IF(T983>VLOOKUP('CEV-CEVE'!$E$10,$BN$20:$BZ$29,1+E983,0),1,0),0)","v":0}]
[null,null,null,null,null,null,null,null,null,null,null,null,null,null,null,null,null,null,null,null,null,null,null,null,null,null,null,null,null,null,null,null,null,null,null,null,null,null,null,null,null,null,null,null,null,null,null,null,null,null,null,null,null,null,null,null,null,21,"Caso Base 0° Sin Clima",{"$f":"+IFERROR(IF(BF989=\"\",0,IF(T989<IF(OR(BF989<=$BP$3,BF989>=$BO$3),VLOOKUP('CEV-CEVE'!$E$10,$BN$7:$BZ$16,1+E989,0)-2,VLOOKUP('CEV-CEVE'!$E$10,$BN$7:$BZ$16,1+E989,0)),1,0)),0)","v":0},{"$f":"+IFERROR(IF(T989>VLOOKUP('CEV-CEVE'!$E$10,$BN$20:$BZ$29,1+E989,0),1,0),0)","v":0}]
[null,null,null,null,null,null,null,null,null,null,null,null,null,null,null,null,null,null,null,null,null,null,null,null,null,null,null,null,null,null,null,null,null,null,null,null,null,null,null,null,null,null,null,null,null,null,null,null,null,null,null,null,null,null,null,null,null,0,"Caso Base 0° Sin Clima",{"$f":"+IFERROR(IF(BF994=\"\",0,IF(T994<IF(OR(BF994<=$BP$3,BF994>=$BO$3),VLOOKUP('CEV-CEVE'!$E$10,$BN$7:$BZ$16,1+E994,0)-2,VLOOKUP('CEV-CEVE'!$E$10,$BN$7:$BZ$16,1+E994,0)),1,0)),0)","v":0},{"$f":"+IFERROR(IF(T994>VLOOKUP('CEV-CEVE'!$E$10,$BN$20:$BZ$29,1+E994,0),1,0),0)","v":0}]
[null,null,null,null,null,null,null,null,null,null,null,null,null,null,null,null,null,null,null,null,null,null,null,null,null,null,null,null,null,null,null,null,null,null,null,null,null,null,null,null,null,null,null,null,null,null,null,null,null,null,null,null,null,null,null,null,null,5,"Caso Base 0° Sin Clima",{"$f":"+IFERROR(IF(BF999=\"\",0,IF(T999<IF(OR(BF999<=$BP$3,BF999>=$BO$3),VLOOKUP('CEV-CEVE'!$E$10,$BN$7:$BZ$16,1+E999,0)-2,VLOOKUP('CEV-CEVE'!$E$10,$BN$7:$BZ$16,1+E999,0)),1,0)),0)","v":0},{"$f":"+IFERROR(IF(T999>VLOOKUP('CEV-CEVE'!$E$10,$BN$20:$BZ$29,1+E999,0),1,0),0)","v":0}]
[null,null,null,null,null,null,null,null,null,null,null,null,null,null,null,null,null,null,null,null,null,null,null,null,null,null,null,null,null,null,null,null,null,null,null,null,null,null,null,null,null,null,null,null,null,null,null,null,null,null,null,null,null,null,null,null,null,11,"Caso Base 0° Sin Clima",{"$f":"+IFERROR(IF(BF1005=\"\",0,IF(T1005<IF(OR(BF1005<=$BP$3,BF1005>=$BO$3),VLOOKUP('CEV-CEVE'!$E$10,$BN$7:$BZ$16,1+E1005,0)-2,VLOOKUP('CEV-CEVE'!$E$10,$BN$7:$BZ$16,1+E1005,0)),1,0)),0)","v":0},{"$f":"+IFERROR(IF(T1005>VLOOKUP('CEV-CEVE'!$E$10,$BN$20:$BZ$29,1+E1005,0),1,0),0)","v":0}]
[null,null,null,null,null,null,null,null,null,null,null,null,null,null,null,null,null,null,null,null,null,null,null,null,null,null,null,null,null,null,null,null,null,null,null,null,null,null,null,null,null,null,null,null,null,null,null,null,null,null,null,null,null,null,null,null,null,16,"Caso Base 0° Sin Clima",{"$f":"+IFERROR(IF(BF1010=\"\",0,IF(T1010<IF(OR(BF1010<=$BP$3,BF1010>=$BO$3),VLOOKUP('CEV-CEVE'!$E$10,$BN$7:$BZ$16,1+E1010,0)-2,VLOOKUP('CEV-CEVE'!$E$10,$BN$7:$BZ$16,1+E1010,0)),1,0)),0)","v":0},{"$f":"+IFERROR(IF(T1010>VLOOKUP('CEV-CEVE'!$E$10,$BN$20:$BZ$29,1+E1010,0),1,0),0)","v":0}]
[null,null,null,null,null,null,null,null,null,null,null,null,null,null,null,null,null,null,null,null,null,null,null,null,null,null,null,null,null,null,null,null,null,null,null,null,null,null,null,null,null,null,null,null,null,null,null,null,null,null,null,null,null,null,null,null,null,21,"Caso Base 0° Sin Clima",{"$f":"+IFERROR(IF(BF1015=\"\",0,IF(T1015<IF(OR(BF1015<=$BP$3,BF1015>=$BO$3),VLOOKUP('CEV-CEVE'!$E$10,$BN$7:$BZ$16,1+E1015,0)-2,VLOOKUP('CEV-CEVE'!$E$10,$BN$7:$BZ$16,1+E1015,0)),1,0)),0)","v":0},{"$f":"+IFERROR(IF(T1015>VLOOKUP('CEV-CEVE'!$E$10,$BN$20:$BZ$29,1+E1015,0),1,0),0)","v":0}]
[null,null,null,null,null,null,null,null,null,null,null,null,null,null,null,null,null,null,null,null,null,null,null,null,null,null,null,null,null,null,null,null,null,null,null,null,null,null,null,null,null,null,null,null,null,null,null,null,null,null,null,null,null,null,null,null,null,22,"Caso Base 0° Sin Clima",{"$f":"+IFERROR(IF(BF1016=\"\",0,IF(T1016<IF(OR(BF1016<=$BP$3,BF1016>=$BO$3),VLOOKUP('CEV-CEVE'!$E$10,$BN$7:$BZ$16,1+E1016,0)-2,VLOOKUP('CEV-CEVE'!$E$10,$BN$7:$BZ$16,1+E1016,0)),1,0)),0)","v":0},{"$f":"+IFERROR(IF(T1016>VLOOKUP('CEV-CEVE'!$E$10,$BN$20:$BZ$29,1+E1016,0),1,0),0)","v":0}]
[null,null,null,null,null,null,null,null,null,null,null,null,null,null,null,null,null,null,null,null,null,null,null,null,null,null,null,null,null,null,null,null,null,null,null,null,null,null,null,null,null,null,null,null,null,null,null,null,null,null,null,null,null,null,null,null,null,{"$f":"+BF1020+1","v":1},"Caso Base 0° Sin Clima",{"$f":"+IFERROR(IF(BF1021=\"\",0,IF(T1021<IF(OR(BF1021<=$BP$3,BF1021>=$BO$3),VLOOKUP('CEV-CEVE'!$E$10,$BN$7:$BZ$16,1+E1021,0)-2,VLOOKUP('CEV-CEVE'!$E$10,$BN$7:$BZ$16,1+E1021,0)),1,0)),0)","v":0},{"$f":"+IFERROR(IF(T1021>VLOOKUP('CEV-CEVE'!$E$10,$BN$20:$BZ$29,1+E1021,0),1,0),0)","v":0}]
[null,null,null,null,null,null,null,null,null,null,null,null,null,null,null,null,null,null,null,null,null,null,null,null,null,null,null,null,null,null,null,null,null,null,null,null,null,null,null,null,null,null,null,null,null,null,null,null,null,null,null,null,null,null,null,null,null,7,"Caso Base 0° Sin Clima",{"$f":"+IFERROR(IF(BF1027=\"\",0,IF(T1027<IF(OR(BF1027<=$BP$3,BF1027>=$BO$3),VLOOKUP('CEV-CEVE'!$E$10,$BN$7:$BZ$16,1+E1027,0)-2,VLOOKUP('CEV-CEVE'!$E$10,$BN$7:$BZ$16,1+E1027,0)),1,0)),0)","v":0},{"$f":"+IFERROR(IF(T1027>VLOOKUP('CEV-CEVE'!$E$10,$BN$20:$BZ$29,1+E1027,0),1,0),0)","v":0}]
[null,null,null,null,null,null,null,null,null,null,null,null,null,null,null,null,null,null,null,null,null,null,null,null,null,null,null,null,null,null,null,null,null,null,null,null,null,null,null,null,null,null,null,null,null,null,null,null,null,null,null,null,null,null,null,null,null,12,"Caso Base 0° Sin Clima",{"$f":"+IFERROR(IF(BF1032=\"\",0,IF(T1032<IF(OR(BF1032<=$BP$3,BF1032>=$BO$3),VLOOKUP('CEV-CEVE'!$E$10,$BN$7:$BZ$16,1+E1032,0)-2,VLOOKUP('CEV-CEVE'!$E$10,$BN$7:$BZ$16,1+E1032,0)),1,0)),0)","v":0},{"$f":"+IFERROR(IF(T1032>VLOOKUP('CEV-CEVE'!$E$10,$BN$20:$BZ$29,1+E1032,0),1,0),0)","v":0}]
[null,null,null,null,null,null,null,null,null,null,null,null,null,null,null,null,null,null,null,null,null,null,null,null,null,null,null,null,null,null,null,null,null,null,null,null,null,null,null,null,null,null,null,null,null,null,null,null,null,null,null,null,null,null,null,null,null,17,"Caso Base 0° Sin Clima",{"$f":"+IFERROR(IF(BF1037=\"\",0,IF(T1037<IF(OR(BF1037<=$BP$3,BF1037>=$BO$3),VLOOKUP('CEV-CEVE'!$E$10,$BN$7:$BZ$16,1+E1037,0)-2,VLOOKUP('CEV-CEVE'!$E$10,$BN$7:$BZ$16,1+E1037,0)),1,0)),0)","v":0},{"$f":"+IFERROR(IF(T1037>VLOOKUP('CEV-CEVE'!$E$10,$BN$20:$BZ$29,1+E1037,0),1,0),0)","v":0}]
[null,null,null,null,null,null,null,null,null,null,null,null,null,null,null,null,null,null,null,null,null,null,null,null,null,null,null,null,null,null,null,null,null,null,null,null,null,null,null,null,null,null,null,null,null,null,null,null,null,null,null,null,null,null,null,null,null,23,"Caso Base 0° Sin Clima",{"$f":"+IFERROR(IF(BF1043=\"\",0,IF(T1043<IF(OR(BF1043<=$BP$3,BF1043>=$BO$3),VLOOKUP('CEV-CEVE'!$E$10,$BN$7:$BZ$16,1+E1043,0)-2,VLOOKUP('CEV-CEVE'!$E$10,$BN$7:$BZ$16,1+E1043,0)),1,0)),0)","v":0},{"$f":"+IFERROR(IF(T1043>VLOOKUP('CEV-CEVE'!$E$10,$BN$20:$BZ$29,1+E1043,0),1,0),0)","v":0}]
[null,null,null,null,null,null,null,null,null,null,null,null,null,null,null,null,null,null,null,null,null,null,null,null,null,null,null,null,null,null,null,null,null,null,null,null,null,null,null,null,null,null,null,null,null,null,null,null,null,null,null,null,null,null,null,null,null,{"$f":"+BF1047+1","v":2},"Caso Base 0° Sin Clima",{"$f":"+IFERROR(IF(BF1048=\"\",0,IF(T1048<IF(OR(BF1048<=$BP$3,BF1048>=$BO$3),VLOOKUP('CEV-CEVE'!$E$10,$BN$7:$BZ$16,1+E1048,0)-2,VLOOKUP('CEV-CEVE'!$E$10,$BN$7:$BZ$16,1+E1048,0)),1,0)),0)","v":0},{"$f":"+IFERROR(IF(T1048>VLOOKUP('CEV-CEVE'!$E$10,$BN$20:$BZ$29,1+E1048,0),1,0),0)","v":0}]
[null,null,null,null,null,null,null,null,null,null,null,null,null,null,null,null,null,null,null,null,null,null,null,null,null,null,null,null,null,null,null,null,null,null,null,null,null,null,null,null,null,null,null,null,null,null,null,null,null,null,null,null,null,null,null,null,null,8,"Caso Base 0° Sin Clima",{"$f":"+IFERROR(IF(BF1054=\"\",0,IF(T1054<IF(OR(BF1054<=$BP$3,BF1054>=$BO$3),VLOOKUP('CEV-CEVE'!$E$10,$BN$7:$BZ$16,1+E1054,0)-2,VLOOKUP('CEV-CEVE'!$E$10,$BN$7:$BZ$16,1+E1054,0)),1,0)),0)","v":0},{"$f":"+IFERROR(IF(T1054>VLOOKUP('CEV-CEVE'!$E$10,$BN$20:$BZ$29,1+E1054,0),1,0),0)","v":0}]
[null,null,null,null,null,null,null,null,null,null,null,null,null,null,null,null,null,null,null,null,null,null,null,null,null,null,null,null,null,null,null,null,null,null,null,null,null,null,null,null,null,null,null,null,null,null,null,null,null,null,null,null,null,null,null,null,null,13,"Caso Base 0° Sin Clima",{"$f":"+IFERROR(IF(BF1059=\"\",0,IF(T1059<IF(OR(BF1059<=$BP$3,BF1059>=$BO$3),VLOOKUP('CEV-CEVE'!$E$10,$BN$7:$BZ$16,1+E1059,0)-2,VLOOKUP('CEV-CEVE'!$E$10,$BN$7:$BZ$16,1+E1059,0)),1,0)),0)","v":0},{"$f":"+IFERROR(IF(T1059>VLOOKUP('CEV-CEVE'!$E$10,$BN$20:$BZ$29,1+E1059,0),1,0),0)","v":0}]
[null,null,null,null,null,null,null,null,null,null,null,null,null,null,null,null,null,null,null,null,null,null,null,null,null,null,null,null,null,null,null,null,null,null,null,null,null,null,null,null,null,null,null,null,null,null,null,null,null,null,null,null,null,null,null,null,null,18,"Caso Base 0° Sin Clima",{"$f":"+IFERROR(IF(BF1064=\"\",0,IF(T1064<IF(OR(BF1064<=$BP$3,BF1064>=$BO$3),VLOOKUP('CEV-CEVE'!$E$10,$BN$7:$BZ$16,1+E1064,0)-2,VLOOKUP('CEV-CEVE'!$E$10,$BN$7:$BZ$16,1+E1064,0)),1,0)),0)","v":0},{"$f":"+IFERROR(IF(T1064>VLOOKUP('CEV-CEVE'!$E$10,$BN$20:$BZ$29,1+E1064,0),1,0),0)","v":0}]
[null,null,null,null,null,null,null,null,null,null,null,null,null,null,null,null,null,null,null,null,null,null,null,null,null,null,null,null,null,null,null,null,null,null,null,null,null,null,null,null,null,null,null,null,null,null,null,null,null,null,null,null,null,null,null,null,null,null,"Caso Base 0° Sin Clima",{"$f":"+IFERROR(IF(BF1070=\"\",0,IF(T1070<IF(OR(BF1070<=$BP$3,BF1070>=$BO$3),VLOOKUP('CEV-CEVE'!$E$10,$BN$7:$BZ$16,1+E1070,0)-2,VLOOKUP('CEV-CEVE'!$E$10,$BN$7:$BZ$16,1+E1070,0)),1,0)),0)","v":0},{"$f":"+IFERROR(IF(T1070>VLOOKUP('CEV-CEVE'!$E$10,$BN$20:$BZ$29,1+E1070,0),1,0),0)","v":0}]
[null,null,null,null,null,null,null,null,null,null,null,null,null,null,null,null,null,null,null,null,null,null,null,null,null,null,null,null,null,null,null,null,null,null,null,null,null,null,null,null,null,null,null,null,null,null,null,null,null,null,null,null,null,null,null,null,null,3,"Caso Base 0° Sin Clima",{"$f":"+IFERROR(IF(BF1075=\"\",0,IF(T1075<IF(OR(BF1075<=$BP$3,BF1075>=$BO$3),VLOOKUP('CEV-CEVE'!$E$10,$BN$7:$BZ$16,1+E1075,0)-2,VLOOKUP('CEV-CEVE'!$E$10,$BN$7:$BZ$16,1+E1075,0)),1,0)),0)","v":0},{"$f":"+IFERROR(IF(T1075>VLOOKUP('CEV-CEVE'!$E$10,$BN$20:$BZ$29,1+E1075,0),1,0),0)","v":0}]
[null,null,null,null,null,null,null,null,null,null,null,null,null,null,null,null,null,null,null,null,null,null,null,null,null,null,null,null,null,null,null,null,null,null,null,null,null,null,null,null,null,null,null,null,null,null,null,null,null,null,null,null,null,null,null,null,null,8,"Caso Base 0° Sin Clima",{"$f":"+IFERROR(IF(BF1080=\"\",0,IF(T1080<IF(OR(BF1080<=$BP$3,BF1080>=$BO$3),VLOOKUP('CEV-CEVE'!$E$10,$BN$7:$BZ$16,1+E1080,0)-2,VLOOKUP('CEV-CEVE'!$E$10,$BN$7:$BZ$16,1+E1080,0)),1,0)),0)","v":0},{"$f":"+IFERROR(IF(T1080>VLOOKUP('CEV-CEVE'!$E$10,$BN$20:$BZ$29,1+E1080,0),1,0),0)","v":0}]
[null,null,null,null,null,null,null,null,null,null,null,null,null,null,null,null,null,null,null,null,null,null,null,null,null,null,null,null,null,null,null,null,null,null,null,null,null,null,null,null,null,null,null,null,null,null,null,null,null,null,null,null,null,null,null,null,null,9,"Caso Base 0° Sin Clima",{"$f":"+IFERROR(IF(BF1081=\"\",0,IF(T1081<IF(OR(BF1081<=$BP$3,BF1081>=$BO$3),VLOOKUP('CEV-CEVE'!$E$10,$BN$7:$BZ$16,1+E1081,0)-2,VLOOKUP('CEV-CEVE'!$E$10,$BN$7:$BZ$16,1+E1081,0)),1,0)),0)","v":0},{"$f":"+IFERROR(IF(T1081>VLOOKUP('CEV-CEVE'!$E$10,$BN$20:$BZ$29,1+E1081,0),1,0),0)","v":0}]
[null,null,null,null,null,null,null,null,null,null,null,null,null,null,null,null,null,null,null,null,null,null,null,null,null,null,null,null,null,null,null,null,null,null,null,null,null,null,null,null,null,null,null,null,null,null,null,null,null,null,null,null,null,null,null,null,null,14,"Caso Base 0° Sin Clima",{"$f":"+IFERROR(IF(BF1086=\"\",0,IF(T1086<IF(OR(BF1086<=$BP$3,BF1086>=$BO$3),VLOOKUP('CEV-CEVE'!$E$10,$BN$7:$BZ$16,1+E1086,0)-2,VLOOKUP('CEV-CEVE'!$E$10,$BN$7:$BZ$16,1+E1086,0)),1,0)),0)","v":0},{"$f":"+IFERROR(IF(T1086>VLOOKUP('CEV-CEVE'!$E$10,$BN$20:$BZ$29,1+E1086,0),1,0),0)","v":0}]
[null,null,null,null,null,null,null,null,null,null,null,null,null,null,null,null,null,null,null,null,null,null,null,null,null,null,null,null,null,null,null,null,null,null,null,null,null,null,null,null,null,null,null,null,null,null,null,null,null,null,null,null,null,null,null,null,null,20,"Caso Base 0° Sin Clima",{"$f":"+IFERROR(IF(BF1092=\"\",0,IF(T1092<IF(OR(BF1092<=$BP$3,BF1092>=$BO$3),VLOOKUP('CEV-CEVE'!$E$10,$BN$7:$BZ$16,1+E1092,0)-2,VLOOKUP('CEV-CEVE'!$E$10,$BN$7:$BZ$16,1+E1092,0)),1,0)),0)","v":0},{"$f":"+IFERROR(IF(T1092>VLOOKUP('CEV-CEVE'!$E$10,$BN$20:$BZ$29,1+E1092,0),1,0),0)","v":0}]
[null,null,null,null,null,null,null,null,null,null,null,null,null,null,null,null,null,null,null,null,null,null,null,null,null,null,null,null,null,null,null,null,null,null,null,null,null,null,null,null,null,null,null,null,null,null,null,null,null,null,null,null,null,null,null,null,null,null,"Caso Base 0° Sin Clima",{"$f":"+IFERROR(IF(BF1097=\"\",0,IF(T1097<IF(OR(BF1097<=$BP$3,BF1097>=$BO$3),VLOOKUP('CEV-CEVE'!$E$10,$BN$7:$BZ$16,1+E1097,0)-2,VLOOKUP('CEV-CEVE'!$E$10,$BN$7:$BZ$16,1+E1097,0)),1,0)),0)","v":0},{"$f":"+IFERROR(IF(T1097>VLOOKUP('CEV-CEVE'!$E$10,$BN$20:$BZ$29,1+E1097,0),1,0),0)","v":0}]
[null,null,null,null,null,null,null,null,null,null,null,null,null,null,null,null,null,null,null,null,null,null,null,null,null,null,null,null,null,null,null,null,null,null,null,null,null,null,null,null,null,null,null,null,null,null,null,null,null,null,null,null,null,null,null,null,null,4,"Caso Base 0° Sin Clima",{"$f":"+IFERROR(IF(BF1102=\"\",0,IF(T1102<IF(OR(BF1102<=$BP$3,BF1102>=$BO$3),VLOOKUP('CEV-CEVE'!$E$10,$BN$7:$BZ$16,1+E1102,0)-2,VLOOKUP('CEV-CEVE'!$E$10,$BN$7:$BZ$16,1+E1102,0)),1,0)),0)","v":0},{"$f":"+IFERROR(IF(T1102>VLOOKUP('CEV-CEVE'!$E$10,$BN$20:$BZ$29,1+E1102,0),1,0),0)","v":0}]
[null,null,null,null,null,null,null,null,null,null,null,null,null,null,null,null,null,null,null,null,null,null,null,null,null,null,null,null,null,null,null,null,null,null,null,null,null,null,null,null,null,null,null,null,null,null,null,null,null,null,null,null,null,null,null,null,null,10,"Caso Base 0° Sin Clima",{"$f":"+IFERROR(IF(BF1108=\"\",0,IF(T1108<IF(OR(BF1108<=$BP$3,BF1108>=$BO$3),VLOOKUP('CEV-CEVE'!$E$10,$BN$7:$BZ$16,1+E1108,0)-2,VLOOKUP('CEV-CEVE'!$E$10,$BN$7:$BZ$16,1+E1108,0)),1,0)),0)","v":0},{"$f":"+IFERROR(IF(T1108>VLOOKUP('CEV-CEVE'!$E$10,$BN$20:$BZ$29,1+E1108,0),1,0),0)","v":0}]
[null,null,null,null,null,null,null,null,null,null,null,null,null,null,null,null,null,null,null,null,null,null,null,null,null,null,null,null,null,null,null,null,null,null,null,null,null,null,null,null,null,null,null,null,null,null,null,null,null,null,null,null,null,null,null,null,null,15,"Caso Base 0° Sin Clima",{"$f":"+IFERROR(IF(BF1113=\"\",0,IF(T1113<IF(OR(BF1113<=$BP$3,BF1113>=$BO$3),VLOOKUP('CEV-CEVE'!$E$10,$BN$7:$BZ$16,1+E1113,0)-2,VLOOKUP('CEV-CEVE'!$E$10,$BN$7:$BZ$16,1+E1113,0)),1,0)),0)","v":0},{"$f":"+IFERROR(IF(T1113>VLOOKUP('CEV-CEVE'!$E$10,$BN$20:$BZ$29,1+E1113,0),1,0),0)","v":0}]
[null,null,null,null,null,null,null,null,null,null,null,null,null,null,null,null,null,null,null,null,null,null,null,null,null,null,null,null,null,null,null,null,null,null,null,null,null,null,null,null,null,null,null,null,null,null,null,null,null,null,null,null,null,null,null,null,null,20,"Caso Base 0° Sin Clima",{"$f":"+IFERROR(IF(BF1118=\"\",0,IF(T1118<IF(OR(BF1118<=$BP$3,BF1118>=$BO$3),VLOOKUP('CEV-CEVE'!$E$10,$BN$7:$BZ$16,1+E1118,0)-2,VLOOKUP('CEV-CEVE'!$E$10,$BN$7:$BZ$16,1+E1118,0)),1,0)),0)","v":0},{"$f":"+IFERROR(IF(T1118>VLOOKUP('CEV-CEVE'!$E$10,$BN$20:$BZ$29,1+E1118,0),1,0),0)","v":0}]
[null,null,null,null,null,null,null,null,null,null,null,null,null,null,null,null,null,null,null,null,null,null,null,null,null,null,null,null,null,null,null,null,null,null,null,null,null,null,null,null,null,null,null,null,null,null,null,null,null,null,null,null,null,null,null,null,null,0,"Caso Base 0° Sin Clima",{"$f":"+IFERROR(IF(BF1124=\"\",0,IF(T1124<IF(OR(BF1124<=$BP$3,BF1124>=$BO$3),VLOOKUP('CEV-CEVE'!$E$10,$BN$7:$BZ$16,1+E1124,0)-2,VLOOKUP('CEV-CEVE'!$E$10,$BN$7:$BZ$16,1+E1124,0)),1,0)),0)","v":0},{"$f":"+IFERROR(IF(T1124>VLOOKUP('CEV-CEVE'!$E$10,$BN$20:$BZ$29,1+E1124,0),1,0),0)","v":0}]
[null,null,null,null,null,null,null,null,null,null,null,null,null,null,null,null,null,null,null,null,null,null,null,null,null,null,null,null,null,null,null,null,null,null,null,null,null,null,null,null,null,null,null,null,null,null,null,null,null,null,null,null,null,null,null,null,null,5,"Caso Base 0° Sin Clima",{"$f":"+IFERROR(IF(BF1129=\"\",0,IF(T1129<IF(OR(BF1129<=$BP$3,BF1129>=$BO$3),VLOOKUP('CEV-CEVE'!$E$10,$BN$7:$BZ$16,1+E1129,0)-2,VLOOKUP('CEV-CEVE'!$E$10,$BN$7:$BZ$16,1+E1129,0)),1,0)),0)","v":0},{"$f":"+IFERROR(IF(T1129>VLOOKUP('CEV-CEVE'!$E$10,$BN$20:$BZ$29,1+E1129,0),1,0),0)","v":0}]
[null,null,null,null,null,null,null,null,null,null,null,null,null,null,null,null,null,null,null,null,null,null,null,null,null,null,null,null,null,null,null,null,null,null,null,null,null,null,null,null,null,null,null,null,null,null,null,null,null,null,null,null,null,null,null,null,null,11,"Caso Base 0° Sin Clima",{"$f":"+IFERROR(IF(BF1135=\"\",0,IF(T1135<IF(OR(BF1135<=$BP$3,BF1135>=$BO$3),VLOOKUP('CEV-CEVE'!$E$10,$BN$7:$BZ$16,1+E1135,0)-2,VLOOKUP('CEV-CEVE'!$E$10,$BN$7:$BZ$16,1+E1135,0)),1,0)),0)","v":0},{"$f":"+IFERROR(IF(T1135>VLOOKUP('CEV-CEVE'!$E$10,$BN$20:$BZ$29,1+E1135,0),1,0),0)","v":0}]
[null,null,null,null,null,null,null,null,null,null,null,null,null,null,null,null,null,null,null,null,null,null,null,null,null,null,null,null,null,null,null,null,null,null,null,null,null,null,null,null,null,null,null,null,null,null,null,null,null,null,null,null,null,null,null,null,null,16,"Caso Base 0° Sin Clima",{"$f":"+IFERROR(IF(BF1140=\"\",0,IF(T1140<IF(OR(BF1140<=$BP$3,BF1140>=$BO$3),VLOOKUP('CEV-CEVE'!$E$10,$BN$7:$BZ$16,1+E1140,0)-2,VLOOKUP('CEV-CEVE'!$E$10,$BN$7:$BZ$16,1+E1140,0)),1,0)),0)","v":0},{"$f":"+IFERROR(IF(T1140>VLOOKUP('CEV-CEVE'!$E$10,$BN$20:$BZ$29,1+E1140,0),1,0),0)","v":0}]
[null,null,null,null,null,null,null,null,null,null,null,null,null,null,null,null,null,null,null,null,null,null,null,null,null,null,null,null,null,null,null,null,null,null,null,null,null,null,null,null,null,null,null,null,null,null,null,null,null,null,null,null,null,null,null,null,null,21,"Caso Base 0° Sin Clima",{"$f":"+IFERROR(IF(BF1145=\"\",0,IF(T1145<IF(OR(BF1145<=$BP$3,BF1145>=$BO$3),VLOOKUP('CEV-CEVE'!$E$10,$BN$7:$BZ$16,1+E1145,0)-2,VLOOKUP('CEV-CEVE'!$E$10,$BN$7:$BZ$16,1+E1145,0)),1,0)),0)","v":0},{"$f":"+IFERROR(IF(T1145>VLOOKUP('CEV-CEVE'!$E$10,$BN$20:$BZ$29,1+E1145,0),1,0),0)","v":0}]
[null,null,null,null,null,null,null,null,null,null,null,null,null,null,null,null,null,null,null,null,null,null,null,null,null,null,null,null,null,null,null,null,null,null,null,null,null,null,null,null,null,null,null,null,null,null,null,null,null,null,null,null,null,null,null,null,null,22,"Caso Base 0° Sin Clima",{"$f":"+IFERROR(IF(BF1146=\"\",0,IF(T1146<IF(OR(BF1146<=$BP$3,BF1146>=$BO$3),VLOOKUP('CEV-CEVE'!$E$10,$BN$7:$BZ$16,1+E1146,0)-2,VLOOKUP('CEV-CEVE'!$E$10,$BN$7:$BZ$16,1+E1146,0)),1,0)),0)","v":0},{"$f":"+IFERROR(IF(T1146>VLOOKUP('CEV-CEVE'!$E$10,$BN$20:$BZ$29,1+E1146,0),1,0),0)","v":0}]
[null,null,null,null,null,null,null,null,null,null,null,null,null,null,null,null,null,null,null,null,null,null,null,null,null,null,null,null,null,null,null,null,null,null,null,null,null,null,null,null,null,null,null,null,null,null,null,null,null,null,null,null,null,null,null,null,null,{"$f":"+BF1150+1","v":1},"Caso Base 0° Sin Clima",{"$f":"+IFERROR(IF(BF1151=\"\",0,IF(T1151<IF(OR(BF1151<=$BP$3,BF1151>=$BO$3),VLOOKUP('CEV-CEVE'!$E$10,$BN$7:$BZ$16,1+E1151,0)-2,VLOOKUP('CEV-CEVE'!$E$10,$BN$7:$BZ$16,1+E1151,0)),1,0)),0)","v":0},{"$f":"+IFERROR(IF(T1151>VLOOKUP('CEV-CEVE'!$E$10,$BN$20:$BZ$29,1+E1151,0),1,0),0)","v":0}]
[null,null,null,null,null,null,null,null,null,null,null,null,null,null,null,null,null,null,null,null,null,null,null,null,null,null,null,null,null,null,null,null,null,null,null,null,null,null,null,null,null,null,null,null,null,null,null,null,null,null,null,null,null,null,null,null,null,7,"Caso Base 0° Sin Clima",{"$f":"+IFERROR(IF(BF1157=\"\",0,IF(T1157<IF(OR(BF1157<=$BP$3,BF1157>=$BO$3),VLOOKUP('CEV-CEVE'!$E$10,$BN$7:$BZ$16,1+E1157,0)-2,VLOOKUP('CEV-CEVE'!$E$10,$BN$7:$BZ$16,1+E1157,0)),1,0)),0)","v":0},{"$f":"+IFERROR(IF(T1157>VLOOKUP('CEV-CEVE'!$E$10,$BN$20:$BZ$29,1+E1157,0),1,0),0)","v":0}]
[null,null,null,null,null,null,null,null,null,null,null,null,null,null,null,null,null,null,null,null,null,null,null,null,null,null,null,null,null,null,null,null,null,null,null,null,null,null,null,null,null,null,null,null,null,null,null,null,null,null,null,null,null,null,null,null,null,12,"Caso Base 0° Sin Clima",{"$f":"+IFERROR(IF(BF1162=\"\",0,IF(T1162<IF(OR(BF1162<=$BP$3,BF1162>=$BO$3),VLOOKUP('CEV-CEVE'!$E$10,$BN$7:$BZ$16,1+E1162,0)-2,VLOOKUP('CEV-CEVE'!$E$10,$BN$7:$BZ$16,1+E1162,0)),1,0)),0)","v":0},{"$f":"+IFERROR(IF(T1162>VLOOKUP('CEV-CEVE'!$E$10,$BN$20:$BZ$29,1+E1162,0),1,0),0)","v":0}]
[null,null,null,null,null,null,null,null,null,null,null,null,null,null,null,null,null,null,null,null,null,null,null,null,null,null,null,null,null,null,null,null,null,null,null,null,null,null,null,null,null,null,null,null,null,null,null,null,null,null,null,null,null,null,null,null,null,17,"Caso Base 0° Sin Clima",{"$f":"+IFERROR(IF(BF1167=\"\",0,IF(T1167<IF(OR(BF1167<=$BP$3,BF1167>=$BO$3),VLOOKUP('CEV-CEVE'!$E$10,$BN$7:$BZ$16,1+E1167,0)-2,VLOOKUP('CEV-CEVE'!$E$10,$BN$7:$BZ$16,1+E1167,0)),1,0)),0)","v":0},{"$f":"+IFERROR(IF(T1167>VLOOKUP('CEV-CEVE'!$E$10,$BN$20:$BZ$29,1+E1167,0),1,0),0)","v":0}]
[null,null,null,null,null,null,null,null,null,null,null,null,null,null,null,null,null,null,null,null,null,null,null,null,null,null,null,null,null,null,null,null,null,null,null,null,null,null,null,null,null,null,null,null,null,null,null,null,null,null,null,null,null,null,null,null,null,23,"Caso Base 0° Sin Clima",{"$f":"+IFERROR(IF(BF1173=\"\",0,IF(T1173<IF(OR(BF1173<=$BP$3,BF1173>=$BO$3),VLOOKUP('CEV-CEVE'!$E$10,$BN$7:$BZ$16,1+E1173,0)-2,VLOOKUP('CEV-CEVE'!$E$10,$BN$7:$BZ$16,1+E1173,0)),1,0)),0)","v":0},{"$f":"+IFERROR(IF(T1173>VLOOKUP('CEV-CEVE'!$E$10,$BN$20:$BZ$29,1+E1173,0),1,0),0)","v":0}]
[null,null,null,null,null,null,null,null,null,null,null,null,null,null,null,null,null,null,null,null,null,null,null,null,null,null,null,null,null,null,null,null,null,null,null,null,null,null,null,null,null,null,null,null,null,null,null,null,null,null,null,null,null,null,null,null,null,{"$f":"+BF1177+1","v":2},"Caso Base 0° Sin Clima",{"$f":"+IFERROR(IF(BF1178=\"\",0,IF(T1178<IF(OR(BF1178<=$BP$3,BF1178>=$BO$3),VLOOKUP('CEV-CEVE'!$E$10,$BN$7:$BZ$16,1+E1178,0)-2,VLOOKUP('CEV-CEVE'!$E$10,$BN$7:$BZ$16,1+E1178,0)),1,0)),0)","v":0},{"$f":"+IFERROR(IF(T1178>VLOOKUP('CEV-CEVE'!$E$10,$BN$20:$BZ$29,1+E1178,0),1,0),0)","v":0}]
[null,null,null,null,null,null,null,null,null,null,null,null,null,null,null,null,null,null,null,null,null,null,null,null,null,null,null,null,null,null,null,null,null,null,null,null,null,null,null,null,null,null,null,null,null,null,null,null,null,null,null,null,null,null,null,null,null,7,"Caso Base 0° Sin Clima",{"$f":"+IFERROR(IF(BF1183=\"\",0,IF(T1183<IF(OR(BF1183<=$BP$3,BF1183>=$BO$3),VLOOKUP('CEV-CEVE'!$E$10,$BN$7:$BZ$16,1+E1183,0)-2,VLOOKUP('CEV-CEVE'!$E$10,$BN$7:$BZ$16,1+E1183,0)),1,0)),0)","v":0},{"$f":"+IFERROR(IF(T1183>VLOOKUP('CEV-CEVE'!$E$10,$BN$20:$BZ$29,1+E1183,0),1,0),0)","v":0}]
[null,null,null,null,null,null,null,null,null,null,null,null,null,null,null,null,null,null,null,null,null,null,null,null,null,null,null,null,null,null,null,null,null,null,null,null,null,null,null,null,null,null,null,null,null,null,null,null,null,null,null,null,null,null,null,null,null,13,"Caso Base 0° Sin Clima",{"$f":"+IFERROR(IF(BF1189=\"\",0,IF(T1189<IF(OR(BF1189<=$BP$3,BF1189>=$BO$3),VLOOKUP('CEV-CEVE'!$E$10,$BN$7:$BZ$16,1+E1189,0)-2,VLOOKUP('CEV-CEVE'!$E$10,$BN$7:$BZ$16,1+E1189,0)),1,0)),0)","v":0},{"$f":"+IFERROR(IF(T1189>VLOOKUP('CEV-CEVE'!$E$10,$BN$20:$BZ$29,1+E1189,0),1,0),0)","v":0}]
[null,null,null,null,null,null,null,null,null,null,null,null,null,null,null,null,null,null,null,null,null,null,null,null,null,null,null,null,null,null,null,null,null,null,null,null,null,null,null,null,null,null,null,null,null,null,null,null,null,null,null,null,null,null,null,null,null,18,"Caso Base 0° Sin Clima",{"$f":"+IFERROR(IF(BF1194=\"\",0,IF(T1194<IF(OR(BF1194<=$BP$3,BF1194>=$BO$3),VLOOKUP('CEV-CEVE'!$E$10,$BN$7:$BZ$16,1+E1194,0)-2,VLOOKUP('CEV-CEVE'!$E$10,$BN$7:$BZ$16,1+E1194,0)),1,0)),0)","v":0},{"$f":"+IFERROR(IF(T1194>VLOOKUP('CEV-CEVE'!$E$10,$BN$20:$BZ$29,1+E1194,0),1,0),0)","v":0}]
[null,null,null,null,null,null,null,null,null,null,null,null,null,null,null,null,null,null,null,null,null,null,null,null,null,null,null,null,null,null,null,null,null,null,null,null,null,null,null,null,null,null,null,null,null,null,null,null,null,null,null,null,null,null,null,null,null,null,"Caso Base 0° Sin Clima",{"$f":"+IFERROR(IF(BF1200=\"\",0,IF(T1200<IF(OR(BF1200<=$BP$3,BF1200>=$BO$3),VLOOKUP('CEV-CEVE'!$E$10,$BN$7:$BZ$16,1+E1200,0)-2,VLOOKUP('CEV-CEVE'!$E$10,$BN$7:$BZ$16,1+E1200,0)),1,0)),0)","v":0},{"$f":"+IFERROR(IF(T1200>VLOOKUP('CEV-CEVE'!$E$10,$BN$20:$BZ$29,1+E1200,0),1,0),0)","v":0}]
[null,null,null,null,null,null,null,null,null,null,null,null,null,null,null,null,null,null,null,null,null,null,null,null,null,null,null,null,null,null,null,null,null,null,null,null,null,null,null,null,null,null,null,null,null,null,null,null,null,null,null,null,null,null,null,null,null,3,"Caso Base 0° Sin Clima",{"$f":"+IFERROR(IF(BF1205=\"\",0,IF(T1205<IF(OR(BF1205<=$BP$3,BF1205>=$BO$3),VLOOKUP('CEV-CEVE'!$E$10,$BN$7:$BZ$16,1+E1205,0)-2,VLOOKUP('CEV-CEVE'!$E$10,$BN$7:$BZ$16,1+E1205,0)),1,0)),0)","v":0},{"$f":"+IFERROR(IF(T1205>VLOOKUP('CEV-CEVE'!$E$10,$BN$20:$BZ$29,1+E1205,0),1,0),0)","v":0}]
[null,null,null,null,null,null,null,null,null,null,null,null,null,null,null,null,null,null,null,null,null,null,null,null,null,null,null,null,null,null,null,null,null,null,null,null,null,null,null,null,null,null,null,null,null,null,null,null,null,null,null,null,null,null,null,null,null,8,"Caso Base 0° Sin Clima",{"$f":"+IFERROR(IF(BF1210=\"\",0,IF(T1210<IF(OR(BF1210<=$BP$3,BF1210>=$BO$3),VLOOKUP('CEV-CEVE'!$E$10,$BN$7:$BZ$16,1+E1210,0)-2,VLOOKUP('CEV-CEVE'!$E$10,$BN$7:$BZ$16,1+E1210,0)),1,0)),0)","v":0},{"$f":"+IFERROR(IF(T1210>VLOOKUP('CEV-CEVE'!$E$10,$BN$20:$BZ$29,1+E1210,0),1,0),0)","v":0}]
[null,null,null,null,null,null,null,null,null,null,null,null,null,null,null,null,null,null,null,null,null,null,null,null,null,null,null,null,null,null,null,null,null,null,null,null,null,null,null,null,null,null,null,null,null,null,null,null,null,null,null,null,null,null,null,null,null,9,"Caso Base 0° Sin Clima",{"$f":"+IFERROR(IF(BF1211=\"\",0,IF(T1211<IF(OR(BF1211<=$BP$3,BF1211>=$BO$3),VLOOKUP('CEV-CEVE'!$E$10,$BN$7:$BZ$16,1+E1211,0)-2,VLOOKUP('CEV-CEVE'!$E$10,$BN$7:$BZ$16,1+E1211,0)),1,0)),0)","v":0},{"$f":"+IFERROR(IF(T1211>VLOOKUP('CEV-CEVE'!$E$10,$BN$20:$BZ$29,1+E1211,0),1,0),0)","v":0}]
[null,null,null,null,null,null,null,null,null,null,null,null,null,null,null,null,null,null,null,null,null,null,null,null,null,null,null,null,null,null,null,null,null,null,null,null,null,null,null,null,null,null,null,null,null,null,null,null,null,null,null,null,null,null,null,null,null,14,"Caso Base 0° Sin Clima",{"$f":"+IFERROR(IF(BF1216=\"\",0,IF(T1216<IF(OR(BF1216<=$BP$3,BF1216>=$BO$3),VLOOKUP('CEV-CEVE'!$E$10,$BN$7:$BZ$16,1+E1216,0)-2,VLOOKUP('CEV-CEVE'!$E$10,$BN$7:$BZ$16,1+E1216,0)),1,0)),0)","v":0},{"$f":"+IFERROR(IF(T1216>VLOOKUP('CEV-CEVE'!$E$10,$BN$20:$BZ$29,1+E1216,0),1,0),0)","v":0}]
[null,null,null,null,null,null,null,null,null,null,null,null,null,null,null,null,null,null,null,null,null,null,null,null,null,null,null,null,null,null,null,null,null,null,null,null,null,null,null,null,null,null,null,null,null,null,null,null,null,null,null,null,null,null,null,null,null,20,"Caso Base 0° Sin Clima",{"$f":"+IFERROR(IF(BF1222=\"\",0,IF(T1222<IF(OR(BF1222<=$BP$3,BF1222>=$BO$3),VLOOKUP('CEV-CEVE'!$E$10,$BN$7:$BZ$16,1+E1222,0)-2,VLOOKUP('CEV-CEVE'!$E$10,$BN$7:$BZ$16,1+E1222,0)),1,0)),0)","v":0},{"$f":"+IFERROR(IF(T1222>VLOOKUP('CEV-CEVE'!$E$10,$BN$20:$BZ$29,1+E1222,0),1,0),0)","v":0}]
[null,null,null,null,null,null,null,null,null,null,null,null,null,null,null,null,null,null,null,null,null,null,null,null,null,null,null,null,null,null,null,null,null,null,null,null,null,null,null,null,null,null,null,null,null,null,null,null,null,null,null,null,null,null,null,null,null,null,"Caso Base 0° Sin Clima",{"$f":"+IFERROR(IF(BF1227=\"\",0,IF(T1227<IF(OR(BF1227<=$BP$3,BF1227>=$BO$3),VLOOKUP('CEV-CEVE'!$E$10,$BN$7:$BZ$16,1+E1227,0)-2,VLOOKUP('CEV-CEVE'!$E$10,$BN$7:$BZ$16,1+E1227,0)),1,0)),0)","v":0},{"$f":"+IFERROR(IF(T1227>VLOOKUP('CEV-CEVE'!$E$10,$BN$20:$BZ$29,1+E1227,0),1,0),0)","v":0}]
[null,null,null,null,null,null,null,null,null,null,null,null,null,null,null,null,null,null,null,null,null,null,null,null,null,null,null,null,null,null,null,null,null,null,null,null,null,null,null,null,null,null,null,null,null,null,null,null,null,null,null,null,null,null,null,null,null,4,"Caso Base 0° Sin Clima",{"$f":"+IFERROR(IF(BF1232=\"\",0,IF(T1232<IF(OR(BF1232<=$BP$3,BF1232>=$BO$3),VLOOKUP('CEV-CEVE'!$E$10,$BN$7:$BZ$16,1+E1232,0)-2,VLOOKUP('CEV-CEVE'!$E$10,$BN$7:$BZ$16,1+E1232,0)),1,0)),0)","v":0},{"$f":"+IFERROR(IF(T1232>VLOOKUP('CEV-CEVE'!$E$10,$BN$20:$BZ$29,1+E1232,0),1,0),0)","v":0}]
[null,null,null,null,null,null,null,null,null,null,null,null,null,null,null,null,null,null,null,null,null,null,null,null,null,null,null,null,null,null,null,null,null,null,null,null,null,null,null,null,null,null,null,null,null,null,null,null,null,null,null,null,null,null,null,null,null,10,"Caso Base 0° Sin Clima",{"$f":"+IFERROR(IF(BF1238=\"\",0,IF(T1238<IF(OR(BF1238<=$BP$3,BF1238>=$BO$3),VLOOKUP('CEV-CEVE'!$E$10,$BN$7:$BZ$16,1+E1238,0)-2,VLOOKUP('CEV-CEVE'!$E$10,$BN$7:$BZ$16,1+E1238,0)),1,0)),0)","v":0},{"$f":"+IFERROR(IF(T1238>VLOOKUP('CEV-CEVE'!$E$10,$BN$20:$BZ$29,1+E1238,0),1,0),0)","v":0}]
[null,null,null,null,null,null,null,null,null,null,null,null,null,null,null,null,null,null,null,null,null,null,null,null,null,null,null,null,null,null,null,null,null,null,null,null,null,null,null,null,null,null,null,null,null,null,null,null,null,null,null,null,null,null,null,null,null,15,"Caso Base 0° Sin Clima",{"$f":"+IFERROR(IF(BF1243=\"\",0,IF(T1243<IF(OR(BF1243<=$BP$3,BF1243>=$BO$3),VLOOKUP('CEV-CEVE'!$E$10,$BN$7:$BZ$16,1+E1243,0)-2,VLOOKUP('CEV-CEVE'!$E$10,$BN$7:$BZ$16,1+E1243,0)),1,0)),0)","v":0},{"$f":"+IFERROR(IF(T1243>VLOOKUP('CEV-CEVE'!$E$10,$BN$20:$BZ$29,1+E1243,0),1,0),0)","v":0}]
[null,null,null,null,null,null,null,null,null,null,null,null,null,null,null,null,null,null,null,null,null,null,null,null,null,null,null,null,null,null,null,null,null,null,null,null,null,null,null,null,null,null,null,null,null,null,null,null,null,null,null,null,null,null,null,null,null,20,"Caso Base 0° Sin Clima",{"$f":"+IFERROR(IF(BF1248=\"\",0,IF(T1248<IF(OR(BF1248<=$BP$3,BF1248>=$BO$3),VLOOKUP('CEV-CEVE'!$E$10,$BN$7:$BZ$16,1+E1248,0)-2,VLOOKUP('CEV-CEVE'!$E$10,$BN$7:$BZ$16,1+E1248,0)),1,0)),0)","v":0},{"$f":"+IFERROR(IF(T1248>VLOOKUP('CEV-CEVE'!$E$10,$BN$20:$BZ$29,1+E1248,0),1,0),0)","v":0}]
[null,null,null,null,null,null,null,null,null,null,null,null,null,null,null,null,null,null,null,null,null,null,null,null,null,null,null,null,null,null,null,null,null,null,null,null,null,null,null,null,null,null,null,null,null,null,null,null,null,null,null,null,null,null,null,null,null,0,"Caso Base 90° Con Clima",{"$f":"+IFERROR(IF(BF1254=\"\",0,IF(T1254<IF(OR(BF1254<=$BP$3,BF1254>=$BO$3),VLOOKUP('CEV-CEVE'!$E$10,$BN$7:$BZ$16,1+E1254,0)-2,VLOOKUP('CEV-CEVE'!$E$10,$BN$7:$BZ$16,1+E1254,0)),1,0)),0)","v":0},{"$f":"+IFERROR(IF(T1254>VLOOKUP('CEV-CEVE'!$E$10,$BN$20:$BZ$29,1+E1254,0),1,0),0)","v":0}]
[null,null,null,null,null,null,null,null,null,null,null,null,null,null,null,null,null,null,null,null,null,null,null,null,null,null,null,null,null,null,null,null,null,null,null,null,null,null,null,null,null,null,null,null,null,null,null,null,null,null,null,null,null,null,null,null,null,5,"Caso Base 90° Con Clima",{"$f":"+IFERROR(IF(BF1259=\"\",0,IF(T1259<IF(OR(BF1259<=$BP$3,BF1259>=$BO$3),VLOOKUP('CEV-CEVE'!$E$10,$BN$7:$BZ$16,1+E1259,0)-2,VLOOKUP('CEV-CEVE'!$E$10,$BN$7:$BZ$16,1+E1259,0)),1,0)),0)","v":0},{"$f":"+IFERROR(IF(T1259>VLOOKUP('CEV-CEVE'!$E$10,$BN$20:$BZ$29,1+E1259,0),1,0),0)","v":0}]
[null,null,null,null,null,null,null,null,null,null,null,null,null,null,null,null,null,null,null,null,null,null,null,null,null,null,null,null,null,null,null,null,null,null,null,null,null,null,null,null,null,null,null,null,null,null,null,null,null,null,null,null,null,null,null,null,null,11,"Caso Base 90° Con Clima",{"$f":"+IFERROR(IF(BF1265=\"\",0,IF(T1265<IF(OR(BF1265<=$BP$3,BF1265>=$BO$3),VLOOKUP('CEV-CEVE'!$E$10,$BN$7:$BZ$16,1+E1265,0)-2,VLOOKUP('CEV-CEVE'!$E$10,$BN$7:$BZ$16,1+E1265,0)),1,0)),0)","v":0},{"$f":"+IFERROR(IF(T1265>VLOOKUP('CEV-CEVE'!$E$10,$BN$20:$BZ$29,1+E1265,0),1,0),0)","v":0}]
[null,null,null,null,null,null,null,null,null,null,null,null,null,null,null,null,null,null,null,null,null,null,null,null,null,null,null,null,null,null,null,null,null,null,null,null,null,null,null,null,null,null,null,null,null,null,null,null,null,null,null,null,null,null,null,null,null,16,"Caso Base 90° Con Clima",{"$f":"+IFERROR(IF(BF1270=\"\",0,IF(T1270<IF(OR(BF1270<=$BP$3,BF1270>=$BO$3),VLOOKUP('CEV-CEVE'!$E$10,$BN$7:$BZ$16,1+E1270,0)-2,VLOOKUP('CEV-CEVE'!$E$10,$BN$7:$BZ$16,1+E1270,0)),1,0)),0)","v":0},{"$f":"+IFERROR(IF(T1270>VLOOKUP('CEV-CEVE'!$E$10,$BN$20:$BZ$29,1+E1270,0),1,0),0)","v":0}]
[null,null,null,null,null,null,null,null,null,null,null,null,null,null,null,null,null,null,null,null,null,null,null,null,null,null,null,null,null,null,null,null,null,null,null,null,null,null,null,null,null,null,null,null,null,null,null,null,null,null,null,null,null,null,null,null,null,21,"Caso Base 90° Con Clima",{"$f":"+IFERROR(IF(BF1275=\"\",0,IF(T1275<IF(OR(BF1275<=$BP$3,BF1275>=$BO$3),VLOOKUP('CEV-CEVE'!$E$10,$BN$7:$BZ$16,1+E1275,0)-2,VLOOKUP('CEV-CEVE'!$E$10,$BN$7:$BZ$16,1+E1275,0)),1,0)),0)","v":0},{"$f":"+IFERROR(IF(T1275>VLOOKUP('CEV-CEVE'!$E$10,$BN$20:$BZ$29,1+E1275,0),1,0),0)","v":0}]
[null,null,null,null,null,null,null,null,null,null,null,null,null,null,null,null,null,null,null,null,null,null,null,null,null,null,null,null,null,null,null,null,null,null,null,null,null,null,null,null,null,null,null,null,null,null,null,null,null,null,null,null,null,null,null,null,null,22,"Caso Base 90° Con Clima",{"$f":"+IFERROR(IF(BF1276=\"\",0,IF(T1276<IF(OR(BF1276<=$BP$3,BF1276>=$BO$3),VLOOKUP('CEV-CEVE'!$E$10,$BN$7:$BZ$16,1+E1276,0)-2,VLOOKUP('CEV-CEVE'!$E$10,$BN$7:$BZ$16,1+E1276,0)),1,0)),0)","v":0},{"$f":"+IFERROR(IF(T1276>VLOOKUP('CEV-CEVE'!$E$10,$BN$20:$BZ$29,1+E1276,0),1,0),0)","v":0}]
[null,null,null,null,null,null,null,null,null,null,null,null,null,null,null,null,null,null,null,null,null,null,null,null,null,null,null,null,null,null,null,null,null,null,null,null,null,null,null,null,null,null,null,null,null,null,null,null,null,null,null,null,null,null,null,null,null,{"$f":"+BF1280+1","v":1},"Caso Base 90° Con Clima",{"$f":"+IFERROR(IF(BF1281=\"\",0,IF(T1281<IF(OR(BF1281<=$BP$3,BF1281>=$BO$3),VLOOKUP('CEV-CEVE'!$E$10,$BN$7:$BZ$16,1+E1281,0)-2,VLOOKUP('CEV-CEVE'!$E$10,$BN$7:$BZ$16,1+E1281,0)),1,0)),0)","v":0},{"$f":"+IFERROR(IF(T1281>VLOOKUP('CEV-CEVE'!$E$10,$BN$20:$BZ$29,1+E1281,0),1,0),0)","v":0}]
[null,null,null,null,null,null,null,null,null,null,null,null,null,null,null,null,null,null,null,null,null,null,null,null,null,null,null,null,null,null,null,null,null,null,null,null,null,null,null,null,null,null,null,null,null,null,null,null,null,null,null,null,null,null,null,null,null,6,"Caso Base 90° Con Clima",{"$f":"+IFERROR(IF(BF1286=\"\",0,IF(T1286<IF(OR(BF1286<=$BP$3,BF1286>=$BO$3),VLOOKUP('CEV-CEVE'!$E$10,$BN$7:$BZ$16,1+E1286,0)-2,VLOOKUP('CEV-CEVE'!$E$10,$BN$7:$BZ$16,1+E1286,0)),1,0)),0)","v":0},{"$f":"+IFERROR(IF(T1286>VLOOKUP('CEV-CEVE'!$E$10,$BN$20:$BZ$29,1+E1286,0),1,0),0)","v":0}]
[null,null,null,null,null,null,null,null,null,null,null,null,null,null,null,null,null,null,null,null,null,null,null,null,null,null,null,null,null,null,null,null,null,null,null,null,null,null,null,null,null,null,null,null,null,null,null,null,null,null,null,null,null,null,null,null,null,12,"Caso Base 90° Con Clima",{"$f":"+IFERROR(IF(BF1292=\"\",0,IF(T1292<IF(OR(BF1292<=$BP$3,BF1292>=$BO$3),VLOOKUP('CEV-CEVE'!$E$10,$BN$7:$BZ$16,1+E1292,0)-2,VLOOKUP('CEV-CEVE'!$E$10,$BN$7:$BZ$16,1+E1292,0)),1,0)),0)","v":0},{"$f":"+IFERROR(IF(T1292>VLOOKUP('CEV-CEVE'!$E$10,$BN$20:$BZ$29,1+E1292,0),1,0),0)","v":0}]
[null,null,null,null,null,null,null,null,null,null,null,null,null,null,null,null,null,null,null,null,null,null,null,null,null,null,null,null,null,null,null,null,null,null,null,null,null,null,null,null,null,null,null,null,null,null,null,null,null,null,null,null,null,null,null,null,null,17,"Caso Base 90° Con Clima",{"$f":"+IFERROR(IF(BF1297=\"\",0,IF(T1297<IF(OR(BF1297<=$BP$3,BF1297>=$BO$3),VLOOKUP('CEV-CEVE'!$E$10,$BN$7:$BZ$16,1+E1297,0)-2,VLOOKUP('CEV-CEVE'!$E$10,$BN$7:$BZ$16,1+E1297,0)),1,0)),0)","v":0},{"$f":"+IFERROR(IF(T1297>VLOOKUP('CEV-CEVE'!$E$10,$BN$20:$BZ$29,1+E1297,0),1,0),0)","v":0}]
[null,null,null,null,null,null,null,null,null,null,null,null,null,null,null,null,null,null,null,null,null,null,null,null,null,null,null,null,null,null,null,null,null,null,null,null,null,null,null,null,null,null,null,null,null,null,null,null,null,null,null,null,null,null,null,null,null,23,"Caso Base 90° Con Clima",{"$f":"+IFERROR(IF(BF1303=\"\",0,IF(T1303<IF(OR(BF1303<=$BP$3,BF1303>=$BO$3),VLOOKUP('CEV-CEVE'!$E$10,$BN$7:$BZ$16,1+E1303,0)-2,VLOOKUP('CEV-CEVE'!$E$10,$BN$7:$BZ$16,1+E1303,0)),1,0)),0)","v":0},{"$f":"+IFERROR(IF(T1303>VLOOKUP('CEV-CEVE'!$E$10,$BN$20:$BZ$29,1+E1303,0),1,0),0)","v":0}]
[null,null,null,null,null,null,null,null,null,null,null,null,null,null,null,null,null,null,null,null,null,null,null,null,null,null,null,null,null,null,null,null,null,null,null,null,null,null,null,null,null,null,null,null,null,null,null,null,null,null,null,null,null,null,null,null,null,{"$f":"+BF1307+1","v":2},"Caso Base 90° Con Clima",{"$f":"+IFERROR(IF(BF1308=\"\",0,IF(T1308<IF(OR(BF1308<=$BP$3,BF1308>=$BO$3),VLOOKUP('CEV-CEVE'!$E$10,$BN$7:$BZ$16,1+E1308,0)-2,VLOOKUP('CEV-CEVE'!$E$10,$BN$7:$BZ$16,1+E1308,0)),1,0)),0)","v":0},{"$f":"+IFERROR(IF(T1308>VLOOKUP('CEV-CEVE'!$E$10,$BN$20:$BZ$29,1+E1308,0),1,0),0)","v":0}]
[null,null,null,null,null,null,null,null,null,null,null,null,null,null,null,null,null,null,null,null,null,null,null,null,null,null,null,null,null,null,null,null,null,null,null,null,null,null,null,null,null,null,null,null,null,null,null,null,null,null,null,null,null,null,null,null,null,7,"Caso Base 90° Con Clima",{"$f":"+IFERROR(IF(BF1313=\"\",0,IF(T1313<IF(OR(BF1313<=$BP$3,BF1313>=$BO$3),VLOOKUP('CEV-CEVE'!$E$10,$BN$7:$BZ$16,1+E1313,0)-2,VLOOKUP('CEV-CEVE'!$E$10,$BN$7:$BZ$16,1+E1313,0)),1,0)),0)","v":0},{"$f":"+IFERROR(IF(T1313>VLOOKUP('CEV-CEVE'!$E$10,$BN$20:$BZ$29,1+E1313,0),1,0),0)","v":0}]
[null,null,null,null,null,null,null,null,null,null,null,null,null,null,null,null,null,null,null,null,null,null,null,null,null,null,null,null,null,null,null,null,null,null,null,null,null,null,null,null,null,null,null,null,null,null,null,null,null,null,null,null,null,null,null,null,null,13,"Caso Base 90° Con Clima",{"$f":"+IFERROR(IF(BF1319=\"\",0,IF(T1319<IF(OR(BF1319<=$BP$3,BF1319>=$BO$3),VLOOKUP('CEV-CEVE'!$E$10,$BN$7:$BZ$16,1+E1319,0)-2,VLOOKUP('CEV-CEVE'!$E$10,$BN$7:$BZ$16,1+E1319,0)),1,0)),0)","v":0},{"$f":"+IFERROR(IF(T1319>VLOOKUP('CEV-CEVE'!$E$10,$BN$20:$BZ$29,1+E1319,0),1,0),0)","v":0}]
[null,null,null,null,null,null,null,null,null,null,null,null,null,null,null,null,null,null,null,null,null,null,null,null,null,null,null,null,null,null,null,null,null,null,null,null,null,null,null,null,null,null,null,null,null,null,null,null,null,null,null,null,null,null,null,null,null,18,"Caso Base 90° Con Clima",{"$f":"+IFERROR(IF(BF1324=\"\",0,IF(T1324<IF(OR(BF1324<=$BP$3,BF1324>=$BO$3),VLOOKUP('CEV-CEVE'!$E$10,$BN$7:$BZ$16,1+E1324,0)-2,VLOOKUP('CEV-CEVE'!$E$10,$BN$7:$BZ$16,1+E1324,0)),1,0)),0)","v":0},{"$f":"+IFERROR(IF(T1324>VLOOKUP('CEV-CEVE'!$E$10,$BN$20:$BZ$29,1+E1324,0),1,0),0)","v":0}]
[null,null,null,null,null,null,null,null,null,null,null,null,null,null,null,null,null,null,null,null,null,null,null,null,null,null,null,null,null,null,null,null,null,null,null,null,null,null,null,null,null,null,null,null,null,null,null,null,null,null,null,null,null,null,null,null,null,null,"Caso Base 90° Con Clima",{"$f":"+IFERROR(IF(BF1330=\"\",0,IF(T1330<IF(OR(BF1330<=$BP$3,BF1330>=$BO$3),VLOOKUP('CEV-CEVE'!$E$10,$BN$7:$BZ$16,1+E1330,0)-2,VLOOKUP('CEV-CEVE'!$E$10,$BN$7:$BZ$16,1+E1330,0)),1,0)),0)","v":0},{"$f":"+IFERROR(IF(T1330>VLOOKUP('CEV-CEVE'!$E$10,$BN$20:$BZ$29,1+E1330,0),1,0),0)","v":0}]
[null,null,null,null,null,null,null,null,null,null,null,null,null,null,null,null,null,null,null,null,null,null,null,null,null,null,null,null,null,null,null,null,null,null,null,null,null,null,null,null,null,null,null,null,null,null,null,null,null,null,null,null,null,null,null,null,null,3,"Caso Base 90° Con Clima",{"$f":"+IFERROR(IF(BF1335=\"\",0,IF(T1335<IF(OR(BF1335<=$BP$3,BF1335>=$BO$3),VLOOKUP('CEV-CEVE'!$E$10,$BN$7:$BZ$16,1+E1335,0)-2,VLOOKUP('CEV-CEVE'!$E$10,$BN$7:$BZ$16,1+E1335,0)),1,0)),0)","v":0},{"$f":"+IFERROR(IF(T1335>VLOOKUP('CEV-CEVE'!$E$10,$BN$20:$BZ$29,1+E1335,0),1,0),0)","v":0}]
[null,null,null,null,null,null,null,null,null,null,null,null,null,null,null,null,null,null,null,null,null,null,null,null,null,null,null,null,null,null,null,null,null,null,null,null,null,null,null,null,null,null,null,null,null,null,null,null,null,null,null,null,null,null,null,null,null,8,"Caso Base 90° Con Clima",{"$f":"+IFERROR(IF(BF1340=\"\",0,IF(T1340<IF(OR(BF1340<=$BP$3,BF1340>=$BO$3),VLOOKUP('CEV-CEVE'!$E$10,$BN$7:$BZ$16,1+E1340,0)-2,VLOOKUP('CEV-CEVE'!$E$10,$BN$7:$BZ$16,1+E1340,0)),1,0)),0)","v":0},{"$f":"+IFERROR(IF(T1340>VLOOKUP('CEV-CEVE'!$E$10,$BN$20:$BZ$29,1+E1340,0),1,0),0)","v":0}]
[null,null,null,null,null,null,null,null,null,null,null,null,null,null,null,null,null,null,null,null,null,null,null,null,null,null,null,null,null,null,null,null,null,null,null,null,null,null,null,null,null,null,null,null,null,null,null,null,null,null,null,null,null,null,null,null,null,9,"Caso Base 90° Con Clima",{"$f":"+IFERROR(IF(BF1341=\"\",0,IF(T1341<IF(OR(BF1341<=$BP$3,BF1341>=$BO$3),VLOOKUP('CEV-CEVE'!$E$10,$BN$7:$BZ$16,1+E1341,0)-2,VLOOKUP('CEV-CEVE'!$E$10,$BN$7:$BZ$16,1+E1341,0)),1,0)),0)","v":0},{"$f":"+IFERROR(IF(T1341>VLOOKUP('CEV-CEVE'!$E$10,$BN$20:$BZ$29,1+E1341,0),1,0),0)","v":0}]
[null,null,null,null,null,null,null,null,null,null,null,null,null,null,null,null,null,null,null,null,null,null,null,null,null,null,null,null,null,null,null,null,null,null,null,null,null,null,null,null,null,null,null,null,null,null,null,null,null,null,null,null,null,null,null,null,null,14,"Caso Base 90° Con Clima",{"$f":"+IFERROR(IF(BF1346=\"\",0,IF(T1346<IF(OR(BF1346<=$BP$3,BF1346>=$BO$3),VLOOKUP('CEV-CEVE'!$E$10,$BN$7:$BZ$16,1+E1346,0)-2,VLOOKUP('CEV-CEVE'!$E$10,$BN$7:$BZ$16,1+E1346,0)),1,0)),0)","v":0},{"$f":"+IFERROR(IF(T1346>VLOOKUP('CEV-CEVE'!$E$10,$BN$20:$BZ$29,1+E1346,0),1,0),0)","v":0}]
[null,null,null,null,null,null,null,null,null,null,null,null,null,null,null,null,null,null,null,null,null,null,null,null,null,null,null,null,null,null,null,null,null,null,null,null,null,null,null,null,null,null,null,null,null,null,null,null,null,null,null,null,null,null,null,null,null,19,"Caso Base 90° Con Clima",{"$f":"+IFERROR(IF(BF1351=\"\",0,IF(T1351<IF(OR(BF1351<=$BP$3,BF1351>=$BO$3),VLOOKUP('CEV-CEVE'!$E$10,$BN$7:$BZ$16,1+E1351,0)-2,VLOOKUP('CEV-CEVE'!$E$10,$BN$7:$BZ$16,1+E1351,0)),1,0)),0)","v":0},{"$f":"+IFERROR(IF(T1351>VLOOKUP('CEV-CEVE'!$E$10,$BN$20:$BZ$29,1+E1351,0),1,0),0)","v":0}]
[null,null,null,null,null,null,null,null,null,null,null,null,null,null,null,null,null,null,null,null,null,null,null,null,null,null,null,null,null,null,null,null,null,null,null,null,null,null,null,null,null,null,null,null,null,null,null,null,null,null,null,null,null,null,null,null,null,null,"Caso Base 90° Con Clima",{"$f":"+IFERROR(IF(BF1357=\"\",0,IF(T1357<IF(OR(BF1357<=$BP$3,BF1357>=$BO$3),VLOOKUP('CEV-CEVE'!$E$10,$BN$7:$BZ$16,1+E1357,0)-2,VLOOKUP('CEV-CEVE'!$E$10,$BN$7:$BZ$16,1+E1357,0)),1,0)),0)","v":0},{"$f":"+IFERROR(IF(T1357>VLOOKUP('CEV-CEVE'!$E$10,$BN$20:$BZ$29,1+E1357,0),1,0),0)","v":0}]
[null,null,null,null,null,null,null,null,null,null,null,null,null,null,null,null,null,null,null,null,null,null,null,null,null,null,null,null,null,null,null,null,null,null,null,null,null,null,null,null,null,null,null,null,null,null,null,null,null,null,null,null,null,null,null,null,null,4,"Caso Base 90° Con Clima",{"$f":"+IFERROR(IF(BF1362=\"\",0,IF(T1362<IF(OR(BF1362<=$BP$3,BF1362>=$BO$3),VLOOKUP('CEV-CEVE'!$E$10,$BN$7:$BZ$16,1+E1362,0)-2,VLOOKUP('CEV-CEVE'!$E$10,$BN$7:$BZ$16,1+E1362,0)),1,0)),0)","v":0},{"$f":"+IFERROR(IF(T1362>VLOOKUP('CEV-CEVE'!$E$10,$BN$20:$BZ$29,1+E1362,0),1,0),0)","v":0}]
[null,null,null,null,null,null,null,null,null,null,null,null,null,null,null,null,null,null,null,null,null,null,null,null,null,null,null,null,null,null,null,null,null,null,null,null,null,null,null,null,null,null,null,null,null,null,null,null,null,null,null,null,null,null,null,null,null,10,"Caso Base 90° Con Clima",{"$f":"+IFERROR(IF(BF1368=\"\",0,IF(T1368<IF(OR(BF1368<=$BP$3,BF1368>=$BO$3),VLOOKUP('CEV-CEVE'!$E$10,$BN$7:$BZ$16,1+E1368,0)-2,VLOOKUP('CEV-CEVE'!$E$10,$BN$7:$BZ$16,1+E1368,0)),1,0)),0)","v":0},{"$f":"+IFERROR(IF(T1368>VLOOKUP('CEV-CEVE'!$E$10,$BN$20:$BZ$29,1+E1368,0),1,0),0)","v":0}]
[null,null,null,null,null,null,null,null,null,null,null,null,null,null,null,null,null,null,null,null,null,null,null,null,null,null,null,null,null,null,null,null,null,null,null,null,null,null,null,null,null,null,null,null,null,null,null,null,null,null,null,null,null,null,null,null,null,15,"Caso Base 90° Con Clima",{"$f":"+IFERROR(IF(BF1373=\"\",0,IF(T1373<IF(OR(BF1373<=$BP$3,BF1373>=$BO$3),VLOOKUP('CEV-CEVE'!$E$10,$BN$7:$BZ$16,1+E1373,0)-2,VLOOKUP('CEV-CEVE'!$E$10,$BN$7:$BZ$16,1+E1373,0)),1,0)),0)","v":0},{"$f":"+IFERROR(IF(T1373>VLOOKUP('CEV-CEVE'!$E$10,$BN$20:$BZ$29,1+E1373,0),1,0),0)","v":0}]
[null,null,null,null,null,null,null,null,null,null,null,null,null,null,null,null,null,null,null,null,null,null,null,null,null,null,null,null,null,null,null,null,null,null,null,null,null,null,null,null,null,null,null,null,null,null,null,null,null,null,null,null,null,null,null,null,null,20,"Caso Base 90° Con Clima",{"$f":"+IFERROR(IF(BF1378=\"\",0,IF(T1378<IF(OR(BF1378<=$BP$3,BF1378>=$BO$3),VLOOKUP('CEV-CEVE'!$E$10,$BN$7:$BZ$16,1+E1378,0)-2,VLOOKUP('CEV-CEVE'!$E$10,$BN$7:$BZ$16,1+E1378,0)),1,0)),0)","v":0},{"$f":"+IFERROR(IF(T1378>VLOOKUP('CEV-CEVE'!$E$10,$BN$20:$BZ$29,1+E1378,0),1,0),0)","v":0}]
[null,null,null,null,null,null,null,null,null,null,null,null,null,null,null,null,null,null,null,null,null,null,null,null,null,null,null,null,null,null,null,null,null,null,null,null,null,null,null,null,null,null,null,null,null,null,null,null,null,null,null,null,null,null,null,null,null,0,"Caso Base 90° Con Clima",{"$f":"+IFERROR(IF(BF1384=\"\",0,IF(T1384<IF(OR(BF1384<=$BP$3,BF1384>=$BO$3),VLOOKUP('CEV-CEVE'!$E$10,$BN$7:$BZ$16,1+E1384,0)-2,VLOOKUP('CEV-CEVE'!$E$10,$BN$7:$BZ$16,1+E1384,0)),1,0)),0)","v":0},{"$f":"+IFERROR(IF(T1384>VLOOKUP('CEV-CEVE'!$E$10,$BN$20:$BZ$29,1+E1384,0),1,0),0)","v":0}]
[null,null,null,null,null,null,null,null,null,null,null,null,null,null,null,null,null,null,null,null,null,null,null,null,null,null,null,null,null,null,null,null,null,null,null,null,null,null,null,null,null,null,null,null,null,null,null,null,null,null,null,null,null,null,null,null,null,5,"Caso Base 90° Con Clima",{"$f":"+IFERROR(IF(BF1389=\"\",0,IF(T1389<IF(OR(BF1389<=$BP$3,BF1389>=$BO$3),VLOOKUP('CEV-CEVE'!$E$10,$BN$7:$BZ$16,1+E1389,0)-2,VLOOKUP('CEV-CEVE'!$E$10,$BN$7:$BZ$16,1+E1389,0)),1,0)),0)","v":0},{"$f":"+IFERROR(IF(T1389>VLOOKUP('CEV-CEVE'!$E$10,$BN$20:$BZ$29,1+E1389,0),1,0),0)","v":0}]
[null,null,null,null,null,null,null,null,null,null,null,null,null,null,null,null,null,null,null,null,null,null,null,null,null,null,null,null,null,null,null,null,null,null,null,null,null,null,null,null,null,null,null,null,null,null,null,null,null,null,null,null,null,null,null,null,null,10,"Caso Base 90° Con Clima",{"$f":"+IFERROR(IF(BF1394=\"\",0,IF(T1394<IF(OR(BF1394<=$BP$3,BF1394>=$BO$3),VLOOKUP('CEV-CEVE'!$E$10,$BN$7:$BZ$16,1+E1394,0)-2,VLOOKUP('CEV-CEVE'!$E$10,$BN$7:$BZ$16,1+E1394,0)),1,0)),0)","v":0},{"$f":"+IFERROR(IF(T1394>VLOOKUP('CEV-CEVE'!$E$10,$BN$20:$BZ$29,1+E1394,0),1,0),0)","v":0}]
[null,null,null,null,null,null,null,null,null,null,null,null,null,null,null,null,null,null,null,null,null,null,null,null,null,null,null,null,null,null,null,null,null,null,null,null,null,null,null,null,null,null,null,null,null,null,null,null,null,null,null,null,null,null,null,null,null,16,"Caso Base 90° Con Clima",{"$f":"+IFERROR(IF(BF1400=\"\",0,IF(T1400<IF(OR(BF1400<=$BP$3,BF1400>=$BO$3),VLOOKUP('CEV-CEVE'!$E$10,$BN$7:$BZ$16,1+E1400,0)-2,VLOOKUP('CEV-CEVE'!$E$10,$BN$7:$BZ$16,1+E1400,0)),1,0)),0)","v":0},{"$f":"+IFERROR(IF(T1400>VLOOKUP('CEV-CEVE'!$E$10,$BN$20:$BZ$29,1+E1400,0),1,0),0)","v":0}]
[null,null,null,null,null,null,null,null,null,null,null,null,null,null,null,null,null,null,null,null,null,null,null,null,null,null,null,null,null,null,null,null,null,null,null,null,null,null,null,null,null,null,null,null,null,null,null,null,null,null,null,null,null,null,null,null,null,21,"Caso Base 90° Con Clima",{"$f":"+IFERROR(IF(BF1405=\"\",0,IF(T1405<IF(OR(BF1405<=$BP$3,BF1405>=$BO$3),VLOOKUP('CEV-CEVE'!$E$10,$BN$7:$BZ$16,1+E1405,0)-2,VLOOKUP('CEV-CEVE'!$E$10,$BN$7:$BZ$16,1+E1405,0)),1,0)),0)","v":0},{"$f":"+IFERROR(IF(T1405>VLOOKUP('CEV-CEVE'!$E$10,$BN$20:$BZ$29,1+E1405,0),1,0),0)","v":0}]
[null,null,null,null,null,null,null,null,null,null,null,null,null,null,null,null,null,null,null,null,null,null,null,null,null,null,null,null,null,null,null,null,null,null,null,null,null,null,null,null,null,null,null,null,null,null,null,null,null,null,null,null,null,null,null,null,null,22,"Caso Base 90° Con Clima",{"$f":"+IFERROR(IF(BF1406=\"\",0,IF(T1406<IF(OR(BF1406<=$BP$3,BF1406>=$BO$3),VLOOKUP('CEV-CEVE'!$E$10,$BN$7:$BZ$16,1+E1406,0)-2,VLOOKUP('CEV-CEVE'!$E$10,$BN$7:$BZ$16,1+E1406,0)),1,0)),0)","v":0},{"$f":"+IFERROR(IF(T1406>VLOOKUP('CEV-CEVE'!$E$10,$BN$20:$BZ$29,1+E1406,0),1,0),0)","v":0}]
[null,null,null,null,null,null,null,null,null,null,null,null,null,null,null,null,null,null,null,null,null,null,null,null,null,null,null,null,null,null,null,null,null,null,null,null,null,null,null,null,null,null,null,null,null,null,null,null,null,null,null,null,null,null,null,null,null,{"$f":"+BF1410+1","v":1},"Caso Base 90° Con Clima",{"$f":"+IFERROR(IF(BF1411=\"\",0,IF(T1411<IF(OR(BF1411<=$BP$3,BF1411>=$BO$3),VLOOKUP('CEV-CEVE'!$E$10,$BN$7:$BZ$16,1+E1411,0)-2,VLOOKUP('CEV-CEVE'!$E$10,$BN$7:$BZ$16,1+E1411,0)),1,0)),0)","v":0},{"$f":"+IFERROR(IF(T1411>VLOOKUP('CEV-CEVE'!$E$10,$BN$20:$BZ$29,1+E1411,0),1,0),0)","v":0}]
[null,null,null,null,null,null,null,null,null,null,null,null,null,null,null,null,null,null,null,null,null,null,null,null,null,null,null,null,null,null,null,null,null,null,null,null,null,null,null,null,null,null,null,null,null,null,null,null,null,null,null,null,null,null,null,null,null,6,"Caso Base 90° Con Clima",{"$f":"+IFERROR(IF(BF1416=\"\",0,IF(T1416<IF(OR(BF1416<=$BP$3,BF1416>=$BO$3),VLOOKUP('CEV-CEVE'!$E$10,$BN$7:$BZ$16,1+E1416,0)-2,VLOOKUP('CEV-CEVE'!$E$10,$BN$7:$BZ$16,1+E1416,0)),1,0)),0)","v":0},{"$f":"+IFERROR(IF(T1416>VLOOKUP('CEV-CEVE'!$E$10,$BN$20:$BZ$29,1+E1416,0),1,0),0)","v":0}]
[null,null,null,null,null,null,null,null,null,null,null,null,null,null,null,null,null,null,null,null,null,null,null,null,null,null,null,null,null,null,null,null,null,null,null,null,null,null,null,null,null,null,null,null,null,null,null,null,null,null,null,null,null,null,null,null,null,12,"Caso Base 90° Con Clima",{"$f":"+IFERROR(IF(BF1422=\"\",0,IF(T1422<IF(OR(BF1422<=$BP$3,BF1422>=$BO$3),VLOOKUP('CEV-CEVE'!$E$10,$BN$7:$BZ$16,1+E1422,0)-2,VLOOKUP('CEV-CEVE'!$E$10,$BN$7:$BZ$16,1+E1422,0)),1,0)),0)","v":0},{"$f":"+IFERROR(IF(T1422>VLOOKUP('CEV-CEVE'!$E$10,$BN$20:$BZ$29,1+E1422,0),1,0),0)","v":0}]
[null,null,null,null,null,null,null,null,null,null,null,null,null,null,null,null,null,null,null,null,null,null,null,null,null,null,null,null,null,null,null,null,null,null,null,null,null,null,null,null,null,null,null,null,null,null,null,null,null,null,null,null,null,null,null,null,null,17,"Caso Base 90° Con Clima",{"$f":"+IFERROR(IF(BF1427=\"\",0,IF(T1427<IF(OR(BF1427<=$BP$3,BF1427>=$BO$3),VLOOKUP('CEV-CEVE'!$E$10,$BN$7:$BZ$16,1+E1427,0)-2,VLOOKUP('CEV-CEVE'!$E$10,$BN$7:$BZ$16,1+E1427,0)),1,0)),0)","v":0},{"$f":"+IFERROR(IF(T1427>VLOOKUP('CEV-CEVE'!$E$10,$BN$20:$BZ$29,1+E1427,0),1,0),0)","v":0}]
[null,null,null,null,null,null,null,null,null,null,null,null,null,null,null,null,null,null,null,null,null,null,null,null,null,null,null,null,null,null,null,null,null,null,null,null,null,null,null,null,null,null,null,null,null,null,null,null,null,null,null,null,null,null,null,null,null,23,"Caso Base 90° Con Clima",{"$f":"+IFERROR(IF(BF1433=\"\",0,IF(T1433<IF(OR(BF1433<=$BP$3,BF1433>=$BO$3),VLOOKUP('CEV-CEVE'!$E$10,$BN$7:$BZ$16,1+E1433,0)-2,VLOOKUP('CEV-CEVE'!$E$10,$BN$7:$BZ$16,1+E1433,0)),1,0)),0)","v":0},{"$f":"+IFERROR(IF(T1433>VLOOKUP('CEV-CEVE'!$E$10,$BN$20:$BZ$29,1+E1433,0),1,0),0)","v":0}]
[null,null,null,null,null,null,null,null,null,null,null,null,null,null,null,null,null,null,null,null,null,null,null,null,null,null,null,null,null,null,null,null,null,null,null,null,null,null,null,null,null,null,null,null,null,null,null,null,null,null,null,null,null,null,null,null,null,{"$f":"+BF1437+1","v":2},"Caso Base 90° Con Clima",{"$f":"+IFERROR(IF(BF1438=\"\",0,IF(T1438<IF(OR(BF1438<=$BP$3,BF1438>=$BO$3),VLOOKUP('CEV-CEVE'!$E$10,$BN$7:$BZ$16,1+E1438,0)-2,VLOOKUP('CEV-CEVE'!$E$10,$BN$7:$BZ$16,1+E1438,0)),1,0)),0)","v":0},{"$f":"+IFERROR(IF(T1438>VLOOKUP('CEV-CEVE'!$E$10,$BN$20:$BZ$29,1+E1438,0),1,0),0)","v":0}]
[null,null,null,null,null,null,null,null,null,null,null,null,null,null,null,null,null,null,null,null,null,null,null,null,null,null,null,null,null,null,null,null,null,null,null,null,null,null,null,null,null,null,null,null,null,null,null,null,null,null,null,null,null,null,null,null,null,7,"Caso Base 90° Con Clima",{"$f":"+IFERROR(IF(BF1443=\"\",0,IF(T1443<IF(OR(BF1443<=$BP$3,BF1443>=$BO$3),VLOOKUP('CEV-CEVE'!$E$10,$BN$7:$BZ$16,1+E1443,0)-2,VLOOKUP('CEV-CEVE'!$E$10,$BN$7:$BZ$16,1+E1443,0)),1,0)),0)","v":0},{"$f":"+IFERROR(IF(T1443>VLOOKUP('CEV-CEVE'!$E$10,$BN$20:$BZ$29,1+E1443,0),1,0),0)","v":0}]
[null,null,null,null,null,null,null,null,null,null,null,null,null,null,null,null,null,null,null,null,null,null,null,null,null,null,null,null,null,null,null,null,null,null,null,null,null,null,null,null,null,null,null,null,null,null,null,null,null,null,null,null,null,null,null,null,null,13,"Caso Base 90° Con Clima",{"$f":"+IFERROR(IF(BF1449=\"\",0,IF(T1449<IF(OR(BF1449<=$BP$3,BF1449>=$BO$3),VLOOKUP('CEV-CEVE'!$E$10,$BN$7:$BZ$16,1+E1449,0)-2,VLOOKUP('CEV-CEVE'!$E$10,$BN$7:$BZ$16,1+E1449,0)),1,0)),0)","v":0},{"$f":"+IFERROR(IF(T1449>VLOOKUP('CEV-CEVE'!$E$10,$BN$20:$BZ$29,1+E1449,0),1,0),0)","v":0}]
[null,null,null,null,null,null,null,null,null,null,null,null,null,null,null,null,null,null,null,null,null,null,null,null,null,null,null,null,null,null,null,null,null,null,null,null,null,null,null,null,null,null,null,null,null,null,null,null,null,null,null,null,null,null,null,null,null,18,"Caso Base 90° Con Clima",{"$f":"+IFERROR(IF(BF1454=\"\",0,IF(T1454<IF(OR(BF1454<=$BP$3,BF1454>=$BO$3),VLOOKUP('CEV-CEVE'!$E$10,$BN$7:$BZ$16,1+E1454,0)-2,VLOOKUP('CEV-CEVE'!$E$10,$BN$7:$BZ$16,1+E1454,0)),1,0)),0)","v":0},{"$f":"+IFERROR(IF(T1454>VLOOKUP('CEV-CEVE'!$E$10,$BN$20:$BZ$29,1+E1454,0),1,0),0)","v":0}]
[null,null,null,null,null,null,null,null,null,null,null,null,null,null,null,null,null,null,null,null,null,null,null,null,null,null,null,null,null,null,null,null,null,null,null,null,null,null,null,null,null,null,null,null,null,null,null,null,null,null,null,null,null,null,null,null,null,23,"Caso Base 90° Con Clima",{"$f":"+IFERROR(IF(BF1459=\"\",0,IF(T1459<IF(OR(BF1459<=$BP$3,BF1459>=$BO$3),VLOOKUP('CEV-CEVE'!$E$10,$BN$7:$BZ$16,1+E1459,0)-2,VLOOKUP('CEV-CEVE'!$E$10,$BN$7:$BZ$16,1+E1459,0)),1,0)),0)","v":0},{"$f":"+IFERROR(IF(T1459>VLOOKUP('CEV-CEVE'!$E$10,$BN$20:$BZ$29,1+E1459,0),1,0),0)","v":0}]
[null,null,null,null,null,null,null,null,null,null,null,null,null,null,null,null,null,null,null,null,null,null,null,null,null,null,null,null,null,null,null,null,null,null,null,null,null,null,null,null,null,null,null,null,null,null,null,null,null,null,null,null,null,null,null,null,null,3,"Caso Base 90° Con Clima",{"$f":"+IFERROR(IF(BF1465=\"\",0,IF(T1465<IF(OR(BF1465<=$BP$3,BF1465>=$BO$3),VLOOKUP('CEV-CEVE'!$E$10,$BN$7:$BZ$16,1+E1465,0)-2,VLOOKUP('CEV-CEVE'!$E$10,$BN$7:$BZ$16,1+E1465,0)),1,0)),0)","v":0},{"$f":"+IFERROR(IF(T1465>VLOOKUP('CEV-CEVE'!$E$10,$BN$20:$BZ$29,1+E1465,0),1,0),0)","v":0}]
[null,null,null,null,null,null,null,null,null,null,null,null,null,null,null,null,null,null,null,null,null,null,null,null,null,null,null,null,null,null,null,null,null,null,null,null,null,null,null,null,null,null,null,null,null,null,null,null,null,null,null,null,null,null,null,null,null,8,"Caso Base 90° Con Clima",{"$f":"+IFERROR(IF(BF1470=\"\",0,IF(T1470<IF(OR(BF1470<=$BP$3,BF1470>=$BO$3),VLOOKUP('CEV-CEVE'!$E$10,$BN$7:$BZ$16,1+E1470,0)-2,VLOOKUP('CEV-CEVE'!$E$10,$BN$7:$BZ$16,1+E1470,0)),1,0)),0)","v":0},{"$f":"+IFERROR(IF(T1470>VLOOKUP('CEV-CEVE'!$E$10,$BN$20:$BZ$29,1+E1470,0),1,0),0)","v":0}]
[null,null,null,null,null,null,null,null,null,null,null,null,null,null,null,null,null,null,null,null,null,null,null,null,null,null,null,null,null,null,null,null,null,null,null,null,null,null,null,null,null,null,null,null,null,null,null,null,null,null,null,null,null,null,null,null,null,9,"Caso Base 90° Con Clima",{"$f":"+IFERROR(IF(BF1471=\"\",0,IF(T1471<IF(OR(BF1471<=$BP$3,BF1471>=$BO$3),VLOOKUP('CEV-CEVE'!$E$10,$BN$7:$BZ$16,1+E1471,0)-2,VLOOKUP('CEV-CEVE'!$E$10,$BN$7:$BZ$16,1+E1471,0)),1,0)),0)","v":0},{"$f":"+IFERROR(IF(T1471>VLOOKUP('CEV-CEVE'!$E$10,$BN$20:$BZ$29,1+E1471,0),1,0),0)","v":0}]
[null,null,null,null,null,null,null,null,null,null,null,null,null,null,null,null,null,null,null,null,null,null,null,null,null,null,null,null,null,null,null,null,null,null,null,null,null,null,null,null,null,null,null,null,null,null,null,null,null,null,null,null,null,null,null,null,null,14,"Caso Base 90° Con Clima",{"$f":"+IFERROR(IF(BF1476=\"\",0,IF(T1476<IF(OR(BF1476<=$BP$3,BF1476>=$BO$3),VLOOKUP('CEV-CEVE'!$E$10,$BN$7:$BZ$16,1+E1476,0)-2,VLOOKUP('CEV-CEVE'!$E$10,$BN$7:$BZ$16,1+E1476,0)),1,0)),0)","v":0},{"$f":"+IFERROR(IF(T1476>VLOOKUP('CEV-CEVE'!$E$10,$BN$20:$BZ$29,1+E1476,0),1,0),0)","v":0}]
[null,null,null,null,null,null,null,null,null,null,null,null,null,null,null,null,null,null,null,null,null,null,null,null,null,null,null,null,null,null,null,null,null,null,null,null,null,null,null,null,null,null,null,null,null,null,null,null,null,null,null,null,null,null,null,null,null,19,"Caso Base 90° Con Clima",{"$f":"+IFERROR(IF(BF1481=\"\",0,IF(T1481<IF(OR(BF1481<=$BP$3,BF1481>=$BO$3),VLOOKUP('CEV-CEVE'!$E$10,$BN$7:$BZ$16,1+E1481,0)-2,VLOOKUP('CEV-CEVE'!$E$10,$BN$7:$BZ$16,1+E1481,0)),1,0)),0)","v":0},{"$f":"+IFERROR(IF(T1481>VLOOKUP('CEV-CEVE'!$E$10,$BN$20:$BZ$29,1+E1481,0),1,0),0)","v":0}]
[null,null,null,null,null,null,null,null,null,null,null,null,null,null,null,null,null,null,null,null,null,null,null,null,null,null,null,null,null,null,null,null,null,null,null,null,null,null,null,null,null,null,null,null,null,null,null,null,null,null,null,null,null,null,null,null,null,null,"Caso Base 90° Con Clima",{"$f":"+IFERROR(IF(BF1487=\"\",0,IF(T1487<IF(OR(BF1487<=$BP$3,BF1487>=$BO$3),VLOOKUP('CEV-CEVE'!$E$10,$BN$7:$BZ$16,1+E1487,0)-2,VLOOKUP('CEV-CEVE'!$E$10,$BN$7:$BZ$16,1+E1487,0)),1,0)),0)","v":0},{"$f":"+IFERROR(IF(T1487>VLOOKUP('CEV-CEVE'!$E$10,$BN$20:$BZ$29,1+E1487,0),1,0),0)","v":0}]
[null,null,null,null,null,null,null,null,null,null,null,null,null,null,null,null,null,null,null,null,null,null,null,null,null,null,null,null,null,null,null,null,null,null,null,null,null,null,null,null,null,null,null,null,null,null,null,null,null,null,null,null,null,null,null,null,null,4,"Caso Base 90° Con Clima",{"$f":"+IFERROR(IF(BF1492=\"\",0,IF(T1492<IF(OR(BF1492<=$BP$3,BF1492>=$BO$3),VLOOKUP('CEV-CEVE'!$E$10,$BN$7:$BZ$16,1+E1492,0)-2,VLOOKUP('CEV-CEVE'!$E$10,$BN$7:$BZ$16,1+E1492,0)),1,0)),0)","v":0},{"$f":"+IFERROR(IF(T1492>VLOOKUP('CEV-CEVE'!$E$10,$BN$20:$BZ$29,1+E1492,0),1,0),0)","v":0}]
[null,null,null,null,null,null,null,null,null,null,null,null,null,null,null,null,null,null,null,null,null,null,null,null,null,null,null,null,null,null,null,null,null,null,null,null,null,null,null,null,null,null,null,null,null,null,null,null,null,null,null,null,null,null,null,null,null,10,"Caso Base 90° Con Clima",{"$f":"+IFERROR(IF(BF1498=\"\",0,IF(T1498<IF(OR(BF1498<=$BP$3,BF1498>=$BO$3),VLOOKUP('CEV-CEVE'!$E$10,$BN$7:$BZ$16,1+E1498,0)-2,VLOOKUP('CEV-CEVE'!$E$10,$BN$7:$BZ$16,1+E1498,0)),1,0)),0)","v":0},{"$f":"+IFERROR(IF(T1498>VLOOKUP('CEV-CEVE'!$E$10,$BN$20:$BZ$29,1+E1498,0),1,0),0)","v":0}]
[null,null,null,null,null,null,null,null,null,null,null,null,null,null,null,null,null,null,null,null,null,null,null,null,null,null,null,null,null,null,null,null,null,null,null,null,null,null,null,null,null,null,null,null,null,null,null,null,null,null,null,null,null,null,null,null,null,15,"Caso Base 90° Con Clima",{"$f":"+IFERROR(IF(BF1503=\"\",0,IF(T1503<IF(OR(BF1503<=$BP$3,BF1503>=$BO$3),VLOOKUP('CEV-CEVE'!$E$10,$BN$7:$BZ$16,1+E1503,0)-2,VLOOKUP('CEV-CEVE'!$E$10,$BN$7:$BZ$16,1+E1503,0)),1,0)),0)","v":0},{"$f":"+IFERROR(IF(T1503>VLOOKUP('CEV-CEVE'!$E$10,$BN$20:$BZ$29,1+E1503,0),1,0),0)","v":0}]
[null,null,null,null,null,null,null,null,null,null,null,null,null,null,null,null,null,null,null,null,null,null,null,null,null,null,null,null,null,null,null,null,null,null,null,null,null,null,null,null,null,null,null,null,null,null,null,null,null,null,null,null,null,null,null,null,null,20,"Caso Base 90° Con Clima",{"$f":"+IFERROR(IF(BF1508=\"\",0,IF(T1508<IF(OR(BF1508<=$BP$3,BF1508>=$BO$3),VLOOKUP('CEV-CEVE'!$E$10,$BN$7:$BZ$16,1+E1508,0)-2,VLOOKUP('CEV-CEVE'!$E$10,$BN$7:$BZ$16,1+E1508,0)),1,0)),0)","v":0},{"$f":"+IFERROR(IF(T1508>VLOOKUP('CEV-CEVE'!$E$10,$BN$20:$BZ$29,1+E1508,0),1,0),0)","v":0}]
[null,null,null,null,null,null,null,null,null,null,null,null,null,null,null,null,null,null,null,null,null,null,null,null,null,null,null,null,null,null,null,null,null,null,null,null,null,null,null,null,null,null,null,null,null,null,null,null,null,null,null,null,null,null,null,null,null,0,"Caso Base 90° Con Clima",{"$f":"+IFERROR(IF(BF1514=\"\",0,IF(T1514<IF(OR(BF1514<=$BP$3,BF1514>=$BO$3),VLOOKUP('CEV-CEVE'!$E$10,$BN$7:$BZ$16,1+E1514,0)-2,VLOOKUP('CEV-CEVE'!$E$10,$BN$7:$BZ$16,1+E1514,0)),1,0)),0)","v":0},{"$f":"+IFERROR(IF(T1514>VLOOKUP('CEV-CEVE'!$E$10,$BN$20:$BZ$29,1+E1514,0),1,0),0)","v":0}]
[null,null,null,null,null,null,null,null,null,null,null,null,null,null,null,null,null,null,null,null,null,null,null,null,null,null,null,null,null,null,null,null,null,null,null,null,null,null,null,null,null,null,null,null,null,null,null,null,null,null,null,null,null,null,null,null,null,5,"Caso Base 90° Con Clima",{"$f":"+IFERROR(IF(BF1519=\"\",0,IF(T1519<IF(OR(BF1519<=$BP$3,BF1519>=$BO$3),VLOOKUP('CEV-CEVE'!$E$10,$BN$7:$BZ$16,1+E1519,0)-2,VLOOKUP('CEV-CEVE'!$E$10,$BN$7:$BZ$16,1+E1519,0)),1,0)),0)","v":0},{"$f":"+IFERROR(IF(T1519>VLOOKUP('CEV-CEVE'!$E$10,$BN$20:$BZ$29,1+E1519,0),1,0),0)","v":0}]
[null,null,null,null,null,null,null,null,null,null,null,null,null,null,null,null,null,null,null,null,null,null,null,null,null,null,null,null,null,null,null,null,null,null,null,null,null,null,null,null,null,null,null,null,null,null,null,null,null,null,null,null,null,null,null,null,null,10,"Caso Base 90° Con Clima",{"$f":"+IFERROR(IF(BF1524=\"\",0,IF(T1524<IF(OR(BF1524<=$BP$3,BF1524>=$BO$3),VLOOKUP('CEV-CEVE'!$E$10,$BN$7:$BZ$16,1+E1524,0)-2,VLOOKUP('CEV-CEVE'!$E$10,$BN$7:$BZ$16,1+E1524,0)),1,0)),0)","v":0},{"$f":"+IFERROR(IF(T1524>VLOOKUP('CEV-CEVE'!$E$10,$BN$20:$BZ$29,1+E1524,0),1,0),0)","v":0}]
[null,null,null,null,null,null,null,null,null,null,null,null,null,null,null,null,null,null,null,null,null,null,null,null,null,null,null,null,null,null,null,null,null,null,null,null,null,null,null,null,null,null,null,null,null,null,null,null,null,null,null,null,null,null,null,null,null,16,"Caso Base 90° Con Clima",{"$f":"+IFERROR(IF(BF1530=\"\",0,IF(T1530<IF(OR(BF1530<=$BP$3,BF1530>=$BO$3),VLOOKUP('CEV-CEVE'!$E$10,$BN$7:$BZ$16,1+E1530,0)-2,VLOOKUP('CEV-CEVE'!$E$10,$BN$7:$BZ$16,1+E1530,0)),1,0)),0)","v":0},{"$f":"+IFERROR(IF(T1530>VLOOKUP('CEV-CEVE'!$E$10,$BN$20:$BZ$29,1+E1530,0),1,0),0)","v":0}]
[null,null,null,null,null,null,null,null,null,null,null,null,null,null,null,null,null,null,null,null,null,null,null,null,null,null,null,null,null,null,null,null,null,null,null,null,null,null,null,null,null,null,null,null,null,null,null,null,null,null,null,null,null,null,null,null,null,21,"Caso Base 90° Con Clima",{"$f":"+IFERROR(IF(BF1535=\"\",0,IF(T1535<IF(OR(BF1535<=$BP$3,BF1535>=$BO$3),VLOOKUP('CEV-CEVE'!$E$10,$BN$7:$BZ$16,1+E1535,0)-2,VLOOKUP('CEV-CEVE'!$E$10,$BN$7:$BZ$16,1+E1535,0)),1,0)),0)","v":0},{"$f":"+IFERROR(IF(T1535>VLOOKUP('CEV-CEVE'!$E$10,$BN$20:$BZ$29,1+E1535,0),1,0),0)","v":0}]
[null,null,null,null,null,null,null,null,null,null,null,null,null,null,null,null,null,null,null,null,null,null,null,null,null,null,null,null,null,null,null,null,null,null,null,null,null,null,null,null,null,null,null,null,null,null,null,null,null,null,null,null,null,null,null,null,null,22,"Caso Base 90° Con Clima",{"$f":"+IFERROR(IF(BF1536=\"\",0,IF(T1536<IF(OR(BF1536<=$BP$3,BF1536>=$BO$3),VLOOKUP('CEV-CEVE'!$E$10,$BN$7:$BZ$16,1+E1536,0)-2,VLOOKUP('CEV-CEVE'!$E$10,$BN$7:$BZ$16,1+E1536,0)),1,0)),0)","v":0},{"$f":"+IFERROR(IF(T1536>VLOOKUP('CEV-CEVE'!$E$10,$BN$20:$BZ$29,1+E1536,0),1,0),0)","v":0}]
[null,null,null,null,null,null,null,null,null,null,null,null,null,null,null,null,null,null,null,null,null,null,null,null,null,null,null,null,null,null,null,null,null,null,null,null,null,null,null,null,null,null,null,null,null,null,null,null,null,null,null,null,null,null,null,null,null,{"$f":"+BF1540+1","v":1},"Caso Base 90° Con Clima",{"$f":"+IFERROR(IF(BF1541=\"\",0,IF(T1541<IF(OR(BF1541<=$BP$3,BF1541>=$BO$3),VLOOKUP('CEV-CEVE'!$E$10,$BN$7:$BZ$16,1+E1541,0)-2,VLOOKUP('CEV-CEVE'!$E$10,$BN$7:$BZ$16,1+E1541,0)),1,0)),0)","v":0},{"$f":"+IFERROR(IF(T1541>VLOOKUP('CEV-CEVE'!$E$10,$BN$20:$BZ$29,1+E1541,0),1,0),0)","v":0}]
[null,null,null,null,null,null,null,null,null,null,null,null,null,null,null,null,null,null,null,null,null,null,null,null,null,null,null,null,null,null,null,null,null,null,null,null,null,null,null,null,null,null,null,null,null,null,null,null,null,null,null,null,null,null,null,null,null,6,"Caso Base 90° Con Clima",{"$f":"+IFERROR(IF(BF1546=\"\",0,IF(T1546<IF(OR(BF1546<=$BP$3,BF1546>=$BO$3),VLOOKUP('CEV-CEVE'!$E$10,$BN$7:$BZ$16,1+E1546,0)-2,VLOOKUP('CEV-CEVE'!$E$10,$BN$7:$BZ$16,1+E1546,0)),1,0)),0)","v":0},{"$f":"+IFERROR(IF(T1546>VLOOKUP('CEV-CEVE'!$E$10,$BN$20:$BZ$29,1+E1546,0),1,0),0)","v":0}]
[null,null,null,null,null,null,null,null,null,null,null,null,null,null,null,null,null,null,null,null,null,null,null,null,null,null,null,null,null,null,null,null,null,null,null,null,null,null,null,null,null,null,null,null,null,null,null,null,null,null,null,null,null,null,null,null,null,12,"Caso Base 90° Con Clima",{"$f":"+IFERROR(IF(BF1552=\"\",0,IF(T1552<IF(OR(BF1552<=$BP$3,BF1552>=$BO$3),VLOOKUP('CEV-CEVE'!$E$10,$BN$7:$BZ$16,1+E1552,0)-2,VLOOKUP('CEV-CEVE'!$E$10,$BN$7:$BZ$16,1+E1552,0)),1,0)),0)","v":0},{"$f":"+IFERROR(IF(T1552>VLOOKUP('CEV-CEVE'!$E$10,$BN$20:$BZ$29,1+E1552,0),1,0),0)","v":0}]
[null,null,null,null,null,null,null,null,null,null,null,null,null,null,null,null,null,null,null,null,null,null,null,null,null,null,null,null,null,null,null,null,null,null,null,null,null,null,null,null,null,null,null,null,null,null,null,null,null,null,null,null,null,null,null,null,null,17,"Caso Base 90° Con Clima",{"$f":"+IFERROR(IF(BF1557=\"\",0,IF(T1557<IF(OR(BF1557<=$BP$3,BF1557>=$BO$3),VLOOKUP('CEV-CEVE'!$E$10,$BN$7:$BZ$16,1+E1557,0)-2,VLOOKUP('CEV-CEVE'!$E$10,$BN$7:$BZ$16,1+E1557,0)),1,0)),0)","v":0},{"$f":"+IFERROR(IF(T1557>VLOOKUP('CEV-CEVE'!$E$10,$BN$20:$BZ$29,1+E1557,0),1,0),0)","v":0}]
[null,null,null,null,null,null,null,null,null,null,null,null,null,null,null,null,null,null,null,null,null,null,null,null,null,null,null,null,null,null,null,null,null,null,null,null,null,null,null,null,null,null,null,null,null,null,null,null,null,null,null,null,null,null,null,null,null,22,"Caso Base 90° Con Clima",{"$f":"+IFERROR(IF(BF1562=\"\",0,IF(T1562<IF(OR(BF1562<=$BP$3,BF1562>=$BO$3),VLOOKUP('CEV-CEVE'!$E$10,$BN$7:$BZ$16,1+E1562,0)-2,VLOOKUP('CEV-CEVE'!$E$10,$BN$7:$BZ$16,1+E1562,0)),1,0)),0)","v":0},{"$f":"+IFERROR(IF(T1562>VLOOKUP('CEV-CEVE'!$E$10,$BN$20:$BZ$29,1+E1562,0),1,0),0)","v":0}]
[null,null,null,null,null,null,null,null,null,null,null,null,null,null,null,null,null,null,null,null,null,null,null,null,null,null,null,null,null,null,null,null,null,null,null,null,null,null,null,null,null,null,null,null,null,null,null,null,null,null,null,null,null,null,null,null,null,{"$f":"+BF1567+1","v":2},"Caso Base 90° Sin Clima",{"$f":"+IFERROR(IF(BF1568=\"\",0,IF(T1568<IF(OR(BF1568<=$BP$3,BF1568>=$BO$3),VLOOKUP('CEV-CEVE'!$E$10,$BN$7:$BZ$16,1+E1568,0)-2,VLOOKUP('CEV-CEVE'!$E$10,$BN$7:$BZ$16,1+E1568,0)),1,0)),0)","v":0},{"$f":"+IFERROR(IF(T1568>VLOOKUP('CEV-CEVE'!$E$10,$BN$20:$BZ$29,1+E1568,0),1,0),0)","v":0}]
[null,null,null,null,null,null,null,null,null,null,null,null,null,null,null,null,null,null,null,null,null,null,null,null,null,null,null,null,null,null,null,null,null,null,null,null,null,null,null,null,null,null,null,null,null,null,null,null,null,null,null,null,null,null,null,null,null,7,"Caso Base 90° Sin Clima",{"$f":"+IFERROR(IF(BF1573=\"\",0,IF(T1573<IF(OR(BF1573<=$BP$3,BF1573>=$BO$3),VLOOKUP('CEV-CEVE'!$E$10,$BN$7:$BZ$16,1+E1573,0)-2,VLOOKUP('CEV-CEVE'!$E$10,$BN$7:$BZ$16,1+E1573,0)),1,0)),0)","v":0},{"$f":"+IFERROR(IF(T1573>VLOOKUP('CEV-CEVE'!$E$10,$BN$20:$BZ$29,1+E1573,0),1,0),0)","v":0}]
[null,null,null,null,null,null,null,null,null,null,null,null,null,null,null,null,null,null,null,null,null,null,null,null,null,null,null,null,null,null,null,null,null,null,null,null,null,null,null,null,null,null,null,null,null,null,null,null,null,null,null,null,null,null,null,null,null,13,"Caso Base 90° Sin Clima",{"$f":"+IFERROR(IF(BF1579=\"\",0,IF(T1579<IF(OR(BF1579<=$BP$3,BF1579>=$BO$3),VLOOKUP('CEV-CEVE'!$E$10,$BN$7:$BZ$16,1+E1579,0)-2,VLOOKUP('CEV-CEVE'!$E$10,$BN$7:$BZ$16,1+E1579,0)),1,0)),0)","v":0},{"$f":"+IFERROR(IF(T1579>VLOOKUP('CEV-CEVE'!$E$10,$BN$20:$BZ$29,1+E1579,0),1,0),0)","v":0}]
[null,null,null,null,null,null,null,null,null,null,null,null,null,null,null,null,null,null,null,null,null,null,null,null,null,null,null,null,null,null,null,null,null,null,null,null,null,null,null,null,null,null,null,null,null,null,null,null,null,null,null,null,null,null,null,null,null,18,"Caso Base 90° Sin Clima",{"$f":"+IFERROR(IF(BF1584=\"\",0,IF(T1584<IF(OR(BF1584<=$BP$3,BF1584>=$BO$3),VLOOKUP('CEV-CEVE'!$E$10,$BN$7:$BZ$16,1+E1584,0)-2,VLOOKUP('CEV-CEVE'!$E$10,$BN$7:$BZ$16,1+E1584,0)),1,0)),0)","v":0},{"$f":"+IFERROR(IF(T1584>VLOOKUP('CEV-CEVE'!$E$10,$BN$20:$BZ$29,1+E1584,0),1,0),0)","v":0}]
[null,null,null,null,null,null,null,null,null,null,null,null,null,null,null,null,null,null,null,null,null,null,null,null,null,null,null,null,null,null,null,null,null,null,null,null,null,null,null,null,null,null,null,null,null,null,null,null,null,null,null,null,null,null,null,null,null,23,"Caso Base 90° Sin Clima",{"$f":"+IFERROR(IF(BF1589=\"\",0,IF(T1589<IF(OR(BF1589<=$BP$3,BF1589>=$BO$3),VLOOKUP('CEV-CEVE'!$E$10,$BN$7:$BZ$16,1+E1589,0)-2,VLOOKUP('CEV-CEVE'!$E$10,$BN$7:$BZ$16,1+E1589,0)),1,0)),0)","v":0},{"$f":"+IFERROR(IF(T1589>VLOOKUP('CEV-CEVE'!$E$10,$BN$20:$BZ$29,1+E1589,0),1,0),0)","v":0}]
[null,null,null,null,null,null,null,null,null,null,null,null,null,null,null,null,null,null,null,null,null,null,null,null,null,null,null,null,null,null,null,null,null,null,null,null,null,null,null,null,null,null,null,null,null,null,null,null,null,null,null,null,null,null,null,null,null,3,"Caso Base 90° Sin Clima",{"$f":"+IFERROR(IF(BF1595=\"\",0,IF(T1595<IF(OR(BF1595<=$BP$3,BF1595>=$BO$3),VLOOKUP('CEV-CEVE'!$E$10,$BN$7:$BZ$16,1+E1595,0)-2,VLOOKUP('CEV-CEVE'!$E$10,$BN$7:$BZ$16,1+E1595,0)),1,0)),0)","v":0},{"$f":"+IFERROR(IF(T1595>VLOOKUP('CEV-CEVE'!$E$10,$BN$20:$BZ$29,1+E1595,0),1,0),0)","v":0}]
[null,null,null,null,null,null,null,null,null,null,null,null,null,null,null,null,null,null,null,null,null,null,null,null,null,null,null,null,null,null,null,null,null,null,null,null,null,null,null,null,null,null,null,null,null,null,null,null,null,null,null,null,null,null,null,null,null,8,"Caso Base 90° Sin Clima",{"$f":"+IFERROR(IF(BF1600=\"\",0,IF(T1600<IF(OR(BF1600<=$BP$3,BF1600>=$BO$3),VLOOKUP('CEV-CEVE'!$E$10,$BN$7:$BZ$16,1+E1600,0)-2,VLOOKUP('CEV-CEVE'!$E$10,$BN$7:$BZ$16,1+E1600,0)),1,0)),0)","v":0},{"$f":"+IFERROR(IF(T1600>VLOOKUP('CEV-CEVE'!$E$10,$BN$20:$BZ$29,1+E1600,0),1,0),0)","v":0}]
[null,null,null,null,null,null,null,null,null,null,null,null,null,null,null,null,null,null,null,null,null,null,null,null,null,null,null,null,null,null,null,null,null,null,null,null,null,null,null,null,null,null,null,null,null,null,null,null,null,null,null,null,null,null,null,null,null,9,"Caso Base 90° Sin Clima",{"$f":"+IFERROR(IF(BF1601=\"\",0,IF(T1601<IF(OR(BF1601<=$BP$3,BF1601>=$BO$3),VLOOKUP('CEV-CEVE'!$E$10,$BN$7:$BZ$16,1+E1601,0)-2,VLOOKUP('CEV-CEVE'!$E$10,$BN$7:$BZ$16,1+E1601,0)),1,0)),0)","v":0},{"$f":"+IFERROR(IF(T1601>VLOOKUP('CEV-CEVE'!$E$10,$BN$20:$BZ$29,1+E1601,0),1,0),0)","v":0}]
[null,null,null,null,null,null,null,null,null,null,null,null,null,null,null,null,null,null,null,null,null,null,null,null,null,null,null,null,null,null,null,null,null,null,null,null,null,null,null,null,null,null,null,null,null,null,null,null,null,null,null,null,null,null,null,null,null,14,"Caso Base 90° Sin Clima",{"$f":"+IFERROR(IF(BF1606=\"\",0,IF(T1606<IF(OR(BF1606<=$BP$3,BF1606>=$BO$3),VLOOKUP('CEV-CEVE'!$E$10,$BN$7:$BZ$16,1+E1606,0)-2,VLOOKUP('CEV-CEVE'!$E$10,$BN$7:$BZ$16,1+E1606,0)),1,0)),0)","v":0},{"$f":"+IFERROR(IF(T1606>VLOOKUP('CEV-CEVE'!$E$10,$BN$20:$BZ$29,1+E1606,0),1,0),0)","v":0}]
[null,null,null,null,null,null,null,null,null,null,null,null,null,null,null,null,null,null,null,null,null,null,null,null,null,null,null,null,null,null,null,null,null,null,null,null,null,null,null,null,null,null,null,null,null,null,null,null,null,null,null,null,null,null,null,null,null,19,"Caso Base 90° Sin Clima",{"$f":"+IFERROR(IF(BF1611=\"\",0,IF(T1611<IF(OR(BF1611<=$BP$3,BF1611>=$BO$3),VLOOKUP('CEV-CEVE'!$E$10,$BN$7:$BZ$16,1+E1611,0)-2,VLOOKUP('CEV-CEVE'!$E$10,$BN$7:$BZ$16,1+E1611,0)),1,0)),0)","v":0},{"$f":"+IFERROR(IF(T1611>VLOOKUP('CEV-CEVE'!$E$10,$BN$20:$BZ$29,1+E1611,0),1,0),0)","v":0}]
[null,null,null,null,null,null,null,null,null,null,null,null,null,null,null,null,null,null,null,null,null,null,null,null,null,null,null,null,null,null,null,null,null,null,null,null,null,null,null,null,null,null,null,null,null,null,null,null,null,null,null,null,null,null,null,null,null,null,"Caso Base 90° Sin Clima",{"$f":"+IFERROR(IF(BF1617=\"\",0,IF(T1617<IF(OR(BF1617<=$BP$3,BF1617>=$BO$3),VLOOKUP('CEV-CEVE'!$E$10,$BN$7:$BZ$16,1+E1617,0)-2,VLOOKUP('CEV-CEVE'!$E$10,$BN$7:$BZ$16,1+E1617,0)),1,0)),0)","v":0},{"$f":"+IFERROR(IF(T1617>VLOOKUP('CEV-CEVE'!$E$10,$BN$20:$BZ$29,1+E1617,0),1,0),0)","v":0}]
[null,null,null,null,null,null,null,null,null,null,null,null,null,null,null,null,null,null,null,null,null,null,null,null,null,null,null,null,null,null,null,null,null,null,null,null,null,null,null,null,null,null,null,null,null,null,null,null,null,null,null,null,null,null,null,null,null,4,"Caso Base 90° Sin Clima",{"$f":"+IFERROR(IF(BF1622=\"\",0,IF(T1622<IF(OR(BF1622<=$BP$3,BF1622>=$BO$3),VLOOKUP('CEV-CEVE'!$E$10,$BN$7:$BZ$16,1+E1622,0)-2,VLOOKUP('CEV-CEVE'!$E$10,$BN$7:$BZ$16,1+E1622,0)),1,0)),0)","v":0},{"$f":"+IFERROR(IF(T1622>VLOOKUP('CEV-CEVE'!$E$10,$BN$20:$BZ$29,1+E1622,0),1,0),0)","v":0}]
[null,null,null,null,null,null,null,null,null,null,null,null,null,null,null,null,null,null,null,null,null,null,null,null,null,null,null,null,null,null,null,null,null,null,null,null,null,null,null,null,null,null,null,null,null,null,null,null,null,null,null,null,null,null,null,null,null,9,"Caso Base 90° Sin Clima",{"$f":"+IFERROR(IF(BF1627=\"\",0,IF(T1627<IF(OR(BF1627<=$BP$3,BF1627>=$BO$3),VLOOKUP('CEV-CEVE'!$E$10,$BN$7:$BZ$16,1+E1627,0)-2,VLOOKUP('CEV-CEVE'!$E$10,$BN$7:$BZ$16,1+E1627,0)),1,0)),0)","v":0},{"$f":"+IFERROR(IF(T1627>VLOOKUP('CEV-CEVE'!$E$10,$BN$20:$BZ$29,1+E1627,0),1,0),0)","v":0}]
[null,null,null,null,null,null,null,null,null,null,null,null,null,null,null,null,null,null,null,null,null,null,null,null,null,null,null,null,null,null,null,null,null,null,null,null,null,null,null,null,null,null,null,null,null,null,null,null,null,null,null,null,null,null,null,null,null,15,"Caso Base 90° Sin Clima",{"$f":"+IFERROR(IF(BF1633=\"\",0,IF(T1633<IF(OR(BF1633<=$BP$3,BF1633>=$BO$3),VLOOKUP('CEV-CEVE'!$E$10,$BN$7:$BZ$16,1+E1633,0)-2,VLOOKUP('CEV-CEVE'!$E$10,$BN$7:$BZ$16,1+E1633,0)),1,0)),0)","v":0},{"$f":"+IFERROR(IF(T1633>VLOOKUP('CEV-CEVE'!$E$10,$BN$20:$BZ$29,1+E1633,0),1,0),0)","v":0}]
[null,null,null,null,null,null,null,null,null,null,null,null,null,null,null,null,null,null,null,null,null,null,null,null,null,null,null,null,null,null,null,null,null,null,null,null,null,null,null,null,null,null,null,null,null,null,null,null,null,null,null,null,null,null,null,null,null,20,"Caso Base 90° Sin Clima",{"$f":"+IFERROR(IF(BF1638=\"\",0,IF(T1638<IF(OR(BF1638<=$BP$3,BF1638>=$BO$3),VLOOKUP('CEV-CEVE'!$E$10,$BN$7:$BZ$16,1+E1638,0)-2,VLOOKUP('CEV-CEVE'!$E$10,$BN$7:$BZ$16,1+E1638,0)),1,0)),0)","v":0},{"$f":"+IFERROR(IF(T1638>VLOOKUP('CEV-CEVE'!$E$10,$BN$20:$BZ$29,1+E1638,0),1,0),0)","v":0}]
[null,null,null,null,null,null,null,null,null,null,null,null,null,null,null,null,null,null,null,null,null,null,null,null,null,null,null,null,null,null,null,null,null,null,null,null,null,null,null,null,null,null,null,null,null,null,null,null,null,null,null,null,null,null,null,null,null,0,"Caso Base 90° Sin Clima",{"$f":"+IFERROR(IF(BF1644=\"\",0,IF(T1644<IF(OR(BF1644<=$BP$3,BF1644>=$BO$3),VLOOKUP('CEV-CEVE'!$E$10,$BN$7:$BZ$16,1+E1644,0)-2,VLOOKUP('CEV-CEVE'!$E$10,$BN$7:$BZ$16,1+E1644,0)),1,0)),0)","v":0},{"$f":"+IFERROR(IF(T1644>VLOOKUP('CEV-CEVE'!$E$10,$BN$20:$BZ$29,1+E1644,0),1,0),0)","v":0}]
[null,null,null,null,null,null,null,null,null,null,null,null,null,null,null,null,null,null,null,null,null,null,null,null,null,null,null,null,null,null,null,null,null,null,null,null,null,null,null,null,null,null,null,null,null,null,null,null,null,null,null,null,null,null,null,null,null,5,"Caso Base 90° Sin Clima",{"$f":"+IFERROR(IF(BF1649=\"\",0,IF(T1649<IF(OR(BF1649<=$BP$3,BF1649>=$BO$3),VLOOKUP('CEV-CEVE'!$E$10,$BN$7:$BZ$16,1+E1649,0)-2,VLOOKUP('CEV-CEVE'!$E$10,$BN$7:$BZ$16,1+E1649,0)),1,0)),0)","v":0},{"$f":"+IFERROR(IF(T1649>VLOOKUP('CEV-CEVE'!$E$10,$BN$20:$BZ$29,1+E1649,0),1,0),0)","v":0}]
[null,null,null,null,null,null,null,null,null,null,null,null,null,null,null,null,null,null,null,null,null,null,null,null,null,null,null,null,null,null,null,null,null,null,null,null,null,null,null,null,null,null,null,null,null,null,null,null,null,null,null,null,null,null,null,null,null,10,"Caso Base 90° Sin Clima",{"$f":"+IFERROR(IF(BF1654=\"\",0,IF(T1654<IF(OR(BF1654<=$BP$3,BF1654>=$BO$3),VLOOKUP('CEV-CEVE'!$E$10,$BN$7:$BZ$16,1+E1654,0)-2,VLOOKUP('CEV-CEVE'!$E$10,$BN$7:$BZ$16,1+E1654,0)),1,0)),0)","v":0},{"$f":"+IFERROR(IF(T1654>VLOOKUP('CEV-CEVE'!$E$10,$BN$20:$BZ$29,1+E1654,0),1,0),0)","v":0}]
[null,null,null,null,null,null,null,null,null,null,null,null,null,null,null,null,null,null,null,null,null,null,null,null,null,null,null,null,null,null,null,null,null,null,null,null,null,null,null,null,null,null,null,null,null,null,null,null,null,null,null,null,null,null,null,null,null,16,"Caso Base 90° Sin Clima",{"$f":"+IFERROR(IF(BF1660=\"\",0,IF(T1660<IF(OR(BF1660<=$BP$3,BF1660>=$BO$3),VLOOKUP('CEV-CEVE'!$E$10,$BN$7:$BZ$16,1+E1660,0)-2,VLOOKUP('CEV-CEVE'!$E$10,$BN$7:$BZ$16,1+E1660,0)),1,0)),0)","v":0},{"$f":"+IFERROR(IF(T1660>VLOOKUP('CEV-CEVE'!$E$10,$BN$20:$BZ$29,1+E1660,0),1,0),0)","v":0}]
[null,null,null,null,null,null,null,null,null,null,null,null,null,null,null,null,null,null,null,null,null,null,null,null,null,null,null,null,null,null,null,null,null,null,null,null,null,null,null,null,null,null,null,null,null,null,null,null,null,null,null,null,null,null,null,null,null,21,"Caso Base 90° Sin Clima",{"$f":"+IFERROR(IF(BF1665=\"\",0,IF(T1665<IF(OR(BF1665<=$BP$3,BF1665>=$BO$3),VLOOKUP('CEV-CEVE'!$E$10,$BN$7:$BZ$16,1+E1665,0)-2,VLOOKUP('CEV-CEVE'!$E$10,$BN$7:$BZ$16,1+E1665,0)),1,0)),0)","v":0},{"$f":"+IFERROR(IF(T1665>VLOOKUP('CEV-CEVE'!$E$10,$BN$20:$BZ$29,1+E1665,0),1,0),0)","v":0}]
[null,null,null,null,null,null,null,null,null,null,null,null,null,null,null,null,null,null,null,null,null,null,null,null,null,null,null,null,null,null,null,null,null,null,null,null,null,null,null,null,null,null,null,null,null,null,null,null,null,null,null,null,null,null,null,null,null,0,"Caso Base 90° Sin Clima",{"$f":"+IFERROR(IF(BF1670=\"\",0,IF(T1670<IF(OR(BF1670<=$BP$3,BF1670>=$BO$3),VLOOKUP('CEV-CEVE'!$E$10,$BN$7:$BZ$16,1+E1670,0)-2,VLOOKUP('CEV-CEVE'!$E$10,$BN$7:$BZ$16,1+E1670,0)),1,0)),0)","v":0},{"$f":"+IFERROR(IF(T1670>VLOOKUP('CEV-CEVE'!$E$10,$BN$20:$BZ$29,1+E1670,0),1,0),0)","v":0}]
[null,null,null,null,null,null,null,null,null,null,null,null,null,null,null,null,null,null,null,null,null,null,null,null,null,null,null,null,null,null,null,null,null,null,null,null,null,null,null,null,null,null,null,null,null,null,null,null,null,null,null,null,null,null,null,null,null,{"$f":"+BF1670+1","v":1},"Caso Base 90° Sin Clima",{"$f":"+IFERROR(IF(BF1671=\"\",0,IF(T1671<IF(OR(BF1671<=$BP$3,BF1671>=$BO$3),VLOOKUP('CEV-CEVE'!$E$10,$BN$7:$BZ$16,1+E1671,0)-2,VLOOKUP('CEV-CEVE'!$E$10,$BN$7:$BZ$16,1+E1671,0)),1,0)),0)","v":0},{"$f":"+IFERROR(IF(T1671>VLOOKUP('CEV-CEVE'!$E$10,$BN$20:$BZ$29,1+E1671,0),1,0),0)","v":0}]
[null,null,null,null,null,null,null,null,null,null,null,null,null,null,null,null,null,null,null,null,null,null,null,null,null,null,null,null,null,null,null,null,null,null,null,null,null,null,null,null,null,null,null,null,null,null,null,null,null,null,null,null,null,null,null,null,null,6,"Caso Base 90° Sin Clima",{"$f":"+IFERROR(IF(BF1676=\"\",0,IF(T1676<IF(OR(BF1676<=$BP$3,BF1676>=$BO$3),VLOOKUP('CEV-CEVE'!$E$10,$BN$7:$BZ$16,1+E1676,0)-2,VLOOKUP('CEV-CEVE'!$E$10,$BN$7:$BZ$16,1+E1676,0)),1,0)),0)","v":0},{"$f":"+IFERROR(IF(T1676>VLOOKUP('CEV-CEVE'!$E$10,$BN$20:$BZ$29,1+E1676,0),1,0),0)","v":0}]
[null,null,null,null,null,null,null,null,null,null,null,null,null,null,null,null,null,null,null,null,null,null,null,null,null,null,null,null,null,null,null,null,null,null,null,null,null,null,null,null,null,null,null,null,null,null,null,null,null,null,null,null,null,null,null,null,null,12,"Caso Base 90° Sin Clima",{"$f":"+IFERROR(IF(BF1682=\"\",0,IF(T1682<IF(OR(BF1682<=$BP$3,BF1682>=$BO$3),VLOOKUP('CEV-CEVE'!$E$10,$BN$7:$BZ$16,1+E1682,0)-2,VLOOKUP('CEV-CEVE'!$E$10,$BN$7:$BZ$16,1+E1682,0)),1,0)),0)","v":0},{"$f":"+IFERROR(IF(T1682>VLOOKUP('CEV-CEVE'!$E$10,$BN$20:$BZ$29,1+E1682,0),1,0),0)","v":0}]
[null,null,null,null,null,null,null,null,null,null,null,null,null,null,null,null,null,null,null,null,null,null,null,null,null,null,null,null,null,null,null,null,null,null,null,null,null,null,null,null,null,null,null,null,null,null,null,null,null,null,null,null,null,null,null,null,null,17,"Caso Base 90° Sin Clima",{"$f":"+IFERROR(IF(BF1687=\"\",0,IF(T1687<IF(OR(BF1687<=$BP$3,BF1687>=$BO$3),VLOOKUP('CEV-CEVE'!$E$10,$BN$7:$BZ$16,1+E1687,0)-2,VLOOKUP('CEV-CEVE'!$E$10,$BN$7:$BZ$16,1+E1687,0)),1,0)),0)","v":0},{"$f":"+IFERROR(IF(T1687>VLOOKUP('CEV-CEVE'!$E$10,$BN$20:$BZ$29,1+E1687,0),1,0),0)","v":0}]
[null,null,null,null,null,null,null,null,null,null,null,null,null,null,null,null,null,null,null,null,null,null,null,null,null,null,null,null,null,null,null,null,null,null,null,null,null,null,null,null,null,null,null,null,null,null,null,null,null,null,null,null,null,null,null,null,null,22,"Caso Base 90° Sin Clima",{"$f":"+IFERROR(IF(BF1692=\"\",0,IF(T1692<IF(OR(BF1692<=$BP$3,BF1692>=$BO$3),VLOOKUP('CEV-CEVE'!$E$10,$BN$7:$BZ$16,1+E1692,0)-2,VLOOKUP('CEV-CEVE'!$E$10,$BN$7:$BZ$16,1+E1692,0)),1,0)),0)","v":0},{"$f":"+IFERROR(IF(T1692>VLOOKUP('CEV-CEVE'!$E$10,$BN$20:$BZ$29,1+E1692,0),1,0),0)","v":0}]
[null,null,null,null,null,null,null,null,null,null,null,null,null,null,null,null,null,null,null,null,null,null,null,null,null,null,null,null,null,null,null,null,null,null,null,null,null,null,null,null,null,null,null,null,null,null,null,null,null,null,null,null,null,null,null,null,null,{"$f":"+BF1697+1","v":2},"Caso Base 90° Sin Clima",{"$f":"+IFERROR(IF(BF1698=\"\",0,IF(T1698<IF(OR(BF1698<=$BP$3,BF1698>=$BO$3),VLOOKUP('CEV-CEVE'!$E$10,$BN$7:$BZ$16,1+E1698,0)-2,VLOOKUP('CEV-CEVE'!$E$10,$BN$7:$BZ$16,1+E1698,0)),1,0)),0)","v":0},{"$f":"+IFERROR(IF(T1698>VLOOKUP('CEV-CEVE'!$E$10,$BN$20:$BZ$29,1+E1698,0),1,0),0)","v":0}]
[null,null,null,null,null,null,null,null,null,null,null,null,null,null,null,null,null,null,null,null,null,null,null,null,null,null,null,null,null,null,null,null,null,null,null,null,null,null,null,null,null,null,null,null,null,null,null,null,null,null,null,null,null,null,null,null,null,7,"Caso Base 90° Sin Clima",{"$f":"+IFERROR(IF(BF1703=\"\",0,IF(T1703<IF(OR(BF1703<=$BP$3,BF1703>=$BO$3),VLOOKUP('CEV-CEVE'!$E$10,$BN$7:$BZ$16,1+E1703,0)-2,VLOOKUP('CEV-CEVE'!$E$10,$BN$7:$BZ$16,1+E1703,0)),1,0)),0)","v":0},{"$f":"+IFERROR(IF(T1703>VLOOKUP('CEV-CEVE'!$E$10,$BN$20:$BZ$29,1+E1703,0),1,0),0)","v":0}]
[null,null,null,null,null,null,null,null,null,null,null,null,null,null,null,null,null,null,null,null,null,null,null,null,null,null,null,null,null,null,null,null,null,null,null,null,null,null,null,null,null,null,null,null,null,null,null,null,null,null,null,null,null,null,null,null,null,13,"Caso Base 90° Sin Clima",{"$f":"+IFERROR(IF(BF1709=\"\",0,IF(T1709<IF(OR(BF1709<=$BP$3,BF1709>=$BO$3),VLOOKUP('CEV-CEVE'!$E$10,$BN$7:$BZ$16,1+E1709,0)-2,VLOOKUP('CEV-CEVE'!$E$10,$BN$7:$BZ$16,1+E1709,0)),1,0)),0)","v":0},{"$f":"+IFERROR(IF(T1709>VLOOKUP('CEV-CEVE'!$E$10,$BN$20:$BZ$29,1+E1709,0),1,0),0)","v":0}]
[null,null,null,null,null,null,null,null,null,null,null,null,null,null,null,null,null,null,null,null,null,null,null,null,null,null,null,null,null,null,null,null,null,null,null,null,null,null,null,null,null,null,null,null,null,null,null,null,null,null,null,null,null,null,null,null,null,18,"Caso Base 90° Sin Clima",{"$f":"+IFERROR(IF(BF1714=\"\",0,IF(T1714<IF(OR(BF1714<=$BP$3,BF1714>=$BO$3),VLOOKUP('CEV-CEVE'!$E$10,$BN$7:$BZ$16,1+E1714,0)-2,VLOOKUP('CEV-CEVE'!$E$10,$BN$7:$BZ$16,1+E1714,0)),1,0)),0)","v":0},{"$f":"+IFERROR(IF(T1714>VLOOKUP('CEV-CEVE'!$E$10,$BN$20:$BZ$29,1+E1714,0),1,0),0)","v":0}]
[null,null,null,null,null,null,null,null,null,null,null,null,null,null,null,null,null,null,null,null,null,null,null,null,null,null,null,null,null,null,null,null,null,null,null,null,null,null,null,null,null,null,null,null,null,null,null,null,null,null,null,null,null,null,null,null,null,23,"Caso Base 90° Sin Clima",{"$f":"+IFERROR(IF(BF1719=\"\",0,IF(T1719<IF(OR(BF1719<=$BP$3,BF1719>=$BO$3),VLOOKUP('CEV-CEVE'!$E$10,$BN$7:$BZ$16,1+E1719,0)-2,VLOOKUP('CEV-CEVE'!$E$10,$BN$7:$BZ$16,1+E1719,0)),1,0)),0)","v":0},{"$f":"+IFERROR(IF(T1719>VLOOKUP('CEV-CEVE'!$E$10,$BN$20:$BZ$29,1+E1719,0),1,0),0)","v":0}]
[null,null,null,null,null,null,null,null,null,null,null,null,null,null,null,null,null,null,null,null,null,null,null,null,null,null,null,null,null,null,null,null,null,null,null,null,null,null,null,null,null,null,null,null,null,null,null,null,null,null,null,null,null,null,null,null,null,3,"Caso Base 90° Sin Clima",{"$f":"+IFERROR(IF(BF1725=\"\",0,IF(T1725<IF(OR(BF1725<=$BP$3,BF1725>=$BO$3),VLOOKUP('CEV-CEVE'!$E$10,$BN$7:$BZ$16,1+E1725,0)-2,VLOOKUP('CEV-CEVE'!$E$10,$BN$7:$BZ$16,1+E1725,0)),1,0)),0)","v":0},{"$f":"+IFERROR(IF(T1725>VLOOKUP('CEV-CEVE'!$E$10,$BN$20:$BZ$29,1+E1725,0),1,0),0)","v":0}]
[null,null,null,null,null,null,null,null,null,null,null,null,null,null,null,null,null,null,null,null,null,null,null,null,null,null,null,null,null,null,null,null,null,null,null,null,null,null,null,null,null,null,null,null,null,null,null,null,null,null,null,null,null,null,null,null,null,8,"Caso Base 90° Sin Clima",{"$f":"+IFERROR(IF(BF1730=\"\",0,IF(T1730<IF(OR(BF1730<=$BP$3,BF1730>=$BO$3),VLOOKUP('CEV-CEVE'!$E$10,$BN$7:$BZ$16,1+E1730,0)-2,VLOOKUP('CEV-CEVE'!$E$10,$BN$7:$BZ$16,1+E1730,0)),1,0)),0)","v":0},{"$f":"+IFERROR(IF(T1730>VLOOKUP('CEV-CEVE'!$E$10,$BN$20:$BZ$29,1+E1730,0),1,0),0)","v":0}]
[null,null,null,null,null,null,null,null,null,null,null,null,null,null,null,null,null,null,null,null,null,null,null,null,null,null,null,null,null,null,null,null,null,null,null,null,null,null,null,null,null,null,null,null,null,null,null,null,null,null,null,null,null,null,null,null,null,13,"Caso Base 90° Sin Clima",{"$f":"+IFERROR(IF(BF1735=\"\",0,IF(T1735<IF(OR(BF1735<=$BP$3,BF1735>=$BO$3),VLOOKUP('CEV-CEVE'!$E$10,$BN$7:$BZ$16,1+E1735,0)-2,VLOOKUP('CEV-CEVE'!$E$10,$BN$7:$BZ$16,1+E1735,0)),1,0)),0)","v":0},{"$f":"+IFERROR(IF(T1735>VLOOKUP('CEV-CEVE'!$E$10,$BN$20:$BZ$29,1+E1735,0),1,0),0)","v":0}]
[null,null,null,null,null,null,null,null,null,null,null,null,null,null,null,null,null,null,null,null,null,null,null,null,null,null,null,null,null,null,null,null,null,null,null,null,null,null,null,null,null,null,null,null,null,null,null,null,null,null,null,null,null,null,null,null,null,14,"Caso Base 90° Sin Clima",{"$f":"+IFERROR(IF(BF1736=\"\",0,IF(T1736<IF(OR(BF1736<=$BP$3,BF1736>=$BO$3),VLOOKUP('CEV-CEVE'!$E$10,$BN$7:$BZ$16,1+E1736,0)-2,VLOOKUP('CEV-CEVE'!$E$10,$BN$7:$BZ$16,1+E1736,0)),1,0)),0)","v":0},{"$f":"+IFERROR(IF(T1736>VLOOKUP('CEV-CEVE'!$E$10,$BN$20:$BZ$29,1+E1736,0),1,0),0)","v":0}]
[null,null,null,null,null,null,null,null,null,null,null,null,null,null,null,null,null,null,null,null,null,null,null,null,null,null,null,null,null,null,null,null,null,null,null,null,null,null,null,null,null,null,null,null,null,null,null,null,null,null,null,null,null,null,null,null,null,19,"Caso Base 90° Sin Clima",{"$f":"+IFERROR(IF(BF1741=\"\",0,IF(T1741<IF(OR(BF1741<=$BP$3,BF1741>=$BO$3),VLOOKUP('CEV-CEVE'!$E$10,$BN$7:$BZ$16,1+E1741,0)-2,VLOOKUP('CEV-CEVE'!$E$10,$BN$7:$BZ$16,1+E1741,0)),1,0)),0)","v":0},{"$f":"+IFERROR(IF(T1741>VLOOKUP('CEV-CEVE'!$E$10,$BN$20:$BZ$29,1+E1741,0),1,0),0)","v":0}]
[null,null,null,null,null,null,null,null,null,null,null,null,null,null,null,null,null,null,null,null,null,null,null,null,null,null,null,null,null,null,null,null,null,null,null,null,null,null,null,null,null,null,null,null,null,null,null,null,null,null,null,null,null,null,null,null,null,null,"Caso Base 90° Sin Clima",{"$f":"+IFERROR(IF(BF1747=\"\",0,IF(T1747<IF(OR(BF1747<=$BP$3,BF1747>=$BO$3),VLOOKUP('CEV-CEVE'!$E$10,$BN$7:$BZ$16,1+E1747,0)-2,VLOOKUP('CEV-CEVE'!$E$10,$BN$7:$BZ$16,1+E1747,0)),1,0)),0)","v":0},{"$f":"+IFERROR(IF(T1747>VLOOKUP('CEV-CEVE'!$E$10,$BN$20:$BZ$29,1+E1747,0),1,0),0)","v":0}]
[null,null,null,null,null,null,null,null,null,null,null,null,null,null,null,null,null,null,null,null,null,null,null,null,null,null,null,null,null,null,null,null,null,null,null,null,null,null,null,null,null,null,null,null,null,null,null,null,null,null,null,null,null,null,null,null,null,4,"Caso Base 90° Sin Clima",{"$f":"+IFERROR(IF(BF1752=\"\",0,IF(T1752<IF(OR(BF1752<=$BP$3,BF1752>=$BO$3),VLOOKUP('CEV-CEVE'!$E$10,$BN$7:$BZ$16,1+E1752,0)-2,VLOOKUP('CEV-CEVE'!$E$10,$BN$7:$BZ$16,1+E1752,0)),1,0)),0)","v":0},{"$f":"+IFERROR(IF(T1752>VLOOKUP('CEV-CEVE'!$E$10,$BN$20:$BZ$29,1+E1752,0),1,0),0)","v":0}]
[null,null,null,null,null,null,null,null,null,null,null,null,null,null,null,null,null,null,null,null,null,null,null,null,null,null,null,null,null,null,null,null,null,null,null,null,null,null,null,null,null,null,null,null,null,null,null,null,null,null,null,null,null,null,null,null,null,9,"Caso Base 90° Sin Clima",{"$f":"+IFERROR(IF(BF1757=\"\",0,IF(T1757<IF(OR(BF1757<=$BP$3,BF1757>=$BO$3),VLOOKUP('CEV-CEVE'!$E$10,$BN$7:$BZ$16,1+E1757,0)-2,VLOOKUP('CEV-CEVE'!$E$10,$BN$7:$BZ$16,1+E1757,0)),1,0)),0)","v":0},{"$f":"+IFERROR(IF(T1757>VLOOKUP('CEV-CEVE'!$E$10,$BN$20:$BZ$29,1+E1757,0),1,0),0)","v":0}]
[null,null,null,null,null,null,null,null,null,null,null,null,null,null,null,null,null,null,null,null,null,null,null,null,null,null,null,null,null,null,null,null,null,null,null,null,null,null,null,null,null,null,null,null,null,null,null,null,null,null,null,null,null,null,null,null,null,15,"Caso Base 90° Sin Clima",{"$f":"+IFERROR(IF(BF1763=\"\",0,IF(T1763<IF(OR(BF1763<=$BP$3,BF1763>=$BO$3),VLOOKUP('CEV-CEVE'!$E$10,$BN$7:$BZ$16,1+E1763,0)-2,VLOOKUP('CEV-CEVE'!$E$10,$BN$7:$BZ$16,1+E1763,0)),1,0)),0)","v":0},{"$f":"+IFERROR(IF(T1763>VLOOKUP('CEV-CEVE'!$E$10,$BN$20:$BZ$29,1+E1763,0),1,0),0)","v":0}]
[null,null,null,null,null,null,null,null,null,null,null,null,null,null,null,null,null,null,null,null,null,null,null,null,null,null,null,null,null,null,null,null,null,null,null,null,null,null,null,null,null,null,null,null,null,null,null,null,null,null,null,null,null,null,null,null,null,20,"Caso Base 90° Sin Clima",{"$f":"+IFERROR(IF(BF1768=\"\",0,IF(T1768<IF(OR(BF1768<=$BP$3,BF1768>=$BO$3),VLOOKUP('CEV-CEVE'!$E$10,$BN$7:$BZ$16,1+E1768,0)-2,VLOOKUP('CEV-CEVE'!$E$10,$BN$7:$BZ$16,1+E1768,0)),1,0)),0)","v":0},{"$f":"+IFERROR(IF(T1768>VLOOKUP('CEV-CEVE'!$E$10,$BN$20:$BZ$29,1+E1768,0),1,0),0)","v":0}]
[null,null,null,null,null,null,null,null,null,null,null,null,null,null,null,null,null,null,null,null,null,null,null,null,null,null,null,null,null,null,null,null,null,null,null,null,null,null,null,null,null,null,null,null,null,null,null,null,null,null,null,null,null,null,null,null,null,0,"Caso Base 90° Sin Clima",{"$f":"+IFERROR(IF(BF1774=\"\",0,IF(T1774<IF(OR(BF1774<=$BP$3,BF1774>=$BO$3),VLOOKUP('CEV-CEVE'!$E$10,$BN$7:$BZ$16,1+E1774,0)-2,VLOOKUP('CEV-CEVE'!$E$10,$BN$7:$BZ$16,1+E1774,0)),1,0)),0)","v":0},{"$f":"+IFERROR(IF(T1774>VLOOKUP('CEV-CEVE'!$E$10,$BN$20:$BZ$29,1+E1774,0),1,0),0)","v":0}]
[null,null,null,null,null,null,null,null,null,null,null,null,null,null,null,null,null,null,null,null,null,null,null,null,null,null,null,null,null,null,null,null,null,null,null,null,null,null,null,null,null,null,null,null,null,null,null,null,null,null,null,null,null,null,null,null,null,5,"Caso Base 90° Sin Clima",{"$f":"+IFERROR(IF(BF1779=\"\",0,IF(T1779<IF(OR(BF1779<=$BP$3,BF1779>=$BO$3),VLOOKUP('CEV-CEVE'!$E$10,$BN$7:$BZ$16,1+E1779,0)-2,VLOOKUP('CEV-CEVE'!$E$10,$BN$7:$BZ$16,1+E1779,0)),1,0)),0)","v":0},{"$f":"+IFERROR(IF(T1779>VLOOKUP('CEV-CEVE'!$E$10,$BN$20:$BZ$29,1+E1779,0),1,0),0)","v":0}]
[null,null,null,null,null,null,null,null,null,null,null,null,null,null,null,null,null,null,null,null,null,null,null,null,null,null,null,null,null,null,null,null,null,null,null,null,null,null,null,null,null,null,null,null,null,null,null,null,null,null,null,null,null,null,null,null,null,10,"Caso Base 90° Sin Clima",{"$f":"+IFERROR(IF(BF1784=\"\",0,IF(T1784<IF(OR(BF1784<=$BP$3,BF1784>=$BO$3),VLOOKUP('CEV-CEVE'!$E$10,$BN$7:$BZ$16,1+E1784,0)-2,VLOOKUP('CEV-CEVE'!$E$10,$BN$7:$BZ$16,1+E1784,0)),1,0)),0)","v":0},{"$f":"+IFERROR(IF(T1784>VLOOKUP('CEV-CEVE'!$E$10,$BN$20:$BZ$29,1+E1784,0),1,0),0)","v":0}]
[null,null,null,null,null,null,null,null,null,null,null,null,null,null,null,null,null,null,null,null,null,null,null,null,null,null,null,null,null,null,null,null,null,null,null,null,null,null,null,null,null,null,null,null,null,null,null,null,null,null,null,null,null,null,null,null,null,16,"Caso Base 90° Sin Clima",{"$f":"+IFERROR(IF(BF1790=\"\",0,IF(T1790<IF(OR(BF1790<=$BP$3,BF1790>=$BO$3),VLOOKUP('CEV-CEVE'!$E$10,$BN$7:$BZ$16,1+E1790,0)-2,VLOOKUP('CEV-CEVE'!$E$10,$BN$7:$BZ$16,1+E1790,0)),1,0)),0)","v":0},{"$f":"+IFERROR(IF(T1790>VLOOKUP('CEV-CEVE'!$E$10,$BN$20:$BZ$29,1+E1790,0),1,0),0)","v":0}]
[null,null,null,null,null,null,null,null,null,null,null,null,null,null,null,null,null,null,null,null,null,null,null,null,null,null,null,null,null,null,null,null,null,null,null,null,null,null,null,null,null,null,null,null,null,null,null,null,null,null,null,null,null,null,null,null,null,21,"Caso Base 90° Sin Clima",{"$f":"+IFERROR(IF(BF1795=\"\",0,IF(T1795<IF(OR(BF1795<=$BP$3,BF1795>=$BO$3),VLOOKUP('CEV-CEVE'!$E$10,$BN$7:$BZ$16,1+E1795,0)-2,VLOOKUP('CEV-CEVE'!$E$10,$BN$7:$BZ$16,1+E1795,0)),1,0)),0)","v":0},{"$f":"+IFERROR(IF(T1795>VLOOKUP('CEV-CEVE'!$E$10,$BN$20:$BZ$29,1+E1795,0),1,0),0)","v":0}]
[null,null,null,null,null,null,null,null,null,null,null,null,null,null,null,null,null,null,null,null,null,null,null,null,null,null,null,null,null,null,null,null,null,null,null,null,null,null,null,null,null,null,null,null,null,null,null,null,null,null,null,null,null,null,null,null,null,0,"Caso Base 90° Sin Clima",{"$f":"+IFERROR(IF(BF1800=\"\",0,IF(T1800<IF(OR(BF1800<=$BP$3,BF1800>=$BO$3),VLOOKUP('CEV-CEVE'!$E$10,$BN$7:$BZ$16,1+E1800,0)-2,VLOOKUP('CEV-CEVE'!$E$10,$BN$7:$BZ$16,1+E1800,0)),1,0)),0)","v":0},{"$f":"+IFERROR(IF(T1800>VLOOKUP('CEV-CEVE'!$E$10,$BN$20:$BZ$29,1+E1800,0),1,0),0)","v":0}]
[null,null,null,null,null,null,null,null,null,null,null,null,null,null,null,null,null,null,null,null,null,null,null,null,null,null,null,null,null,null,null,null,null,null,null,null,null,null,null,null,null,null,null,null,null,null,null,null,null,null,null,null,null,null,null,null,null,{"$f":"+BF1800+1","v":1},"Caso Base 90° Sin Clima",{"$f":"+IFERROR(IF(BF1801=\"\",0,IF(T1801<IF(OR(BF1801<=$BP$3,BF1801>=$BO$3),VLOOKUP('CEV-CEVE'!$E$10,$BN$7:$BZ$16,1+E1801,0)-2,VLOOKUP('CEV-CEVE'!$E$10,$BN$7:$BZ$16,1+E1801,0)),1,0)),0)","v":0},{"$f":"+IFERROR(IF(T1801>VLOOKUP('CEV-CEVE'!$E$10,$BN$20:$BZ$29,1+E1801,0),1,0),0)","v":0}]
[null,null,null,null,null,null,null,null,null,null,null,null,null,null,null,null,null,null,null,null,null,null,null,null,null,null,null,null,null,null,null,null,null,null,null,null,null,null,null,null,null,null,null,null,null,null,null,null,null,null,null,null,null,null,null,null,null,6,"Caso Base 90° Sin Clima",{"$f":"+IFERROR(IF(BF1806=\"\",0,IF(T1806<IF(OR(BF1806<=$BP$3,BF1806>=$BO$3),VLOOKUP('CEV-CEVE'!$E$10,$BN$7:$BZ$16,1+E1806,0)-2,VLOOKUP('CEV-CEVE'!$E$10,$BN$7:$BZ$16,1+E1806,0)),1,0)),0)","v":0},{"$f":"+IFERROR(IF(T1806>VLOOKUP('CEV-CEVE'!$E$10,$BN$20:$BZ$29,1+E1806,0),1,0),0)","v":0}]
[null,null,null,null,null,null,null,null,null,null,null,null,null,null,null,null,null,null,null,null,null,null,null,null,null,null,null,null,null,null,null,null,null,null,null,null,null,null,null,null,null,null,null,null,null,null,null,null,null,null,null,null,null,null,null,null,null,12,"Caso Base 90° Sin Clima",{"$f":"+IFERROR(IF(BF1812=\"\",0,IF(T1812<IF(OR(BF1812<=$BP$3,BF1812>=$BO$3),VLOOKUP('CEV-CEVE'!$E$10,$BN$7:$BZ$16,1+E1812,0)-2,VLOOKUP('CEV-CEVE'!$E$10,$BN$7:$BZ$16,1+E1812,0)),1,0)),0)","v":0},{"$f":"+IFERROR(IF(T1812>VLOOKUP('CEV-CEVE'!$E$10,$BN$20:$BZ$29,1+E1812,0),1,0),0)","v":0}]
[null,null,null,null,null,null,null,null,null,null,null,null,null,null,null,null,null,null,null,null,null,null,null,null,null,null,null,null,null,null,null,null,null,null,null,null,null,null,null,null,null,null,null,null,null,null,null,null,null,null,null,null,null,null,null,null,null,17,"Caso Base 90° Sin Clima",{"$f":"+IFERROR(IF(BF1817=\"\",0,IF(T1817<IF(OR(BF1817<=$BP$3,BF1817>=$BO$3),VLOOKUP('CEV-CEVE'!$E$10,$BN$7:$BZ$16,1+E1817,0)-2,VLOOKUP('CEV-CEVE'!$E$10,$BN$7:$BZ$16,1+E1817,0)),1,0)),0)","v":0},{"$f":"+IFERROR(IF(T1817>VLOOKUP('CEV-CEVE'!$E$10,$BN$20:$BZ$29,1+E1817,0),1,0),0)","v":0}]
[null,null,null,null,null,null,null,null,null,null,null,null,null,null,null,null,null,null,null,null,null,null,null,null,null,null,null,null,null,null,null,null,null,null,null,null,null,null,null,null,null,null,null,null,null,null,null,null,null,null,null,null,null,null,null,null,null,22,"Caso Base 90° Sin Clima",{"$f":"+IFERROR(IF(BF1822=\"\",0,IF(T1822<IF(OR(BF1822<=$BP$3,BF1822>=$BO$3),VLOOKUP('CEV-CEVE'!$E$10,$BN$7:$BZ$16,1+E1822,0)-2,VLOOKUP('CEV-CEVE'!$E$10,$BN$7:$BZ$16,1+E1822,0)),1,0)),0)","v":0},{"$f":"+IFERROR(IF(T1822>VLOOKUP('CEV-CEVE'!$E$10,$BN$20:$BZ$29,1+E1822,0),1,0),0)","v":0}]
[null,null,null,null,null,null,null,null,null,null,null,null,null,null,null,null,null,null,null,null,null,null,null,null,null,null,null,null,null,null,null,null,null,null,null,null,null,null,null,null,null,null,null,null,null,null,null,null,null,null,null,null,null,null,null,null,null,{"$f":"+BF1827+1","v":2},"Caso Base 90° Sin Clima",{"$f":"+IFERROR(IF(BF1828=\"\",0,IF(T1828<IF(OR(BF1828<=$BP$3,BF1828>=$BO$3),VLOOKUP('CEV-CEVE'!$E$10,$BN$7:$BZ$16,1+E1828,0)-2,VLOOKUP('CEV-CEVE'!$E$10,$BN$7:$BZ$16,1+E1828,0)),1,0)),0)","v":0},{"$f":"+IFERROR(IF(T1828>VLOOKUP('CEV-CEVE'!$E$10,$BN$20:$BZ$29,1+E1828,0),1,0),0)","v":0}]
[null,null,null,null,null,null,null,null,null,null,null,null,null,null,null,null,null,null,null,null,null,null,null,null,null,null,null,null,null,null,null,null,null,null,null,null,null,null,null,null,null,null,null,null,null,null,null,null,null,null,null,null,null,null,null,null,null,7,"Caso Base 90° Sin Clima",{"$f":"+IFERROR(IF(BF1833=\"\",0,IF(T1833<IF(OR(BF1833<=$BP$3,BF1833>=$BO$3),VLOOKUP('CEV-CEVE'!$E$10,$BN$7:$BZ$16,1+E1833,0)-2,VLOOKUP('CEV-CEVE'!$E$10,$BN$7:$BZ$16,1+E1833,0)),1,0)),0)","v":0},{"$f":"+IFERROR(IF(T1833>VLOOKUP('CEV-CEVE'!$E$10,$BN$20:$BZ$29,1+E1833,0),1,0),0)","v":0}]
[null,null,null,null,null,null,null,null,null,null,null,null,null,null,null,null,null,null,null,null,null,null,null,null,null,null,null,null,null,null,null,null,null,null,null,null,null,null,null,null,null,null,null,null,null,null,null,null,null,null,null,null,null,null,null,null,null,12,"Caso Base 90° Sin Clima",{"$f":"+IFERROR(IF(BF1838=\"\",0,IF(T1838<IF(OR(BF1838<=$BP$3,BF1838>=$BO$3),VLOOKUP('CEV-CEVE'!$E$10,$BN$7:$BZ$16,1+E1838,0)-2,VLOOKUP('CEV-CEVE'!$E$10,$BN$7:$BZ$16,1+E1838,0)),1,0)),0)","v":0},{"$f":"+IFERROR(IF(T1838>VLOOKUP('CEV-CEVE'!$E$10,$BN$20:$BZ$29,1+E1838,0),1,0),0)","v":0}]
[null,null,null,null,null,null,null,null,null,null,null,null,null,null,null,null,null,null,null,null,null,null,null,null,null,null,null,null,null,null,null,null,null,null,null,null,null,null,null,null,null,null,null,null,null,null,null,null,null,null,null,null,null,null,null,null,null,18,"Caso Base 90° Sin Clima",{"$f":"+IFERROR(IF(BF1844=\"\",0,IF(T1844<IF(OR(BF1844<=$BP$3,BF1844>=$BO$3),VLOOKUP('CEV-CEVE'!$E$10,$BN$7:$BZ$16,1+E1844,0)-2,VLOOKUP('CEV-CEVE'!$E$10,$BN$7:$BZ$16,1+E1844,0)),1,0)),0)","v":0},{"$f":"+IFERROR(IF(T1844>VLOOKUP('CEV-CEVE'!$E$10,$BN$20:$BZ$29,1+E1844,0),1,0),0)","v":0}]
[null,null,null,null,null,null,null,null,null,null,null,null,null,null,null,null,null,null,null,null,null,null,null,null,null,null,null,null,null,null,null,null,null,null,null,null,null,null,null,null,null,null,null,null,null,null,null,null,null,null,null,null,null,null,null,null,null,23,"Caso Base 90° Sin Clima",{"$f":"+IFERROR(IF(BF1849=\"\",0,IF(T1849<IF(OR(BF1849<=$BP$3,BF1849>=$BO$3),VLOOKUP('CEV-CEVE'!$E$10,$BN$7:$BZ$16,1+E1849,0)-2,VLOOKUP('CEV-CEVE'!$E$10,$BN$7:$BZ$16,1+E1849,0)),1,0)),0)","v":0},{"$f":"+IFERROR(IF(T1849>VLOOKUP('CEV-CEVE'!$E$10,$BN$20:$BZ$29,1+E1849,0),1,0),0)","v":0}]
[null,null,null,null,null,null,null,null,null,null,null,null,null,null,null,null,null,null,null,null,null,null,null,null,null,null,null,null,null,null,null,null,null,null,null,null,null,null,null,null,null,null,null,null,null,null,null,null,null,null,null,null,null,null,null,null,null,3,"Caso Base 90° Sin Clima",{"$f":"+IFERROR(IF(BF1855=\"\",0,IF(T1855<IF(OR(BF1855<=$BP$3,BF1855>=$BO$3),VLOOKUP('CEV-CEVE'!$E$10,$BN$7:$BZ$16,1+E1855,0)-2,VLOOKUP('CEV-CEVE'!$E$10,$BN$7:$BZ$16,1+E1855,0)),1,0)),0)","v":0},{"$f":"+IFERROR(IF(T1855>VLOOKUP('CEV-CEVE'!$E$10,$BN$20:$BZ$29,1+E1855,0),1,0),0)","v":0}]
[null,null,null,null,null,null,null,null,null,null,null,null,null,null,null,null,null,null,null,null,null,null,null,null,null,null,null,null,null,null,null,null,null,null,null,null,null,null,null,null,null,null,null,null,null,null,null,null,null,null,null,null,null,null,null,null,null,8,"Caso Base 90° Sin Clima",{"$f":"+IFERROR(IF(BF1860=\"\",0,IF(T1860<IF(OR(BF1860<=$BP$3,BF1860>=$BO$3),VLOOKUP('CEV-CEVE'!$E$10,$BN$7:$BZ$16,1+E1860,0)-2,VLOOKUP('CEV-CEVE'!$E$10,$BN$7:$BZ$16,1+E1860,0)),1,0)),0)","v":0},{"$f":"+IFERROR(IF(T1860>VLOOKUP('CEV-CEVE'!$E$10,$BN$20:$BZ$29,1+E1860,0),1,0),0)","v":0}]
[null,null,null,null,null,null,null,null,null,null,null,null,null,null,null,null,null,null,null,null,null,null,null,null,null,null,null,null,null,null,null,null,null,null,null,null,null,null,null,null,null,null,null,null,null,null,null,null,null,null,null,null,null,null,null,null,null,13,"Caso Base 90° Sin Clima",{"$f":"+IFERROR(IF(BF1865=\"\",0,IF(T1865<IF(OR(BF1865<=$BP$3,BF1865>=$BO$3),VLOOKUP('CEV-CEVE'!$E$10,$BN$7:$BZ$16,1+E1865,0)-2,VLOOKUP('CEV-CEVE'!$E$10,$BN$7:$BZ$16,1+E1865,0)),1,0)),0)","v":0},{"$f":"+IFERROR(IF(T1865>VLOOKUP('CEV-CEVE'!$E$10,$BN$20:$BZ$29,1+E1865,0),1,0),0)","v":0}]
[null,null,null,null,null,null,null,null,null,null,null,null,null,null,null,null,null,null,null,null,null,null,null,null,null,null,null,null,null,null,null,null,null,null,null,null,null,null,null,null,null,null,null,null,null,null,null,null,null,null,null,null,null,null,null,null,null,14,"Caso Base 90° Sin Clima",{"$f":"+IFERROR(IF(BF1866=\"\",0,IF(T1866<IF(OR(BF1866<=$BP$3,BF1866>=$BO$3),VLOOKUP('CEV-CEVE'!$E$10,$BN$7:$BZ$16,1+E1866,0)-2,VLOOKUP('CEV-CEVE'!$E$10,$BN$7:$BZ$16,1+E1866,0)),1,0)),0)","v":0},{"$f":"+IFERROR(IF(T1866>VLOOKUP('CEV-CEVE'!$E$10,$BN$20:$BZ$29,1+E1866,0),1,0),0)","v":0}]
[null,null,null,null,null,null,null,null,null,null,null,null,null,null,null,null,null,null,null,null,null,null,null,null,null,null,null,null,null,null,null,null,null,null,null,null,null,null,null,null,null,null,null,null,null,null,null,null,null,null,null,null,null,null,null,null,null,19,"Caso Base 90° Sin Clima",{"$f":"+IFERROR(IF(BF1871=\"\",0,IF(T1871<IF(OR(BF1871<=$BP$3,BF1871>=$BO$3),VLOOKUP('CEV-CEVE'!$E$10,$BN$7:$BZ$16,1+E1871,0)-2,VLOOKUP('CEV-CEVE'!$E$10,$BN$7:$BZ$16,1+E1871,0)),1,0)),0)","v":0},{"$f":"+IFERROR(IF(T1871>VLOOKUP('CEV-CEVE'!$E$10,$BN$20:$BZ$29,1+E1871,0),1,0),0)","v":0}]
[null,null,null,null,null,null,null,null,null,null,null,null,null,null,null,null,null,null,null,null,null,null,null,null,null,null,null,null,null,null,null,null,null,null,null,null,null,null,null,null,null,null,null,null,null,null,null,null,null,null,null,null,null,null,null,null,null,null,"Caso Base 90° Sin Clima",{"$f":"+IFERROR(IF(BF1877=\"\",0,IF(T1877<IF(OR(BF1877<=$BP$3,BF1877>=$BO$3),VLOOKUP('CEV-CEVE'!$E$10,$BN$7:$BZ$16,1+E1877,0)-2,VLOOKUP('CEV-CEVE'!$E$10,$BN$7:$BZ$16,1+E1877,0)),1,0)),0)","v":0},{"$f":"+IFERROR(IF(T1877>VLOOKUP('CEV-CEVE'!$E$10,$BN$20:$BZ$29,1+E1877,0),1,0),0)","v":0}]
[null,null,null,null,null,null,null,null,null,null,null,null,null,null,null,null,null,null,null,null,null,null,null,null,null,null,null,null,null,null,null,null,null,null,null,null,null,null,null,null,null,null,null,null,null,null,null,null,null,null,null,null,null,null,null,null,null,4,"Caso Base 180° Con Clima",{"$f":"+IFERROR(IF(BF1882=\"\",0,IF(T1882<IF(OR(BF1882<=$BP$3,BF1882>=$BO$3),VLOOKUP('CEV-CEVE'!$E$10,$BN$7:$BZ$16,1+E1882,0)-2,VLOOKUP('CEV-CEVE'!$E$10,$BN$7:$BZ$16,1+E1882,0)),1,0)),0)","v":0},{"$f":"+IFERROR(IF(T1882>VLOOKUP('CEV-CEVE'!$E$10,$BN$20:$BZ$29,1+E1882,0),1,0),0)","v":0}]
[null,null,null,null,null,null,null,null,null,null,null,null,null,null,null,null,null,null,null,null,null,null,null,null,null,null,null,null,null,null,null,null,null,null,null,null,null,null,null,null,null,null,null,null,null,null,null,null,null,null,null,null,null,null,null,null,null,9,"Caso Base 180° Con Clima",{"$f":"+IFERROR(IF(BF1887=\"\",0,IF(T1887<IF(OR(BF1887<=$BP$3,BF1887>=$BO$3),VLOOKUP('CEV-CEVE'!$E$10,$BN$7:$BZ$16,1+E1887,0)-2,VLOOKUP('CEV-CEVE'!$E$10,$BN$7:$BZ$16,1+E1887,0)),1,0)),0)","v":0},{"$f":"+IFERROR(IF(T1887>VLOOKUP('CEV-CEVE'!$E$10,$BN$20:$BZ$29,1+E1887,0),1,0),0)","v":0}]
[null,null,null,null,null,null,null,null,null,null,null,null,null,null,null,null,null,null,null,null,null,null,null,null,null,null,null,null,null,null,null,null,null,null,null,null,null,null,null,null,null,null,null,null,null,null,null,null,null,null,null,null,null,null,null,null,null,15,"Caso Base 180° Con Clima",{"$f":"+IFERROR(IF(BF1893=\"\",0,IF(T1893<IF(OR(BF1893<=$BP$3,BF1893>=$BO$3),VLOOKUP('CEV-CEVE'!$E$10,$BN$7:$BZ$16,1+E1893,0)-2,VLOOKUP('CEV-CEVE'!$E$10,$BN$7:$BZ$16,1+E1893,0)),1,0)),0)","v":0},{"$f":"+IFERROR(IF(T1893>VLOOKUP('CEV-CEVE'!$E$10,$BN$20:$BZ$29,1+E1893,0),1,0),0)","v":0}]
[null,null,null,null,null,null,null,null,null,null,null,null,null,null,null,null,null,null,null,null,null,null,null,null,null,null,null,null,null,null,null,null,null,null,null,null,null,null,null,null,null,null,null,null,null,null,null,null,null,null,null,null,null,null,null,null,null,20,"Caso Base 180° Con Clima",{"$f":"+IFERROR(IF(BF1898=\"\",0,IF(T1898<IF(OR(BF1898<=$BP$3,BF1898>=$BO$3),VLOOKUP('CEV-CEVE'!$E$10,$BN$7:$BZ$16,1+E1898,0)-2,VLOOKUP('CEV-CEVE'!$E$10,$BN$7:$BZ$16,1+E1898,0)),1,0)),0)","v":0},{"$f":"+IFERROR(IF(T1898>VLOOKUP('CEV-CEVE'!$E$10,$BN$20:$BZ$29,1+E1898,0),1,0),0)","v":0}]
[null,null,null,null,null,null,null,null,null,null,null,null,null,null,null,null,null,null,null,null,null,null,null,null,null,null,null,null,null,null,null,null,null,null,null,null,null,null,null,null,null,null,null,null,null,null,null,null,null,null,null,null,null,null,null,null,null,null,"Caso Base 180° Con Clima",{"$f":"+IFERROR(IF(BF1903=\"\",0,IF(T1903<IF(OR(BF1903<=$BP$3,BF1903>=$BO$3),VLOOKUP('CEV-CEVE'!$E$10,$BN$7:$BZ$16,1+E1903,0)-2,VLOOKUP('CEV-CEVE'!$E$10,$BN$7:$BZ$16,1+E1903,0)),1,0)),0)","v":0},{"$f":"+IFERROR(IF(T1903>VLOOKUP('CEV-CEVE'!$E$10,$BN$20:$BZ$29,1+E1903,0),1,0),0)","v":0}]
[null,null,null,null,null,null,null,null,null,null,null,null,null,null,null,null,null,null,null,null,null,null,null,null,null,null,null,null,null,null,null,null,null,null,null,null,null,null,null,null,null,null,null,null,null,null,null,null,null,null,null,null,null,null,null,null,null,5,"Caso Base 180° Con Clima",{"$f":"+IFERROR(IF(BF1909=\"\",0,IF(T1909<IF(OR(BF1909<=$BP$3,BF1909>=$BO$3),VLOOKUP('CEV-CEVE'!$E$10,$BN$7:$BZ$16,1+E1909,0)-2,VLOOKUP('CEV-CEVE'!$E$10,$BN$7:$BZ$16,1+E1909,0)),1,0)),0)","v":0},{"$f":"+IFERROR(IF(T1909>VLOOKUP('CEV-CEVE'!$E$10,$BN$20:$BZ$29,1+E1909,0),1,0),0)","v":0}]
[null,null,null,null,null,null,null,null,null,null,null,null,null,null,null,null,null,null,null,null,null,null,null,null,null,null,null,null,null,null,null,null,null,null,null,null,null,null,null,null,null,null,null,null,null,null,null,null,null,null,null,null,null,null,null,null,null,10,"Caso Base 180° Con Clima",{"$f":"+IFERROR(IF(BF1914=\"\",0,IF(T1914<IF(OR(BF1914<=$BP$3,BF1914>=$BO$3),VLOOKUP('CEV-CEVE'!$E$10,$BN$7:$BZ$16,1+E1914,0)-2,VLOOKUP('CEV-CEVE'!$E$10,$BN$7:$BZ$16,1+E1914,0)),1,0)),0)","v":0},{"$f":"+IFERROR(IF(T1914>VLOOKUP('CEV-CEVE'!$E$10,$BN$20:$BZ$29,1+E1914,0),1,0),0)","v":0}]
[null,null,null,null,null,null,null,null,null,null,null,null,null,null,null,null,null,null,null,null,null,null,null,null,null,null,null,null,null,null,null,null,null,null,null,null,null,null,null,null,null,null,null,null,null,null,null,null,null,null,null,null,null,null,null,null,null,16,"Caso Base 180° Con Clima",{"$f":"+IFERROR(IF(BF1920=\"\",0,IF(T1920<IF(OR(BF1920<=$BP$3,BF1920>=$BO$3),VLOOKUP('CEV-CEVE'!$E$10,$BN$7:$BZ$16,1+E1920,0)-2,VLOOKUP('CEV-CEVE'!$E$10,$BN$7:$BZ$16,1+E1920,0)),1,0)),0)","v":0},{"$f":"+IFERROR(IF(T1920>VLOOKUP('CEV-CEVE'!$E$10,$BN$20:$BZ$29,1+E1920,0),1,0),0)","v":0}]
[null,null,null,null,null,null,null,null,null,null,null,null,null,null,null,null,null,null,null,null,null,null,null,null,null,null,null,null,null,null,null,null,null,null,null,null,null,null,null,null,null,null,null,null,null,null,null,null,null,null,null,null,null,null,null,null,null,21,"Caso Base 180° Con Clima",{"$f":"+IFERROR(IF(BF1925=\"\",0,IF(T1925<IF(OR(BF1925<=$BP$3,BF1925>=$BO$3),VLOOKUP('CEV-CEVE'!$E$10,$BN$7:$BZ$16,1+E1925,0)-2,VLOOKUP('CEV-CEVE'!$E$10,$BN$7:$BZ$16,1+E1925,0)),1,0)),0)","v":0},{"$f":"+IFERROR(IF(T1925>VLOOKUP('CEV-CEVE'!$E$10,$BN$20:$BZ$29,1+E1925,0),1,0),0)","v":0}]
[null,null,null,null,null,null,null,null,null,null,null,null,null,null,null,null,null,null,null,null,null,null,null,null,null,null,null,null,null,null,null,null,null,null,null,null,null,null,null,null,null,null,null,null,null,null,null,null,null,null,null,null,null,null,null,null,null,0,"Caso Base 180° Con Clima",{"$f":"+IFERROR(IF(BF1930=\"\",0,IF(T1930<IF(OR(BF1930<=$BP$3,BF1930>=$BO$3),VLOOKUP('CEV-CEVE'!$E$10,$BN$7:$BZ$16,1+E1930,0)-2,VLOOKUP('CEV-CEVE'!$E$10,$BN$7:$BZ$16,1+E1930,0)),1,0)),0)","v":0},{"$f":"+IFERROR(IF(T1930>VLOOKUP('CEV-CEVE'!$E$10,$BN$20:$BZ$29,1+E1930,0),1,0),0)","v":0}]
[null,null,null,null,null,null,null,null,null,null,null,null,null,null,null,null,null,null,null,null,null,null,null,null,null,null,null,null,null,null,null,null,null,null,null,null,null,null,null,null,null,null,null,null,null,null,null,null,null,null,null,null,null,null,null,null,null,{"$f":"+BF1930+1","v":1},"Caso Base 180° Con Clima",{"$f":"+IFERROR(IF(BF1931=\"\",0,IF(T1931<IF(OR(BF1931<=$BP$3,BF1931>=$BO$3),VLOOKUP('CEV-CEVE'!$E$10,$BN$7:$BZ$16,1+E1931,0)-2,VLOOKUP('CEV-CEVE'!$E$10,$BN$7:$BZ$16,1+E1931,0)),1,0)),0)","v":0},{"$f":"+IFERROR(IF(T1931>VLOOKUP('CEV-CEVE'!$E$10,$BN$20:$BZ$29,1+E1931,0),1,0),0)","v":0}]
[null,null,null,null,null,null,null,null,null,null,null,null,null,null,null,null,null,null,null,null,null,null,null,null,null,null,null,null,null,null,null,null,null,null,null,null,null,null,null,null,null,null,null,null,null,null,null,null,null,null,null,null,null,null,null,null,null,6,"Caso Base 180° Con Clima",{"$f":"+IFERROR(IF(BF1936=\"\",0,IF(T1936<IF(OR(BF1936<=$BP$3,BF1936>=$BO$3),VLOOKUP('CEV-CEVE'!$E$10,$BN$7:$BZ$16,1+E1936,0)-2,VLOOKUP('CEV-CEVE'!$E$10,$BN$7:$BZ$16,1+E1936,0)),1,0)),0)","v":0},{"$f":"+IFERROR(IF(T1936>VLOOKUP('CEV-CEVE'!$E$10,$BN$20:$BZ$29,1+E1936,0),1,0),0)","v":0}]
[null,null,null,null,null,null,null,null,null,null,null,null,null,null,null,null,null,null,null,null,null,null,null,null,null,null,null,null,null,null,null,null,null,null,null,null,null,null,null,null,null,null,null,null,null,null,null,null,null,null,null,null,null,null,null,null,null,12,"Caso Base 180° Con Clima",{"$f":"+IFERROR(IF(BF1942=\"\",0,IF(T1942<IF(OR(BF1942<=$BP$3,BF1942>=$BO$3),VLOOKUP('CEV-CEVE'!$E$10,$BN$7:$BZ$16,1+E1942,0)-2,VLOOKUP('CEV-CEVE'!$E$10,$BN$7:$BZ$16,1+E1942,0)),1,0)),0)","v":0},{"$f":"+IFERROR(IF(T1942>VLOOKUP('CEV-CEVE'!$E$10,$BN$20:$BZ$29,1+E1942,0),1,0),0)","v":0}]
[null,null,null,null,null,null,null,null,null,null,null,null,null,null,null,null,null,null,null,null,null,null,null,null,null,null,null,null,null,null,null,null,null,null,null,null,null,null,null,null,null,null,null,null,null,null,null,null,null,null,null,null,null,null,null,null,null,17,"Caso Base 180° Con Clima",{"$f":"+IFERROR(IF(BF1947=\"\",0,IF(T1947<IF(OR(BF1947<=$BP$3,BF1947>=$BO$3),VLOOKUP('CEV-CEVE'!$E$10,$BN$7:$BZ$16,1+E1947,0)-2,VLOOKUP('CEV-CEVE'!$E$10,$BN$7:$BZ$16,1+E1947,0)),1,0)),0)","v":0},{"$f":"+IFERROR(IF(T1947>VLOOKUP('CEV-CEVE'!$E$10,$BN$20:$BZ$29,1+E1947,0),1,0),0)","v":0}]
[null,null,null,null,null,null,null,null,null,null,null,null,null,null,null,null,null,null,null,null,null,null,null,null,null,null,null,null,null,null,null,null,null,null,null,null,null,null,null,null,null,null,null,null,null,null,null,null,null,null,null,null,null,null,null,null,null,22,"Caso Base 180° Con Clima",{"$f":"+IFERROR(IF(BF1952=\"\",0,IF(T1952<IF(OR(BF1952<=$BP$3,BF1952>=$BO$3),VLOOKUP('CEV-CEVE'!$E$10,$BN$7:$BZ$16,1+E1952,0)-2,VLOOKUP('CEV-CEVE'!$E$10,$BN$7:$BZ$16,1+E1952,0)),1,0)),0)","v":0},{"$f":"+IFERROR(IF(T1952>VLOOKUP('CEV-CEVE'!$E$10,$BN$20:$BZ$29,1+E1952,0),1,0),0)","v":0}]
[null,null,null,null,null,null,null,null,null,null,null,null,null,null,null,null,null,null,null,null,null,null,null,null,null,null,null,null,null,null,null,null,null,null,null,null,null,null,null,null,null,null,null,null,null,null,null,null,null,null,null,null,null,null,null,null,null,{"$f":"+BF1957+1","v":2},"Caso Base 180° Con Clima",{"$f":"+IFERROR(IF(BF1958=\"\",0,IF(T1958<IF(OR(BF1958<=$BP$3,BF1958>=$BO$3),VLOOKUP('CEV-CEVE'!$E$10,$BN$7:$BZ$16,1+E1958,0)-2,VLOOKUP('CEV-CEVE'!$E$10,$BN$7:$BZ$16,1+E1958,0)),1,0)),0)","v":0},{"$f":"+IFERROR(IF(T1958>VLOOKUP('CEV-CEVE'!$E$10,$BN$20:$BZ$29,1+E1958,0),1,0),0)","v":0}]
[null,null,null,null,null,null,null,null,null,null,null,null,null,null,null,null,null,null,null,null,null,null,null,null,null,null,null,null,null,null,null,null,null,null,null,null,null,null,null,null,null,null,null,null,null,null,null,null,null,null,null,null,null,null,null,null,null,7,"Caso Base 180° Con Clima",{"$f":"+IFERROR(IF(BF1963=\"\",0,IF(T1963<IF(OR(BF1963<=$BP$3,BF1963>=$BO$3),VLOOKUP('CEV-CEVE'!$E$10,$BN$7:$BZ$16,1+E1963,0)-2,VLOOKUP('CEV-CEVE'!$E$10,$BN$7:$BZ$16,1+E1963,0)),1,0)),0)","v":0},{"$f":"+IFERROR(IF(T1963>VLOOKUP('CEV-CEVE'!$E$10,$BN$20:$BZ$29,1+E1963,0),1,0),0)","v":0}]
[null,null,null,null,null,null,null,null,null,null,null,null,null,null,null,null,null,null,null,null,null,null,null,null,null,null,null,null,null,null,null,null,null,null,null,null,null,null,null,null,null,null,null,null,null,null,null,null,null,null,null,null,null,null,null,null,null,12,"Caso Base 180° Con Clima",{"$f":"+IFERROR(IF(BF1968=\"\",0,IF(T1968<IF(OR(BF1968<=$BP$3,BF1968>=$BO$3),VLOOKUP('CEV-CEVE'!$E$10,$BN$7:$BZ$16,1+E1968,0)-2,VLOOKUP('CEV-CEVE'!$E$10,$BN$7:$BZ$16,1+E1968,0)),1,0)),0)","v":0},{"$f":"+IFERROR(IF(T1968>VLOOKUP('CEV-CEVE'!$E$10,$BN$20:$BZ$29,1+E1968,0),1,0),0)","v":0}]
[null,null,null,null,null,null,null,null,null,null,null,null,null,null,null,null,null,null,null,null,null,null,null,null,null,null,null,null,null,null,null,null,null,null,null,null,null,null,null,null,null,null,null,null,null,null,null,null,null,null,null,null,null,null,null,null,null,18,"Caso Base 180° Con Clima",{"$f":"+IFERROR(IF(BF1974=\"\",0,IF(T1974<IF(OR(BF1974<=$BP$3,BF1974>=$BO$3),VLOOKUP('CEV-CEVE'!$E$10,$BN$7:$BZ$16,1+E1974,0)-2,VLOOKUP('CEV-CEVE'!$E$10,$BN$7:$BZ$16,1+E1974,0)),1,0)),0)","v":0},{"$f":"+IFERROR(IF(T1974>VLOOKUP('CEV-CEVE'!$E$10,$BN$20:$BZ$29,1+E1974,0),1,0),0)","v":0}]
[null,null,null,null,null,null,null,null,null,null,null,null,null,null,null,null,null,null,null,null,null,null,null,null,null,null,null,null,null,null,null,null,null,null,null,null,null,null,null,null,null,null,null,null,null,null,null,null,null,null,null,null,null,null,null,null,null,23,"Caso Base 180° Con Clima",{"$f":"+IFERROR(IF(BF1979=\"\",0,IF(T1979<IF(OR(BF1979<=$BP$3,BF1979>=$BO$3),VLOOKUP('CEV-CEVE'!$E$10,$BN$7:$BZ$16,1+E1979,0)-2,VLOOKUP('CEV-CEVE'!$E$10,$BN$7:$BZ$16,1+E1979,0)),1,0)),0)","v":0},{"$f":"+IFERROR(IF(T1979>VLOOKUP('CEV-CEVE'!$E$10,$BN$20:$BZ$29,1+E1979,0),1,0),0)","v":0}]
[null,null,null,null,null,null,null,null,null,null,null,null,null,null,null,null,null,null,null,null,null,null,null,null,null,null,null,null,null,null,null,null,null,null,null,null,null,null,null,null,null,null,null,null,null,null,null,null,null,null,null,null,null,null,null,null,null,3,"Caso Base 180° Con Clima",{"$f":"+IFERROR(IF(BF1985=\"\",0,IF(T1985<IF(OR(BF1985<=$BP$3,BF1985>=$BO$3),VLOOKUP('CEV-CEVE'!$E$10,$BN$7:$BZ$16,1+E1985,0)-2,VLOOKUP('CEV-CEVE'!$E$10,$BN$7:$BZ$16,1+E1985,0)),1,0)),0)","v":0},{"$f":"+IFERROR(IF(T1985>VLOOKUP('CEV-CEVE'!$E$10,$BN$20:$BZ$29,1+E1985,0),1,0),0)","v":0}]
[null,null,null,null,null,null,null,null,null,null,null,null,null,null,null,null,null,null,null,null,null,null,null,null,null,null,null,null,null,null,null,null,null,null,null,null,null,null,null,null,null,null,null,null,null,null,null,null,null,null,null,null,null,null,null,null,null,8,"Caso Base 180° Con Clima",{"$f":"+IFERROR(IF(BF1990=\"\",0,IF(T1990<IF(OR(BF1990<=$BP$3,BF1990>=$BO$3),VLOOKUP('CEV-CEVE'!$E$10,$BN$7:$BZ$16,1+E1990,0)-2,VLOOKUP('CEV-CEVE'!$E$10,$BN$7:$BZ$16,1+E1990,0)),1,0)),0)","v":0},{"$f":"+IFERROR(IF(T1990>VLOOKUP('CEV-CEVE'!$E$10,$BN$20:$BZ$29,1+E1990,0),1,0),0)","v":0}]
[null,null,null,null,null,null,null,null,null,null,null,null,null,null,null,null,null,null,null,null,null,null,null,null,null,null,null,null,null,null,null,null,null,null,null,null,null,null,null,null,null,null,null,null,null,null,null,null,null,null,null,null,null,null,null,null,null,13,"Caso Base 180° Con Clima",{"$f":"+IFERROR(IF(BF1995=\"\",0,IF(T1995<IF(OR(BF1995<=$BP$3,BF1995>=$BO$3),VLOOKUP('CEV-CEVE'!$E$10,$BN$7:$BZ$16,1+E1995,0)-2,VLOOKUP('CEV-CEVE'!$E$10,$BN$7:$BZ$16,1+E1995,0)),1,0)),0)","v":0},{"$f":"+IFERROR(IF(T1995>VLOOKUP('CEV-CEVE'!$E$10,$BN$20:$BZ$29,1+E1995,0),1,0),0)","v":0}]
[null,null,null,null,null,null,null,null,null,null,null,null,null,null,null,null,null,null,null,null,null,null,null,null,null,null,null,null,null,null,null,null,null,null,null,null,null,null,null,null,null,null,null,null,null,null,null,null,null,null,null,null,null,null,null,null,null,14,"Caso Base 180° Con Clima",{"$f":"+IFERROR(IF(BF1996=\"\",0,IF(T1996<IF(OR(BF1996<=$BP$3,BF1996>=$BO$3),VLOOKUP('CEV-CEVE'!$E$10,$BN$7:$BZ$16,1+E1996,0)-2,VLOOKUP('CEV-CEVE'!$E$10,$BN$7:$BZ$16,1+E1996,0)),1,0)),0)","v":0},{"$f":"+IFERROR(IF(T1996>VLOOKUP('CEV-CEVE'!$E$10,$BN$20:$BZ$29,1+E1996,0),1,0),0)","v":0}]
[null,null,null,null,null,null,null,null,null,null,null,null,null,null,null,null,null,null,null,null,null,null,null,null,null,null,null,null,null,null,null,null,null,null,null,null,null,null,null,null,null,null,null,null,null,null,null,null,null,null,null,null,null,null,null,null,null,19,"Caso Base 180° Con Clima",{"$f":"+IFERROR(IF(BF2001=\"\",0,IF(T2001<IF(OR(BF2001<=$BP$3,BF2001>=$BO$3),VLOOKUP('CEV-CEVE'!$E$10,$BN$7:$BZ$16,1+E2001,0)-2,VLOOKUP('CEV-CEVE'!$E$10,$BN$7:$BZ$16,1+E2001,0)),1,0)),0)","v":0},{"$f":"+IFERROR(IF(T2001>VLOOKUP('CEV-CEVE'!$E$10,$BN$20:$BZ$29,1+E2001,0),1,0),0)","v":0}]
[null,null,null,null,null,null,null,null,null,null,null,null,null,null,null,null,null,null,null,null,null,null,null,null,null,null,null,null,null,null,null,null,null,null,null,null,null,null,null,null,null,null,null,null,null,null,null,null,null,null,null,null,null,null,null,null,null,null,"Caso Base 180° Con Clima",{"$f":"+IFERROR(IF(BF2006=\"\",0,IF(T2006<IF(OR(BF2006<=$BP$3,BF2006>=$BO$3),VLOOKUP('CEV-CEVE'!$E$10,$BN$7:$BZ$16,1+E2006,0)-2,VLOOKUP('CEV-CEVE'!$E$10,$BN$7:$BZ$16,1+E2006,0)),1,0)),0)","v":0},{"$f":"+IFERROR(IF(T2006>VLOOKUP('CEV-CEVE'!$E$10,$BN$20:$BZ$29,1+E2006,0),1,0),0)","v":0}]
[null,null,null,null,null,null,null,null,null,null,null,null,null,null,null,null,null,null,null,null,null,null,null,null,null,null,null,null,null,null,null,null,null,null,null,null,null,null,null,null,null,null,null,null,null,null,null,null,null,null,null,null,null,null,null,null,null,4,"Caso Base 180° Con Clima",{"$f":"+IFERROR(IF(BF2012=\"\",0,IF(T2012<IF(OR(BF2012<=$BP$3,BF2012>=$BO$3),VLOOKUP('CEV-CEVE'!$E$10,$BN$7:$BZ$16,1+E2012,0)-2,VLOOKUP('CEV-CEVE'!$E$10,$BN$7:$BZ$16,1+E2012,0)),1,0)),0)","v":0},{"$f":"+IFERROR(IF(T2012>VLOOKUP('CEV-CEVE'!$E$10,$BN$20:$BZ$29,1+E2012,0),1,0),0)","v":0}]
[null,null,null,null,null,null,null,null,null,null,null,null,null,null,null,null,null,null,null,null,null,null,null,null,null,null,null,null,null,null,null,null,null,null,null,null,null,null,null,null,null,null,null,null,null,null,null,null,null,null,null,null,null,null,null,null,null,9,"Caso Base 180° Con Clima",{"$f":"+IFERROR(IF(BF2017=\"\",0,IF(T2017<IF(OR(BF2017<=$BP$3,BF2017>=$BO$3),VLOOKUP('CEV-CEVE'!$E$10,$BN$7:$BZ$16,1+E2017,0)-2,VLOOKUP('CEV-CEVE'!$E$10,$BN$7:$BZ$16,1+E2017,0)),1,0)),0)","v":0},{"$f":"+IFERROR(IF(T2017>VLOOKUP('CEV-CEVE'!$E$10,$BN$20:$BZ$29,1+E2017,0),1,0),0)","v":0}]
[null,null,null,null,null,null,null,null,null,null,null,null,null,null,null,null,null,null,null,null,null,null,null,null,null,null,null,null,null,null,null,null,null,null,null,null,null,null,null,null,null,null,null,null,null,null,null,null,null,null,null,null,null,null,null,null,null,15,"Caso Base 180° Con Clima",{"$f":"+IFERROR(IF(BF2023=\"\",0,IF(T2023<IF(OR(BF2023<=$BP$3,BF2023>=$BO$3),VLOOKUP('CEV-CEVE'!$E$10,$BN$7:$BZ$16,1+E2023,0)-2,VLOOKUP('CEV-CEVE'!$E$10,$BN$7:$BZ$16,1+E2023,0)),1,0)),0)","v":0},{"$f":"+IFERROR(IF(T2023>VLOOKUP('CEV-CEVE'!$E$10,$BN$20:$BZ$29,1+E2023,0),1,0),0)","v":0}]
[null,null,null,null,null,null,null,null,null,null,null,null,null,null,null,null,null,null,null,null,null,null,null,null,null,null,null,null,null,null,null,null,null,null,null,null,null,null,null,null,null,null,null,null,null,null,null,null,null,null,null,null,null,null,null,null,null,20,"Caso Base 180° Con Clima",{"$f":"+IFERROR(IF(BF2028=\"\",0,IF(T2028<IF(OR(BF2028<=$BP$3,BF2028>=$BO$3),VLOOKUP('CEV-CEVE'!$E$10,$BN$7:$BZ$16,1+E2028,0)-2,VLOOKUP('CEV-CEVE'!$E$10,$BN$7:$BZ$16,1+E2028,0)),1,0)),0)","v":0},{"$f":"+IFERROR(IF(T2028>VLOOKUP('CEV-CEVE'!$E$10,$BN$20:$BZ$29,1+E2028,0),1,0),0)","v":0}]
[null,null,null,null,null,null,null,null,null,null,null,null,null,null,null,null,null,null,null,null,null,null,null,null,null,null,null,null,null,null,null,null,null,null,null,null,null,null,null,null,null,null,null,null,null,null,null,null,null,null,null,null,null,null,null,null,null,null,"Caso Base 180° Con Clima",{"$f":"+IFERROR(IF(BF2033=\"\",0,IF(T2033<IF(OR(BF2033<=$BP$3,BF2033>=$BO$3),VLOOKUP('CEV-CEVE'!$E$10,$BN$7:$BZ$16,1+E2033,0)-2,VLOOKUP('CEV-CEVE'!$E$10,$BN$7:$BZ$16,1+E2033,0)),1,0)),0)","v":0},{"$f":"+IFERROR(IF(T2033>VLOOKUP('CEV-CEVE'!$E$10,$BN$20:$BZ$29,1+E2033,0),1,0),0)","v":0}]
[null,null,null,null,null,null,null,null,null,null,null,null,null,null,null,null,null,null,null,null,null,null,null,null,null,null,null,null,null,null,null,null,null,null,null,null,null,null,null,null,null,null,null,null,null,null,null,null,null,null,null,null,null,null,null,null,null,5,"Caso Base 180° Con Clima",{"$f":"+IFERROR(IF(BF2039=\"\",0,IF(T2039<IF(OR(BF2039<=$BP$3,BF2039>=$BO$3),VLOOKUP('CEV-CEVE'!$E$10,$BN$7:$BZ$16,1+E2039,0)-2,VLOOKUP('CEV-CEVE'!$E$10,$BN$7:$BZ$16,1+E2039,0)),1,0)),0)","v":0},{"$f":"+IFERROR(IF(T2039>VLOOKUP('CEV-CEVE'!$E$10,$BN$20:$BZ$29,1+E2039,0),1,0),0)","v":0}]
[null,null,null,null,null,null,null,null,null,null,null,null,null,null,null,null,null,null,null,null,null,null,null,null,null,null,null,null,null,null,null,null,null,null,null,null,null,null,null,null,null,null,null,null,null,null,null,null,null,null,null,null,null,null,null,null,null,10,"Caso Base 180° Con Clima",{"$f":"+IFERROR(IF(BF2044=\"\",0,IF(T2044<IF(OR(BF2044<=$BP$3,BF2044>=$BO$3),VLOOKUP('CEV-CEVE'!$E$10,$BN$7:$BZ$16,1+E2044,0)-2,VLOOKUP('CEV-CEVE'!$E$10,$BN$7:$BZ$16,1+E2044,0)),1,0)),0)","v":0},{"$f":"+IFERROR(IF(T2044>VLOOKUP('CEV-CEVE'!$E$10,$BN$20:$BZ$29,1+E2044,0),1,0),0)","v":0}]
[null,null,null,null,null,null,null,null,null,null,null,null,null,null,null,null,null,null,null,null,null,null,null,null,null,null,null,null,null,null,null,null,null,null,null,null,null,null,null,null,null,null,null,null,null,null,null,null,null,null,null,null,null,null,null,null,null,16,"Caso Base 180° Con Clima",{"$f":"+IFERROR(IF(BF2050=\"\",0,IF(T2050<IF(OR(BF2050<=$BP$3,BF2050>=$BO$3),VLOOKUP('CEV-CEVE'!$E$10,$BN$7:$BZ$16,1+E2050,0)-2,VLOOKUP('CEV-CEVE'!$E$10,$BN$7:$BZ$16,1+E2050,0)),1,0)),0)","v":0},{"$f":"+IFERROR(IF(T2050>VLOOKUP('CEV-CEVE'!$E$10,$BN$20:$BZ$29,1+E2050,0),1,0),0)","v":0}]
[null,null,null,null,null,null,null,null,null,null,null,null,null,null,null,null,null,null,null,null,null,null,null,null,null,null,null,null,null,null,null,null,null,null,null,null,null,null,null,null,null,null,null,null,null,null,null,null,null,null,null,null,null,null,null,null,null,21,"Caso Base 180° Con Clima",{"$f":"+IFERROR(IF(BF2055=\"\",0,IF(T2055<IF(OR(BF2055<=$BP$3,BF2055>=$BO$3),VLOOKUP('CEV-CEVE'!$E$10,$BN$7:$BZ$16,1+E2055,0)-2,VLOOKUP('CEV-CEVE'!$E$10,$BN$7:$BZ$16,1+E2055,0)),1,0)),0)","v":0},{"$f":"+IFERROR(IF(T2055>VLOOKUP('CEV-CEVE'!$E$10,$BN$20:$BZ$29,1+E2055,0),1,0),0)","v":0}]
[null,null,null,null,null,null,null,null,null,null,null,null,null,null,null,null,null,null,null,null,null,null,null,null,null,null,null,null,null,null,null,null,null,null,null,null,null,null,null,null,null,null,null,null,null,null,null,null,null,null,null,null,null,null,null,null,null,0,"Caso Base 180° Con Clima",{"$f":"+IFERROR(IF(BF2060=\"\",0,IF(T2060<IF(OR(BF2060<=$BP$3,BF2060>=$BO$3),VLOOKUP('CEV-CEVE'!$E$10,$BN$7:$BZ$16,1+E2060,0)-2,VLOOKUP('CEV-CEVE'!$E$10,$BN$7:$BZ$16,1+E2060,0)),1,0)),0)","v":0},{"$f":"+IFERROR(IF(T2060>VLOOKUP('CEV-CEVE'!$E$10,$BN$20:$BZ$29,1+E2060,0),1,0),0)","v":0}]
[null,null,null,null,null,null,null,null,null,null,null,null,null,null,null,null,null,null,null,null,null,null,null,null,null,null,null,null,null,null,null,null,null,null,null,null,null,null,null,null,null,null,null,null,null,null,null,null,null,null,null,null,null,null,null,null,null,{"$f":"+BF2060+1","v":1},"Caso Base 180° Con Clima",{"$f":"+IFERROR(IF(BF2061=\"\",0,IF(T2061<IF(OR(BF2061<=$BP$3,BF2061>=$BO$3),VLOOKUP('CEV-CEVE'!$E$10,$BN$7:$BZ$16,1+E2061,0)-2,VLOOKUP('CEV-CEVE'!$E$10,$BN$7:$BZ$16,1+E2061,0)),1,0)),0)","v":0},{"$f":"+IFERROR(IF(T2061>VLOOKUP('CEV-CEVE'!$E$10,$BN$20:$BZ$29,1+E2061,0),1,0),0)","v":0}]
[null,null,null,null,null,null,null,null,null,null,null,null,null,null,null,null,null,null,null,null,null,null,null,null,null,null,null,null,null,null,null,null,null,null,null,null,null,null,null,null,null,null,null,null,null,null,null,null,null,null,null,null,null,null,null,null,null,6,"Caso Base 180° Con Clima",{"$f":"+IFERROR(IF(BF2066=\"\",0,IF(T2066<IF(OR(BF2066<=$BP$3,BF2066>=$BO$3),VLOOKUP('CEV-CEVE'!$E$10,$BN$7:$BZ$16,1+E2066,0)-2,VLOOKUP('CEV-CEVE'!$E$10,$BN$7:$BZ$16,1+E2066,0)),1,0)),0)","v":0},{"$f":"+IFERROR(IF(T2066>VLOOKUP('CEV-CEVE'!$E$10,$BN$20:$BZ$29,1+E2066,0),1,0),0)","v":0}]
[null,null,null,null,null,null,null,null,null,null,null,null,null,null,null,null,null,null,null,null,null,null,null,null,null,null,null,null,null,null,null,null,null,null,null,null,null,null,null,null,null,null,null,null,null,null,null,null,null,null,null,null,null,null,null,null,null,11,"Caso Base 180° Con Clima",{"$f":"+IFERROR(IF(BF2071=\"\",0,IF(T2071<IF(OR(BF2071<=$BP$3,BF2071>=$BO$3),VLOOKUP('CEV-CEVE'!$E$10,$BN$7:$BZ$16,1+E2071,0)-2,VLOOKUP('CEV-CEVE'!$E$10,$BN$7:$BZ$16,1+E2071,0)),1,0)),0)","v":0},{"$f":"+IFERROR(IF(T2071>VLOOKUP('CEV-CEVE'!$E$10,$BN$20:$BZ$29,1+E2071,0),1,0),0)","v":0}]
[null,null,null,null,null,null,null,null,null,null,null,null,null,null,null,null,null,null,null,null,null,null,null,null,null,null,null,null,null,null,null,null,null,null,null,null,null,null,null,null,null,null,null,null,null,null,null,null,null,null,null,null,null,null,null,null,null,17,"Caso Base 180° Con Clima",{"$f":"+IFERROR(IF(BF2077=\"\",0,IF(T2077<IF(OR(BF2077<=$BP$3,BF2077>=$BO$3),VLOOKUP('CEV-CEVE'!$E$10,$BN$7:$BZ$16,1+E2077,0)-2,VLOOKUP('CEV-CEVE'!$E$10,$BN$7:$BZ$16,1+E2077,0)),1,0)),0)","v":0},{"$f":"+IFERROR(IF(T2077>VLOOKUP('CEV-CEVE'!$E$10,$BN$20:$BZ$29,1+E2077,0),1,0),0)","v":0}]
[null,null,null,null,null,null,null,null,null,null,null,null,null,null,null,null,null,null,null,null,null,null,null,null,null,null,null,null,null,null,null,null,null,null,null,null,null,null,null,null,null,null,null,null,null,null,null,null,null,null,null,null,null,null,null,null,null,22,"Caso Base 180° Con Clima",{"$f":"+IFERROR(IF(BF2082=\"\",0,IF(T2082<IF(OR(BF2082<=$BP$3,BF2082>=$BO$3),VLOOKUP('CEV-CEVE'!$E$10,$BN$7:$BZ$16,1+E2082,0)-2,VLOOKUP('CEV-CEVE'!$E$10,$BN$7:$BZ$16,1+E2082,0)),1,0)),0)","v":0},{"$f":"+IFERROR(IF(T2082>VLOOKUP('CEV-CEVE'!$E$10,$BN$20:$BZ$29,1+E2082,0),1,0),0)","v":0}]
[null,null,null,null,null,null,null,null,null,null,null,null,null,null,null,null,null,null,null,null,null,null,null,null,null,null,null,null,null,null,null,null,null,null,null,null,null,null,null,null,null,null,null,null,null,null,null,null,null,null,null,null,null,null,null,null,null,{"$f":"+BF2087+1","v":2},"Caso Base 180° Con Clima",{"$f":"+IFERROR(IF(BF2088=\"\",0,IF(T2088<IF(OR(BF2088<=$BP$3,BF2088>=$BO$3),VLOOKUP('CEV-CEVE'!$E$10,$BN$7:$BZ$16,1+E2088,0)-2,VLOOKUP('CEV-CEVE'!$E$10,$BN$7:$BZ$16,1+E2088,0)),1,0)),0)","v":0},{"$f":"+IFERROR(IF(T2088>VLOOKUP('CEV-CEVE'!$E$10,$BN$20:$BZ$29,1+E2088,0),1,0),0)","v":0}]
[null,null,null,null,null,null,null,null,null,null,null,null,null,null,null,null,null,null,null,null,null,null,null,null,null,null,null,null,null,null,null,null,null,null,null,null,null,null,null,null,null,null,null,null,null,null,null,null,null,null,null,null,null,null,null,null,null,7,"Caso Base 180° Con Clima",{"$f":"+IFERROR(IF(BF2093=\"\",0,IF(T2093<IF(OR(BF2093<=$BP$3,BF2093>=$BO$3),VLOOKUP('CEV-CEVE'!$E$10,$BN$7:$BZ$16,1+E2093,0)-2,VLOOKUP('CEV-CEVE'!$E$10,$BN$7:$BZ$16,1+E2093,0)),1,0)),0)","v":0},{"$f":"+IFERROR(IF(T2093>VLOOKUP('CEV-CEVE'!$E$10,$BN$20:$BZ$29,1+E2093,0),1,0),0)","v":0}]
[null,null,null,null,null,null,null,null,null,null,null,null,null,null,null,null,null,null,null,null,null,null,null,null,null,null,null,null,null,null,null,null,null,null,null,null,null,null,null,null,null,null,null,null,null,null,null,null,null,null,null,null,null,null,null,null,null,12,"Caso Base 180° Con Clima",{"$f":"+IFERROR(IF(BF2098=\"\",0,IF(T2098<IF(OR(BF2098<=$BP$3,BF2098>=$BO$3),VLOOKUP('CEV-CEVE'!$E$10,$BN$7:$BZ$16,1+E2098,0)-2,VLOOKUP('CEV-CEVE'!$E$10,$BN$7:$BZ$16,1+E2098,0)),1,0)),0)","v":0},{"$f":"+IFERROR(IF(T2098>VLOOKUP('CEV-CEVE'!$E$10,$BN$20:$BZ$29,1+E2098,0),1,0),0)","v":0}]
[null,null,null,null,null,null,null,null,null,null,null,null,null,null,null,null,null,null,null,null,null,null,null,null,null,null,null,null,null,null,null,null,null,null,null,null,null,null,null,null,null,null,null,null,null,null,null,null,null,null,null,null,null,null,null,null,null,18,"Caso Base 180° Con Clima",{"$f":"+IFERROR(IF(BF2104=\"\",0,IF(T2104<IF(OR(BF2104<=$BP$3,BF2104>=$BO$3),VLOOKUP('CEV-CEVE'!$E$10,$BN$7:$BZ$16,1+E2104,0)-2,VLOOKUP('CEV-CEVE'!$E$10,$BN$7:$BZ$16,1+E2104,0)),1,0)),0)","v":0},{"$f":"+IFERROR(IF(T2104>VLOOKUP('CEV-CEVE'!$E$10,$BN$20:$BZ$29,1+E2104,0),1,0),0)","v":0}]
[null,null,null,null,null,null,null,null,null,null,null,null,null,null,null,null,null,null,null,null,null,null,null,null,null,null,null,null,null,null,null,null,null,null,null,null,null,null,null,null,null,null,null,null,null,null,null,null,null,null,null,null,null,null,null,null,null,23,"Caso Base 180° Con Clima",{"$f":"+IFERROR(IF(BF2109=\"\",0,IF(T2109<IF(OR(BF2109<=$BP$3,BF2109>=$BO$3),VLOOKUP('CEV-CEVE'!$E$10,$BN$7:$BZ$16,1+E2109,0)-2,VLOOKUP('CEV-CEVE'!$E$10,$BN$7:$BZ$16,1+E2109,0)),1,0)),0)","v":0},{"$f":"+IFERROR(IF(T2109>VLOOKUP('CEV-CEVE'!$E$10,$BN$20:$BZ$29,1+E2109,0),1,0),0)","v":0}]
[null,null,null,null,null,null,null,null,null,null,null,null,null,null,null,null,null,null,null,null,null,null,null,null,null,null,null,null,null,null,null,null,null,null,null,null,null,null,null,null,null,null,null,null,null,null,null,null,null,null,null,null,null,null,null,null,null,{"$f":"+BF2113+1","v":2},"Caso Base 180° Con Clima",{"$f":"+IFERROR(IF(BF2114=\"\",0,IF(T2114<IF(OR(BF2114<=$BP$3,BF2114>=$BO$3),VLOOKUP('CEV-CEVE'!$E$10,$BN$7:$BZ$16,1+E2114,0)-2,VLOOKUP('CEV-CEVE'!$E$10,$BN$7:$BZ$16,1+E2114,0)),1,0)),0)","v":0},{"$f":"+IFERROR(IF(T2114>VLOOKUP('CEV-CEVE'!$E$10,$BN$20:$BZ$29,1+E2114,0),1,0),0)","v":0}]
[null,null,null,null,null,null,null,null,null,null,null,null,null,null,null,null,null,null,null,null,null,null,null,null,null,null,null,null,null,null,null,null,null,null,null,null,null,null,null,null,null,null,null,null,null,null,null,null,null,null,null,null,null,null,null,null,null,8,"Caso Base 180° Con Clima",{"$f":"+IFERROR(IF(BF2120=\"\",0,IF(T2120<IF(OR(BF2120<=$BP$3,BF2120>=$BO$3),VLOOKUP('CEV-CEVE'!$E$10,$BN$7:$BZ$16,1+E2120,0)-2,VLOOKUP('CEV-CEVE'!$E$10,$BN$7:$BZ$16,1+E2120,0)),1,0)),0)","v":0},{"$f":"+IFERROR(IF(T2120>VLOOKUP('CEV-CEVE'!$E$10,$BN$20:$BZ$29,1+E2120,0),1,0),0)","v":0}]
[null,null,null,null,null,null,null,null,null,null,null,null,null,null,null,null,null,null,null,null,null,null,null,null,null,null,null,null,null,null,null,null,null,null,null,null,null,null,null,null,null,null,null,null,null,null,null,null,null,null,null,null,null,null,null,null,null,13,"Caso Base 180° Con Clima",{"$f":"+IFERROR(IF(BF2125=\"\",0,IF(T2125<IF(OR(BF2125<=$BP$3,BF2125>=$BO$3),VLOOKUP('CEV-CEVE'!$E$10,$BN$7:$BZ$16,1+E2125,0)-2,VLOOKUP('CEV-CEVE'!$E$10,$BN$7:$BZ$16,1+E2125,0)),1,0)),0)","v":0},{"$f":"+IFERROR(IF(T2125>VLOOKUP('CEV-CEVE'!$E$10,$BN$20:$BZ$29,1+E2125,0),1,0),0)","v":0}]
[null,null,null,null,null,null,null,null,null,null,null,null,null,null,null,null,null,null,null,null,null,null,null,null,null,null,null,null,null,null,null,null,null,null,null,null,null,null,null,null,null,null,null,null,null,null,null,null,null,null,null,null,null,null,null,null,null,14,"Caso Base 180° Con Clima",{"$f":"+IFERROR(IF(BF2126=\"\",0,IF(T2126<IF(OR(BF2126<=$BP$3,BF2126>=$BO$3),VLOOKUP('CEV-CEVE'!$E$10,$BN$7:$BZ$16,1+E2126,0)-2,VLOOKUP('CEV-CEVE'!$E$10,$BN$7:$BZ$16,1+E2126,0)),1,0)),0)","v":0},{"$f":"+IFERROR(IF(T2126>VLOOKUP('CEV-CEVE'!$E$10,$BN$20:$BZ$29,1+E2126,0),1,0),0)","v":0}]
[null,null,null,null,null,null,null,null,null,null,null,null,null,null,null,null,null,null,null,null,null,null,null,null,null,null,null,null,null,null,null,null,null,null,null,null,null,null,null,null,null,null,null,null,null,null,null,null,null,null,null,null,null,null,null,null,null,19,"Caso Base 180° Con Clima",{"$f":"+IFERROR(IF(BF2131=\"\",0,IF(T2131<IF(OR(BF2131<=$BP$3,BF2131>=$BO$3),VLOOKUP('CEV-CEVE'!$E$10,$BN$7:$BZ$16,1+E2131,0)-2,VLOOKUP('CEV-CEVE'!$E$10,$BN$7:$BZ$16,1+E2131,0)),1,0)),0)","v":0},{"$f":"+IFERROR(IF(T2131>VLOOKUP('CEV-CEVE'!$E$10,$BN$20:$BZ$29,1+E2131,0),1,0),0)","v":0}]
[null,null,null,null,null,null,null,null,null,null,null,null,null,null,null,null,null,null,null,null,null,null,null,null,null,null,null,null,null,null,null,null,null,null,null,null,null,null,null,null,null,null,null,null,null,null,null,null,null,null,null,null,null,null,null,null,null,null,"Caso Base 180° Con Clima",{"$f":"+IFERROR(IF(BF2136=\"\",0,IF(T2136<IF(OR(BF2136<=$BP$3,BF2136>=$BO$3),VLOOKUP('CEV-CEVE'!$E$10,$BN$7:$BZ$16,1+E2136,0)-2,VLOOKUP('CEV-CEVE'!$E$10,$BN$7:$BZ$16,1+E2136,0)),1,0)),0)","v":0},{"$f":"+IFERROR(IF(T2136>VLOOKUP('CEV-CEVE'!$E$10,$BN$20:$BZ$29,1+E2136,0),1,0),0)","v":0}]
[null,null,null,null,null,null,null,null,null,null,null,null,null,null,null,null,null,null,null,null,null,null,null,null,null,null,null,null,null,null,null,null,null,null,null,null,null,null,null,null,null,null,null,null,null,null,null,null,null,null,null,null,null,null,null,null,null,4,"Caso Base 180° Con Clima",{"$f":"+IFERROR(IF(BF2142=\"\",0,IF(T2142<IF(OR(BF2142<=$BP$3,BF2142>=$BO$3),VLOOKUP('CEV-CEVE'!$E$10,$BN$7:$BZ$16,1+E2142,0)-2,VLOOKUP('CEV-CEVE'!$E$10,$BN$7:$BZ$16,1+E2142,0)),1,0)),0)","v":0},{"$f":"+IFERROR(IF(T2142>VLOOKUP('CEV-CEVE'!$E$10,$BN$20:$BZ$29,1+E2142,0),1,0),0)","v":0}]
[null,null,null,null,null,null,null,null,null,null,null,null,null,null,null,null,null,null,null,null,null,null,null,null,null,null,null,null,null,null,null,null,null,null,null,null,null,null,null,null,null,null,null,null,null,null,null,null,null,null,null,null,null,null,null,null,null,9,"Caso Base 180° Con Clima",{"$f":"+IFERROR(IF(BF2147=\"\",0,IF(T2147<IF(OR(BF2147<=$BP$3,BF2147>=$BO$3),VLOOKUP('CEV-CEVE'!$E$10,$BN$7:$BZ$16,1+E2147,0)-2,VLOOKUP('CEV-CEVE'!$E$10,$BN$7:$BZ$16,1+E2147,0)),1,0)),0)","v":0},{"$f":"+IFERROR(IF(T2147>VLOOKUP('CEV-CEVE'!$E$10,$BN$20:$BZ$29,1+E2147,0),1,0),0)","v":0}]
[null,null,null,null,null,null,null,null,null,null,null,null,null,null,null,null,null,null,null,null,null,null,null,null,null,null,null,null,null,null,null,null,null,null,null,null,null,null,null,null,null,null,null,null,null,null,null,null,null,null,null,null,null,null,null,null,null,15,"Caso Base 180° Con Clima",{"$f":"+IFERROR(IF(BF2153=\"\",0,IF(T2153<IF(OR(BF2153<=$BP$3,BF2153>=$BO$3),VLOOKUP('CEV-CEVE'!$E$10,$BN$7:$BZ$16,1+E2153,0)-2,VLOOKUP('CEV-CEVE'!$E$10,$BN$7:$BZ$16,1+E2153,0)),1,0)),0)","v":0},{"$f":"+IFERROR(IF(T2153>VLOOKUP('CEV-CEVE'!$E$10,$BN$20:$BZ$29,1+E2153,0),1,0),0)","v":0}]
[null,null,null,null,null,null,null,null,null,null,null,null,null,null,null,null,null,null,null,null,null,null,null,null,null,null,null,null,null,null,null,null,null,null,null,null,null,null,null,null,null,null,null,null,null,null,null,null,null,null,null,null,null,null,null,null,null,20,"Caso Base 180° Con Clima",{"$f":"+IFERROR(IF(BF2158=\"\",0,IF(T2158<IF(OR(BF2158<=$BP$3,BF2158>=$BO$3),VLOOKUP('CEV-CEVE'!$E$10,$BN$7:$BZ$16,1+E2158,0)-2,VLOOKUP('CEV-CEVE'!$E$10,$BN$7:$BZ$16,1+E2158,0)),1,0)),0)","v":0},{"$f":"+IFERROR(IF(T2158>VLOOKUP('CEV-CEVE'!$E$10,$BN$20:$BZ$29,1+E2158,0),1,0),0)","v":0}]
[null,null,null,null,null,null,null,null,null,null,null,null,null,null,null,null,null,null,null,null,null,null,null,null,null,null,null,null,null,null,null,null,null,null,null,null,null,null,null,null,null,null,null,null,null,null,null,null,null,null,null,null,null,null,null,null,null,null,"Caso Base 180° Con Clima",{"$f":"+IFERROR(IF(BF2163=\"\",0,IF(T2163<IF(OR(BF2163<=$BP$3,BF2163>=$BO$3),VLOOKUP('CEV-CEVE'!$E$10,$BN$7:$BZ$16,1+E2163,0)-2,VLOOKUP('CEV-CEVE'!$E$10,$BN$7:$BZ$16,1+E2163,0)),1,0)),0)","v":0},{"$f":"+IFERROR(IF(T2163>VLOOKUP('CEV-CEVE'!$E$10,$BN$20:$BZ$29,1+E2163,0),1,0),0)","v":0}]
[null,null,null,null,null,null,null,null,null,null,null,null,null,null,null,null,null,null,null,null,null,null,null,null,null,null,null,null,null,null,null,null,null,null,null,null,null,null,null,null,null,null,null,null,null,null,null,null,null,null,null,null,null,null,null,null,null,5,"Caso Base 180° Con Clima",{"$f":"+IFERROR(IF(BF2169=\"\",0,IF(T2169<IF(OR(BF2169<=$BP$3,BF2169>=$BO$3),VLOOKUP('CEV-CEVE'!$E$10,$BN$7:$BZ$16,1+E2169,0)-2,VLOOKUP('CEV-CEVE'!$E$10,$BN$7:$BZ$16,1+E2169,0)),1,0)),0)","v":0},{"$f":"+IFERROR(IF(T2169>VLOOKUP('CEV-CEVE'!$E$10,$BN$20:$BZ$29,1+E2169,0),1,0),0)","v":0}]
[null,null,null,null,null,null,null,null,null,null,null,null,null,null,null,null,null,null,null,null,null,null,null,null,null,null,null,null,null,null,null,null,null,null,null,null,null,null,null,null,null,null,null,null,null,null,null,null,null,null,null,null,null,null,null,null,null,10,"Caso Base 180° Con Clima",{"$f":"+IFERROR(IF(BF2174=\"\",0,IF(T2174<IF(OR(BF2174<=$BP$3,BF2174>=$BO$3),VLOOKUP('CEV-CEVE'!$E$10,$BN$7:$BZ$16,1+E2174,0)-2,VLOOKUP('CEV-CEVE'!$E$10,$BN$7:$BZ$16,1+E2174,0)),1,0)),0)","v":0},{"$f":"+IFERROR(IF(T2174>VLOOKUP('CEV-CEVE'!$E$10,$BN$20:$BZ$29,1+E2174,0),1,0),0)","v":0}]
[null,null,null,null,null,null,null,null,null,null,null,null,null,null,null,null,null,null,null,null,null,null,null,null,null,null,null,null,null,null,null,null,null,null,null,null,null,null,null,null,null,null,null,null,null,null,null,null,null,null,null,null,null,null,null,null,null,15,"Caso Base 180° Con Clima",{"$f":"+IFERROR(IF(BF2179=\"\",0,IF(T2179<IF(OR(BF2179<=$BP$3,BF2179>=$BO$3),VLOOKUP('CEV-CEVE'!$E$10,$BN$7:$BZ$16,1+E2179,0)-2,VLOOKUP('CEV-CEVE'!$E$10,$BN$7:$BZ$16,1+E2179,0)),1,0)),0)","v":0},{"$f":"+IFERROR(IF(T2179>VLOOKUP('CEV-CEVE'!$E$10,$BN$20:$BZ$29,1+E2179,0),1,0),0)","v":0}]
[null,null,null,null,null,null,null,null,null,null,null,null,null,null,null,null,null,null,null,null,null,null,null,null,null,null,null,null,null,null,null,null,null,null,null,null,null,null,null,null,null,null,null,null,null,null,null,null,null,null,null,null,null,null,null,null,null,21,"Caso Base 180° Con Clima",{"$f":"+IFERROR(IF(BF2185=\"\",0,IF(T2185<IF(OR(BF2185<=$BP$3,BF2185>=$BO$3),VLOOKUP('CEV-CEVE'!$E$10,$BN$7:$BZ$16,1+E2185,0)-2,VLOOKUP('CEV-CEVE'!$E$10,$BN$7:$BZ$16,1+E2185,0)),1,0)),0)","v":0},{"$f":"+IFERROR(IF(T2185>VLOOKUP('CEV-CEVE'!$E$10,$BN$20:$BZ$29,1+E2185,0),1,0),0)","v":0}]
[null,null,null,null,null,null,null,null,null,null,null,null,null,null,null,null,null,null,null,null,null,null,null,null,null,null,null,null,null,null,null,null,null,null,null,null,null,null,null,null,null,null,null,null,null,null,null,null,null,null,null,null,null,null,null,null,null,0,"Caso Base 180° Sin Clima",{"$f":"+IFERROR(IF(BF2190=\"\",0,IF(T2190<IF(OR(BF2190<=$BP$3,BF2190>=$BO$3),VLOOKUP('CEV-CEVE'!$E$10,$BN$7:$BZ$16,1+E2190,0)-2,VLOOKUP('CEV-CEVE'!$E$10,$BN$7:$BZ$16,1+E2190,0)),1,0)),0)","v":0},{"$f":"+IFERROR(IF(T2190>VLOOKUP('CEV-CEVE'!$E$10,$BN$20:$BZ$29,1+E2190,0),1,0),0)","v":0}]
[null,null,null,null,null,null,null,null,null,null,null,null,null,null,null,null,null,null,null,null,null,null,null,null,null,null,null,null,null,null,null,null,null,null,null,null,null,null,null,null,null,null,null,null,null,null,null,null,null,null,null,null,null,null,null,null,null,{"$f":"+BF2190+1","v":1},"Caso Base 180° Sin Clima",{"$f":"+IFERROR(IF(BF2191=\"\",0,IF(T2191<IF(OR(BF2191<=$BP$3,BF2191>=$BO$3),VLOOKUP('CEV-CEVE'!$E$10,$BN$7:$BZ$16,1+E2191,0)-2,VLOOKUP('CEV-CEVE'!$E$10,$BN$7:$BZ$16,1+E2191,0)),1,0)),0)","v":0},{"$f":"+IFERROR(IF(T2191>VLOOKUP('CEV-CEVE'!$E$10,$BN$20:$BZ$29,1+E2191,0),1,0),0)","v":0}]
[null,null,null,null,null,null,null,null,null,null,null,null,null,null,null,null,null,null,null,null,null,null,null,null,null,null,null,null,null,null,null,null,null,null,null,null,null,null,null,null,null,null,null,null,null,null,null,null,null,null,null,null,null,null,null,null,null,6,"Caso Base 180° Sin Clima",{"$f":"+IFERROR(IF(BF2196=\"\",0,IF(T2196<IF(OR(BF2196<=$BP$3,BF2196>=$BO$3),VLOOKUP('CEV-CEVE'!$E$10,$BN$7:$BZ$16,1+E2196,0)-2,VLOOKUP('CEV-CEVE'!$E$10,$BN$7:$BZ$16,1+E2196,0)),1,0)),0)","v":0},{"$f":"+IFERROR(IF(T2196>VLOOKUP('CEV-CEVE'!$E$10,$BN$20:$BZ$29,1+E2196,0),1,0),0)","v":0}]
[null,null,null,null,null,null,null,null,null,null,null,null,null,null,null,null,null,null,null,null,null,null,null,null,null,null,null,null,null,null,null,null,null,null,null,null,null,null,null,null,null,null,null,null,null,null,null,null,null,null,null,null,null,null,null,null,null,11,"Caso Base 180° Sin Clima",{"$f":"+IFERROR(IF(BF2201=\"\",0,IF(T2201<IF(OR(BF2201<=$BP$3,BF2201>=$BO$3),VLOOKUP('CEV-CEVE'!$E$10,$BN$7:$BZ$16,1+E2201,0)-2,VLOOKUP('CEV-CEVE'!$E$10,$BN$7:$BZ$16,1+E2201,0)),1,0)),0)","v":0},{"$f":"+IFERROR(IF(T2201>VLOOKUP('CEV-CEVE'!$E$10,$BN$20:$BZ$29,1+E2201,0),1,0),0)","v":0}]
[null,null,null,null,null,null,null,null,null,null,null,null,null,null,null,null,null,null,null,null,null,null,null,null,null,null,null,null,null,null,null,null,null,null,null,null,null,null,null,null,null,null,null,null,null,null,null,null,null,null,null,null,null,null,null,null,null,17,"Caso Base 180° Sin Clima",{"$f":"+IFERROR(IF(BF2207=\"\",0,IF(T2207<IF(OR(BF2207<=$BP$3,BF2207>=$BO$3),VLOOKUP('CEV-CEVE'!$E$10,$BN$7:$BZ$16,1+E2207,0)-2,VLOOKUP('CEV-CEVE'!$E$10,$BN$7:$BZ$16,1+E2207,0)),1,0)),0)","v":0},{"$f":"+IFERROR(IF(T2207>VLOOKUP('CEV-CEVE'!$E$10,$BN$20:$BZ$29,1+E2207,0),1,0),0)","v":0}]
[null,null,null,null,null,null,null,null,null,null,null,null,null,null,null,null,null,null,null,null,null,null,null,null,null,null,null,null,null,null,null,null,null,null,null,null,null,null,null,null,null,null,null,null,null,null,null,null,null,null,null,null,null,null,null,null,null,22,"Caso Base 180° Sin Clima",{"$f":"+IFERROR(IF(BF2212=\"\",0,IF(T2212<IF(OR(BF2212<=$BP$3,BF2212>=$BO$3),VLOOKUP('CEV-CEVE'!$E$10,$BN$7:$BZ$16,1+E2212,0)-2,VLOOKUP('CEV-CEVE'!$E$10,$BN$7:$BZ$16,1+E2212,0)),1,0)),0)","v":0},{"$f":"+IFERROR(IF(T2212>VLOOKUP('CEV-CEVE'!$E$10,$BN$20:$BZ$29,1+E2212,0),1,0),0)","v":0}]
[null,null,null,null,null,null,null,null,null,null,null,null,null,null,null,null,null,null,null,null,null,null,null,null,null,null,null,null,null,null,null,null,null,null,null,null,null,null,null,null,null,null,null,null,null,null,null,null,null,null,null,null,null,null,null,null,null,{"$f":"+BF2217+1","v":2},"Caso Base 180° Sin Clima",{"$f":"+IFERROR(IF(BF2218=\"\",0,IF(T2218<IF(OR(BF2218<=$BP$3,BF2218>=$BO$3),VLOOKUP('CEV-CEVE'!$E$10,$BN$7:$BZ$16,1+E2218,0)-2,VLOOKUP('CEV-CEVE'!$E$10,$BN$7:$BZ$16,1+E2218,0)),1,0)),0)","v":0},{"$f":"+IFERROR(IF(T2218>VLOOKUP('CEV-CEVE'!$E$10,$BN$20:$BZ$29,1+E2218,0),1,0),0)","v":0}]
[null,null,null,null,null,null,null,null,null,null,null,null,null,null,null,null,null,null,null,null,null,null,null,null,null,null,null,null,null,null,null,null,null,null,null,null,null,null,null,null,null,null,null,null,null,null,null,null,null,null,null,null,null,null,null,null,null,7,"Caso Base 180° Sin Clima",{"$f":"+IFERROR(IF(BF2223=\"\",0,IF(T2223<IF(OR(BF2223<=$BP$3,BF2223>=$BO$3),VLOOKUP('CEV-CEVE'!$E$10,$BN$7:$BZ$16,1+E2223,0)-2,VLOOKUP('CEV-CEVE'!$E$10,$BN$7:$BZ$16,1+E2223,0)),1,0)),0)","v":0},{"$f":"+IFERROR(IF(T2223>VLOOKUP('CEV-CEVE'!$E$10,$BN$20:$BZ$29,1+E2223,0),1,0),0)","v":0}]
[null,null,null,null,null,null,null,null,null,null,null,null,null,null,null,null,null,null,null,null,null,null,null,null,null,null,null,null,null,null,null,null,null,null,null,null,null,null,null,null,null,null,null,null,null,null,null,null,null,null,null,null,null,null,null,null,null,12,"Caso Base 180° Sin Clima",{"$f":"+IFERROR(IF(BF2228=\"\",0,IF(T2228<IF(OR(BF2228<=$BP$3,BF2228>=$BO$3),VLOOKUP('CEV-CEVE'!$E$10,$BN$7:$BZ$16,1+E2228,0)-2,VLOOKUP('CEV-CEVE'!$E$10,$BN$7:$BZ$16,1+E2228,0)),1,0)),0)","v":0},{"$f":"+IFERROR(IF(T2228>VLOOKUP('CEV-CEVE'!$E$10,$BN$20:$BZ$29,1+E2228,0),1,0),0)","v":0}]
[null,null,null,null,null,null,null,null,null,null,null,null,null,null,null,null,null,null,null,null,null,null,null,null,null,null,null,null,null,null,null,null,null,null,null,null,null,null,null,null,null,null,null,null,null,null,null,null,null,null,null,null,null,null,null,null,null,18,"Caso Base 180° Sin Clima",{"$f":"+IFERROR(IF(BF2234=\"\",0,IF(T2234<IF(OR(BF2234<=$BP$3,BF2234>=$BO$3),VLOOKUP('CEV-CEVE'!$E$10,$BN$7:$BZ$16,1+E2234,0)-2,VLOOKUP('CEV-CEVE'!$E$10,$BN$7:$BZ$16,1+E2234,0)),1,0)),0)","v":0},{"$f":"+IFERROR(IF(T2234>VLOOKUP('CEV-CEVE'!$E$10,$BN$20:$BZ$29,1+E2234,0),1,0),0)","v":0}]
[null,null,null,null,null,null,null,null,null,null,null,null,null,null,null,null,null,null,null,null,null,null,null,null,null,null,null,null,null,null,null,null,null,null,null,null,null,null,null,null,null,null,null,null,null,null,null,null,null,null,null,null,null,null,null,null,null,23,"Caso Base 180° Sin Clima",{"$f":"+IFERROR(IF(BF2239=\"\",0,IF(T2239<IF(OR(BF2239<=$BP$3,BF2239>=$BO$3),VLOOKUP('CEV-CEVE'!$E$10,$BN$7:$BZ$16,1+E2239,0)-2,VLOOKUP('CEV-CEVE'!$E$10,$BN$7:$BZ$16,1+E2239,0)),1,0)),0)","v":0},{"$f":"+IFERROR(IF(T2239>VLOOKUP('CEV-CEVE'!$E$10,$BN$20:$BZ$29,1+E2239,0),1,0),0)","v":0}]
[null,null,null,null,null,null,null,null,null,null,null,null,null,null,null,null,null,null,null,null,null,null,null,null,null,null,null,null,null,null,null,null,null,null,null,null,null,null,null,null,null,null,null,null,null,null,null,null,null,null,null,null,null,null,null,null,null,{"$f":"+BF2243+1","v":2},"Caso Base 180° Sin Clima",{"$f":"+IFERROR(IF(BF2244=\"\",0,IF(T2244<IF(OR(BF2244<=$BP$3,BF2244>=$BO$3),VLOOKUP('CEV-CEVE'!$E$10,$BN$7:$BZ$16,1+E2244,0)-2,VLOOKUP('CEV-CEVE'!$E$10,$BN$7:$BZ$16,1+E2244,0)),1,0)),0)","v":0},{"$f":"+IFERROR(IF(T2244>VLOOKUP('CEV-CEVE'!$E$10,$BN$20:$BZ$29,1+E2244,0),1,0),0)","v":0}]
[null,null,null,null,null,null,null,null,null,null,null,null,null,null,null,null,null,null,null,null,null,null,null,null,null,null,null,null,null,null,null,null,null,null,null,null,null,null,null,null,null,null,null,null,null,null,null,null,null,null,null,null,null,null,null,null,null,8,"Caso Base 180° Sin Clima",{"$f":"+IFERROR(IF(BF2250=\"\",0,IF(T2250<IF(OR(BF2250<=$BP$3,BF2250>=$BO$3),VLOOKUP('CEV-CEVE'!$E$10,$BN$7:$BZ$16,1+E2250,0)-2,VLOOKUP('CEV-CEVE'!$E$10,$BN$7:$BZ$16,1+E2250,0)),1,0)),0)","v":0},{"$f":"+IFERROR(IF(T2250>VLOOKUP('CEV-CEVE'!$E$10,$BN$20:$BZ$29,1+E2250,0),1,0),0)","v":0}]
[null,null,null,null,null,null,null,null,null,null,null,null,null,null,null,null,null,null,null,null,null,null,null,null,null,null,null,null,null,null,null,null,null,null,null,null,null,null,null,null,null,null,null,null,null,null,null,null,null,null,null,null,null,null,null,null,null,13,"Caso Base 180° Sin Clima",{"$f":"+IFERROR(IF(BF2255=\"\",0,IF(T2255<IF(OR(BF2255<=$BP$3,BF2255>=$BO$3),VLOOKUP('CEV-CEVE'!$E$10,$BN$7:$BZ$16,1+E2255,0)-2,VLOOKUP('CEV-CEVE'!$E$10,$BN$7:$BZ$16,1+E2255,0)),1,0)),0)","v":0},{"$f":"+IFERROR(IF(T2255>VLOOKUP('CEV-CEVE'!$E$10,$BN$20:$BZ$29,1+E2255,0),1,0),0)","v":0}]
[null,null,null,null,null,null,null,null,null,null,null,null,null,null,null,null,null,null,null,null,null,null,null,null,null,null,null,null,null,null,null,null,null,null,null,null,null,null,null,null,null,null,null,null,null,null,null,null,null,null,null,null,null,null,null,null,null,14,"Caso Base 180° Sin Clima",{"$f":"+IFERROR(IF(BF2256=\"\",0,IF(T2256<IF(OR(BF2256<=$BP$3,BF2256>=$BO$3),VLOOKUP('CEV-CEVE'!$E$10,$BN$7:$BZ$16,1+E2256,0)-2,VLOOKUP('CEV-CEVE'!$E$10,$BN$7:$BZ$16,1+E2256,0)),1,0)),0)","v":0},{"$f":"+IFERROR(IF(T2256>VLOOKUP('CEV-CEVE'!$E$10,$BN$20:$BZ$29,1+E2256,0),1,0),0)","v":0}]
[null,null,null,null,null,null,null,null,null,null,null,null,null,null,null,null,null,null,null,null,null,null,null,null,null,null,null,null,null,null,null,null,null,null,null,null,null,null,null,null,null,null,null,null,null,null,null,null,null,null,null,null,null,null,null,null,null,19,"Caso Base 180° Sin Clima",{"$f":"+IFERROR(IF(BF2261=\"\",0,IF(T2261<IF(OR(BF2261<=$BP$3,BF2261>=$BO$3),VLOOKUP('CEV-CEVE'!$E$10,$BN$7:$BZ$16,1+E2261,0)-2,VLOOKUP('CEV-CEVE'!$E$10,$BN$7:$BZ$16,1+E2261,0)),1,0)),0)","v":0},{"$f":"+IFERROR(IF(T2261>VLOOKUP('CEV-CEVE'!$E$10,$BN$20:$BZ$29,1+E2261,0),1,0),0)","v":0}]
[null,null,null,null,null,null,null,null,null,null,null,null,null,null,null,null,null,null,null,null,null,null,null,null,null,null,null,null,null,null,null,null,null,null,null,null,null,null,null,null,null,null,null,null,null,null,null,null,null,null,null,null,null,null,null,null,null,null,"Caso Base 180° Sin Clima",{"$f":"+IFERROR(IF(BF2266=\"\",0,IF(T2266<IF(OR(BF2266<=$BP$3,BF2266>=$BO$3),VLOOKUP('CEV-CEVE'!$E$10,$BN$7:$BZ$16,1+E2266,0)-2,VLOOKUP('CEV-CEVE'!$E$10,$BN$7:$BZ$16,1+E2266,0)),1,0)),0)","v":0},{"$f":"+IFERROR(IF(T2266>VLOOKUP('CEV-CEVE'!$E$10,$BN$20:$BZ$29,1+E2266,0),1,0),0)","v":0}]
[null,null,null,null,null,null,null,null,null,null,null,null,null,null,null,null,null,null,null,null,null,null,null,null,null,null,null,null,null,null,null,null,null,null,null,null,null,null,null,null,null,null,null,null,null,null,null,null,null,null,null,null,null,null,null,null,null,4,"Caso Base 180° Sin Clima",{"$f":"+IFERROR(IF(BF2272=\"\",0,IF(T2272<IF(OR(BF2272<=$BP$3,BF2272>=$BO$3),VLOOKUP('CEV-CEVE'!$E$10,$BN$7:$BZ$16,1+E2272,0)-2,VLOOKUP('CEV-CEVE'!$E$10,$BN$7:$BZ$16,1+E2272,0)),1,0)),0)","v":0},{"$f":"+IFERROR(IF(T2272>VLOOKUP('CEV-CEVE'!$E$10,$BN$20:$BZ$29,1+E2272,0),1,0),0)","v":0}]
[null,null,null,null,null,null,null,null,null,null,null,null,null,null,null,null,null,null,null,null,null,null,null,null,null,null,null,null,null,null,null,null,null,null,null,null,null,null,null,null,null,null,null,null,null,null,null,null,null,null,null,null,null,null,null,null,null,9,"Caso Base 180° Sin Clima",{"$f":"+IFERROR(IF(BF2277=\"\",0,IF(T2277<IF(OR(BF2277<=$BP$3,BF2277>=$BO$3),VLOOKUP('CEV-CEVE'!$E$10,$BN$7:$BZ$16,1+E2277,0)-2,VLOOKUP('CEV-CEVE'!$E$10,$BN$7:$BZ$16,1+E2277,0)),1,0)),0)","v":0},{"$f":"+IFERROR(IF(T2277>VLOOKUP('CEV-CEVE'!$E$10,$BN$20:$BZ$29,1+E2277,0),1,0),0)","v":0}]
[null,null,null,null,null,null,null,null,null,null,null,null,null,null,null,null,null,null,null,null,null,null,null,null,null,null,null,null,null,null,null,null,null,null,null,null,null,null,null,null,null,null,null,null,null,null,null,null,null,null,null,null,null,null,null,null,null,14,"Caso Base 180° Sin Clima",{"$f":"+IFERROR(IF(BF2282=\"\",0,IF(T2282<IF(OR(BF2282<=$BP$3,BF2282>=$BO$3),VLOOKUP('CEV-CEVE'!$E$10,$BN$7:$BZ$16,1+E2282,0)-2,VLOOKUP('CEV-CEVE'!$E$10,$BN$7:$BZ$16,1+E2282,0)),1,0)),0)","v":0},{"$f":"+IFERROR(IF(T2282>VLOOKUP('CEV-CEVE'!$E$10,$BN$20:$BZ$29,1+E2282,0),1,0),0)","v":0}]
[null,null,null,null,null,null,null,null,null,null,null,null,null,null,null,null,null,null,null,null,null,null,null,null,null,null,null,null,null,null,null,null,null,null,null,null,null,null,null,null,null,null,null,null,null,null,null,null,null,null,null,null,null,null,null,null,null,20,"Caso Base 180° Sin Clima",{"$f":"+IFERROR(IF(BF2288=\"\",0,IF(T2288<IF(OR(BF2288<=$BP$3,BF2288>=$BO$3),VLOOKUP('CEV-CEVE'!$E$10,$BN$7:$BZ$16,1+E2288,0)-2,VLOOKUP('CEV-CEVE'!$E$10,$BN$7:$BZ$16,1+E2288,0)),1,0)),0)","v":0},{"$f":"+IFERROR(IF(T2288>VLOOKUP('CEV-CEVE'!$E$10,$BN$20:$BZ$29,1+E2288,0),1,0),0)","v":0}]
[null,null,null,null,null,null,null,null,null,null,null,null,null,null,null,null,null,null,null,null,null,null,null,null,null,null,null,null,null,null,null,null,null,null,null,null,null,null,null,null,null,null,null,null,null,null,null,null,null,null,null,null,null,null,null,null,null,null,"Caso Base 180° Sin Clima",{"$f":"+IFERROR(IF(BF2293=\"\",0,IF(T2293<IF(OR(BF2293<=$BP$3,BF2293>=$BO$3),VLOOKUP('CEV-CEVE'!$E$10,$BN$7:$BZ$16,1+E2293,0)-2,VLOOKUP('CEV-CEVE'!$E$10,$BN$7:$BZ$16,1+E2293,0)),1,0)),0)","v":0},{"$f":"+IFERROR(IF(T2293>VLOOKUP('CEV-CEVE'!$E$10,$BN$20:$BZ$29,1+E2293,0),1,0),0)","v":0}]
[null,null,null,null,null,null,null,null,null,null,null,null,null,null,null,null,null,null,null,null,null,null,null,null,null,null,null,null,null,null,null,null,null,null,null,null,null,null,null,null,null,null,null,null,null,null,null,null,null,null,null,null,null,null,null,null,null,5,"Caso Base 180° Sin Clima",{"$f":"+IFERROR(IF(BF2299=\"\",0,IF(T2299<IF(OR(BF2299<=$BP$3,BF2299>=$BO$3),VLOOKUP('CEV-CEVE'!$E$10,$BN$7:$BZ$16,1+E2299,0)-2,VLOOKUP('CEV-CEVE'!$E$10,$BN$7:$BZ$16,1+E2299,0)),1,0)),0)","v":0},{"$f":"+IFERROR(IF(T2299>VLOOKUP('CEV-CEVE'!$E$10,$BN$20:$BZ$29,1+E2299,0),1,0),0)","v":0}]
[null,null,null,null,null,null,null,null,null,null,null,null,null,null,null,null,null,null,null,null,null,null,null,null,null,null,null,null,null,null,null,null,null,null,null,null,null,null,null,null,null,null,null,null,null,null,null,null,null,null,null,null,null,null,null,null,null,10,"Caso Base 180° Sin Clima",{"$f":"+IFERROR(IF(BF2304=\"\",0,IF(T2304<IF(OR(BF2304<=$BP$3,BF2304>=$BO$3),VLOOKUP('CEV-CEVE'!$E$10,$BN$7:$BZ$16,1+E2304,0)-2,VLOOKUP('CEV-CEVE'!$E$10,$BN$7:$BZ$16,1+E2304,0)),1,0)),0)","v":0},{"$f":"+IFERROR(IF(T2304>VLOOKUP('CEV-CEVE'!$E$10,$BN$20:$BZ$29,1+E2304,0),1,0),0)","v":0}]
[null,null,null,null,null,null,null,null,null,null,null,null,null,null,null,null,null,null,null,null,null,null,null,null,null,null,null,null,null,null,null,null,null,null,null,null,null,null,null,null,null,null,null,null,null,null,null,null,null,null,null,null,null,null,null,null,null,15,"Caso Base 180° Sin Clima",{"$f":"+IFERROR(IF(BF2309=\"\",0,IF(T2309<IF(OR(BF2309<=$BP$3,BF2309>=$BO$3),VLOOKUP('CEV-CEVE'!$E$10,$BN$7:$BZ$16,1+E2309,0)-2,VLOOKUP('CEV-CEVE'!$E$10,$BN$7:$BZ$16,1+E2309,0)),1,0)),0)","v":0},{"$f":"+IFERROR(IF(T2309>VLOOKUP('CEV-CEVE'!$E$10,$BN$20:$BZ$29,1+E2309,0),1,0),0)","v":0}]
[null,null,null,null,null,null,null,null,null,null,null,null,null,null,null,null,null,null,null,null,null,null,null,null,null,null,null,null,null,null,null,null,null,null,null,null,null,null,null,null,null,null,null,null,null,null,null,null,null,null,null,null,null,null,null,null,null,21,"Caso Base 180° Sin Clima",{"$f":"+IFERROR(IF(BF2315=\"\",0,IF(T2315<IF(OR(BF2315<=$BP$3,BF2315>=$BO$3),VLOOKUP('CEV-CEVE'!$E$10,$BN$7:$BZ$16,1+E2315,0)-2,VLOOKUP('CEV-CEVE'!$E$10,$BN$7:$BZ$16,1+E2315,0)),1,0)),0)","v":0},{"$f":"+IFERROR(IF(T2315>VLOOKUP('CEV-CEVE'!$E$10,$BN$20:$BZ$29,1+E2315,0),1,0),0)","v":0}]
[null,null,null,null,null,null,null,null,null,null,null,null,null,null,null,null,null,null,null,null,null,null,null,null,null,null,null,null,null,null,null,null,null,null,null,null,null,null,null,null,null,null,null,null,null,null,null,null,null,null,null,null,null,null,null,null,null,0,"Caso Base 180° Sin Clima",{"$f":"+IFERROR(IF(BF2320=\"\",0,IF(T2320<IF(OR(BF2320<=$BP$3,BF2320>=$BO$3),VLOOKUP('CEV-CEVE'!$E$10,$BN$7:$BZ$16,1+E2320,0)-2,VLOOKUP('CEV-CEVE'!$E$10,$BN$7:$BZ$16,1+E2320,0)),1,0)),0)","v":0},{"$f":"+IFERROR(IF(T2320>VLOOKUP('CEV-CEVE'!$E$10,$BN$20:$BZ$29,1+E2320,0),1,0),0)","v":0}]
[null,null,null,null,null,null,null,null,null,null,null,null,null,null,null,null,null,null,null,null,null,null,null,null,null,null,null,null,null,null,null,null,null,null,null,null,null,null,null,null,null,null,null,null,null,null,null,null,null,null,null,null,null,null,null,null,null,{"$f":"+BF2320+1","v":1},"Caso Base 180° Sin Clima",{"$f":"+IFERROR(IF(BF2321=\"\",0,IF(T2321<IF(OR(BF2321<=$BP$3,BF2321>=$BO$3),VLOOKUP('CEV-CEVE'!$E$10,$BN$7:$BZ$16,1+E2321,0)-2,VLOOKUP('CEV-CEVE'!$E$10,$BN$7:$BZ$16,1+E2321,0)),1,0)),0)","v":0},{"$f":"+IFERROR(IF(T2321>VLOOKUP('CEV-CEVE'!$E$10,$BN$20:$BZ$29,1+E2321,0),1,0),0)","v":0}]
[null,null,null,null,null,null,null,null,null,null,null,null,null,null,null,null,null,null,null,null,null,null,null,null,null,null,null,null,null,null,null,null,null,null,null,null,null,null,null,null,null,null,null,null,null,null,null,null,null,null,null,null,null,null,null,null,null,6,"Caso Base 180° Sin Clima",{"$f":"+IFERROR(IF(BF2326=\"\",0,IF(T2326<IF(OR(BF2326<=$BP$3,BF2326>=$BO$3),VLOOKUP('CEV-CEVE'!$E$10,$BN$7:$BZ$16,1+E2326,0)-2,VLOOKUP('CEV-CEVE'!$E$10,$BN$7:$BZ$16,1+E2326,0)),1,0)),0)","v":0},{"$f":"+IFERROR(IF(T2326>VLOOKUP('CEV-CEVE'!$E$10,$BN$20:$BZ$29,1+E2326,0),1,0),0)","v":0}]
[null,null,null,null,null,null,null,null,null,null,null,null,null,null,null,null,null,null,null,null,null,null,null,null,null,null,null,null,null,null,null,null,null,null,null,null,null,null,null,null,null,null,null,null,null,null,null,null,null,null,null,null,null,null,null,null,null,11,"Caso Base 180° Sin Clima",{"$f":"+IFERROR(IF(BF2331=\"\",0,IF(T2331<IF(OR(BF2331<=$BP$3,BF2331>=$BO$3),VLOOKUP('CEV-CEVE'!$E$10,$BN$7:$BZ$16,1+E2331,0)-2,VLOOKUP('CEV-CEVE'!$E$10,$BN$7:$BZ$16,1+E2331,0)),1,0)),0)","v":0},{"$f":"+IFERROR(IF(T2331>VLOOKUP('CEV-CEVE'!$E$10,$BN$20:$BZ$29,1+E2331,0),1,0),0)","v":0}]
[null,null,null,null,null,null,null,null,null,null,null,null,null,null,null,null,null,null,null,null,null,null,null,null,null,null,null,null,null,null,null,null,null,null,null,null,null,null,null,null,null,null,null,null,null,null,null,null,null,null,null,null,null,null,null,null,null,17,"Caso Base 180° Sin Clima",{"$f":"+IFERROR(IF(BF2337=\"\",0,IF(T2337<IF(OR(BF2337<=$BP$3,BF2337>=$BO$3),VLOOKUP('CEV-CEVE'!$E$10,$BN$7:$BZ$16,1+E2337,0)-2,VLOOKUP('CEV-CEVE'!$E$10,$BN$7:$BZ$16,1+E2337,0)),1,0)),0)","v":0},{"$f":"+IFERROR(IF(T2337>VLOOKUP('CEV-CEVE'!$E$10,$BN$20:$BZ$29,1+E2337,0),1,0),0)","v":0}]
[null,null,null,null,null,null,null,null,null,null,null,null,null,null,null,null,null,null,null,null,null,null,null,null,null,null,null,null,null,null,null,null,null,null,null,null,null,null,null,null,null,null,null,null,null,null,null,null,null,null,null,null,null,null,null,null,null,22,"Caso Base 180° Sin Clima",{"$f":"+IFERROR(IF(BF2342=\"\",0,IF(T2342<IF(OR(BF2342<=$BP$3,BF2342>=$BO$3),VLOOKUP('CEV-CEVE'!$E$10,$BN$7:$BZ$16,1+E2342,0)-2,VLOOKUP('CEV-CEVE'!$E$10,$BN$7:$BZ$16,1+E2342,0)),1,0)),0)","v":0},{"$f":"+IFERROR(IF(T2342>VLOOKUP('CEV-CEVE'!$E$10,$BN$20:$BZ$29,1+E2342,0),1,0),0)","v":0}]
[null,null,null,null,null,null,null,null,null,null,null,null,null,null,null,null,null,null,null,null,null,null,null,null,null,null,null,null,null,null,null,null,null,null,null,null,null,null,null,null,null,null,null,null,null,null,null,null,null,null,null,null,null,null,null,null,null,{"$f":"+BF2346+1","v":1},"Caso Base 180° Sin Clima",{"$f":"+IFERROR(IF(BF2347=\"\",0,IF(T2347<IF(OR(BF2347<=$BP$3,BF2347>=$BO$3),VLOOKUP('CEV-CEVE'!$E$10,$BN$7:$BZ$16,1+E2347,0)-2,VLOOKUP('CEV-CEVE'!$E$10,$BN$7:$BZ$16,1+E2347,0)),1,0)),0)","v":0},{"$f":"+IFERROR(IF(T2347>VLOOKUP('CEV-CEVE'!$E$10,$BN$20:$BZ$29,1+E2347,0),1,0),0)","v":0}]
[null,null,null,null,null,null,null,null,null,null,null,null,null,null,null,null,null,null,null,null,null,null,null,null,null,null,null,null,null,null,null,null,null,null,null,null,null,null,null,null,null,null,null,null,null,null,null,null,null,null,null,null,null,null,null,null,null,7,"Caso Base 180° Sin Clima",{"$f":"+IFERROR(IF(BF2353=\"\",0,IF(T2353<IF(OR(BF2353<=$BP$3,BF2353>=$BO$3),VLOOKUP('CEV-CEVE'!$E$10,$BN$7:$BZ$16,1+E2353,0)-2,VLOOKUP('CEV-CEVE'!$E$10,$BN$7:$BZ$16,1+E2353,0)),1,0)),0)","v":0},{"$f":"+IFERROR(IF(T2353>VLOOKUP('CEV-CEVE'!$E$10,$BN$20:$BZ$29,1+E2353,0),1,0),0)","v":0}]
[null,null,null,null,null,null,null,null,null,null,null,null,null,null,null,null,null,null,null,null,null,null,null,null,null,null,null,null,null,null,null,null,null,null,null,null,null,null,null,null,null,null,null,null,null,null,null,null,null,null,null,null,null,null,null,null,null,12,"Caso Base 180° Sin Clima",{"$f":"+IFERROR(IF(BF2358=\"\",0,IF(T2358<IF(OR(BF2358<=$BP$3,BF2358>=$BO$3),VLOOKUP('CEV-CEVE'!$E$10,$BN$7:$BZ$16,1+E2358,0)-2,VLOOKUP('CEV-CEVE'!$E$10,$BN$7:$BZ$16,1+E2358,0)),1,0)),0)","v":0},{"$f":"+IFERROR(IF(T2358>VLOOKUP('CEV-CEVE'!$E$10,$BN$20:$BZ$29,1+E2358,0),1,0),0)","v":0}]
[null,null,null,null,null,null,null,null,null,null,null,null,null,null,null,null,null,null,null,null,null,null,null,null,null,null,null,null,null,null,null,null,null,null,null,null,null,null,null,null,null,null,null,null,null,null,null,null,null,null,null,null,null,null,null,null,null,18,"Caso Base 180° Sin Clima",{"$f":"+IFERROR(IF(BF2364=\"\",0,IF(T2364<IF(OR(BF2364<=$BP$3,BF2364>=$BO$3),VLOOKUP('CEV-CEVE'!$E$10,$BN$7:$BZ$16,1+E2364,0)-2,VLOOKUP('CEV-CEVE'!$E$10,$BN$7:$BZ$16,1+E2364,0)),1,0)),0)","v":0},{"$f":"+IFERROR(IF(T2364>VLOOKUP('CEV-CEVE'!$E$10,$BN$20:$BZ$29,1+E2364,0),1,0),0)","v":0}]
[null,null,null,null,null,null,null,null,null,null,null,null,null,null,null,null,null,null,null,null,null,null,null,null,null,null,null,null,null,null,null,null,null,null,null,null,null,null,null,null,null,null,null,null,null,null,null,null,null,null,null,null,null,null,null,null,null,23,"Caso Base 180° Sin Clima",{"$f":"+IFERROR(IF(BF2369=\"\",0,IF(T2369<IF(OR(BF2369<=$BP$3,BF2369>=$BO$3),VLOOKUP('CEV-CEVE'!$E$10,$BN$7:$BZ$16,1+E2369,0)-2,VLOOKUP('CEV-CEVE'!$E$10,$BN$7:$BZ$16,1+E2369,0)),1,0)),0)","v":0},{"$f":"+IFERROR(IF(T2369>VLOOKUP('CEV-CEVE'!$E$10,$BN$20:$BZ$29,1+E2369,0),1,0),0)","v":0}]
[null,null,null,null,null,null,null,null,null,null,null,null,null,null,null,null,null,null,null,null,null,null,null,null,null,null,null,null,null,null,null,null,null,null,null,null,null,null,null,null,null,null,null,null,null,null,null,null,null,null,null,null,null,null,null,null,null,{"$f":"+BF2373+1","v":2},"Caso Base 180° Sin Clima",{"$f":"+IFERROR(IF(BF2374=\"\",0,IF(T2374<IF(OR(BF2374<=$BP$3,BF2374>=$BO$3),VLOOKUP('CEV-CEVE'!$E$10,$BN$7:$BZ$16,1+E2374,0)-2,VLOOKUP('CEV-CEVE'!$E$10,$BN$7:$BZ$16,1+E2374,0)),1,0)),0)","v":0},{"$f":"+IFERROR(IF(T2374>VLOOKUP('CEV-CEVE'!$E$10,$BN$20:$BZ$29,1+E2374,0),1,0),0)","v":0}]
[null,null,null,null,null,null,null,null,null,null,null,null,null,null,null,null,null,null,null,null,null,null,null,null,null,null,null,null,null,null,null,null,null,null,null,null,null,null,null,null,null,null,null,null,null,null,null,null,null,null,null,null,null,null,null,null,null,8,"Caso Base 180° Sin Clima",{"$f":"+IFERROR(IF(BF2380=\"\",0,IF(T2380<IF(OR(BF2380<=$BP$3,BF2380>=$BO$3),VLOOKUP('CEV-CEVE'!$E$10,$BN$7:$BZ$16,1+E2380,0)-2,VLOOKUP('CEV-CEVE'!$E$10,$BN$7:$BZ$16,1+E2380,0)),1,0)),0)","v":0},{"$f":"+IFERROR(IF(T2380>VLOOKUP('CEV-CEVE'!$E$10,$BN$20:$BZ$29,1+E2380,0),1,0),0)","v":0}]
[null,null,null,null,null,null,null,null,null,null,null,null,null,null,null,null,null,null,null,null,null,null,null,null,null,null,null,null,null,null,null,null,null,null,null,null,null,null,null,null,null,null,null,null,null,null,null,null,null,null,null,null,null,null,null,null,null,13,"Caso Base 180° Sin Clima",{"$f":"+IFERROR(IF(BF2385=\"\",0,IF(T2385<IF(OR(BF2385<=$BP$3,BF2385>=$BO$3),VLOOKUP('CEV-CEVE'!$E$10,$BN$7:$BZ$16,1+E2385,0)-2,VLOOKUP('CEV-CEVE'!$E$10,$BN$7:$BZ$16,1+E2385,0)),1,0)),0)","v":0},{"$f":"+IFERROR(IF(T2385>VLOOKUP('CEV-CEVE'!$E$10,$BN$20:$BZ$29,1+E2385,0),1,0),0)","v":0}]
[null,null,null,null,null,null,null,null,null,null,null,null,null,null,null,null,null,null,null,null,null,null,null,null,null,null,null,null,null,null,null,null,null,null,null,null,null,null,null,null,null,null,null,null,null,null,null,null,null,null,null,null,null,null,null,null,null,14,"Caso Base 180° Sin Clima",{"$f":"+IFERROR(IF(BF2386=\"\",0,IF(T2386<IF(OR(BF2386<=$BP$3,BF2386>=$BO$3),VLOOKUP('CEV-CEVE'!$E$10,$BN$7:$BZ$16,1+E2386,0)-2,VLOOKUP('CEV-CEVE'!$E$10,$BN$7:$BZ$16,1+E2386,0)),1,0)),0)","v":0},{"$f":"+IFERROR(IF(T2386>VLOOKUP('CEV-CEVE'!$E$10,$BN$20:$BZ$29,1+E2386,0),1,0),0)","v":0}]
[null,null,null,null,null,null,null,null,null,null,null,null,null,null,null,null,null,null,null,null,null,null,null,null,null,null,null,null,null,null,null,null,null,null,null,null,null,null,null,null,null,null,null,null,null,null,null,null,null,null,null,null,null,null,null,null,null,19,"Caso Base 180° Sin Clima",{"$f":"+IFERROR(IF(BF2391=\"\",0,IF(T2391<IF(OR(BF2391<=$BP$3,BF2391>=$BO$3),VLOOKUP('CEV-CEVE'!$E$10,$BN$7:$BZ$16,1+E2391,0)-2,VLOOKUP('CEV-CEVE'!$E$10,$BN$7:$BZ$16,1+E2391,0)),1,0)),0)","v":0},{"$f":"+IFERROR(IF(T2391>VLOOKUP('CEV-CEVE'!$E$10,$BN$20:$BZ$29,1+E2391,0),1,0),0)","v":0}]
[null,null,null,null,null,null,null,null,null,null,null,null,null,null,null,null,null,null,null,null,null,null,null,null,null,null,null,null,null,null,null,null,null,null,null,null,null,null,null,null,null,null,null,null,null,null,null,null,null,null,null,null,null,null,null,null,null,null,"Caso Base 180° Sin Clima",{"$f":"+IFERROR(IF(BF2396=\"\",0,IF(T2396<IF(OR(BF2396<=$BP$3,BF2396>=$BO$3),VLOOKUP('CEV-CEVE'!$E$10,$BN$7:$BZ$16,1+E2396,0)-2,VLOOKUP('CEV-CEVE'!$E$10,$BN$7:$BZ$16,1+E2396,0)),1,0)),0)","v":0},{"$f":"+IFERROR(IF(T2396>VLOOKUP('CEV-CEVE'!$E$10,$BN$20:$BZ$29,1+E2396,0),1,0),0)","v":0}]
[null,null,null,null,null,null,null,null,null,null,null,null,null,null,null,null,null,null,null,null,null,null,null,null,null,null,null,null,null,null,null,null,null,null,null,null,null,null,null,null,null,null,null,null,null,null,null,null,null,null,null,null,null,null,null,null,null,4,"Caso Base 180° Sin Clima",{"$f":"+IFERROR(IF(BF2402=\"\",0,IF(T2402<IF(OR(BF2402<=$BP$3,BF2402>=$BO$3),VLOOKUP('CEV-CEVE'!$E$10,$BN$7:$BZ$16,1+E2402,0)-2,VLOOKUP('CEV-CEVE'!$E$10,$BN$7:$BZ$16,1+E2402,0)),1,0)),0)","v":0},{"$f":"+IFERROR(IF(T2402>VLOOKUP('CEV-CEVE'!$E$10,$BN$20:$BZ$29,1+E2402,0),1,0),0)","v":0}]
[null,null,null,null,null,null,null,null,null,null,null,null,null,null,null,null,null,null,null,null,null,null,null,null,null,null,null,null,null,null,null,null,null,null,null,null,null,null,null,null,null,null,null,null,null,null,null,null,null,null,null,null,null,null,null,null,null,9,"Caso Base 180° Sin Clima",{"$f":"+IFERROR(IF(BF2407=\"\",0,IF(T2407<IF(OR(BF2407<=$BP$3,BF2407>=$BO$3),VLOOKUP('CEV-CEVE'!$E$10,$BN$7:$BZ$16,1+E2407,0)-2,VLOOKUP('CEV-CEVE'!$E$10,$BN$7:$BZ$16,1+E2407,0)),1,0)),0)","v":0},{"$f":"+IFERROR(IF(T2407>VLOOKUP('CEV-CEVE'!$E$10,$BN$20:$BZ$29,1+E2407,0),1,0),0)","v":0}]
[null,null,null,null,null,null,null,null,null,null,null,null,null,null,null,null,null,null,null,null,null,null,null,null,null,null,null,null,null,null,null,null,null,null,null,null,null,null,null,null,null,null,null,null,null,null,null,null,null,null,null,null,null,null,null,null,null,14,"Caso Base 180° Sin Clima",{"$f":"+IFERROR(IF(BF2412=\"\",0,IF(T2412<IF(OR(BF2412<=$BP$3,BF2412>=$BO$3),VLOOKUP('CEV-CEVE'!$E$10,$BN$7:$BZ$16,1+E2412,0)-2,VLOOKUP('CEV-CEVE'!$E$10,$BN$7:$BZ$16,1+E2412,0)),1,0)),0)","v":0},{"$f":"+IFERROR(IF(T2412>VLOOKUP('CEV-CEVE'!$E$10,$BN$20:$BZ$29,1+E2412,0),1,0),0)","v":0}]
[null,null,null,null,null,null,null,null,null,null,null,null,null,null,null,null,null,null,null,null,null,null,null,null,null,null,null,null,null,null,null,null,null,null,null,null,null,null,null,null,null,null,null,null,null,null,null,null,null,null,null,null,null,null,null,null,null,20,"Caso Base 180° Sin Clima",{"$f":"+IFERROR(IF(BF2418=\"\",0,IF(T2418<IF(OR(BF2418<=$BP$3,BF2418>=$BO$3),VLOOKUP('CEV-CEVE'!$E$10,$BN$7:$BZ$16,1+E2418,0)-2,VLOOKUP('CEV-CEVE'!$E$10,$BN$7:$BZ$16,1+E2418,0)),1,0)),0)","v":0},{"$f":"+IFERROR(IF(T2418>VLOOKUP('CEV-CEVE'!$E$10,$BN$20:$BZ$29,1+E2418,0),1,0),0)","v":0}]
[null,null,null,null,null,null,null,null,null,null,null,null,null,null,null,null,null,null,null,null,null,null,null,null,null,null,null,null,null,null,null,null,null,null,null,null,null,null,null,null,null,null,null,null,null,null,null,null,null,null,null,null,null,null,null,null,null,null,"Caso Base 180° Sin Clima",{"$f":"+IFERROR(IF(BF2423=\"\",0,IF(T2423<IF(OR(BF2423<=$BP$3,BF2423>=$BO$3),VLOOKUP('CEV-CEVE'!$E$10,$BN$7:$BZ$16,1+E2423,0)-2,VLOOKUP('CEV-CEVE'!$E$10,$BN$7:$BZ$16,1+E2423,0)),1,0)),0)","v":0},{"$f":"+IFERROR(IF(T2423>VLOOKUP('CEV-CEVE'!$E$10,$BN$20:$BZ$29,1+E2423,0),1,0),0)","v":0}]
[null,null,null,null,null,null,null,null,null,null,null,null,null,null,null,null,null,null,null,null,null,null,null,null,null,null,null,null,null,null,null,null,null,null,null,null,null,null,null,null,null,null,null,null,null,null,null,null,null,null,null,null,null,null,null,null,null,5,"Caso Base 180° Sin Clima",{"$f":"+IFERROR(IF(BF2429=\"\",0,IF(T2429<IF(OR(BF2429<=$BP$3,BF2429>=$BO$3),VLOOKUP('CEV-CEVE'!$E$10,$BN$7:$BZ$16,1+E2429,0)-2,VLOOKUP('CEV-CEVE'!$E$10,$BN$7:$BZ$16,1+E2429,0)),1,0)),0)","v":0},{"$f":"+IFERROR(IF(T2429>VLOOKUP('CEV-CEVE'!$E$10,$BN$20:$BZ$29,1+E2429,0),1,0),0)","v":0}]
[null,null,null,null,null,null,null,null,null,null,null,null,null,null,null,null,null,null,null,null,null,null,null,null,null,null,null,null,null,null,null,null,null,null,null,null,null,null,null,null,null,null,null,null,null,null,null,null,null,null,null,null,null,null,null,null,null,10,"Caso Base 180° Sin Clima",{"$f":"+IFERROR(IF(BF2434=\"\",0,IF(T2434<IF(OR(BF2434<=$BP$3,BF2434>=$BO$3),VLOOKUP('CEV-CEVE'!$E$10,$BN$7:$BZ$16,1+E2434,0)-2,VLOOKUP('CEV-CEVE'!$E$10,$BN$7:$BZ$16,1+E2434,0)),1,0)),0)","v":0},{"$f":"+IFERROR(IF(T2434>VLOOKUP('CEV-CEVE'!$E$10,$BN$20:$BZ$29,1+E2434,0),1,0),0)","v":0}]
[null,null,null,null,null,null,null,null,null,null,null,null,null,null,null,null,null,null,null,null,null,null,null,null,null,null,null,null,null,null,null,null,null,null,null,null,null,null,null,null,null,null,null,null,null,null,null,null,null,null,null,null,null,null,null,null,null,15,"Caso Base 180° Sin Clima",{"$f":"+IFERROR(IF(BF2439=\"\",0,IF(T2439<IF(OR(BF2439<=$BP$3,BF2439>=$BO$3),VLOOKUP('CEV-CEVE'!$E$10,$BN$7:$BZ$16,1+E2439,0)-2,VLOOKUP('CEV-CEVE'!$E$10,$BN$7:$BZ$16,1+E2439,0)),1,0)),0)","v":0},{"$f":"+IFERROR(IF(T2439>VLOOKUP('CEV-CEVE'!$E$10,$BN$20:$BZ$29,1+E2439,0),1,0),0)","v":0}]
[null,null,null,null,null,null,null,null,null,null,null,null,null,null,null,null,null,null,null,null,null,null,null,null,null,null,null,null,null,null,null,null,null,null,null,null,null,null,null,null,null,null,null,null,null,null,null,null,null,null,null,null,null,null,null,null,null,21,"Caso Base 180° Sin Clima",{"$f":"+IFERROR(IF(BF2445=\"\",0,IF(T2445<IF(OR(BF2445<=$BP$3,BF2445>=$BO$3),VLOOKUP('CEV-CEVE'!$E$10,$BN$7:$BZ$16,1+E2445,0)-2,VLOOKUP('CEV-CEVE'!$E$10,$BN$7:$BZ$16,1+E2445,0)),1,0)),0)","v":0},{"$f":"+IFERROR(IF(T2445>VLOOKUP('CEV-CEVE'!$E$10,$BN$20:$BZ$29,1+E2445,0),1,0),0)","v":0}]
[null,null,null,null,null,null,null,null,null,null,null,null,null,null,null,null,null,null,null,null,null,null,null,null,null,null,null,null,null,null,null,null,null,null,null,null,null,null,null,null,null,null,null,null,null,null,null,null,null,null,null,null,null,null,null,null,null,0,"Caso Base 180° Sin Clima",{"$f":"+IFERROR(IF(BF2450=\"\",0,IF(T2450<IF(OR(BF2450<=$BP$3,BF2450>=$BO$3),VLOOKUP('CEV-CEVE'!$E$10,$BN$7:$BZ$16,1+E2450,0)-2,VLOOKUP('CEV-CEVE'!$E$10,$BN$7:$BZ$16,1+E2450,0)),1,0)),0)","v":0},{"$f":"+IFERROR(IF(T2450>VLOOKUP('CEV-CEVE'!$E$10,$BN$20:$BZ$29,1+E2450,0),1,0),0)","v":0}]
[null,null,null,null,null,null,null,null,null,null,null,null,null,null,null,null,null,null,null,null,null,null,null,null,null,null,null,null,null,null,null,null,null,null,null,null,null,null,null,null,null,null,null,null,null,null,null,null,null,null,null,null,null,null,null,null,null,5,"Caso Base 180° Sin Clima",{"$f":"+IFERROR(IF(BF2455=\"\",0,IF(T2455<IF(OR(BF2455<=$BP$3,BF2455>=$BO$3),VLOOKUP('CEV-CEVE'!$E$10,$BN$7:$BZ$16,1+E2455,0)-2,VLOOKUP('CEV-CEVE'!$E$10,$BN$7:$BZ$16,1+E2455,0)),1,0)),0)","v":0},{"$f":"+IFERROR(IF(T2455>VLOOKUP('CEV-CEVE'!$E$10,$BN$20:$BZ$29,1+E2455,0),1,0),0)","v":0}]
[null,null,null,null,null,null,null,null,null,null,null,null,null,null,null,null,null,null,null,null,null,null,null,null,null,null,null,null,null,null,null,null,null,null,null,null,null,null,null,null,null,null,null,null,null,null,null,null,null,null,null,null,null,null,null,null,null,6,"Caso Base 180° Sin Clima",{"$f":"+IFERROR(IF(BF2456=\"\",0,IF(T2456<IF(OR(BF2456<=$BP$3,BF2456>=$BO$3),VLOOKUP('CEV-CEVE'!$E$10,$BN$7:$BZ$16,1+E2456,0)-2,VLOOKUP('CEV-CEVE'!$E$10,$BN$7:$BZ$16,1+E2456,0)),1,0)),0)","v":0},{"$f":"+IFERROR(IF(T2456>VLOOKUP('CEV-CEVE'!$E$10,$BN$20:$BZ$29,1+E2456,0),1,0),0)","v":0}]
[null,null,null,null,null,null,null,null,null,null,null,null,null,null,null,null,null,null,null,null,null,null,null,null,null,null,null,null,null,null,null,null,null,null,null,null,null,null,null,null,null,null,null,null,null,null,null,null,null,null,null,null,null,null,null,null,null,11,"Caso Base 180° Sin Clima",{"$f":"+IFERROR(IF(BF2461=\"\",0,IF(T2461<IF(OR(BF2461<=$BP$3,BF2461>=$BO$3),VLOOKUP('CEV-CEVE'!$E$10,$BN$7:$BZ$16,1+E2461,0)-2,VLOOKUP('CEV-CEVE'!$E$10,$BN$7:$BZ$16,1+E2461,0)),1,0)),0)","v":0},{"$f":"+IFERROR(IF(T2461>VLOOKUP('CEV-CEVE'!$E$10,$BN$20:$BZ$29,1+E2461,0),1,0),0)","v":0}]
[null,null,null,null,null,null,null,null,null,null,null,null,null,null,null,null,null,null,null,null,null,null,null,null,null,null,null,null,null,null,null,null,null,null,null,null,null,null,null,null,null,null,null,null,null,null,null,null,null,null,null,null,null,null,null,null,null,17,"Caso Base 180° Sin Clima",{"$f":"+IFERROR(IF(BF2467=\"\",0,IF(T2467<IF(OR(BF2467<=$BP$3,BF2467>=$BO$3),VLOOKUP('CEV-CEVE'!$E$10,$BN$7:$BZ$16,1+E2467,0)-2,VLOOKUP('CEV-CEVE'!$E$10,$BN$7:$BZ$16,1+E2467,0)),1,0)),0)","v":0},{"$f":"+IFERROR(IF(T2467>VLOOKUP('CEV-CEVE'!$E$10,$BN$20:$BZ$29,1+E2467,0),1,0),0)","v":0}]
[null,null,null,null,null,null,null,null,null,null,null,null,null,null,null,null,null,null,null,null,null,null,null,null,null,null,null,null,null,null,null,null,null,null,null,null,null,null,null,null,null,null,null,null,null,null,null,null,null,null,null,null,null,null,null,null,null,22,"Caso Base 180° Sin Clima",{"$f":"+IFERROR(IF(BF2472=\"\",0,IF(T2472<IF(OR(BF2472<=$BP$3,BF2472>=$BO$3),VLOOKUP('CEV-CEVE'!$E$10,$BN$7:$BZ$16,1+E2472,0)-2,VLOOKUP('CEV-CEVE'!$E$10,$BN$7:$BZ$16,1+E2472,0)),1,0)),0)","v":0},{"$f":"+IFERROR(IF(T2472>VLOOKUP('CEV-CEVE'!$E$10,$BN$20:$BZ$29,1+E2472,0),1,0),0)","v":0}]
[null,null,null,null,null,null,null,null,null,null,null,null,null,null,null,null,null,null,null,null,null,null,null,null,null,null,null,null,null,null,null,null,null,null,null,null,null,null,null,null,null,null,null,null,null,null,null,null,null,null,null,null,null,null,null,null,null,{"$f":"+BF2476+1","v":1},"Caso Base 180° Sin Clima",{"$f":"+IFERROR(IF(BF2477=\"\",0,IF(T2477<IF(OR(BF2477<=$BP$3,BF2477>=$BO$3),VLOOKUP('CEV-CEVE'!$E$10,$BN$7:$BZ$16,1+E2477,0)-2,VLOOKUP('CEV-CEVE'!$E$10,$BN$7:$BZ$16,1+E2477,0)),1,0)),0)","v":0},{"$f":"+IFERROR(IF(T2477>VLOOKUP('CEV-CEVE'!$E$10,$BN$20:$BZ$29,1+E2477,0),1,0),0)","v":0}]
[null,null,null,null,null,null,null,null,null,null,null,null,null,null,null,null,null,null,null,null,null,null,null,null,null,null,null,null,null,null,null,null,null,null,null,null,null,null,null,null,null,null,null,null,null,null,null,null,null,null,null,null,null,null,null,null,null,7,"Caso Base 180° Sin Clima",{"$f":"+IFERROR(IF(BF2483=\"\",0,IF(T2483<IF(OR(BF2483<=$BP$3,BF2483>=$BO$3),VLOOKUP('CEV-CEVE'!$E$10,$BN$7:$BZ$16,1+E2483,0)-2,VLOOKUP('CEV-CEVE'!$E$10,$BN$7:$BZ$16,1+E2483,0)),1,0)),0)","v":0},{"$f":"+IFERROR(IF(T2483>VLOOKUP('CEV-CEVE'!$E$10,$BN$20:$BZ$29,1+E2483,0),1,0),0)","v":0}]
[null,null,null,null,null,null,null,null,null,null,null,null,null,null,null,null,null,null,null,null,null,null,null,null,null,null,null,null,null,null,null,null,null,null,null,null,null,null,null,null,null,null,null,null,null,null,null,null,null,null,null,null,null,null,null,null,null,12,"Caso Base 180° Sin Clima",{"$f":"+IFERROR(IF(BF2488=\"\",0,IF(T2488<IF(OR(BF2488<=$BP$3,BF2488>=$BO$3),VLOOKUP('CEV-CEVE'!$E$10,$BN$7:$BZ$16,1+E2488,0)-2,VLOOKUP('CEV-CEVE'!$E$10,$BN$7:$BZ$16,1+E2488,0)),1,0)),0)","v":0},{"$f":"+IFERROR(IF(T2488>VLOOKUP('CEV-CEVE'!$E$10,$BN$20:$BZ$29,1+E2488,0),1,0),0)","v":0}]
[null,null,null,null,null,null,null,null,null,null,null,null,null,null,null,null,null,null,null,null,null,null,null,null,null,null,null,null,null,null,null,null,null,null,null,null,null,null,null,null,null,null,null,null,null,null,null,null,null,null,null,null,null,null,null,null,null,18,"Caso Base 180° Sin Clima",{"$f":"+IFERROR(IF(BF2494=\"\",0,IF(T2494<IF(OR(BF2494<=$BP$3,BF2494>=$BO$3),VLOOKUP('CEV-CEVE'!$E$10,$BN$7:$BZ$16,1+E2494,0)-2,VLOOKUP('CEV-CEVE'!$E$10,$BN$7:$BZ$16,1+E2494,0)),1,0)),0)","v":0},{"$f":"+IFERROR(IF(T2494>VLOOKUP('CEV-CEVE'!$E$10,$BN$20:$BZ$29,1+E2494,0),1,0),0)","v":0}]
[null,null,null,null,null,null,null,null,null,null,null,null,null,null,null,null,null,null,null,null,null,null,null,null,null,null,null,null,null,null,null,null,null,null,null,null,null,null,null,null,null,null,null,null,null,null,null,null,null,null,null,null,null,null,null,null,null,23,"Caso Base 180° Sin Clima",{"$f":"+IFERROR(IF(BF2499=\"\",0,IF(T2499<IF(OR(BF2499<=$BP$3,BF2499>=$BO$3),VLOOKUP('CEV-CEVE'!$E$10,$BN$7:$BZ$16,1+E2499,0)-2,VLOOKUP('CEV-CEVE'!$E$10,$BN$7:$BZ$16,1+E2499,0)),1,0)),0)","v":0},{"$f":"+IFERROR(IF(T2499>VLOOKUP('CEV-CEVE'!$E$10,$BN$20:$BZ$29,1+E2499,0),1,0),0)","v":0}]
[null,null,null,null,null,null,null,null,null,null,null,null,null,null,null,null,null,null,null,null,null,null,null,null,null,null,null,null,null,null,null,null,null,null,null,null,null,null,null,null,null,null,null,null,null,null,null,null,null,null,null,null,null,null,null,null,null,{"$f":"+BF2503+1","v":2},"Caso Base 270° Con Clima",{"$f":"+IFERROR(IF(BF2504=\"\",0,IF(T2504<IF(OR(BF2504<=$BP$3,BF2504>=$BO$3),VLOOKUP('CEV-CEVE'!$E$10,$BN$7:$BZ$16,1+E2504,0)-2,VLOOKUP('CEV-CEVE'!$E$10,$BN$7:$BZ$16,1+E2504,0)),1,0)),0)","v":0},{"$f":"+IFERROR(IF(T2504>VLOOKUP('CEV-CEVE'!$E$10,$BN$20:$BZ$29,1+E2504,0),1,0),0)","v":0}]
[null,null,null,null,null,null,null,null,null,null,null,null,null,null,null,null,null,null,null,null,null,null,null,null,null,null,null,null,null,null,null,null,null,null,null,null,null,null,null,null,null,null,null,null,null,null,null,null,null,null,null,null,null,null,null,null,null,8,"Caso Base 270° Con Clima",{"$f":"+IFERROR(IF(BF2510=\"\",0,IF(T2510<IF(OR(BF2510<=$BP$3,BF2510>=$BO$3),VLOOKUP('CEV-CEVE'!$E$10,$BN$7:$BZ$16,1+E2510,0)-2,VLOOKUP('CEV-CEVE'!$E$10,$BN$7:$BZ$16,1+E2510,0)),1,0)),0)","v":0},{"$f":"+IFERROR(IF(T2510>VLOOKUP('CEV-CEVE'!$E$10,$BN$20:$BZ$29,1+E2510,0),1,0),0)","v":0}]
[null,null,null,null,null,null,null,null,null,null,null,null,null,null,null,null,null,null,null,null,null,null,null,null,null,null,null,null,null,null,null,null,null,null,null,null,null,null,null,null,null,null,null,null,null,null,null,null,null,null,null,null,null,null,null,null,null,13,"Caso Base 270° Con Clima",{"$f":"+IFERROR(IF(BF2515=\"\",0,IF(T2515<IF(OR(BF2515<=$BP$3,BF2515>=$BO$3),VLOOKUP('CEV-CEVE'!$E$10,$BN$7:$BZ$16,1+E2515,0)-2,VLOOKUP('CEV-CEVE'!$E$10,$BN$7:$BZ$16,1+E2515,0)),1,0)),0)","v":0},{"$f":"+IFERROR(IF(T2515>VLOOKUP('CEV-CEVE'!$E$10,$BN$20:$BZ$29,1+E2515,0),1,0),0)","v":0}]
[null,null,null,null,null,null,null,null,null,null,null,null,null,null,null,null,null,null,null,null,null,null,null,null,null,null,null,null,null,null,null,null,null,null,null,null,null,null,null,null,null,null,null,null,null,null,null,null,null,null,null,null,null,null,null,null,null,18,"Caso Base 270° Con Clima",{"$f":"+IFERROR(IF(BF2520=\"\",0,IF(T2520<IF(OR(BF2520<=$BP$3,BF2520>=$BO$3),VLOOKUP('CEV-CEVE'!$E$10,$BN$7:$BZ$16,1+E2520,0)-2,VLOOKUP('CEV-CEVE'!$E$10,$BN$7:$BZ$16,1+E2520,0)),1,0)),0)","v":0},{"$f":"+IFERROR(IF(T2520>VLOOKUP('CEV-CEVE'!$E$10,$BN$20:$BZ$29,1+E2520,0),1,0),0)","v":0}]
[null,null,null,null,null,null,null,null,null,null,null,null,null,null,null,null,null,null,null,null,null,null,null,null,null,null,null,null,null,null,null,null,null,null,null,null,null,null,null,null,null,null,null,null,null,null,null,null,null,null,null,null,null,null,null,null,null,19,"Caso Base 270° Con Clima",{"$f":"+IFERROR(IF(BF2521=\"\",0,IF(T2521<IF(OR(BF2521<=$BP$3,BF2521>=$BO$3),VLOOKUP('CEV-CEVE'!$E$10,$BN$7:$BZ$16,1+E2521,0)-2,VLOOKUP('CEV-CEVE'!$E$10,$BN$7:$BZ$16,1+E2521,0)),1,0)),0)","v":0},{"$f":"+IFERROR(IF(T2521>VLOOKUP('CEV-CEVE'!$E$10,$BN$20:$BZ$29,1+E2521,0),1,0),0)","v":0}]
[null,null,null,null,null,null,null,null,null,null,null,null,null,null,null,null,null,null,null,null,null,null,null,null,null,null,null,null,null,null,null,null,null,null,null,null,null,null,null,null,null,null,null,null,null,null,null,null,null,null,null,null,null,null,null,null,null,null,"Caso Base 270° Con Clima",{"$f":"+IFERROR(IF(BF2526=\"\",0,IF(T2526<IF(OR(BF2526<=$BP$3,BF2526>=$BO$3),VLOOKUP('CEV-CEVE'!$E$10,$BN$7:$BZ$16,1+E2526,0)-2,VLOOKUP('CEV-CEVE'!$E$10,$BN$7:$BZ$16,1+E2526,0)),1,0)),0)","v":0},{"$f":"+IFERROR(IF(T2526>VLOOKUP('CEV-CEVE'!$E$10,$BN$20:$BZ$29,1+E2526,0),1,0),0)","v":0}]
[null,null,null,null,null,null,null,null,null,null,null,null,null,null,null,null,null,null,null,null,null,null,null,null,null,null,null,null,null,null,null,null,null,null,null,null,null,null,null,null,null,null,null,null,null,null,null,null,null,null,null,null,null,null,null,null,null,4,"Caso Base 270° Con Clima",{"$f":"+IFERROR(IF(BF2532=\"\",0,IF(T2532<IF(OR(BF2532<=$BP$3,BF2532>=$BO$3),VLOOKUP('CEV-CEVE'!$E$10,$BN$7:$BZ$16,1+E2532,0)-2,VLOOKUP('CEV-CEVE'!$E$10,$BN$7:$BZ$16,1+E2532,0)),1,0)),0)","v":0},{"$f":"+IFERROR(IF(T2532>VLOOKUP('CEV-CEVE'!$E$10,$BN$20:$BZ$29,1+E2532,0),1,0),0)","v":0}]
[null,null,null,null,null,null,null,null,null,null,null,null,null,null,null,null,null,null,null,null,null,null,null,null,null,null,null,null,null,null,null,null,null,null,null,null,null,null,null,null,null,null,null,null,null,null,null,null,null,null,null,null,null,null,null,null,null,9,"Caso Base 270° Con Clima",{"$f":"+IFERROR(IF(BF2537=\"\",0,IF(T2537<IF(OR(BF2537<=$BP$3,BF2537>=$BO$3),VLOOKUP('CEV-CEVE'!$E$10,$BN$7:$BZ$16,1+E2537,0)-2,VLOOKUP('CEV-CEVE'!$E$10,$BN$7:$BZ$16,1+E2537,0)),1,0)),0)","v":0},{"$f":"+IFERROR(IF(T2537>VLOOKUP('CEV-CEVE'!$E$10,$BN$20:$BZ$29,1+E2537,0),1,0),0)","v":0}]
[null,null,null,null,null,null,null,null,null,null,null,null,null,null,null,null,null,null,null,null,null,null,null,null,null,null,null,null,null,null,null,null,null,null,null,null,null,null,null,null,null,null,null,null,null,null,null,null,null,null,null,null,null,null,null,null,null,14,"Caso Base 270° Con Clima",{"$f":"+IFERROR(IF(BF2542=\"\",0,IF(T2542<IF(OR(BF2542<=$BP$3,BF2542>=$BO$3),VLOOKUP('CEV-CEVE'!$E$10,$BN$7:$BZ$16,1+E2542,0)-2,VLOOKUP('CEV-CEVE'!$E$10,$BN$7:$BZ$16,1+E2542,0)),1,0)),0)","v":0},{"$f":"+IFERROR(IF(T2542>VLOOKUP('CEV-CEVE'!$E$10,$BN$20:$BZ$29,1+E2542,0),1,0),0)","v":0}]
[null,null,null,null,null,null,null,null,null,null,null,null,null,null,null,null,null,null,null,null,null,null,null,null,null,null,null,null,null,null,null,null,null,null,null,null,null,null,null,null,null,null,null,null,null,null,null,null,null,null,null,null,null,null,null,null,null,20,"Caso Base 270° Con Clima",{"$f":"+IFERROR(IF(BF2548=\"\",0,IF(T2548<IF(OR(BF2548<=$BP$3,BF2548>=$BO$3),VLOOKUP('CEV-CEVE'!$E$10,$BN$7:$BZ$16,1+E2548,0)-2,VLOOKUP('CEV-CEVE'!$E$10,$BN$7:$BZ$16,1+E2548,0)),1,0)),0)","v":0},{"$f":"+IFERROR(IF(T2548>VLOOKUP('CEV-CEVE'!$E$10,$BN$20:$BZ$29,1+E2548,0),1,0),0)","v":0}]
[null,null,null,null,null,null,null,null,null,null,null,null,null,null,null,null,null,null,null,null,null,null,null,null,null,null,null,null,null,null,null,null,null,null,null,null,null,null,null,null,null,null,null,null,null,null,null,null,null,null,null,null,null,null,null,null,null,null,"Caso Base 270° Con Clima",{"$f":"+IFERROR(IF(BF2553=\"\",0,IF(T2553<IF(OR(BF2553<=$BP$3,BF2553>=$BO$3),VLOOKUP('CEV-CEVE'!$E$10,$BN$7:$BZ$16,1+E2553,0)-2,VLOOKUP('CEV-CEVE'!$E$10,$BN$7:$BZ$16,1+E2553,0)),1,0)),0)","v":0},{"$f":"+IFERROR(IF(T2553>VLOOKUP('CEV-CEVE'!$E$10,$BN$20:$BZ$29,1+E2553,0),1,0),0)","v":0}]
[null,null,null,null,null,null,null,null,null,null,null,null,null,null,null,null,null,null,null,null,null,null,null,null,null,null,null,null,null,null,null,null,null,null,null,null,null,null,null,null,null,null,null,null,null,null,null,null,null,null,null,null,null,null,null,null,null,4,"Caso Base 270° Con Clima",{"$f":"+IFERROR(IF(BF2558=\"\",0,IF(T2558<IF(OR(BF2558<=$BP$3,BF2558>=$BO$3),VLOOKUP('CEV-CEVE'!$E$10,$BN$7:$BZ$16,1+E2558,0)-2,VLOOKUP('CEV-CEVE'!$E$10,$BN$7:$BZ$16,1+E2558,0)),1,0)),0)","v":0},{"$f":"+IFERROR(IF(T2558>VLOOKUP('CEV-CEVE'!$E$10,$BN$20:$BZ$29,1+E2558,0),1,0),0)","v":0}]
[null,null,null,null,null,null,null,null,null,null,null,null,null,null,null,null,null,null,null,null,null,null,null,null,null,null,null,null,null,null,null,null,null,null,null,null,null,null,null,null,null,null,null,null,null,null,null,null,null,null,null,null,null,null,null,null,null,10,"Caso Base 270° Con Clima",{"$f":"+IFERROR(IF(BF2564=\"\",0,IF(T2564<IF(OR(BF2564<=$BP$3,BF2564>=$BO$3),VLOOKUP('CEV-CEVE'!$E$10,$BN$7:$BZ$16,1+E2564,0)-2,VLOOKUP('CEV-CEVE'!$E$10,$BN$7:$BZ$16,1+E2564,0)),1,0)),0)","v":0},{"$f":"+IFERROR(IF(T2564>VLOOKUP('CEV-CEVE'!$E$10,$BN$20:$BZ$29,1+E2564,0),1,0),0)","v":0}]
[null,null,null,null,null,null,null,null,null,null,null,null,null,null,null,null,null,null,null,null,null,null,null,null,null,null,null,null,null,null,null,null,null,null,null,null,null,null,null,null,null,null,null,null,null,null,null,null,null,null,null,null,null,null,null,null,null,15,"Caso Base 270° Con Clima",{"$f":"+IFERROR(IF(BF2569=\"\",0,IF(T2569<IF(OR(BF2569<=$BP$3,BF2569>=$BO$3),VLOOKUP('CEV-CEVE'!$E$10,$BN$7:$BZ$16,1+E2569,0)-2,VLOOKUP('CEV-CEVE'!$E$10,$BN$7:$BZ$16,1+E2569,0)),1,0)),0)","v":0},{"$f":"+IFERROR(IF(T2569>VLOOKUP('CEV-CEVE'!$E$10,$BN$20:$BZ$29,1+E2569,0),1,0),0)","v":0}]
[null,null,null,null,null,null,null,null,null,null,null,null,null,null,null,null,null,null,null,null,null,null,null,null,null,null,null,null,null,null,null,null,null,null,null,null,null,null,null,null,null,null,null,null,null,null,null,null,null,null,null,null,null,null,null,null,null,21,"Caso Base 270° Con Clima",{"$f":"+IFERROR(IF(BF2575=\"\",0,IF(T2575<IF(OR(BF2575<=$BP$3,BF2575>=$BO$3),VLOOKUP('CEV-CEVE'!$E$10,$BN$7:$BZ$16,1+E2575,0)-2,VLOOKUP('CEV-CEVE'!$E$10,$BN$7:$BZ$16,1+E2575,0)),1,0)),0)","v":0},{"$f":"+IFERROR(IF(T2575>VLOOKUP('CEV-CEVE'!$E$10,$BN$20:$BZ$29,1+E2575,0),1,0),0)","v":0}]
[null,null,null,null,null,null,null,null,null,null,null,null,null,null,null,null,null,null,null,null,null,null,null,null,null,null,null,null,null,null,null,null,null,null,null,null,null,null,null,null,null,null,null,null,null,null,null,null,null,null,null,null,null,null,null,null,null,0,"Caso Base 270° Con Clima",{"$f":"+IFERROR(IF(BF2580=\"\",0,IF(T2580<IF(OR(BF2580<=$BP$3,BF2580>=$BO$3),VLOOKUP('CEV-CEVE'!$E$10,$BN$7:$BZ$16,1+E2580,0)-2,VLOOKUP('CEV-CEVE'!$E$10,$BN$7:$BZ$16,1+E2580,0)),1,0)),0)","v":0},{"$f":"+IFERROR(IF(T2580>VLOOKUP('CEV-CEVE'!$E$10,$BN$20:$BZ$29,1+E2580,0),1,0),0)","v":0}]
[null,null,null,null,null,null,null,null,null,null,null,null,null,null,null,null,null,null,null,null,null,null,null,null,null,null,null,null,null,null,null,null,null,null,null,null,null,null,null,null,null,null,null,null,null,null,null,null,null,null,null,null,null,null,null,null,null,5,"Caso Base 270° Con Clima",{"$f":"+IFERROR(IF(BF2585=\"\",0,IF(T2585<IF(OR(BF2585<=$BP$3,BF2585>=$BO$3),VLOOKUP('CEV-CEVE'!$E$10,$BN$7:$BZ$16,1+E2585,0)-2,VLOOKUP('CEV-CEVE'!$E$10,$BN$7:$BZ$16,1+E2585,0)),1,0)),0)","v":0},{"$f":"+IFERROR(IF(T2585>VLOOKUP('CEV-CEVE'!$E$10,$BN$20:$BZ$29,1+E2585,0),1,0),0)","v":0}]
[null,null,null,null,null,null,null,null,null,null,null,null,null,null,null,null,null,null,null,null,null,null,null,null,null,null,null,null,null,null,null,null,null,null,null,null,null,null,null,null,null,null,null,null,null,null,null,null,null,null,null,null,null,null,null,null,null,6,"Caso Base 270° Con Clima",{"$f":"+IFERROR(IF(BF2586=\"\",0,IF(T2586<IF(OR(BF2586<=$BP$3,BF2586>=$BO$3),VLOOKUP('CEV-CEVE'!$E$10,$BN$7:$BZ$16,1+E2586,0)-2,VLOOKUP('CEV-CEVE'!$E$10,$BN$7:$BZ$16,1+E2586,0)),1,0)),0)","v":0},{"$f":"+IFERROR(IF(T2586>VLOOKUP('CEV-CEVE'!$E$10,$BN$20:$BZ$29,1+E2586,0),1,0),0)","v":0}]
[null,null,null,null,null,null,null,null,null,null,null,null,null,null,null,null,null,null,null,null,null,null,null,null,null,null,null,null,null,null,null,null,null,null,null,null,null,null,null,null,null,null,null,null,null,null,null,null,null,null,null,null,null,null,null,null,null,11,"Caso Base 270° Con Clima",{"$f":"+IFERROR(IF(BF2591=\"\",0,IF(T2591<IF(OR(BF2591<=$BP$3,BF2591>=$BO$3),VLOOKUP('CEV-CEVE'!$E$10,$BN$7:$BZ$16,1+E2591,0)-2,VLOOKUP('CEV-CEVE'!$E$10,$BN$7:$BZ$16,1+E2591,0)),1,0)),0)","v":0},{"$f":"+IFERROR(IF(T2591>VLOOKUP('CEV-CEVE'!$E$10,$BN$20:$BZ$29,1+E2591,0),1,0),0)","v":0}]
[null,null,null,null,null,null,null,null,null,null,null,null,null,null,null,null,null,null,null,null,null,null,null,null,null,null,null,null,null,null,null,null,null,null,null,null,null,null,null,null,null,null,null,null,null,null,null,null,null,null,null,null,null,null,null,null,null,17,"Caso Base 270° Con Clima",{"$f":"+IFERROR(IF(BF2597=\"\",0,IF(T2597<IF(OR(BF2597<=$BP$3,BF2597>=$BO$3),VLOOKUP('CEV-CEVE'!$E$10,$BN$7:$BZ$16,1+E2597,0)-2,VLOOKUP('CEV-CEVE'!$E$10,$BN$7:$BZ$16,1+E2597,0)),1,0)),0)","v":0},{"$f":"+IFERROR(IF(T2597>VLOOKUP('CEV-CEVE'!$E$10,$BN$20:$BZ$29,1+E2597,0),1,0),0)","v":0}]
[null,null,null,null,null,null,null,null,null,null,null,null,null,null,null,null,null,null,null,null,null,null,null,null,null,null,null,null,null,null,null,null,null,null,null,null,null,null,null,null,null,null,null,null,null,null,null,null,null,null,null,null,null,null,null,null,null,22,"Caso Base 270° Con Clima",{"$f":"+IFERROR(IF(BF2602=\"\",0,IF(T2602<IF(OR(BF2602<=$BP$3,BF2602>=$BO$3),VLOOKUP('CEV-CEVE'!$E$10,$BN$7:$BZ$16,1+E2602,0)-2,VLOOKUP('CEV-CEVE'!$E$10,$BN$7:$BZ$16,1+E2602,0)),1,0)),0)","v":0},{"$f":"+IFERROR(IF(T2602>VLOOKUP('CEV-CEVE'!$E$10,$BN$20:$BZ$29,1+E2602,0),1,0),0)","v":0}]
[null,null,null,null,null,null,null,null,null,null,null,null,null,null,null,null,null,null,null,null,null,null,null,null,null,null,null,null,null,null,null,null,null,null,null,null,null,null,null,null,null,null,null,null,null,null,null,null,null,null,null,null,null,null,null,null,null,{"$f":"+BF2606+1","v":1},"Caso Base 270° Con Clima",{"$f":"+IFERROR(IF(BF2607=\"\",0,IF(T2607<IF(OR(BF2607<=$BP$3,BF2607>=$BO$3),VLOOKUP('CEV-CEVE'!$E$10,$BN$7:$BZ$16,1+E2607,0)-2,VLOOKUP('CEV-CEVE'!$E$10,$BN$7:$BZ$16,1+E2607,0)),1,0)),0)","v":0},{"$f":"+IFERROR(IF(T2607>VLOOKUP('CEV-CEVE'!$E$10,$BN$20:$BZ$29,1+E2607,0),1,0),0)","v":0}]
[null,null,null,null,null,null,null,null,null,null,null,null,null,null,null,null,null,null,null,null,null,null,null,null,null,null,null,null,null,null,null,null,null,null,null,null,null,null,null,null,null,null,null,null,null,null,null,null,null,null,null,null,null,null,null,null,null,7,"Caso Base 270° Con Clima",{"$f":"+IFERROR(IF(BF2613=\"\",0,IF(T2613<IF(OR(BF2613<=$BP$3,BF2613>=$BO$3),VLOOKUP('CEV-CEVE'!$E$10,$BN$7:$BZ$16,1+E2613,0)-2,VLOOKUP('CEV-CEVE'!$E$10,$BN$7:$BZ$16,1+E2613,0)),1,0)),0)","v":0},{"$f":"+IFERROR(IF(T2613>VLOOKUP('CEV-CEVE'!$E$10,$BN$20:$BZ$29,1+E2613,0),1,0),0)","v":0}]
[null,null,null,null,null,null,null,null,null,null,null,null,null,null,null,null,null,null,null,null,null,null,null,null,null,null,null,null,null,null,null,null,null,null,null,null,null,null,null,null,null,null,null,null,null,null,null,null,null,null,null,null,null,null,null,null,null,12,"Caso Base 270° Con Clima",{"$f":"+IFERROR(IF(BF2618=\"\",0,IF(T2618<IF(OR(BF2618<=$BP$3,BF2618>=$BO$3),VLOOKUP('CEV-CEVE'!$E$10,$BN$7:$BZ$16,1+E2618,0)-2,VLOOKUP('CEV-CEVE'!$E$10,$BN$7:$BZ$16,1+E2618,0)),1,0)),0)","v":0},{"$f":"+IFERROR(IF(T2618>VLOOKUP('CEV-CEVE'!$E$10,$BN$20:$BZ$29,1+E2618,0),1,0),0)","v":0}]
[null,null,null,null,null,null,null,null,null,null,null,null,null,null,null,null,null,null,null,null,null,null,null,null,null,null,null,null,null,null,null,null,null,null,null,null,null,null,null,null,null,null,null,null,null,null,null,null,null,null,null,null,null,null,null,null,null,17,"Caso Base 270° Con Clima",{"$f":"+IFERROR(IF(BF2623=\"\",0,IF(T2623<IF(OR(BF2623<=$BP$3,BF2623>=$BO$3),VLOOKUP('CEV-CEVE'!$E$10,$BN$7:$BZ$16,1+E2623,0)-2,VLOOKUP('CEV-CEVE'!$E$10,$BN$7:$BZ$16,1+E2623,0)),1,0)),0)","v":0},{"$f":"+IFERROR(IF(T2623>VLOOKUP('CEV-CEVE'!$E$10,$BN$20:$BZ$29,1+E2623,0),1,0),0)","v":0}]
[null,null,null,null,null,null,null,null,null,null,null,null,null,null,null,null,null,null,null,null,null,null,null,null,null,null,null,null,null,null,null,null,null,null,null,null,null,null,null,null,null,null,null,null,null,null,null,null,null,null,null,null,null,null,null,null,null,23,"Caso Base 270° Con Clima",{"$f":"+IFERROR(IF(BF2629=\"\",0,IF(T2629<IF(OR(BF2629<=$BP$3,BF2629>=$BO$3),VLOOKUP('CEV-CEVE'!$E$10,$BN$7:$BZ$16,1+E2629,0)-2,VLOOKUP('CEV-CEVE'!$E$10,$BN$7:$BZ$16,1+E2629,0)),1,0)),0)","v":0},{"$f":"+IFERROR(IF(T2629>VLOOKUP('CEV-CEVE'!$E$10,$BN$20:$BZ$29,1+E2629,0),1,0),0)","v":0}]
[null,null,null,null,null,null,null,null,null,null,null,null,null,null,null,null,null,null,null,null,null,null,null,null,null,null,null,null,null,null,null,null,null,null,null,null,null,null,null,null,null,null,null,null,null,null,null,null,null,null,null,null,null,null,null,null,null,{"$f":"+BF2633+1","v":2},"Caso Base 270° Con Clima",{"$f":"+IFERROR(IF(BF2634=\"\",0,IF(T2634<IF(OR(BF2634<=$BP$3,BF2634>=$BO$3),VLOOKUP('CEV-CEVE'!$E$10,$BN$7:$BZ$16,1+E2634,0)-2,VLOOKUP('CEV-CEVE'!$E$10,$BN$7:$BZ$16,1+E2634,0)),1,0)),0)","v":0},{"$f":"+IFERROR(IF(T2634>VLOOKUP('CEV-CEVE'!$E$10,$BN$20:$BZ$29,1+E2634,0),1,0),0)","v":0}]
[null,null,null,null,null,null,null,null,null,null,null,null,null,null,null,null,null,null,null,null,null,null,null,null,null,null,null,null,null,null,null,null,null,null,null,null,null,null,null,null,null,null,null,null,null,null,null,null,null,null,null,null,null,null,null,null,null,8,"Caso Base 270° Con Clima",{"$f":"+IFERROR(IF(BF2640=\"\",0,IF(T2640<IF(OR(BF2640<=$BP$3,BF2640>=$BO$3),VLOOKUP('CEV-CEVE'!$E$10,$BN$7:$BZ$16,1+E2640,0)-2,VLOOKUP('CEV-CEVE'!$E$10,$BN$7:$BZ$16,1+E2640,0)),1,0)),0)","v":0},{"$f":"+IFERROR(IF(T2640>VLOOKUP('CEV-CEVE'!$E$10,$BN$20:$BZ$29,1+E2640,0),1,0),0)","v":0}]
[null,null,null,null,null,null,null,null,null,null,null,null,null,null,null,null,null,null,null,null,null,null,null,null,null,null,null,null,null,null,null,null,null,null,null,null,null,null,null,null,null,null,null,null,null,null,null,null,null,null,null,null,null,null,null,null,null,13,"Caso Base 270° Con Clima",{"$f":"+IFERROR(IF(BF2645=\"\",0,IF(T2645<IF(OR(BF2645<=$BP$3,BF2645>=$BO$3),VLOOKUP('CEV-CEVE'!$E$10,$BN$7:$BZ$16,1+E2645,0)-2,VLOOKUP('CEV-CEVE'!$E$10,$BN$7:$BZ$16,1+E2645,0)),1,0)),0)","v":0},{"$f":"+IFERROR(IF(T2645>VLOOKUP('CEV-CEVE'!$E$10,$BN$20:$BZ$29,1+E2645,0),1,0),0)","v":0}]
[null,null,null,null,null,null,null,null,null,null,null,null,null,null,null,null,null,null,null,null,null,null,null,null,null,null,null,null,null,null,null,null,null,null,null,null,null,null,null,null,null,null,null,null,null,null,null,null,null,null,null,null,null,null,null,null,null,18,"Caso Base 270° Con Clima",{"$f":"+IFERROR(IF(BF2650=\"\",0,IF(T2650<IF(OR(BF2650<=$BP$3,BF2650>=$BO$3),VLOOKUP('CEV-CEVE'!$E$10,$BN$7:$BZ$16,1+E2650,0)-2,VLOOKUP('CEV-CEVE'!$E$10,$BN$7:$BZ$16,1+E2650,0)),1,0)),0)","v":0},{"$f":"+IFERROR(IF(T2650>VLOOKUP('CEV-CEVE'!$E$10,$BN$20:$BZ$29,1+E2650,0),1,0),0)","v":0}]
[null,null,null,null,null,null,null,null,null,null,null,null,null,null,null,null,null,null,null,null,null,null,null,null,null,null,null,null,null,null,null,null,null,null,null,null,null,null,null,null,null,null,null,null,null,null,null,null,null,null,null,null,null,null,null,null,null,19,"Caso Base 270° Con Clima",{"$f":"+IFERROR(IF(BF2651=\"\",0,IF(T2651<IF(OR(BF2651<=$BP$3,BF2651>=$BO$3),VLOOKUP('CEV-CEVE'!$E$10,$BN$7:$BZ$16,1+E2651,0)-2,VLOOKUP('CEV-CEVE'!$E$10,$BN$7:$BZ$16,1+E2651,0)),1,0)),0)","v":0},{"$f":"+IFERROR(IF(T2651>VLOOKUP('CEV-CEVE'!$E$10,$BN$20:$BZ$29,1+E2651,0),1,0),0)","v":0}]
[null,null,null,null,null,null,null,null,null,null,null,null,null,null,null,null,null,null,null,null,null,null,null,null,null,null,null,null,null,null,null,null,null,null,null,null,null,null,null,null,null,null,null,null,null,null,null,null,null,null,null,null,null,null,null,null,null,null,"Caso Base 270° Con Clima",{"$f":"+IFERROR(IF(BF2656=\"\",0,IF(T2656<IF(OR(BF2656<=$BP$3,BF2656>=$BO$3),VLOOKUP('CEV-CEVE'!$E$10,$BN$7:$BZ$16,1+E2656,0)-2,VLOOKUP('CEV-CEVE'!$E$10,$BN$7:$BZ$16,1+E2656,0)),1,0)),0)","v":0},{"$f":"+IFERROR(IF(T2656>VLOOKUP('CEV-CEVE'!$E$10,$BN$20:$BZ$29,1+E2656,0),1,0),0)","v":0}]
[null,null,null,null,null,null,null,null,null,null,null,null,null,null,null,null,null,null,null,null,null,null,null,null,null,null,null,null,null,null,null,null,null,null,null,null,null,null,null,null,null,null,null,null,null,null,null,null,null,null,null,null,null,null,null,null,null,4,"Caso Base 270° Con Clima",{"$f":"+IFERROR(IF(BF2662=\"\",0,IF(T2662<IF(OR(BF2662<=$BP$3,BF2662>=$BO$3),VLOOKUP('CEV-CEVE'!$E$10,$BN$7:$BZ$16,1+E2662,0)-2,VLOOKUP('CEV-CEVE'!$E$10,$BN$7:$BZ$16,1+E2662,0)),1,0)),0)","v":0},{"$f":"+IFERROR(IF(T2662>VLOOKUP('CEV-CEVE'!$E$10,$BN$20:$BZ$29,1+E2662,0),1,0),0)","v":0}]
[null,null,null,null,null,null,null,null,null,null,null,null,null,null,null,null,null,null,null,null,null,null,null,null,null,null,null,null,null,null,null,null,null,null,null,null,null,null,null,null,null,null,null,null,null,null,null,null,null,null,null,null,null,null,null,null,null,9,"Caso Base 270° Con Clima",{"$f":"+IFERROR(IF(BF2667=\"\",0,IF(T2667<IF(OR(BF2667<=$BP$3,BF2667>=$BO$3),VLOOKUP('CEV-CEVE'!$E$10,$BN$7:$BZ$16,1+E2667,0)-2,VLOOKUP('CEV-CEVE'!$E$10,$BN$7:$BZ$16,1+E2667,0)),1,0)),0)","v":0},{"$f":"+IFERROR(IF(T2667>VLOOKUP('CEV-CEVE'!$E$10,$BN$20:$BZ$29,1+E2667,0),1,0),0)","v":0}]
[null,null,null,null,null,null,null,null,null,null,null,null,null,null,null,null,null,null,null,null,null,null,null,null,null,null,null,null,null,null,null,null,null,null,null,null,null,null,null,null,null,null,null,null,null,null,null,null,null,null,null,null,null,null,null,null,null,14,"Caso Base 270° Con Clima",{"$f":"+IFERROR(IF(BF2672=\"\",0,IF(T2672<IF(OR(BF2672<=$BP$3,BF2672>=$BO$3),VLOOKUP('CEV-CEVE'!$E$10,$BN$7:$BZ$16,1+E2672,0)-2,VLOOKUP('CEV-CEVE'!$E$10,$BN$7:$BZ$16,1+E2672,0)),1,0)),0)","v":0},{"$f":"+IFERROR(IF(T2672>VLOOKUP('CEV-CEVE'!$E$10,$BN$20:$BZ$29,1+E2672,0),1,0),0)","v":0}]
[null,null,null,null,null,null,null,null,null,null,null,null,null,null,null,null,null,null,null,null,null,null,null,null,null,null,null,null,null,null,null,null,null,null,null,null,null,null,null,null,null,null,null,null,null,null,null,null,null,null,null,null,null,null,null,null,null,20,"Caso Base 270° Con Clima",{"$f":"+IFERROR(IF(BF2678=\"\",0,IF(T2678<IF(OR(BF2678<=$BP$3,BF2678>=$BO$3),VLOOKUP('CEV-CEVE'!$E$10,$BN$7:$BZ$16,1+E2678,0)-2,VLOOKUP('CEV-CEVE'!$E$10,$BN$7:$BZ$16,1+E2678,0)),1,0)),0)","v":0},{"$f":"+IFERROR(IF(T2678>VLOOKUP('CEV-CEVE'!$E$10,$BN$20:$BZ$29,1+E2678,0),1,0),0)","v":0}]
[null,null,null,null,null,null,null,null,null,null,null,null,null,null,null,null,null,null,null,null,null,null,null,null,null,null,null,null,null,null,null,null,null,null,null,null,null,null,null,null,null,null,null,null,null,null,null,null,null,null,null,null,null,null,null,null,null,null,"Caso Base 270° Con Clima",{"$f":"+IFERROR(IF(BF2683=\"\",0,IF(T2683<IF(OR(BF2683<=$BP$3,BF2683>=$BO$3),VLOOKUP('CEV-CEVE'!$E$10,$BN$7:$BZ$16,1+E2683,0)-2,VLOOKUP('CEV-CEVE'!$E$10,$BN$7:$BZ$16,1+E2683,0)),1,0)),0)","v":0},{"$f":"+IFERROR(IF(T2683>VLOOKUP('CEV-CEVE'!$E$10,$BN$20:$BZ$29,1+E2683,0),1,0),0)","v":0}]
[null,null,null,null,null,null,null,null,null,null,null,null,null,null,null,null,null,null,null,null,null,null,null,null,null,null,null,null,null,null,null,null,null,null,null,null,null,null,null,null,null,null,null,null,null,null,null,null,null,null,null,null,null,null,null,null,null,4,"Caso Base 270° Con Clima",{"$f":"+IFERROR(IF(BF2688=\"\",0,IF(T2688<IF(OR(BF2688<=$BP$3,BF2688>=$BO$3),VLOOKUP('CEV-CEVE'!$E$10,$BN$7:$BZ$16,1+E2688,0)-2,VLOOKUP('CEV-CEVE'!$E$10,$BN$7:$BZ$16,1+E2688,0)),1,0)),0)","v":0},{"$f":"+IFERROR(IF(T2688>VLOOKUP('CEV-CEVE'!$E$10,$BN$20:$BZ$29,1+E2688,0),1,0),0)","v":0}]
[null,null,null,null,null,null,null,null,null,null,null,null,null,null,null,null,null,null,null,null,null,null,null,null,null,null,null,null,null,null,null,null,null,null,null,null,null,null,null,null,null,null,null,null,null,null,null,null,null,null,null,null,null,null,null,null,null,10,"Caso Base 270° Con Clima",{"$f":"+IFERROR(IF(BF2694=\"\",0,IF(T2694<IF(OR(BF2694<=$BP$3,BF2694>=$BO$3),VLOOKUP('CEV-CEVE'!$E$10,$BN$7:$BZ$16,1+E2694,0)-2,VLOOKUP('CEV-CEVE'!$E$10,$BN$7:$BZ$16,1+E2694,0)),1,0)),0)","v":0},{"$f":"+IFERROR(IF(T2694>VLOOKUP('CEV-CEVE'!$E$10,$BN$20:$BZ$29,1+E2694,0),1,0),0)","v":0}]
[null,null,null,null,null,null,null,null,null,null,null,null,null,null,null,null,null,null,null,null,null,null,null,null,null,null,null,null,null,null,null,null,null,null,null,null,null,null,null,null,null,null,null,null,null,null,null,null,null,null,null,null,null,null,null,null,null,15,"Caso Base 270° Con Clima",{"$f":"+IFERROR(IF(BF2699=\"\",0,IF(T2699<IF(OR(BF2699<=$BP$3,BF2699>=$BO$3),VLOOKUP('CEV-CEVE'!$E$10,$BN$7:$BZ$16,1+E2699,0)-2,VLOOKUP('CEV-CEVE'!$E$10,$BN$7:$BZ$16,1+E2699,0)),1,0)),0)","v":0},{"$f":"+IFERROR(IF(T2699>VLOOKUP('CEV-CEVE'!$E$10,$BN$20:$BZ$29,1+E2699,0),1,0),0)","v":0}]
[null,null,null,null,null,null,null,null,null,null,null,null,null,null,null,null,null,null,null,null,null,null,null,null,null,null,null,null,null,null,null,null,null,null,null,null,null,null,null,null,null,null,null,null,null,null,null,null,null,null,null,null,null,null,null,null,null,21,"Caso Base 270° Con Clima",{"$f":"+IFERROR(IF(BF2705=\"\",0,IF(T2705<IF(OR(BF2705<=$BP$3,BF2705>=$BO$3),VLOOKUP('CEV-CEVE'!$E$10,$BN$7:$BZ$16,1+E2705,0)-2,VLOOKUP('CEV-CEVE'!$E$10,$BN$7:$BZ$16,1+E2705,0)),1,0)),0)","v":0},{"$f":"+IFERROR(IF(T2705>VLOOKUP('CEV-CEVE'!$E$10,$BN$20:$BZ$29,1+E2705,0),1,0),0)","v":0}]
[null,null,null,null,null,null,null,null,null,null,null,null,null,null,null,null,null,null,null,null,null,null,null,null,null,null,null,null,null,null,null,null,null,null,null,null,null,null,null,null,null,null,null,null,null,null,null,null,null,null,null,null,null,null,null,null,null,0,"Caso Base 270° Con Clima",{"$f":"+IFERROR(IF(BF2710=\"\",0,IF(T2710<IF(OR(BF2710<=$BP$3,BF2710>=$BO$3),VLOOKUP('CEV-CEVE'!$E$10,$BN$7:$BZ$16,1+E2710,0)-2,VLOOKUP('CEV-CEVE'!$E$10,$BN$7:$BZ$16,1+E2710,0)),1,0)),0)","v":0},{"$f":"+IFERROR(IF(T2710>VLOOKUP('CEV-CEVE'!$E$10,$BN$20:$BZ$29,1+E2710,0),1,0),0)","v":0}]
[null,null,null,null,null,null,null,null,null,null,null,null,null,null,null,null,null,null,null,null,null,null,null,null,null,null,null,null,null,null,null,null,null,null,null,null,null,null,null,null,null,null,null,null,null,null,null,null,null,null,null,null,null,null,null,null,null,5,"Caso Base 270° Con Clima",{"$f":"+IFERROR(IF(BF2715=\"\",0,IF(T2715<IF(OR(BF2715<=$BP$3,BF2715>=$BO$3),VLOOKUP('CEV-CEVE'!$E$10,$BN$7:$BZ$16,1+E2715,0)-2,VLOOKUP('CEV-CEVE'!$E$10,$BN$7:$BZ$16,1+E2715,0)),1,0)),0)","v":0},{"$f":"+IFERROR(IF(T2715>VLOOKUP('CEV-CEVE'!$E$10,$BN$20:$BZ$29,1+E2715,0),1,0),0)","v":0}]
[null,null,null,null,null,null,null,null,null,null,null,null,null,null,null,null,null,null,null,null,null,null,null,null,null,null,null,null,null,null,null,null,null,null,null,null,null,null,null,null,null,null,null,null,null,null,null,null,null,null,null,null,null,null,null,null,null,6,"Caso Base 270° Con Clima",{"$f":"+IFERROR(IF(BF2716=\"\",0,IF(T2716<IF(OR(BF2716<=$BP$3,BF2716>=$BO$3),VLOOKUP('CEV-CEVE'!$E$10,$BN$7:$BZ$16,1+E2716,0)-2,VLOOKUP('CEV-CEVE'!$E$10,$BN$7:$BZ$16,1+E2716,0)),1,0)),0)","v":0},{"$f":"+IFERROR(IF(T2716>VLOOKUP('CEV-CEVE'!$E$10,$BN$20:$BZ$29,1+E2716,0),1,0),0)","v":0}]
[null,null,null,null,null,null,null,null,null,null,null,null,null,null,null,null,null,null,null,null,null,null,null,null,null,null,null,null,null,null,null,null,null,null,null,null,null,null,null,null,null,null,null,null,null,null,null,null,null,null,null,null,null,null,null,null,null,11,"Caso Base 270° Con Clima",{"$f":"+IFERROR(IF(BF2721=\"\",0,IF(T2721<IF(OR(BF2721<=$BP$3,BF2721>=$BO$3),VLOOKUP('CEV-CEVE'!$E$10,$BN$7:$BZ$16,1+E2721,0)-2,VLOOKUP('CEV-CEVE'!$E$10,$BN$7:$BZ$16,1+E2721,0)),1,0)),0)","v":0},{"$f":"+IFERROR(IF(T2721>VLOOKUP('CEV-CEVE'!$E$10,$BN$20:$BZ$29,1+E2721,0),1,0),0)","v":0}]
[null,null,null,null,null,null,null,null,null,null,null,null,null,null,null,null,null,null,null,null,null,null,null,null,null,null,null,null,null,null,null,null,null,null,null,null,null,null,null,null,null,null,null,null,null,null,null,null,null,null,null,null,null,null,null,null,null,16,"Caso Base 270° Con Clima",{"$f":"+IFERROR(IF(BF2726=\"\",0,IF(T2726<IF(OR(BF2726<=$BP$3,BF2726>=$BO$3),VLOOKUP('CEV-CEVE'!$E$10,$BN$7:$BZ$16,1+E2726,0)-2,VLOOKUP('CEV-CEVE'!$E$10,$BN$7:$BZ$16,1+E2726,0)),1,0)),0)","v":0},{"$f":"+IFERROR(IF(T2726>VLOOKUP('CEV-CEVE'!$E$10,$BN$20:$BZ$29,1+E2726,0),1,0),0)","v":0}]
[null,null,null,null,null,null,null,null,null,null,null,null,null,null,null,null,null,null,null,null,null,null,null,null,null,null,null,null,null,null,null,null,null,null,null,null,null,null,null,null,null,null,null,null,null,null,null,null,null,null,null,null,null,null,null,null,null,22,"Caso Base 270° Con Clima",{"$f":"+IFERROR(IF(BF2732=\"\",0,IF(T2732<IF(OR(BF2732<=$BP$3,BF2732>=$BO$3),VLOOKUP('CEV-CEVE'!$E$10,$BN$7:$BZ$16,1+E2732,0)-2,VLOOKUP('CEV-CEVE'!$E$10,$BN$7:$BZ$16,1+E2732,0)),1,0)),0)","v":0},{"$f":"+IFERROR(IF(T2732>VLOOKUP('CEV-CEVE'!$E$10,$BN$20:$BZ$29,1+E2732,0),1,0),0)","v":0}]
[null,null,null,null,null,null,null,null,null,null,null,null,null,null,null,null,null,null,null,null,null,null,null,null,null,null,null,null,null,null,null,null,null,null,null,null,null,null,null,null,null,null,null,null,null,null,null,null,null,null,null,null,null,null,null,null,null,{"$f":"+BF2736+1","v":1},"Caso Base 270° Con Clima",{"$f":"+IFERROR(IF(BF2737=\"\",0,IF(T2737<IF(OR(BF2737<=$BP$3,BF2737>=$BO$3),VLOOKUP('CEV-CEVE'!$E$10,$BN$7:$BZ$16,1+E2737,0)-2,VLOOKUP('CEV-CEVE'!$E$10,$BN$7:$BZ$16,1+E2737,0)),1,0)),0)","v":0},{"$f":"+IFERROR(IF(T2737>VLOOKUP('CEV-CEVE'!$E$10,$BN$20:$BZ$29,1+E2737,0),1,0),0)","v":0}]
[null,null,null,null,null,null,null,null,null,null,null,null,null,null,null,null,null,null,null,null,null,null,null,null,null,null,null,null,null,null,null,null,null,null,null,null,null,null,null,null,null,null,null,null,null,null,null,null,null,null,null,null,null,null,null,null,null,7,"Caso Base 270° Con Clima",{"$f":"+IFERROR(IF(BF2743=\"\",0,IF(T2743<IF(OR(BF2743<=$BP$3,BF2743>=$BO$3),VLOOKUP('CEV-CEVE'!$E$10,$BN$7:$BZ$16,1+E2743,0)-2,VLOOKUP('CEV-CEVE'!$E$10,$BN$7:$BZ$16,1+E2743,0)),1,0)),0)","v":0},{"$f":"+IFERROR(IF(T2743>VLOOKUP('CEV-CEVE'!$E$10,$BN$20:$BZ$29,1+E2743,0),1,0),0)","v":0}]
[null,null,null,null,null,null,null,null,null,null,null,null,null,null,null,null,null,null,null,null,null,null,null,null,null,null,null,null,null,null,null,null,null,null,null,null,null,null,null,null,null,null,null,null,null,null,null,null,null,null,null,null,null,null,null,null,null,12,"Caso Base 270° Con Clima",{"$f":"+IFERROR(IF(BF2748=\"\",0,IF(T2748<IF(OR(BF2748<=$BP$3,BF2748>=$BO$3),VLOOKUP('CEV-CEVE'!$E$10,$BN$7:$BZ$16,1+E2748,0)-2,VLOOKUP('CEV-CEVE'!$E$10,$BN$7:$BZ$16,1+E2748,0)),1,0)),0)","v":0},{"$f":"+IFERROR(IF(T2748>VLOOKUP('CEV-CEVE'!$E$10,$BN$20:$BZ$29,1+E2748,0),1,0),0)","v":0}]
[null,null,null,null,null,null,null,null,null,null,null,null,null,null,null,null,null,null,null,null,null,null,null,null,null,null,null,null,null,null,null,null,null,null,null,null,null,null,null,null,null,null,null,null,null,null,null,null,null,null,null,null,null,null,null,null,null,17,"Caso Base 270° Con Clima",{"$f":"+IFERROR(IF(BF2753=\"\",0,IF(T2753<IF(OR(BF2753<=$BP$3,BF2753>=$BO$3),VLOOKUP('CEV-CEVE'!$E$10,$BN$7:$BZ$16,1+E2753,0)-2,VLOOKUP('CEV-CEVE'!$E$10,$BN$7:$BZ$16,1+E2753,0)),1,0)),0)","v":0},{"$f":"+IFERROR(IF(T2753>VLOOKUP('CEV-CEVE'!$E$10,$BN$20:$BZ$29,1+E2753,0),1,0),0)","v":0}]
[null,null,null,null,null,null,null,null,null,null,null,null,null,null,null,null,null,null,null,null,null,null,null,null,null,null,null,null,null,null,null,null,null,null,null,null,null,null,null,null,null,null,null,null,null,null,null,null,null,null,null,null,null,null,null,null,null,23,"Caso Base 270° Con Clima",{"$f":"+IFERROR(IF(BF2759=\"\",0,IF(T2759<IF(OR(BF2759<=$BP$3,BF2759>=$BO$3),VLOOKUP('CEV-CEVE'!$E$10,$BN$7:$BZ$16,1+E2759,0)-2,VLOOKUP('CEV-CEVE'!$E$10,$BN$7:$BZ$16,1+E2759,0)),1,0)),0)","v":0},{"$f":"+IFERROR(IF(T2759>VLOOKUP('CEV-CEVE'!$E$10,$BN$20:$BZ$29,1+E2759,0),1,0),0)","v":0}]
[null,null,null,null,null,null,null,null,null,null,null,null,null,null,null,null,null,null,null,null,null,null,null,null,null,null,null,null,null,null,null,null,null,null,null,null,null,null,null,null,null,null,null,null,null,null,null,null,null,null,null,null,null,null,null,null,null,{"$f":"+BF2763+1","v":2},"Caso Base 270° Con Clima",{"$f":"+IFERROR(IF(BF2764=\"\",0,IF(T2764<IF(OR(BF2764<=$BP$3,BF2764>=$BO$3),VLOOKUP('CEV-CEVE'!$E$10,$BN$7:$BZ$16,1+E2764,0)-2,VLOOKUP('CEV-CEVE'!$E$10,$BN$7:$BZ$16,1+E2764,0)),1,0)),0)","v":0},{"$f":"+IFERROR(IF(T2764>VLOOKUP('CEV-CEVE'!$E$10,$BN$20:$BZ$29,1+E2764,0),1,0),0)","v":0}]
[null,null,null,null,null,null,null,null,null,null,null,null,null,null,null,null,null,null,null,null,null,null,null,null,null,null,null,null,null,null,null,null,null,null,null,null,null,null,null,null,null,null,null,null,null,null,null,null,null,null,null,null,null,null,null,null,null,8,"Caso Base 270° Con Clima",{"$f":"+IFERROR(IF(BF2770=\"\",0,IF(T2770<IF(OR(BF2770<=$BP$3,BF2770>=$BO$3),VLOOKUP('CEV-CEVE'!$E$10,$BN$7:$BZ$16,1+E2770,0)-2,VLOOKUP('CEV-CEVE'!$E$10,$BN$7:$BZ$16,1+E2770,0)),1,0)),0)","v":0},{"$f":"+IFERROR(IF(T2770>VLOOKUP('CEV-CEVE'!$E$10,$BN$20:$BZ$29,1+E2770,0),1,0),0)","v":0}]
[null,null,null,null,null,null,null,null,null,null,null,null,null,null,null,null,null,null,null,null,null,null,null,null,null,null,null,null,null,null,null,null,null,null,null,null,null,null,null,null,null,null,null,null,null,null,null,null,null,null,null,null,null,null,null,null,null,13,"Caso Base 270° Con Clima",{"$f":"+IFERROR(IF(BF2775=\"\",0,IF(T2775<IF(OR(BF2775<=$BP$3,BF2775>=$BO$3),VLOOKUP('CEV-CEVE'!$E$10,$BN$7:$BZ$16,1+E2775,0)-2,VLOOKUP('CEV-CEVE'!$E$10,$BN$7:$BZ$16,1+E2775,0)),1,0)),0)","v":0},{"$f":"+IFERROR(IF(T2775>VLOOKUP('CEV-CEVE'!$E$10,$BN$20:$BZ$29,1+E2775,0),1,0),0)","v":0}]
[null,null,null,null,null,null,null,null,null,null,null,null,null,null,null,null,null,null,null,null,null,null,null,null,null,null,null,null,null,null,null,null,null,null,null,null,null,null,null,null,null,null,null,null,null,null,null,null,null,null,null,null,null,null,null,null,null,18,"Caso Base 270° Con Clima",{"$f":"+IFERROR(IF(BF2780=\"\",0,IF(T2780<IF(OR(BF2780<=$BP$3,BF2780>=$BO$3),VLOOKUP('CEV-CEVE'!$E$10,$BN$7:$BZ$16,1+E2780,0)-2,VLOOKUP('CEV-CEVE'!$E$10,$BN$7:$BZ$16,1+E2780,0)),1,0)),0)","v":0},{"$f":"+IFERROR(IF(T2780>VLOOKUP('CEV-CEVE'!$E$10,$BN$20:$BZ$29,1+E2780,0),1,0),0)","v":0}]
[null,null,null,null,null,null,null,null,null,null,null,null,null,null,null,null,null,null,null,null,null,null,null,null,null,null,null,null,null,null,null,null,null,null,null,null,null,null,null,null,null,null,null,null,null,null,null,null,null,null,null,null,null,null,null,null,null,19,"Caso Base 270° Con Clima",{"$f":"+IFERROR(IF(BF2781=\"\",0,IF(T2781<IF(OR(BF2781<=$BP$3,BF2781>=$BO$3),VLOOKUP('CEV-CEVE'!$E$10,$BN$7:$BZ$16,1+E2781,0)-2,VLOOKUP('CEV-CEVE'!$E$10,$BN$7:$BZ$16,1+E2781,0)),1,0)),0)","v":0},{"$f":"+IFERROR(IF(T2781>VLOOKUP('CEV-CEVE'!$E$10,$BN$20:$BZ$29,1+E2781,0),1,0),0)","v":0}]
[null,null,null,null,null,null,null,null,null,null,null,null,null,null,null,null,null,null,null,null,null,null,null,null,null,null,null,null,null,null,null,null,null,null,null,null,null,null,null,null,null,null,null,null,null,null,null,null,null,null,null,null,null,null,null,null,null,null,"Caso Base 270° Con Clima",{"$f":"+IFERROR(IF(BF2786=\"\",0,IF(T2786<IF(OR(BF2786<=$BP$3,BF2786>=$BO$3),VLOOKUP('CEV-CEVE'!$E$10,$BN$7:$BZ$16,1+E2786,0)-2,VLOOKUP('CEV-CEVE'!$E$10,$BN$7:$BZ$16,1+E2786,0)),1,0)),0)","v":0},{"$f":"+IFERROR(IF(T2786>VLOOKUP('CEV-CEVE'!$E$10,$BN$20:$BZ$29,1+E2786,0),1,0),0)","v":0}]
[null,null,null,null,null,null,null,null,null,null,null,null,null,null,null,null,null,null,null,null,null,null,null,null,null,null,null,null,null,null,null,null,null,null,null,null,null,null,null,null,null,null,null,null,null,null,null,null,null,null,null,null,null,null,null,null,null,3,"Caso Base 270° Con Clima",{"$f":"+IFERROR(IF(BF2791=\"\",0,IF(T2791<IF(OR(BF2791<=$BP$3,BF2791>=$BO$3),VLOOKUP('CEV-CEVE'!$E$10,$BN$7:$BZ$16,1+E2791,0)-2,VLOOKUP('CEV-CEVE'!$E$10,$BN$7:$BZ$16,1+E2791,0)),1,0)),0)","v":0},{"$f":"+IFERROR(IF(T2791>VLOOKUP('CEV-CEVE'!$E$10,$BN$20:$BZ$29,1+E2791,0),1,0),0)","v":0}]
[null,null,null,null,null,null,null,null,null,null,null,null,null,null,null,null,null,null,null,null,null,null,null,null,null,null,null,null,null,null,null,null,null,null,null,null,null,null,null,null,null,null,null,null,null,null,null,null,null,null,null,null,null,null,null,null,null,9,"Caso Base 270° Con Clima",{"$f":"+IFERROR(IF(BF2797=\"\",0,IF(T2797<IF(OR(BF2797<=$BP$3,BF2797>=$BO$3),VLOOKUP('CEV-CEVE'!$E$10,$BN$7:$BZ$16,1+E2797,0)-2,VLOOKUP('CEV-CEVE'!$E$10,$BN$7:$BZ$16,1+E2797,0)),1,0)),0)","v":0},{"$f":"+IFERROR(IF(T2797>VLOOKUP('CEV-CEVE'!$E$10,$BN$20:$BZ$29,1+E2797,0),1,0),0)","v":0}]
[null,null,null,null,null,null,null,null,null,null,null,null,null,null,null,null,null,null,null,null,null,null,null,null,null,null,null,null,null,null,null,null,null,null,null,null,null,null,null,null,null,null,null,null,null,null,null,null,null,null,null,null,null,null,null,null,null,14,"Caso Base 270° Con Clima",{"$f":"+IFERROR(IF(BF2802=\"\",0,IF(T2802<IF(OR(BF2802<=$BP$3,BF2802>=$BO$3),VLOOKUP('CEV-CEVE'!$E$10,$BN$7:$BZ$16,1+E2802,0)-2,VLOOKUP('CEV-CEVE'!$E$10,$BN$7:$BZ$16,1+E2802,0)),1,0)),0)","v":0},{"$f":"+IFERROR(IF(T2802>VLOOKUP('CEV-CEVE'!$E$10,$BN$20:$BZ$29,1+E2802,0),1,0),0)","v":0}]
[null,null,null,null,null,null,null,null,null,null,null,null,null,null,null,null,null,null,null,null,null,null,null,null,null,null,null,null,null,null,null,null,null,null,null,null,null,null,null,null,null,null,null,null,null,null,null,null,null,null,null,null,null,null,null,null,null,20,"Caso Base 270° Con Clima",{"$f":"+IFERROR(IF(BF2808=\"\",0,IF(T2808<IF(OR(BF2808<=$BP$3,BF2808>=$BO$3),VLOOKUP('CEV-CEVE'!$E$10,$BN$7:$BZ$16,1+E2808,0)-2,VLOOKUP('CEV-CEVE'!$E$10,$BN$7:$BZ$16,1+E2808,0)),1,0)),0)","v":0},{"$f":"+IFERROR(IF(T2808>VLOOKUP('CEV-CEVE'!$E$10,$BN$20:$BZ$29,1+E2808,0),1,0),0)","v":0}]
[null,null,null,null,null,null,null,null,null,null,null,null,null,null,null,null,null,null,null,null,null,null,null,null,null,null,null,null,null,null,null,null,null,null,null,null,null,null,null,null,null,null,null,null,null,null,null,null,null,null,null,null,null,null,null,null,null,null,"Caso Base 270° Con Clima",{"$f":"+IFERROR(IF(BF2813=\"\",0,IF(T2813<IF(OR(BF2813<=$BP$3,BF2813>=$BO$3),VLOOKUP('CEV-CEVE'!$E$10,$BN$7:$BZ$16,1+E2813,0)-2,VLOOKUP('CEV-CEVE'!$E$10,$BN$7:$BZ$16,1+E2813,0)),1,0)),0)","v":0},{"$f":"+IFERROR(IF(T2813>VLOOKUP('CEV-CEVE'!$E$10,$BN$20:$BZ$29,1+E2813,0),1,0),0)","v":0}]
[null,null,null,null,null,null,null,null,null,null,null,null,null,null,null,null,null,null,null,null,null,null,null,null,null,null,null,null,null,null,null,null,null,null,null,null,null,null,null,null,null,null,null,null,null,null,null,null,null,null,null,null,null,null,null,null,null,4,"Caso Base 270° Sin Clima",{"$f":"+IFERROR(IF(BF2818=\"\",0,IF(T2818<IF(OR(BF2818<=$BP$3,BF2818>=$BO$3),VLOOKUP('CEV-CEVE'!$E$10,$BN$7:$BZ$16,1+E2818,0)-2,VLOOKUP('CEV-CEVE'!$E$10,$BN$7:$BZ$16,1+E2818,0)),1,0)),0)","v":0},{"$f":"+IFERROR(IF(T2818>VLOOKUP('CEV-CEVE'!$E$10,$BN$20:$BZ$29,1+E2818,0),1,0),0)","v":0}]
[null,null,null,null,null,null,null,null,null,null,null,null,null,null,null,null,null,null,null,null,null,null,null,null,null,null,null,null,null,null,null,null,null,null,null,null,null,null,null,null,null,null,null,null,null,null,null,null,null,null,null,null,null,null,null,null,null,10,"Caso Base 270° Sin Clima",{"$f":"+IFERROR(IF(BF2824=\"\",0,IF(T2824<IF(OR(BF2824<=$BP$3,BF2824>=$BO$3),VLOOKUP('CEV-CEVE'!$E$10,$BN$7:$BZ$16,1+E2824,0)-2,VLOOKUP('CEV-CEVE'!$E$10,$BN$7:$BZ$16,1+E2824,0)),1,0)),0)","v":0},{"$f":"+IFERROR(IF(T2824>VLOOKUP('CEV-CEVE'!$E$10,$BN$20:$BZ$29,1+E2824,0),1,0),0)","v":0}]
[null,null,null,null,null,null,null,null,null,null,null,null,null,null,null,null,null,null,null,null,null,null,null,null,null,null,null,null,null,null,null,null,null,null,null,null,null,null,null,null,null,null,null,null,null,null,null,null,null,null,null,null,null,null,null,null,null,15,"Caso Base 270° Sin Clima",{"$f":"+IFERROR(IF(BF2829=\"\",0,IF(T2829<IF(OR(BF2829<=$BP$3,BF2829>=$BO$3),VLOOKUP('CEV-CEVE'!$E$10,$BN$7:$BZ$16,1+E2829,0)-2,VLOOKUP('CEV-CEVE'!$E$10,$BN$7:$BZ$16,1+E2829,0)),1,0)),0)","v":0},{"$f":"+IFERROR(IF(T2829>VLOOKUP('CEV-CEVE'!$E$10,$BN$20:$BZ$29,1+E2829,0),1,0),0)","v":0}]
[null,null,null,null,null,null,null,null,null,null,null,null,null,null,null,null,null,null,null,null,null,null,null,null,null,null,null,null,null,null,null,null,null,null,null,null,null,null,null,null,null,null,null,null,null,null,null,null,null,null,null,null,null,null,null,null,null,20,"Caso Base 270° Sin Clima",{"$f":"+IFERROR(IF(BF2834=\"\",0,IF(T2834<IF(OR(BF2834<=$BP$3,BF2834>=$BO$3),VLOOKUP('CEV-CEVE'!$E$10,$BN$7:$BZ$16,1+E2834,0)-2,VLOOKUP('CEV-CEVE'!$E$10,$BN$7:$BZ$16,1+E2834,0)),1,0)),0)","v":0},{"$f":"+IFERROR(IF(T2834>VLOOKUP('CEV-CEVE'!$E$10,$BN$20:$BZ$29,1+E2834,0),1,0),0)","v":0}]
[null,null,null,null,null,null,null,null,null,null,null,null,null,null,null,null,null,null,null,null,null,null,null,null,null,null,null,null,null,null,null,null,null,null,null,null,null,null,null,null,null,null,null,null,null,null,null,null,null,null,null,null,null,null,null,null,null,0,"Caso Base 270° Sin Clima",{"$f":"+IFERROR(IF(BF2840=\"\",0,IF(T2840<IF(OR(BF2840<=$BP$3,BF2840>=$BO$3),VLOOKUP('CEV-CEVE'!$E$10,$BN$7:$BZ$16,1+E2840,0)-2,VLOOKUP('CEV-CEVE'!$E$10,$BN$7:$BZ$16,1+E2840,0)),1,0)),0)","v":0},{"$f":"+IFERROR(IF(T2840>VLOOKUP('CEV-CEVE'!$E$10,$BN$20:$BZ$29,1+E2840,0),1,0),0)","v":0}]
[null,null,null,null,null,null,null,null,null,null,null,null,null,null,null,null,null,null,null,null,null,null,null,null,null,null,null,null,null,null,null,null,null,null,null,null,null,null,null,null,null,null,null,null,null,null,null,null,null,null,null,null,null,null,null,null,null,5,"Caso Base 270° Sin Clima",{"$f":"+IFERROR(IF(BF2845=\"\",0,IF(T2845<IF(OR(BF2845<=$BP$3,BF2845>=$BO$3),VLOOKUP('CEV-CEVE'!$E$10,$BN$7:$BZ$16,1+E2845,0)-2,VLOOKUP('CEV-CEVE'!$E$10,$BN$7:$BZ$16,1+E2845,0)),1,0)),0)","v":0},{"$f":"+IFERROR(IF(T2845>VLOOKUP('CEV-CEVE'!$E$10,$BN$20:$BZ$29,1+E2845,0),1,0),0)","v":0}]
[null,null,null,null,null,null,null,null,null,null,null,null,null,null,null,null,null,null,null,null,null,null,null,null,null,null,null,null,null,null,null,null,null,null,null,null,null,null,null,null,null,null,null,null,null,null,null,null,null,null,null,null,null,null,null,null,null,6,"Caso Base 270° Sin Clima",{"$f":"+IFERROR(IF(BF2846=\"\",0,IF(T2846<IF(OR(BF2846<=$BP$3,BF2846>=$BO$3),VLOOKUP('CEV-CEVE'!$E$10,$BN$7:$BZ$16,1+E2846,0)-2,VLOOKUP('CEV-CEVE'!$E$10,$BN$7:$BZ$16,1+E2846,0)),1,0)),0)","v":0},{"$f":"+IFERROR(IF(T2846>VLOOKUP('CEV-CEVE'!$E$10,$BN$20:$BZ$29,1+E2846,0),1,0),0)","v":0}]
[null,null,null,null,null,null,null,null,null,null,null,null,null,null,null,null,null,null,null,null,null,null,null,null,null,null,null,null,null,null,null,null,null,null,null,null,null,null,null,null,null,null,null,null,null,null,null,null,null,null,null,null,null,null,null,null,null,11,"Caso Base 270° Sin Clima",{"$f":"+IFERROR(IF(BF2851=\"\",0,IF(T2851<IF(OR(BF2851<=$BP$3,BF2851>=$BO$3),VLOOKUP('CEV-CEVE'!$E$10,$BN$7:$BZ$16,1+E2851,0)-2,VLOOKUP('CEV-CEVE'!$E$10,$BN$7:$BZ$16,1+E2851,0)),1,0)),0)","v":0},{"$f":"+IFERROR(IF(T2851>VLOOKUP('CEV-CEVE'!$E$10,$BN$20:$BZ$29,1+E2851,0),1,0),0)","v":0}]
[null,null,null,null,null,null,null,null,null,null,null,null,null,null,null,null,null,null,null,null,null,null,null,null,null,null,null,null,null,null,null,null,null,null,null,null,null,null,null,null,null,null,null,null,null,null,null,null,null,null,null,null,null,null,null,null,null,16,"Caso Base 270° Sin Clima",{"$f":"+IFERROR(IF(BF2856=\"\",0,IF(T2856<IF(OR(BF2856<=$BP$3,BF2856>=$BO$3),VLOOKUP('CEV-CEVE'!$E$10,$BN$7:$BZ$16,1+E2856,0)-2,VLOOKUP('CEV-CEVE'!$E$10,$BN$7:$BZ$16,1+E2856,0)),1,0)),0)","v":0},{"$f":"+IFERROR(IF(T2856>VLOOKUP('CEV-CEVE'!$E$10,$BN$20:$BZ$29,1+E2856,0),1,0),0)","v":0}]
[null,null,null,null,null,null,null,null,null,null,null,null,null,null,null,null,null,null,null,null,null,null,null,null,null,null,null,null,null,null,null,null,null,null,null,null,null,null,null,null,null,null,null,null,null,null,null,null,null,null,null,null,null,null,null,null,null,22,"Caso Base 270° Sin Clima",{"$f":"+IFERROR(IF(BF2862=\"\",0,IF(T2862<IF(OR(BF2862<=$BP$3,BF2862>=$BO$3),VLOOKUP('CEV-CEVE'!$E$10,$BN$7:$BZ$16,1+E2862,0)-2,VLOOKUP('CEV-CEVE'!$E$10,$BN$7:$BZ$16,1+E2862,0)),1,0)),0)","v":0},{"$f":"+IFERROR(IF(T2862>VLOOKUP('CEV-CEVE'!$E$10,$BN$20:$BZ$29,1+E2862,0),1,0),0)","v":0}]
[null,null,null,null,null,null,null,null,null,null,null,null,null,null,null,null,null,null,null,null,null,null,null,null,null,null,null,null,null,null,null,null,null,null,null,null,null,null,null,null,null,null,null,null,null,null,null,null,null,null,null,null,null,null,null,null,null,{"$f":"+BF2866+1","v":1},"Caso Base 270° Sin Clima",{"$f":"+IFERROR(IF(BF2867=\"\",0,IF(T2867<IF(OR(BF2867<=$BP$3,BF2867>=$BO$3),VLOOKUP('CEV-CEVE'!$E$10,$BN$7:$BZ$16,1+E2867,0)-2,VLOOKUP('CEV-CEVE'!$E$10,$BN$7:$BZ$16,1+E2867,0)),1,0)),0)","v":0},{"$f":"+IFERROR(IF(T2867>VLOOKUP('CEV-CEVE'!$E$10,$BN$20:$BZ$29,1+E2867,0),1,0),0)","v":0}]
[null,null,null,null,null,null,null,null,null,null,null,null,null,null,null,null,null,null,null,null,null,null,null,null,null,null,null,null,null,null,null,null,null,null,null,null,null,null,null,null,null,null,null,null,null,null,null,null,null,null,null,null,null,null,null,null,null,7,"Caso Base 270° Sin Clima",{"$f":"+IFERROR(IF(BF2873=\"\",0,IF(T2873<IF(OR(BF2873<=$BP$3,BF2873>=$BO$3),VLOOKUP('CEV-CEVE'!$E$10,$BN$7:$BZ$16,1+E2873,0)-2,VLOOKUP('CEV-CEVE'!$E$10,$BN$7:$BZ$16,1+E2873,0)),1,0)),0)","v":0},{"$f":"+IFERROR(IF(T2873>VLOOKUP('CEV-CEVE'!$E$10,$BN$20:$BZ$29,1+E2873,0),1,0),0)","v":0}]
[null,null,null,null,null,null,null,null,null,null,null,null,null,null,null,null,null,null,null,null,null,null,null,null,null,null,null,null,null,null,null,null,null,null,null,null,null,null,null,null,null,null,null,null,null,null,null,null,null,null,null,null,null,null,null,null,null,12,"Caso Base 270° Sin Clima",{"$f":"+IFERROR(IF(BF2878=\"\",0,IF(T2878<IF(OR(BF2878<=$BP$3,BF2878>=$BO$3),VLOOKUP('CEV-CEVE'!$E$10,$BN$7:$BZ$16,1+E2878,0)-2,VLOOKUP('CEV-CEVE'!$E$10,$BN$7:$BZ$16,1+E2878,0)),1,0)),0)","v":0},{"$f":"+IFERROR(IF(T2878>VLOOKUP('CEV-CEVE'!$E$10,$BN$20:$BZ$29,1+E2878,0),1,0),0)","v":0}]
[null,null,null,null,null,null,null,null,null,null,null,null,null,null,null,null,null,null,null,null,null,null,null,null,null,null,null,null,null,null,null,null,null,null,null,null,null,null,null,null,null,null,null,null,null,null,null,null,null,null,null,null,null,null,null,null,null,17,"Caso Base 270° Sin Clima",{"$f":"+IFERROR(IF(BF2883=\"\",0,IF(T2883<IF(OR(BF2883<=$BP$3,BF2883>=$BO$3),VLOOKUP('CEV-CEVE'!$E$10,$BN$7:$BZ$16,1+E2883,0)-2,VLOOKUP('CEV-CEVE'!$E$10,$BN$7:$BZ$16,1+E2883,0)),1,0)),0)","v":0},{"$f":"+IFERROR(IF(T2883>VLOOKUP('CEV-CEVE'!$E$10,$BN$20:$BZ$29,1+E2883,0),1,0),0)","v":0}]
[null,null,null,null,null,null,null,null,null,null,null,null,null,null,null,null,null,null,null,null,null,null,null,null,null,null,null,null,null,null,null,null,null,null,null,null,null,null,null,null,null,null,null,null,null,null,null,null,null,null,null,null,null,null,null,null,null,23,"Caso Base 270° Sin Clima",{"$f":"+IFERROR(IF(BF2889=\"\",0,IF(T2889<IF(OR(BF2889<=$BP$3,BF2889>=$BO$3),VLOOKUP('CEV-CEVE'!$E$10,$BN$7:$BZ$16,1+E2889,0)-2,VLOOKUP('CEV-CEVE'!$E$10,$BN$7:$BZ$16,1+E2889,0)),1,0)),0)","v":0},{"$f":"+IFERROR(IF(T2889>VLOOKUP('CEV-CEVE'!$E$10,$BN$20:$BZ$29,1+E2889,0),1,0),0)","v":0}]
[null,null,null,null,null,null,null,null,null,null,null,null,null,null,null,null,null,null,null,null,null,null,null,null,null,null,null,null,null,null,null,null,null,null,null,null,null,null,null,null,null,null,null,null,null,null,null,null,null,null,null,null,null,null,null,null,null,{"$f":"+BF2893+1","v":2},"Caso Base 270° Sin Clima",{"$f":"+IFERROR(IF(BF2894=\"\",0,IF(T2894<IF(OR(BF2894<=$BP$3,BF2894>=$BO$3),VLOOKUP('CEV-CEVE'!$E$10,$BN$7:$BZ$16,1+E2894,0)-2,VLOOKUP('CEV-CEVE'!$E$10,$BN$7:$BZ$16,1+E2894,0)),1,0)),0)","v":0},{"$f":"+IFERROR(IF(T2894>VLOOKUP('CEV-CEVE'!$E$10,$BN$20:$BZ$29,1+E2894,0),1,0),0)","v":0}]
[null,null,null,null,null,null,null,null,null,null,null,null,null,null,null,null,null,null,null,null,null,null,null,null,null,null,null,null,null,null,null,null,null,null,null,null,null,null,null,null,null,null,null,null,null,null,null,null,null,null,null,null,null,null,null,null,null,7,"Caso Base 270° Sin Clima",{"$f":"+IFERROR(IF(BF2899=\"\",0,IF(T2899<IF(OR(BF2899<=$BP$3,BF2899>=$BO$3),VLOOKUP('CEV-CEVE'!$E$10,$BN$7:$BZ$16,1+E2899,0)-2,VLOOKUP('CEV-CEVE'!$E$10,$BN$7:$BZ$16,1+E2899,0)),1,0)),0)","v":0},{"$f":"+IFERROR(IF(T2899>VLOOKUP('CEV-CEVE'!$E$10,$BN$20:$BZ$29,1+E2899,0),1,0),0)","v":0}]
[null,null,null,null,null,null,null,null,null,null,null,null,null,null,null,null,null,null,null,null,null,null,null,null,null,null,null,null,null,null,null,null,null,null,null,null,null,null,null,null,null,null,null,null,null,null,null,null,null,null,null,null,null,null,null,null,null,13,"Caso Base 270° Sin Clima",{"$f":"+IFERROR(IF(BF2905=\"\",0,IF(T2905<IF(OR(BF2905<=$BP$3,BF2905>=$BO$3),VLOOKUP('CEV-CEVE'!$E$10,$BN$7:$BZ$16,1+E2905,0)-2,VLOOKUP('CEV-CEVE'!$E$10,$BN$7:$BZ$16,1+E2905,0)),1,0)),0)","v":0},{"$f":"+IFERROR(IF(T2905>VLOOKUP('CEV-CEVE'!$E$10,$BN$20:$BZ$29,1+E2905,0),1,0),0)","v":0}]
[null,null,null,null,null,null,null,null,null,null,null,null,null,null,null,null,null,null,null,null,null,null,null,null,null,null,null,null,null,null,null,null,null,null,null,null,null,null,null,null,null,null,null,null,null,null,null,null,null,null,null,null,null,null,null,null,null,18,"Caso Base 270° Sin Clima",{"$f":"+IFERROR(IF(BF2910=\"\",0,IF(T2910<IF(OR(BF2910<=$BP$3,BF2910>=$BO$3),VLOOKUP('CEV-CEVE'!$E$10,$BN$7:$BZ$16,1+E2910,0)-2,VLOOKUP('CEV-CEVE'!$E$10,$BN$7:$BZ$16,1+E2910,0)),1,0)),0)","v":0},{"$f":"+IFERROR(IF(T2910>VLOOKUP('CEV-CEVE'!$E$10,$BN$20:$BZ$29,1+E2910,0),1,0),0)","v":0}]
[null,null,null,null,null,null,null,null,null,null,null,null,null,null,null,null,null,null,null,null,null,null,null,null,null,null,null,null,null,null,null,null,null,null,null,null,null,null,null,null,null,null,null,null,null,null,null,null,null,null,null,null,null,null,null,null,null,19,"Caso Base 270° Sin Clima",{"$f":"+IFERROR(IF(BF2911=\"\",0,IF(T2911<IF(OR(BF2911<=$BP$3,BF2911>=$BO$3),VLOOKUP('CEV-CEVE'!$E$10,$BN$7:$BZ$16,1+E2911,0)-2,VLOOKUP('CEV-CEVE'!$E$10,$BN$7:$BZ$16,1+E2911,0)),1,0)),0)","v":0},{"$f":"+IFERROR(IF(T2911>VLOOKUP('CEV-CEVE'!$E$10,$BN$20:$BZ$29,1+E2911,0),1,0),0)","v":0}]
[null,null,null,null,null,null,null,null,null,null,null,null,null,null,null,null,null,null,null,null,null,null,null,null,null,null,null,null,null,null,null,null,null,null,null,null,null,null,null,null,null,null,null,null,null,null,null,null,null,null,null,null,null,null,null,null,null,null,"Caso Base 270° Sin Clima",{"$f":"+IFERROR(IF(BF2916=\"\",0,IF(T2916<IF(OR(BF2916<=$BP$3,BF2916>=$BO$3),VLOOKUP('CEV-CEVE'!$E$10,$BN$7:$BZ$16,1+E2916,0)-2,VLOOKUP('CEV-CEVE'!$E$10,$BN$7:$BZ$16,1+E2916,0)),1,0)),0)","v":0},{"$f":"+IFERROR(IF(T2916>VLOOKUP('CEV-CEVE'!$E$10,$BN$20:$BZ$29,1+E2916,0),1,0),0)","v":0}]
[null,null,null,null,null,null,null,null,null,null,null,null,null,null,null,null,null,null,null,null,null,null,null,null,null,null,null,null,null,null,null,null,null,null,null,null,null,null,null,null,null,null,null,null,null,null,null,null,null,null,null,null,null,null,null,null,null,3,"Caso Base 270° Sin Clima",{"$f":"+IFERROR(IF(BF2921=\"\",0,IF(T2921<IF(OR(BF2921<=$BP$3,BF2921>=$BO$3),VLOOKUP('CEV-CEVE'!$E$10,$BN$7:$BZ$16,1+E2921,0)-2,VLOOKUP('CEV-CEVE'!$E$10,$BN$7:$BZ$16,1+E2921,0)),1,0)),0)","v":0},{"$f":"+IFERROR(IF(T2921>VLOOKUP('CEV-CEVE'!$E$10,$BN$20:$BZ$29,1+E2921,0),1,0),0)","v":0}]
[null,null,null,null,null,null,null,null,null,null,null,null,null,null,null,null,null,null,null,null,null,null,null,null,null,null,null,null,null,null,null,null,null,null,null,null,null,null,null,null,null,null,null,null,null,null,null,null,null,null,null,null,null,null,null,null,null,9,"Caso Base 270° Sin Clima",{"$f":"+IFERROR(IF(BF2927=\"\",0,IF(T2927<IF(OR(BF2927<=$BP$3,BF2927>=$BO$3),VLOOKUP('CEV-CEVE'!$E$10,$BN$7:$BZ$16,1+E2927,0)-2,VLOOKUP('CEV-CEVE'!$E$10,$BN$7:$BZ$16,1+E2927,0)),1,0)),0)","v":0},{"$f":"+IFERROR(IF(T2927>VLOOKUP('CEV-CEVE'!$E$10,$BN$20:$BZ$29,1+E2927,0),1,0),0)","v":0}]
[null,null,null,null,null,null,null,null,null,null,null,null,null,null,null,null,null,null,null,null,null,null,null,null,null,null,null,null,null,null,null,null,null,null,null,null,null,null,null,null,null,null,null,null,null,null,null,null,null,null,null,null,null,null,null,null,null,14,"Caso Base 270° Sin Clima",{"$f":"+IFERROR(IF(BF2932=\"\",0,IF(T2932<IF(OR(BF2932<=$BP$3,BF2932>=$BO$3),VLOOKUP('CEV-CEVE'!$E$10,$BN$7:$BZ$16,1+E2932,0)-2,VLOOKUP('CEV-CEVE'!$E$10,$BN$7:$BZ$16,1+E2932,0)),1,0)),0)","v":0},{"$f":"+IFERROR(IF(T2932>VLOOKUP('CEV-CEVE'!$E$10,$BN$20:$BZ$29,1+E2932,0),1,0),0)","v":0}]
[null,null,null,null,null,null,null,null,null,null,null,null,null,null,null,null,null,null,null,null,null,null,null,null,null,null,null,null,null,null,null,null,null,null,null,null,null,null,null,null,null,null,null,null,null,null,null,null,null,null,null,null,null,null,null,null,null,20,"Caso Base 270° Sin Clima",{"$f":"+IFERROR(IF(BF2938=\"\",0,IF(T2938<IF(OR(BF2938<=$BP$3,BF2938>=$BO$3),VLOOKUP('CEV-CEVE'!$E$10,$BN$7:$BZ$16,1+E2938,0)-2,VLOOKUP('CEV-CEVE'!$E$10,$BN$7:$BZ$16,1+E2938,0)),1,0)),0)","v":0},{"$f":"+IFERROR(IF(T2938>VLOOKUP('CEV-CEVE'!$E$10,$BN$20:$BZ$29,1+E2938,0),1,0),0)","v":0}]
[null,null,null,null,null,null,null,null,null,null,null,null,null,null,null,null,null,null,null,null,null,null,null,null,null,null,null,null,null,null,null,null,null,null,null,null,null,null,null,null,null,null,null,null,null,null,null,null,null,null,null,null,null,null,null,null,null,null,"Caso Base 270° Sin Clima",{"$f":"+IFERROR(IF(BF2943=\"\",0,IF(T2943<IF(OR(BF2943<=$BP$3,BF2943>=$BO$3),VLOOKUP('CEV-CEVE'!$E$10,$BN$7:$BZ$16,1+E2943,0)-2,VLOOKUP('CEV-CEVE'!$E$10,$BN$7:$BZ$16,1+E2943,0)),1,0)),0)","v":0},{"$f":"+IFERROR(IF(T2943>VLOOKUP('CEV-CEVE'!$E$10,$BN$20:$BZ$29,1+E2943,0),1,0),0)","v":0}]
[null,null,null,null,null,null,null,null,null,null,null,null,null,null,null,null,null,null,null,null,null,null,null,null,null,null,null,null,null,null,null,null,null,null,null,null,null,null,null,null,null,null,null,null,null,null,null,null,null,null,null,null,null,null,null,null,null,4,"Caso Base 270° Sin Clima",{"$f":"+IFERROR(IF(BF2948=\"\",0,IF(T2948<IF(OR(BF2948<=$BP$3,BF2948>=$BO$3),VLOOKUP('CEV-CEVE'!$E$10,$BN$7:$BZ$16,1+E2948,0)-2,VLOOKUP('CEV-CEVE'!$E$10,$BN$7:$BZ$16,1+E2948,0)),1,0)),0)","v":0},{"$f":"+IFERROR(IF(T2948>VLOOKUP('CEV-CEVE'!$E$10,$BN$20:$BZ$29,1+E2948,0),1,0),0)","v":0}]
[null,null,null,null,null,null,null,null,null,null,null,null,null,null,null,null,null,null,null,null,null,null,null,null,null,null,null,null,null,null,null,null,null,null,null,null,null,null,null,null,null,null,null,null,null,null,null,null,null,null,null,null,null,null,null,null,null,10,"Caso Base 270° Sin Clima",{"$f":"+IFERROR(IF(BF2954=\"\",0,IF(T2954<IF(OR(BF2954<=$BP$3,BF2954>=$BO$3),VLOOKUP('CEV-CEVE'!$E$10,$BN$7:$BZ$16,1+E2954,0)-2,VLOOKUP('CEV-CEVE'!$E$10,$BN$7:$BZ$16,1+E2954,0)),1,0)),0)","v":0},{"$f":"+IFERROR(IF(T2954>VLOOKUP('CEV-CEVE'!$E$10,$BN$20:$BZ$29,1+E2954,0),1,0),0)","v":0}]
[null,null,null,null,null,null,null,null,null,null,null,null,null,null,null,null,null,null,null,null,null,null,null,null,null,null,null,null,null,null,null,null,null,null,null,null,null,null,null,null,null,null,null,null,null,null,null,null,null,null,null,null,null,null,null,null,null,15,"Caso Base 270° Sin Clima",{"$f":"+IFERROR(IF(BF2959=\"\",0,IF(T2959<IF(OR(BF2959<=$BP$3,BF2959>=$BO$3),VLOOKUP('CEV-CEVE'!$E$10,$BN$7:$BZ$16,1+E2959,0)-2,VLOOKUP('CEV-CEVE'!$E$10,$BN$7:$BZ$16,1+E2959,0)),1,0)),0)","v":0},{"$f":"+IFERROR(IF(T2959>VLOOKUP('CEV-CEVE'!$E$10,$BN$20:$BZ$29,1+E2959,0),1,0),0)","v":0}]
[null,null,null,null,null,null,null,null,null,null,null,null,null,null,null,null,null,null,null,null,null,null,null,null,null,null,null,null,null,null,null,null,null,null,null,null,null,null,null,null,null,null,null,null,null,null,null,null,null,null,null,null,null,null,null,null,null,20,"Caso Base 270° Sin Clima",{"$f":"+IFERROR(IF(BF2964=\"\",0,IF(T2964<IF(OR(BF2964<=$BP$3,BF2964>=$BO$3),VLOOKUP('CEV-CEVE'!$E$10,$BN$7:$BZ$16,1+E2964,0)-2,VLOOKUP('CEV-CEVE'!$E$10,$BN$7:$BZ$16,1+E2964,0)),1,0)),0)","v":0},{"$f":"+IFERROR(IF(T2964>VLOOKUP('CEV-CEVE'!$E$10,$BN$20:$BZ$29,1+E2964,0),1,0),0)","v":0}]
[null,null,null,null,null,null,null,null,null,null,null,null,null,null,null,null,null,null,null,null,null,null,null,null,null,null,null,null,null,null,null,null,null,null,null,null,null,null,null,null,null,null,null,null,null,null,null,null,null,null,null,null,null,null,null,null,null,0,"Caso Base 270° Sin Clima",{"$f":"+IFERROR(IF(BF2970=\"\",0,IF(T2970<IF(OR(BF2970<=$BP$3,BF2970>=$BO$3),VLOOKUP('CEV-CEVE'!$E$10,$BN$7:$BZ$16,1+E2970,0)-2,VLOOKUP('CEV-CEVE'!$E$10,$BN$7:$BZ$16,1+E2970,0)),1,0)),0)","v":0},{"$f":"+IFERROR(IF(T2970>VLOOKUP('CEV-CEVE'!$E$10,$BN$20:$BZ$29,1+E2970,0),1,0),0)","v":0}]
[null,null,null,null,null,null,null,null,null,null,null,null,null,null,null,null,null,null,null,null,null,null,null,null,null,null,null,null,null,null,null,null,null,null,null,null,null,null,null,null,null,null,null,null,null,null,null,null,null,null,null,null,null,null,null,null,null,5,"Caso Base 270° Sin Clima",{"$f":"+IFERROR(IF(BF2975=\"\",0,IF(T2975<IF(OR(BF2975<=$BP$3,BF2975>=$BO$3),VLOOKUP('CEV-CEVE'!$E$10,$BN$7:$BZ$16,1+E2975,0)-2,VLOOKUP('CEV-CEVE'!$E$10,$BN$7:$BZ$16,1+E2975,0)),1,0)),0)","v":0},{"$f":"+IFERROR(IF(T2975>VLOOKUP('CEV-CEVE'!$E$10,$BN$20:$BZ$29,1+E2975,0),1,0),0)","v":0}]
[null,null,null,null,null,null,null,null,null,null,null,null,null,null,null,null,null,null,null,null,null,null,null,null,null,null,null,null,null,null,null,null,null,null,null,null,null,null,null,null,null,null,null,null,null,null,null,null,null,null,null,null,null,null,null,null,null,6,"Caso Base 270° Sin Clima",{"$f":"+IFERROR(IF(BF2976=\"\",0,IF(T2976<IF(OR(BF2976<=$BP$3,BF2976>=$BO$3),VLOOKUP('CEV-CEVE'!$E$10,$BN$7:$BZ$16,1+E2976,0)-2,VLOOKUP('CEV-CEVE'!$E$10,$BN$7:$BZ$16,1+E2976,0)),1,0)),0)","v":0},{"$f":"+IFERROR(IF(T2976>VLOOKUP('CEV-CEVE'!$E$10,$BN$20:$BZ$29,1+E2976,0),1,0),0)","v":0}]
[null,null,null,null,null,null,null,null,null,null,null,null,null,null,null,null,null,null,null,null,null,null,null,null,null,null,null,null,null,null,null,null,null,null,null,null,null,null,null,null,null,null,null,null,null,null,null,null,null,null,null,null,null,null,null,null,null,11,"Caso Base 270° Sin Clima",{"$f":"+IFERROR(IF(BF2981=\"\",0,IF(T2981<IF(OR(BF2981<=$BP$3,BF2981>=$BO$3),VLOOKUP('CEV-CEVE'!$E$10,$BN$7:$BZ$16,1+E2981,0)-2,VLOOKUP('CEV-CEVE'!$E$10,$BN$7:$BZ$16,1+E2981,0)),1,0)),0)","v":0},{"$f":"+IFERROR(IF(T2981>VLOOKUP('CEV-CEVE'!$E$10,$BN$20:$BZ$29,1+E2981,0),1,0),0)","v":0}]
[null,null,null,null,null,null,null,null,null,null,null,null,null,null,null,null,null,null,null,null,null,null,null,null,null,null,null,null,null,null,null,null,null,null,null,null,null,null,null,null,null,null,null,null,null,null,null,null,null,null,null,null,null,null,null,null,null,16,"Caso Base 270° Sin Clima",{"$f":"+IFERROR(IF(BF2986=\"\",0,IF(T2986<IF(OR(BF2986<=$BP$3,BF2986>=$BO$3),VLOOKUP('CEV-CEVE'!$E$10,$BN$7:$BZ$16,1+E2986,0)-2,VLOOKUP('CEV-CEVE'!$E$10,$BN$7:$BZ$16,1+E2986,0)),1,0)),0)","v":0},{"$f":"+IFERROR(IF(T2986>VLOOKUP('CEV-CEVE'!$E$10,$BN$20:$BZ$29,1+E2986,0),1,0),0)","v":0}]
[null,null,null,null,null,null,null,null,null,null,null,null,null,null,null,null,null,null,null,null,null,null,null,null,null,null,null,null,null,null,null,null,null,null,null,null,null,null,null,null,null,null,null,null,null,null,null,null,null,null,null,null,null,null,null,null,null,22,"Caso Base 270° Sin Clima",{"$f":"+IFERROR(IF(BF2992=\"\",0,IF(T2992<IF(OR(BF2992<=$BP$3,BF2992>=$BO$3),VLOOKUP('CEV-CEVE'!$E$10,$BN$7:$BZ$16,1+E2992,0)-2,VLOOKUP('CEV-CEVE'!$E$10,$BN$7:$BZ$16,1+E2992,0)),1,0)),0)","v":0},{"$f":"+IFERROR(IF(T2992>VLOOKUP('CEV-CEVE'!$E$10,$BN$20:$BZ$29,1+E2992,0),1,0),0)","v":0}]
[null,null,null,null,null,null,null,null,null,null,null,null,null,null,null,null,null,null,null,null,null,null,null,null,null,null,null,null,null,null,null,null,null,null,null,null,null,null,null,null,null,null,null,null,null,null,null,null,null,null,null,null,null,null,null,null,null,{"$f":"+BF2996+1","v":1},"Caso Base 270° Sin Clima",{"$f":"+IFERROR(IF(BF2997=\"\",0,IF(T2997<IF(OR(BF2997<=$BP$3,BF2997>=$BO$3),VLOOKUP('CEV-CEVE'!$E$10,$BN$7:$BZ$16,1+E2997,0)-2,VLOOKUP('CEV-CEVE'!$E$10,$BN$7:$BZ$16,1+E2997,0)),1,0)),0)","v":0},{"$f":"+IFERROR(IF(T2997>VLOOKUP('CEV-CEVE'!$E$10,$BN$20:$BZ$29,1+E2997,0),1,0),0)","v":0}]
[null,null,null,null,null,null,null,null,null,null,null,null,null,null,null,null,null,null,null,null,null,null,null,null,null,null,null,null,null,null,null,null,null,null,null,null,null,null,null,null,null,null,null,null,null,null,null,null,null,null,null,null,null,null,null,null,null,5,"Caso Base 270° Sin Clima",{"$f":"+IFERROR(IF(BF3001=\"\",0,IF(T3001<IF(OR(BF3001<=$BP$3,BF3001>=$BO$3),VLOOKUP('CEV-CEVE'!$E$10,$BN$7:$BZ$16,1+E3001,0)-2,VLOOKUP('CEV-CEVE'!$E$10,$BN$7:$BZ$16,1+E3001,0)),1,0)),0)","v":0},{"$f":"+IFERROR(IF(T3001>VLOOKUP('CEV-CEVE'!$E$10,$BN$20:$BZ$29,1+E3001,0),1,0),0)","v":0}]
[null,null,null,null,null,null,null,null,null,null,null,null,null,null,null,null,null,null,null,null,null,null,null,null,null,null,null,null,null,null,null,null,null,null,null,null,null,null,null,null,null,null,null,null,null,null,null,null,null,null,null,null,null,null,null,null,null,6,"Caso Base 270° Sin Clima",{"$f":"+IFERROR(IF(BF3002=\"\",0,IF(T3002<IF(OR(BF3002<=$BP$3,BF3002>=$BO$3),VLOOKUP('CEV-CEVE'!$E$10,$BN$7:$BZ$16,1+E3002,0)-2,VLOOKUP('CEV-CEVE'!$E$10,$BN$7:$BZ$16,1+E3002,0)),1,0)),0)","v":0},{"$f":"+IFERROR(IF(T3002>VLOOKUP('CEV-CEVE'!$E$10,$BN$20:$BZ$29,1+E3002,0),1,0),0)","v":0}]
[null,null,null,null,null,null,null,null,null,null,null,null,null,null,null,null,null,null,null,null,null,null,null,null,null,null,null,null,null,null,null,null,null,null,null,null,null,null,null,null,null,null,null,null,null,null,null,null,null,null,null,null,null,null,null,null,null,7,"Caso Base 270° Sin Clima",{"$f":"+IFERROR(IF(BF3003=\"\",0,IF(T3003<IF(OR(BF3003<=$BP$3,BF3003>=$BO$3),VLOOKUP('CEV-CEVE'!$E$10,$BN$7:$BZ$16,1+E3003,0)-2,VLOOKUP('CEV-CEVE'!$E$10,$BN$7:$BZ$16,1+E3003,0)),1,0)),0)","v":0},{"$f":"+IFERROR(IF(T3003>VLOOKUP('CEV-CEVE'!$E$10,$BN$20:$BZ$29,1+E3003,0),1,0),0)","v":0}]
[null,null,null,null,null,null,null,null,null,null,null,null,null,null,null,null,null,null,null,null,null,null,null,null,null,null,null,null,null,null,null,null,null,null,null,null,null,null,null,null,null,null,null,null,null,null,null,null,null,null,null,null,null,null,null,null,null,8,"Caso Base 270° Sin Clima",{"$f":"+IFERROR(IF(BF3004=\"\",0,IF(T3004<IF(OR(BF3004<=$BP$3,BF3004>=$BO$3),VLOOKUP('CEV-CEVE'!$E$10,$BN$7:$BZ$16,1+E3004,0)-2,VLOOKUP('CEV-CEVE'!$E$10,$BN$7:$BZ$16,1+E3004,0)),1,0)),0)","v":0},{"$f":"+IFERROR(IF(T3004>VLOOKUP('CEV-CEVE'!$E$10,$BN$20:$BZ$29,1+E3004,0),1,0),0)","v":0}]
[null,null,null,null,null,null,null,null,null,null,null,null,null,null,null,null,null,null,null,null,null,null,null,null,null,null,null,null,null,null,null,null,null,null,null,null,null,null,null,null,null,null,null,null,null,null,null,null,null,null,null,null,null,null,null,null,null,9,"Caso Base 270° Sin Clima",{"$f":"+IFERROR(IF(BF3005=\"\",0,IF(T3005<IF(OR(BF3005<=$BP$3,BF3005>=$BO$3),VLOOKUP('CEV-CEVE'!$E$10,$BN$7:$BZ$16,1+E3005,0)-2,VLOOKUP('CEV-CEVE'!$E$10,$BN$7:$BZ$16,1+E3005,0)),1,0)),0)","v":0},{"$f":"+IFERROR(IF(T3005>VLOOKUP('CEV-CEVE'!$E$10,$BN$20:$BZ$29,1+E3005,0),1,0),0)","v":0}]
[null,null,null,null,null,null,null,null,null,null,null,null,null,null,null,null,null,null,null,null,null,null,null,null,null,null,null,null,null,null,null,null,null,null,null,null,null,null,null,null,null,null,null,null,null,null,null,null,null,null,null,null,null,null,null,null,null,10,"Caso Base 270° Sin Clima",{"$f":"+IFERROR(IF(BF3006=\"\",0,IF(T3006<IF(OR(BF3006<=$BP$3,BF3006>=$BO$3),VLOOKUP('CEV-CEVE'!$E$10,$BN$7:$BZ$16,1+E3006,0)-2,VLOOKUP('CEV-CEVE'!$E$10,$BN$7:$BZ$16,1+E3006,0)),1,0)),0)","v":0},{"$f":"+IFERROR(IF(T3006>VLOOKUP('CEV-CEVE'!$E$10,$BN$20:$BZ$29,1+E3006,0),1,0),0)","v":0}]
[null,null,null,null,null,null,null,null,null,null,null,null,null,null,null,null,null,null,null,null,null,null,null,null,null,null,null,null,null,null,null,null,null,null,null,null,null,null,null,null,null,null,null,null,null,null,null,null,null,null,null,null,null,null,null,null,null,11,"Caso Base 270° Sin Clima",{"$f":"+IFERROR(IF(BF3007=\"\",0,IF(T3007<IF(OR(BF3007<=$BP$3,BF3007>=$BO$3),VLOOKUP('CEV-CEVE'!$E$10,$BN$7:$BZ$16,1+E3007,0)-2,VLOOKUP('CEV-CEVE'!$E$10,$BN$7:$BZ$16,1+E3007,0)),1,0)),0)","v":0},{"$f":"+IFERROR(IF(T3007>VLOOKUP('CEV-CEVE'!$E$10,$BN$20:$BZ$29,1+E3007,0),1,0),0)","v":0}]
[null,null,null,null,null,null,null,null,null,null,null,null,null,null,null,null,null,null,null,null,null,null,null,null,null,null,null,null,null,null,null,null,null,null,null,null,null,null,null,null,null,null,null,null,null,null,null,null,null,null,null,null,null,null,null,null,null,12,"Caso Base 270° Sin Clima",{"$f":"+IFERROR(IF(BF3008=\"\",0,IF(T3008<IF(OR(BF3008<=$BP$3,BF3008>=$BO$3),VLOOKUP('CEV-CEVE'!$E$10,$BN$7:$BZ$16,1+E3008,0)-2,VLOOKUP('CEV-CEVE'!$E$10,$BN$7:$BZ$16,1+E3008,0)),1,0)),0)","v":0},{"$f":"+IFERROR(IF(T3008>VLOOKUP('CEV-CEVE'!$E$10,$BN$20:$BZ$29,1+E3008,0),1,0),0)","v":0}]
[null,null,null,null,null,null,null,null,null,null,null,null,null,null,null,null,null,null,null,null,null,null,null,null,null,null,null,null,null,null,null,null,null,null,null,null,null,null,null,null,null,null,null,null,null,null,null,null,null,null,null,null,null,null,null,null,null,13,"Caso Base 270° Sin Clima",{"$f":"+IFERROR(IF(BF3009=\"\",0,IF(T3009<IF(OR(BF3009<=$BP$3,BF3009>=$BO$3),VLOOKUP('CEV-CEVE'!$E$10,$BN$7:$BZ$16,1+E3009,0)-2,VLOOKUP('CEV-CEVE'!$E$10,$BN$7:$BZ$16,1+E3009,0)),1,0)),0)","v":0},{"$f":"+IFERROR(IF(T3009>VLOOKUP('CEV-CEVE'!$E$10,$BN$20:$BZ$29,1+E3009,0),1,0),0)","v":0}]
[null,null,null,null,null,null,null,null,null,null,null,null,null,null,null,null,null,null,null,null,null,null,null,null,null,null,null,null,null,null,null,null,null,null,null,null,null,null,null,null,null,null,null,null,null,null,null,null,null,null,null,null,null,null,null,null,null,14,"Caso Base 270° Sin Clima",{"$f":"+IFERROR(IF(BF3010=\"\",0,IF(T3010<IF(OR(BF3010<=$BP$3,BF3010>=$BO$3),VLOOKUP('CEV-CEVE'!$E$10,$BN$7:$BZ$16,1+E3010,0)-2,VLOOKUP('CEV-CEVE'!$E$10,$BN$7:$BZ$16,1+E3010,0)),1,0)),0)","v":0},{"$f":"+IFERROR(IF(T3010>VLOOKUP('CEV-CEVE'!$E$10,$BN$20:$BZ$29,1+E3010,0),1,0),0)","v":0}]
[null,null,null,null,null,null,null,null,null,null,null,null,null,null,null,null,null,null,null,null,null,null,null,null,null,null,null,null,null,null,null,null,null,null,null,null,null,null,null,null,null,null,null,null,null,null,null,null,null,null,null,null,null,null,null,null,null,15,"Caso Base 270° Sin Clima",{"$f":"+IFERROR(IF(BF3011=\"\",0,IF(T3011<IF(OR(BF3011<=$BP$3,BF3011>=$BO$3),VLOOKUP('CEV-CEVE'!$E$10,$BN$7:$BZ$16,1+E3011,0)-2,VLOOKUP('CEV-CEVE'!$E$10,$BN$7:$BZ$16,1+E3011,0)),1,0)),0)","v":0},{"$f":"+IFERROR(IF(T3011>VLOOKUP('CEV-CEVE'!$E$10,$BN$20:$BZ$29,1+E3011,0),1,0),0)","v":0}]
[null,null,null,null,null,null,null,null,null,null,null,null,null,null,null,null,null,null,null,null,null,null,null,null,null,null,null,null,null,null,null,null,null,null,null,null,null,null,null,null,null,null,null,null,null,null,null,null,null,null,null,null,null,null,null,null,null,16,"Caso Base 270° Sin Clima",{"$f":"+IFERROR(IF(BF3012=\"\",0,IF(T3012<IF(OR(BF3012<=$BP$3,BF3012>=$BO$3),VLOOKUP('CEV-CEVE'!$E$10,$BN$7:$BZ$16,1+E3012,0)-2,VLOOKUP('CEV-CEVE'!$E$10,$BN$7:$BZ$16,1+E3012,0)),1,0)),0)","v":0},{"$f":"+IFERROR(IF(T3012>VLOOKUP('CEV-CEVE'!$E$10,$BN$20:$BZ$29,1+E3012,0),1,0),0)","v":0}]
[null,null,null,null,null,null,null,null,null,null,null,null,null,null,null,null,null,null,null,null,null,null,null,null,null,null,null,null,null,null,null,null,null,null,null,null,null,null,null,null,null,null,null,null,null,null,null,null,null,null,null,null,null,null,null,null,null,17,"Caso Base 270° Sin Clima",{"$f":"+IFERROR(IF(BF3013=\"\",0,IF(T3013<IF(OR(BF3013<=$BP$3,BF3013>=$BO$3),VLOOKUP('CEV-CEVE'!$E$10,$BN$7:$BZ$16,1+E3013,0)-2,VLOOKUP('CEV-CEVE'!$E$10,$BN$7:$BZ$16,1+E3013,0)),1,0)),0)","v":0},{"$f":"+IFERROR(IF(T3013>VLOOKUP('CEV-CEVE'!$E$10,$BN$20:$BZ$29,1+E3013,0),1,0),0)","v":0}]
[null,null,null,null,null,null,null,null,null,null,null,null,null,null,null,null,null,null,null,null,null,null,null,null,null,null,null,null,null,null,null,null,null,null,null,null,null,null,null,null,null,null,null,null,null,null,null,null,null,null,null,null,null,null,null,null,null,18,"Caso Base 270° Sin Clima",{"$f":"+IFERROR(IF(BF3014=\"\",0,IF(T3014<IF(OR(BF3014<=$BP$3,BF3014>=$BO$3),VLOOKUP('CEV-CEVE'!$E$10,$BN$7:$BZ$16,1+E3014,0)-2,VLOOKUP('CEV-CEVE'!$E$10,$BN$7:$BZ$16,1+E3014,0)),1,0)),0)","v":0},{"$f":"+IFERROR(IF(T3014>VLOOKUP('CEV-CEVE'!$E$10,$BN$20:$BZ$29,1+E3014,0),1,0),0)","v":0}]
[null,null,null,null,null,null,null,null,null,null,null,null,null,null,null,null,null,null,null,null,null,null,null,null,null,null,null,null,null,null,null,null,null,null,null,null,null,null,null,null,null,null,null,null,null,null,null,null,null,null,null,null,null,null,null,null,null,19,"Caso Base 270° Sin Clima",{"$f":"+IFERROR(IF(BF3015=\"\",0,IF(T3015<IF(OR(BF3015<=$BP$3,BF3015>=$BO$3),VLOOKUP('CEV-CEVE'!$E$10,$BN$7:$BZ$16,1+E3015,0)-2,VLOOKUP('CEV-CEVE'!$E$10,$BN$7:$BZ$16,1+E3015,0)),1,0)),0)","v":0},{"$f":"+IFERROR(IF(T3015>VLOOKUP('CEV-CEVE'!$E$10,$BN$20:$BZ$29,1+E3015,0),1,0),0)","v":0}]
[null,null,null,null,null,null,null,null,null,null,null,null,null,null,null,null,null,null,null,null,null,null,null,null,null,null,null,null,null,null,null,null,null,null,null,null,null,null,null,null,null,null,null,null,null,null,null,null,null,null,null,null,null,null,null,null,null,20,"Caso Base 270° Sin Clima",{"$f":"+IFERROR(IF(BF3016=\"\",0,IF(T3016<IF(OR(BF3016<=$BP$3,BF3016>=$BO$3),VLOOKUP('CEV-CEVE'!$E$10,$BN$7:$BZ$16,1+E3016,0)-2,VLOOKUP('CEV-CEVE'!$E$10,$BN$7:$BZ$16,1+E3016,0)),1,0)),0)","v":0},{"$f":"+IFERROR(IF(T3016>VLOOKUP('CEV-CEVE'!$E$10,$BN$20:$BZ$29,1+E3016,0),1,0),0)","v":0}]
[null,null,null,null,null,null,null,null,null,null,null,null,null,null,null,null,null,null,null,null,null,null,null,null,null,null,null,null,null,null,null,null,null,null,null,null,null,null,null,null,null,null,null,null,null,null,null,null,null,null,null,null,null,null,null,null,null,21,"Caso Base 270° Sin Clima",{"$f":"+IFERROR(IF(BF3017=\"\",0,IF(T3017<IF(OR(BF3017<=$BP$3,BF3017>=$BO$3),VLOOKUP('CEV-CEVE'!$E$10,$BN$7:$BZ$16,1+E3017,0)-2,VLOOKUP('CEV-CEVE'!$E$10,$BN$7:$BZ$16,1+E3017,0)),1,0)),0)","v":0},{"$f":"+IFERROR(IF(T3017>VLOOKUP('CEV-CEVE'!$E$10,$BN$20:$BZ$29,1+E3017,0),1,0),0)","v":0}]
[null,null,null,null,null,null,null,null,null,null,null,null,null,null,null,null,null,null,null,null,null,null,null,null,null,null,null,null,null,null,null,null,null,null,null,null,null,null,null,null,null,null,null,null,null,null,null,null,null,null,null,null,null,null,null,null,null,22,"Caso Base 270° Sin Clima",{"$f":"+IFERROR(IF(BF3018=\"\",0,IF(T3018<IF(OR(BF3018<=$BP$3,BF3018>=$BO$3),VLOOKUP('CEV-CEVE'!$E$10,$BN$7:$BZ$16,1+E3018,0)-2,VLOOKUP('CEV-CEVE'!$E$10,$BN$7:$BZ$16,1+E3018,0)),1,0)),0)","v":0},{"$f":"+IFERROR(IF(T3018>VLOOKUP('CEV-CEVE'!$E$10,$BN$20:$BZ$29,1+E3018,0),1,0),0)","v":0}]
[null,null,null,null,null,null,null,null,null,null,null,null,null,null,null,null,null,null,null,null,null,null,null,null,null,null,null,null,null,null,null,null,null,null,null,null,null,null,null,null,null,null,null,null,null,null,null,null,null,null,null,null,null,null,null,null,null,23,"Caso Base 270° Sin Clima",{"$f":"+IFERROR(IF(BF3019=\"\",0,IF(T3019<IF(OR(BF3019<=$BP$3,BF3019>=$BO$3),VLOOKUP('CEV-CEVE'!$E$10,$BN$7:$BZ$16,1+E3019,0)-2,VLOOKUP('CEV-CEVE'!$E$10,$BN$7:$BZ$16,1+E3019,0)),1,0)),0)","v":0},{"$f":"+IFERROR(IF(T3019>VLOOKUP('CEV-CEVE'!$E$10,$BN$20:$BZ$29,1+E3019,0),1,0),0)","v":0}]
[null,null,null,null,null,null,null,null,null,null,null,null,null,null,null,null,null,null,null,null,null,null,null,null,null,null,null,null,null,null,null,null,null,null,null,null,null,null,null,null,null,null,null,null,null,null,null,null,null,null,null,null,null,null,null,null,null,null,"Caso Base 270° Sin Clima",{"$f":"+IFERROR(IF(BF3020=\"\",0,IF(T3020<IF(OR(BF3020<=$BP$3,BF3020>=$BO$3),VLOOKUP('CEV-CEVE'!$E$10,$BN$7:$BZ$16,1+E3020,0)-2,VLOOKUP('CEV-CEVE'!$E$10,$BN$7:$BZ$16,1+E3020,0)),1,0)),0)","v":0},{"$f":"+IFERROR(IF(T3020>VLOOKUP('CEV-CEVE'!$E$10,$BN$20:$BZ$29,1+E3020,0),1,0),0)","v":0}]
[null,null,null,null,null,null,null,null,null,null,null,null,null,null,null,null,null,null,null,null,null,null,null,null,null,null,null,null,null,null,null,null,null,null,null,null,null,null,null,null,null,null,null,null,null,null,null,null,null,null,null,null,null,null,null,null,null,null,"Caso Base 270° Sin Clima",{"$f":"+IFERROR(IF(BF3021=\"\",0,IF(T3021<IF(OR(BF3021<=$BP$3,BF3021>=$BO$3),VLOOKUP('CEV-CEVE'!$E$10,$BN$7:$BZ$16,1+E3021,0)-2,VLOOKUP('CEV-CEVE'!$E$10,$BN$7:$BZ$16,1+E3021,0)),1,0)),0)","v":0},{"$f":"+IFERROR(IF(T3021>VLOOKUP('CEV-CEVE'!$E$10,$BN$20:$BZ$29,1+E3021,0),1,0),0)","v":0}]
[null,null,null,null,null,null,null,null,null,null,null,null,null,null,null,null,null,null,null,null,null,null,null,null,null,null,null,null,null,null,null,null,null,null,null,null,null,null,null,null,null,null,null,null,null,null,null,null,null,null,null,null,null,null,null,null,null,0,"Caso Base 270° Sin Clima",{"$f":"+IFERROR(IF(BF3022=\"\",0,IF(T3022<IF(OR(BF3022<=$BP$3,BF3022>=$BO$3),VLOOKUP('CEV-CEVE'!$E$10,$BN$7:$BZ$16,1+E3022,0)-2,VLOOKUP('CEV-CEVE'!$E$10,$BN$7:$BZ$16,1+E3022,0)),1,0)),0)","v":0},{"$f":"+IFERROR(IF(T3022>VLOOKUP('CEV-CEVE'!$E$10,$BN$20:$BZ$29,1+E3022,0),1,0),0)","v":0}]
[null,null,null,null,null,null,null,null,null,null,null,null,null,null,null,null,null,null,null,null,null,null,null,null,null,null,null,null,null,null,null,null,null,null,null,null,null,null,null,null,null,null,null,null,null,null,null,null,null,null,null,null,null,null,null,null,null,{"$f":"+BF3022+1","v":1},"Caso Base 270° Sin Clima",{"$f":"+IFERROR(IF(BF3023=\"\",0,IF(T3023<IF(OR(BF3023<=$BP$3,BF3023>=$BO$3),VLOOKUP('CEV-CEVE'!$E$10,$BN$7:$BZ$16,1+E3023,0)-2,VLOOKUP('CEV-CEVE'!$E$10,$BN$7:$BZ$16,1+E3023,0)),1,0)),0)","v":0},{"$f":"+IFERROR(IF(T3023>VLOOKUP('CEV-CEVE'!$E$10,$BN$20:$BZ$29,1+E3023,0),1,0),0)","v":0}]
[null,null,null,null,null,null,null,null,null,null,null,null,null,null,null,null,null,null,null,null,null,null,null,null,null,null,null,null,null,null,null,null,null,null,null,null,null,null,null,null,null,null,null,null,null,null,null,null,null,null,null,null,null,null,null,null,null,{"$f":"+BF3023+1","v":2},"Caso Base 270° Sin Clima",{"$f":"+IFERROR(IF(BF3024=\"\",0,IF(T3024<IF(OR(BF3024<=$BP$3,BF3024>=$BO$3),VLOOKUP('CEV-CEVE'!$E$10,$BN$7:$BZ$16,1+E3024,0)-2,VLOOKUP('CEV-CEVE'!$E$10,$BN$7:$BZ$16,1+E3024,0)),1,0)),0)","v":0},{"$f":"+IFERROR(IF(T3024>VLOOKUP('CEV-CEVE'!$E$10,$BN$20:$BZ$29,1+E3024,0),1,0),0)","v":0}]
[null,null,null,null,null,null,null,null,null,null,null,null,null,null,null,null,null,null,null,null,null,null,null,null,null,null,null,null,null,null,null,null,null,null,null,null,null,null,null,null,null,null,null,null,null,null,null,null,null,null,null,null,null,null,null,null,null,3,"Caso Base 270° Sin Clima",{"$f":"+IFERROR(IF(BF3025=\"\",0,IF(T3025<IF(OR(BF3025<=$BP$3,BF3025>=$BO$3),VLOOKUP('CEV-CEVE'!$E$10,$BN$7:$BZ$16,1+E3025,0)-2,VLOOKUP('CEV-CEVE'!$E$10,$BN$7:$BZ$16,1+E3025,0)),1,0)),0)","v":0},{"$f":"+IFERROR(IF(T3025>VLOOKUP('CEV-CEVE'!$E$10,$BN$20:$BZ$29,1+E3025,0),1,0),0)","v":0}]
[null,null,null,null,null,null,null,null,null,null,null,null,null,null,null,null,null,null,null,null,null,null,null,null,null,null,null,null,null,null,null,null,null,null,null,null,null,null,null,null,null,null,null,null,null,null,null,null,null,null,null,null,null,null,null,null,null,4,"Caso Base 270° Sin Clima",{"$f":"+IFERROR(IF(BF3026=\"\",0,IF(T3026<IF(OR(BF3026<=$BP$3,BF3026>=$BO$3),VLOOKUP('CEV-CEVE'!$E$10,$BN$7:$BZ$16,1+E3026,0)-2,VLOOKUP('CEV-CEVE'!$E$10,$BN$7:$BZ$16,1+E3026,0)),1,0)),0)","v":0},{"$f":"+IFERROR(IF(T3026>VLOOKUP('CEV-CEVE'!$E$10,$BN$20:$BZ$29,1+E3026,0),1,0),0)","v":0}]
[null,null,null,null,null,null,null,null,null,null,null,null,null,null,null,null,null,null,null,null,null,null,null,null,null,null,null,null,null,null,null,null,null,null,null,null,null,null,null,null,null,null,null,null,null,null,null,null,null,null,null,null,null,null,null,null,null,5,"Caso Base 270° Sin Clima",{"$f":"+IFERROR(IF(BF3027=\"\",0,IF(T3027<IF(OR(BF3027<=$BP$3,BF3027>=$BO$3),VLOOKUP('CEV-CEVE'!$E$10,$BN$7:$BZ$16,1+E3027,0)-2,VLOOKUP('CEV-CEVE'!$E$10,$BN$7:$BZ$16,1+E3027,0)),1,0)),0)","v":0},{"$f":"+IFERROR(IF(T3027>VLOOKUP('CEV-CEVE'!$E$10,$BN$20:$BZ$29,1+E3027,0),1,0),0)","v":0}]
[null,null,null,null,null,null,null,null,null,null,null,null,null,null,null,null,null,null,null,null,null,null,null,null,null,null,null,null,null,null,null,null,null,null,null,null,null,null,null,null,null,null,null,null,null,null,null,null,null,null,null,null,null,null,null,null,null,6,"Caso Base 270° Sin Clima",{"$f":"+IFERROR(IF(BF3028=\"\",0,IF(T3028<IF(OR(BF3028<=$BP$3,BF3028>=$BO$3),VLOOKUP('CEV-CEVE'!$E$10,$BN$7:$BZ$16,1+E3028,0)-2,VLOOKUP('CEV-CEVE'!$E$10,$BN$7:$BZ$16,1+E3028,0)),1,0)),0)","v":0},{"$f":"+IFERROR(IF(T3028>VLOOKUP('CEV-CEVE'!$E$10,$BN$20:$BZ$29,1+E3028,0),1,0),0)","v":0}]
[null,null,null,null,null,null,null,null,null,null,null,null,null,null,null,null,null,null,null,null,null,null,null,null,null,null,null,null,null,null,null,null,null,null,null,null,null,null,null,null,null,null,null,null,null,null,null,null,null,null,null,null,null,null,null,null,null,7,"Caso Base 270° Sin Clima",{"$f":"+IFERROR(IF(BF3029=\"\",0,IF(T3029<IF(OR(BF3029<=$BP$3,BF3029>=$BO$3),VLOOKUP('CEV-CEVE'!$E$10,$BN$7:$BZ$16,1+E3029,0)-2,VLOOKUP('CEV-CEVE'!$E$10,$BN$7:$BZ$16,1+E3029,0)),1,0)),0)","v":0},{"$f":"+IFERROR(IF(T3029>VLOOKUP('CEV-CEVE'!$E$10,$BN$20:$BZ$29,1+E3029,0),1,0),0)","v":0}]
[null,null,null,null,null,null,null,null,null,null,null,null,null,null,null,null,null,null,null,null,null,null,null,null,null,null,null,null,null,null,null,null,null,null,null,null,null,null,null,null,null,null,null,null,null,null,null,null,null,null,null,null,null,null,null,null,null,8,"Caso Base 270° Sin Clima",{"$f":"+IFERROR(IF(BF3030=\"\",0,IF(T3030<IF(OR(BF3030<=$BP$3,BF3030>=$BO$3),VLOOKUP('CEV-CEVE'!$E$10,$BN$7:$BZ$16,1+E3030,0)-2,VLOOKUP('CEV-CEVE'!$E$10,$BN$7:$BZ$16,1+E3030,0)),1,0)),0)","v":0},{"$f":"+IFERROR(IF(T3030>VLOOKUP('CEV-CEVE'!$E$10,$BN$20:$BZ$29,1+E3030,0),1,0),0)","v":0}]
[null,null,null,null,null,null,null,null,null,null,null,null,null,null,null,null,null,null,null,null,null,null,null,null,null,null,null,null,null,null,null,null,null,null,null,null,null,null,null,null,null,null,null,null,null,null,null,null,null,null,null,null,null,null,null,null,null,9,"Caso Base 270° Sin Clima",{"$f":"+IFERROR(IF(BF3031=\"\",0,IF(T3031<IF(OR(BF3031<=$BP$3,BF3031>=$BO$3),VLOOKUP('CEV-CEVE'!$E$10,$BN$7:$BZ$16,1+E3031,0)-2,VLOOKUP('CEV-CEVE'!$E$10,$BN$7:$BZ$16,1+E3031,0)),1,0)),0)","v":0},{"$f":"+IFERROR(IF(T3031>VLOOKUP('CEV-CEVE'!$E$10,$BN$20:$BZ$29,1+E3031,0),1,0),0)","v":0}]
[null,null,null,null,null,null,null,null,null,null,null,null,null,null,null,null,null,null,null,null,null,null,null,null,null,null,null,null,null,null,null,null,null,null,null,null,null,null,null,null,null,null,null,null,null,null,null,null,null,null,null,null,null,null,null,null,null,10,"Caso Base 270° Sin Clima",{"$f":"+IFERROR(IF(BF3032=\"\",0,IF(T3032<IF(OR(BF3032<=$BP$3,BF3032>=$BO$3),VLOOKUP('CEV-CEVE'!$E$10,$BN$7:$BZ$16,1+E3032,0)-2,VLOOKUP('CEV-CEVE'!$E$10,$BN$7:$BZ$16,1+E3032,0)),1,0)),0)","v":0},{"$f":"+IFERROR(IF(T3032>VLOOKUP('CEV-CEVE'!$E$10,$BN$20:$BZ$29,1+E3032,0),1,0),0)","v":0}]
[null,null,null,null,null,null,null,null,null,null,null,null,null,null,null,null,null,null,null,null,null,null,null,null,null,null,null,null,null,null,null,null,null,null,null,null,null,null,null,null,null,null,null,null,null,null,null,null,null,null,null,null,null,null,null,null,null,11,"Caso Base 270° Sin Clima",{"$f":"+IFERROR(IF(BF3033=\"\",0,IF(T3033<IF(OR(BF3033<=$BP$3,BF3033>=$BO$3),VLOOKUP('CEV-CEVE'!$E$10,$BN$7:$BZ$16,1+E3033,0)-2,VLOOKUP('CEV-CEVE'!$E$10,$BN$7:$BZ$16,1+E3033,0)),1,0)),0)","v":0},{"$f":"+IFERROR(IF(T3033>VLOOKUP('CEV-CEVE'!$E$10,$BN$20:$BZ$29,1+E3033,0),1,0),0)","v":0}]
[null,null,null,null,null,null,null,null,null,null,null,null,null,null,null,null,null,null,null,null,null,null,null,null,null,null,null,null,null,null,null,null,null,null,null,null,null,null,null,null,null,null,null,null,null,null,null,null,null,null,null,null,null,null,null,null,null,12,"Caso Base 270° Sin Clima",{"$f":"+IFERROR(IF(BF3034=\"\",0,IF(T3034<IF(OR(BF3034<=$BP$3,BF3034>=$BO$3),VLOOKUP('CEV-CEVE'!$E$10,$BN$7:$BZ$16,1+E3034,0)-2,VLOOKUP('CEV-CEVE'!$E$10,$BN$7:$BZ$16,1+E3034,0)),1,0)),0)","v":0},{"$f":"+IFERROR(IF(T3034>VLOOKUP('CEV-CEVE'!$E$10,$BN$20:$BZ$29,1+E3034,0),1,0),0)","v":0}]
[null,null,null,null,null,null,null,null,null,null,null,null,null,null,null,null,null,null,null,null,null,null,null,null,null,null,null,null,null,null,null,null,null,null,null,null,null,null,null,null,null,null,null,null,null,null,null,null,null,null,null,null,null,null,null,null,null,13,"Caso Base 270° Sin Clima",{"$f":"+IFERROR(IF(BF3035=\"\",0,IF(T3035<IF(OR(BF3035<=$BP$3,BF3035>=$BO$3),VLOOKUP('CEV-CEVE'!$E$10,$BN$7:$BZ$16,1+E3035,0)-2,VLOOKUP('CEV-CEVE'!$E$10,$BN$7:$BZ$16,1+E3035,0)),1,0)),0)","v":0},{"$f":"+IFERROR(IF(T3035>VLOOKUP('CEV-CEVE'!$E$10,$BN$20:$BZ$29,1+E3035,0),1,0),0)","v":0}]
[null,null,null,null,null,null,null,null,null,null,null,null,null,null,null,null,null,null,null,null,null,null,null,null,null,null,null,null,null,null,null,null,null,null,null,null,null,null,null,null,null,null,null,null,null,null,null,null,null,null,null,null,null,null,null,null,null,14,"Caso Base 270° Sin Clima",{"$f":"+IFERROR(IF(BF3036=\"\",0,IF(T3036<IF(OR(BF3036<=$BP$3,BF3036>=$BO$3),VLOOKUP('CEV-CEVE'!$E$10,$BN$7:$BZ$16,1+E3036,0)-2,VLOOKUP('CEV-CEVE'!$E$10,$BN$7:$BZ$16,1+E3036,0)),1,0)),0)","v":0},{"$f":"+IFERROR(IF(T3036>VLOOKUP('CEV-CEVE'!$E$10,$BN$20:$BZ$29,1+E3036,0),1,0),0)","v":0}]
[null,null,null,null,null,null,null,null,null,null,null,null,null,null,null,null,null,null,null,null,null,null,null,null,null,null,null,null,null,null,null,null,null,null,null,null,null,null,null,null,null,null,null,null,null,null,null,null,null,null,null,null,null,null,null,null,null,15,"Caso Base 270° Sin Clima",{"$f":"+IFERROR(IF(BF3037=\"\",0,IF(T3037<IF(OR(BF3037<=$BP$3,BF3037>=$BO$3),VLOOKUP('CEV-CEVE'!$E$10,$BN$7:$BZ$16,1+E3037,0)-2,VLOOKUP('CEV-CEVE'!$E$10,$BN$7:$BZ$16,1+E3037,0)),1,0)),0)","v":0},{"$f":"+IFERROR(IF(T3037>VLOOKUP('CEV-CEVE'!$E$10,$BN$20:$BZ$29,1+E3037,0),1,0),0)","v":0}]
[null,null,null,null,null,null,null,null,null,null,null,null,null,null,null,null,null,null,null,null,null,null,null,null,null,null,null,null,null,null,null,null,null,null,null,null,null,null,null,null,null,null,null,null,null,null,null,null,null,null,null,null,null,null,null,null,null,16,"Caso Base 270° Sin Clima",{"$f":"+IFERROR(IF(BF3038=\"\",0,IF(T3038<IF(OR(BF3038<=$BP$3,BF3038>=$BO$3),VLOOKUP('CEV-CEVE'!$E$10,$BN$7:$BZ$16,1+E3038,0)-2,VLOOKUP('CEV-CEVE'!$E$10,$BN$7:$BZ$16,1+E3038,0)),1,0)),0)","v":0},{"$f":"+IFERROR(IF(T3038>VLOOKUP('CEV-CEVE'!$E$10,$BN$20:$BZ$29,1+E3038,0),1,0),0)","v":0}]
[null,null,null,null,null,null,null,null,null,null,null,null,null,null,null,null,null,null,null,null,null,null,null,null,null,null,null,null,null,null,null,null,null,null,null,null,null,null,null,null,null,null,null,null,null,null,null,null,null,null,null,null,null,null,null,null,null,17,"Caso Base 270° Sin Clima",{"$f":"+IFERROR(IF(BF3039=\"\",0,IF(T3039<IF(OR(BF3039<=$BP$3,BF3039>=$BO$3),VLOOKUP('CEV-CEVE'!$E$10,$BN$7:$BZ$16,1+E3039,0)-2,VLOOKUP('CEV-CEVE'!$E$10,$BN$7:$BZ$16,1+E3039,0)),1,0)),0)","v":0},{"$f":"+IFERROR(IF(T3039>VLOOKUP('CEV-CEVE'!$E$10,$BN$20:$BZ$29,1+E3039,0),1,0),0)","v":0}]
[null,null,null,null,null,null,null,null,null,null,null,null,null,null,null,null,null,null,null,null,null,null,null,null,null,null,null,null,null,null,null,null,null,null,null,null,null,null,null,null,null,null,null,null,null,null,null,null,null,null,null,null,null,null,null,null,null,18,"Caso Base 270° Sin Clima",{"$f":"+IFERROR(IF(BF3040=\"\",0,IF(T3040<IF(OR(BF3040<=$BP$3,BF3040>=$BO$3),VLOOKUP('CEV-CEVE'!$E$10,$BN$7:$BZ$16,1+E3040,0)-2,VLOOKUP('CEV-CEVE'!$E$10,$BN$7:$BZ$16,1+E3040,0)),1,0)),0)","v":0},{"$f":"+IFERROR(IF(T3040>VLOOKUP('CEV-CEVE'!$E$10,$BN$20:$BZ$29,1+E3040,0),1,0),0)","v":0}]
[null,null,null,null,null,null,null,null,null,null,null,null,null,null,null,null,null,null,null,null,null,null,null,null,null,null,null,null,null,null,null,null,null,null,null,null,null,null,null,null,null,null,null,null,null,null,null,null,null,null,null,null,null,null,null,null,null,19,"Caso Base 270° Sin Clima",{"$f":"+IFERROR(IF(BF3041=\"\",0,IF(T3041<IF(OR(BF3041<=$BP$3,BF3041>=$BO$3),VLOOKUP('CEV-CEVE'!$E$10,$BN$7:$BZ$16,1+E3041,0)-2,VLOOKUP('CEV-CEVE'!$E$10,$BN$7:$BZ$16,1+E3041,0)),1,0)),0)","v":0},{"$f":"+IFERROR(IF(T3041>VLOOKUP('CEV-CEVE'!$E$10,$BN$20:$BZ$29,1+E3041,0),1,0),0)","v":0}]
[null,null,null,null,null,null,null,null,null,null,null,null,null,null,null,null,null,null,null,null,null,null,null,null,null,null,null,null,null,null,null,null,null,null,null,null,null,null,null,null,null,null,null,null,null,null,null,null,null,null,null,null,null,null,null,null,null,20,"Caso Base 270° Sin Clima",{"$f":"+IFERROR(IF(BF3042=\"\",0,IF(T3042<IF(OR(BF3042<=$BP$3,BF3042>=$BO$3),VLOOKUP('CEV-CEVE'!$E$10,$BN$7:$BZ$16,1+E3042,0)-2,VLOOKUP('CEV-CEVE'!$E$10,$BN$7:$BZ$16,1+E3042,0)),1,0)),0)","v":0},{"$f":"+IFERROR(IF(T3042>VLOOKUP('CEV-CEVE'!$E$10,$BN$20:$BZ$29,1+E3042,0),1,0),0)","v":0}]
[null,null,null,null,null,null,null,null,null,null,null,null,null,null,null,null,null,null,null,null,null,null,null,null,null,null,null,null,null,null,null,null,null,null,null,null,null,null,null,null,null,null,null,null,null,null,null,null,null,null,null,null,null,null,null,null,null,21,"Caso Base 270° Sin Clima",{"$f":"+IFERROR(IF(BF3043=\"\",0,IF(T3043<IF(OR(BF3043<=$BP$3,BF3043>=$BO$3),VLOOKUP('CEV-CEVE'!$E$10,$BN$7:$BZ$16,1+E3043,0)-2,VLOOKUP('CEV-CEVE'!$E$10,$BN$7:$BZ$16,1+E3043,0)),1,0)),0)","v":0},{"$f":"+IFERROR(IF(T3043>VLOOKUP('CEV-CEVE'!$E$10,$BN$20:$BZ$29,1+E3043,0),1,0),0)","v":0}]
[null,null,null,null,null,null,null,null,null,null,null,null,null,null,null,null,null,null,null,null,null,null,null,null,null,null,null,null,null,null,null,null,null,null,null,null,null,null,null,null,null,null,null,null,null,null,null,null,null,null,null,null,null,null,null,null,null,22,"Caso Base 270° Sin Clima",{"$f":"+IFERROR(IF(BF3044=\"\",0,IF(T3044<IF(OR(BF3044<=$BP$3,BF3044>=$BO$3),VLOOKUP('CEV-CEVE'!$E$10,$BN$7:$BZ$16,1+E3044,0)-2,VLOOKUP('CEV-CEVE'!$E$10,$BN$7:$BZ$16,1+E3044,0)),1,0)),0)","v":0},{"$f":"+IFERROR(IF(T3044>VLOOKUP('CEV-CEVE'!$E$10,$BN$20:$BZ$29,1+E3044,0),1,0),0)","v":0}]
[null,null,null,null,null,null,null,null,null,null,null,null,null,null,null,null,null,null,null,null,null,null,null,null,null,null,null,null,null,null,null,null,null,null,null,null,null,null,null,null,null,null,null,null,null,null,null,null,null,null,null,null,null,null,null,null,null,23,"Caso Base 270° Sin Clima",{"$f":"+IFERROR(IF(BF3045=\"\",0,IF(T3045<IF(OR(BF3045<=$BP$3,BF3045>=$BO$3),VLOOKUP('CEV-CEVE'!$E$10,$BN$7:$BZ$16,1+E3045,0)-2,VLOOKUP('CEV-CEVE'!$E$10,$BN$7:$BZ$16,1+E3045,0)),1,0)),0)","v":0},{"$f":"+IFERROR(IF(T3045>VLOOKUP('CEV-CEVE'!$E$10,$BN$20:$BZ$29,1+E3045,0),1,0),0)","v":0}]
[null,null,null,null,null,null,null,null,null,null,null,null,null,null,null,null,null,null,null,null,null,null,null,null,null,null,null,null,null,null,null,null,null,null,null,null,null,null,null,null,null,null,null,null,null,null,null,null,null,null,null,null,null,null,null,null,null,null,"Caso Base 270° Sin Clima",{"$f":"+IFERROR(IF(BF3046=\"\",0,IF(T3046<IF(OR(BF3046<=$BP$3,BF3046>=$BO$3),VLOOKUP('CEV-CEVE'!$E$10,$BN$7:$BZ$16,1+E3046,0)-2,VLOOKUP('CEV-CEVE'!$E$10,$BN$7:$BZ$16,1+E3046,0)),1,0)),0)","v":0},{"$f":"+IFERROR(IF(T3046>VLOOKUP('CEV-CEVE'!$E$10,$BN$20:$BZ$29,1+E3046,0),1,0),0)","v":0}]
[null,null,null,null,null,null,null,null,null,null,null,null,null,null,null,null,null,null,null,null,null,null,null,null,null,null,null,null,null,null,null,null,null,null,null,null,null,null,null,null,null,null,null,null,null,null,null,null,null,null,null,null,null,null,null,null,null,null,"Caso Base 270° Sin Clima",{"$f":"+IFERROR(IF(BF3047=\"\",0,IF(T3047<IF(OR(BF3047<=$BP$3,BF3047>=$BO$3),VLOOKUP('CEV-CEVE'!$E$10,$BN$7:$BZ$16,1+E3047,0)-2,VLOOKUP('CEV-CEVE'!$E$10,$BN$7:$BZ$16,1+E3047,0)),1,0)),0)","v":0},{"$f":"+IFERROR(IF(T3047>VLOOKUP('CEV-CEVE'!$E$10,$BN$20:$BZ$29,1+E3047,0),1,0),0)","v":0}]
[null,null,null,null,null,null,null,null,null,null,null,null,null,null,null,null,null,null,null,null,null,null,null,null,null,null,null,null,null,null,null,null,null,null,null,null,null,null,null,null,null,null,null,null,null,null,null,null,null,null,null,null,null,null,null,null,null,0,"Caso Base 270° Sin Clima",{"$f":"+IFERROR(IF(BF3048=\"\",0,IF(T3048<IF(OR(BF3048<=$BP$3,BF3048>=$BO$3),VLOOKUP('CEV-CEVE'!$E$10,$BN$7:$BZ$16,1+E3048,0)-2,VLOOKUP('CEV-CEVE'!$E$10,$BN$7:$BZ$16,1+E3048,0)),1,0)),0)","v":0},{"$f":"+IFERROR(IF(T3048>VLOOKUP('CEV-CEVE'!$E$10,$BN$20:$BZ$29,1+E3048,0),1,0),0)","v":0}]
[null,null,null,null,null,null,null,null,null,null,null,null,null,null,null,null,null,null,null,null,null,null,null,null,null,null,null,null,null,null,null,null,null,null,null,null,null,null,null,null,null,null,null,null,null,null,null,null,null,null,null,null,null,null,null,null,null,{"$f":"+BF3048+1","v":1},"Caso Base 270° Sin Clima",{"$f":"+IFERROR(IF(BF3049=\"\",0,IF(T3049<IF(OR(BF3049<=$BP$3,BF3049>=$BO$3),VLOOKUP('CEV-CEVE'!$E$10,$BN$7:$BZ$16,1+E3049,0)-2,VLOOKUP('CEV-CEVE'!$E$10,$BN$7:$BZ$16,1+E3049,0)),1,0)),0)","v":0},{"$f":"+IFERROR(IF(T3049>VLOOKUP('CEV-CEVE'!$E$10,$BN$20:$BZ$29,1+E3049,0),1,0),0)","v":0}]
[null,null,null,null,null,null,null,null,null,null,null,null,null,null,null,null,null,null,null,null,null,null,null,null,null,null,null,null,null,null,null,null,null,null,null,null,null,null,null,null,null,null,null,null,null,null,null,null,null,null,null,null,null,null,null,null,null,{"$f":"+BF3049+1","v":2},"Caso Base 270° Sin Clima",{"$f":"+IFERROR(IF(BF3050=\"\",0,IF(T3050<IF(OR(BF3050<=$BP$3,BF3050>=$BO$3),VLOOKUP('CEV-CEVE'!$E$10,$BN$7:$BZ$16,1+E3050,0)-2,VLOOKUP('CEV-CEVE'!$E$10,$BN$7:$BZ$16,1+E3050,0)),1,0)),0)","v":0},{"$f":"+IFERROR(IF(T3050>VLOOKUP('CEV-CEVE'!$E$10,$BN$20:$BZ$29,1+E3050,0),1,0),0)","v":0}]
[null,null,null,null,null,null,null,null,null,null,null,null,null,null,null,null,null,null,null,null,null,null,null,null,null,null,null,null,null,null,null,null,null,null,null,null,null,null,null,null,null,null,null,null,null,null,null,null,null,null,null,null,null,null,null,null,null,3,"Caso Base 270° Sin Clima",{"$f":"+IFERROR(IF(BF3051=\"\",0,IF(T3051<IF(OR(BF3051<=$BP$3,BF3051>=$BO$3),VLOOKUP('CEV-CEVE'!$E$10,$BN$7:$BZ$16,1+E3051,0)-2,VLOOKUP('CEV-CEVE'!$E$10,$BN$7:$BZ$16,1+E3051,0)),1,0)),0)","v":0},{"$f":"+IFERROR(IF(T3051>VLOOKUP('CEV-CEVE'!$E$10,$BN$20:$BZ$29,1+E3051,0),1,0),0)","v":0}]
[null,null,null,null,null,null,null,null,null,null,null,null,null,null,null,null,null,null,null,null,null,null,null,null,null,null,null,null,null,null,null,null,null,null,null,null,null,null,null,null,null,null,null,null,null,null,null,null,null,null,null,null,null,null,null,null,null,4,"Caso Base 270° Sin Clima",{"$f":"+IFERROR(IF(BF3052=\"\",0,IF(T3052<IF(OR(BF3052<=$BP$3,BF3052>=$BO$3),VLOOKUP('CEV-CEVE'!$E$10,$BN$7:$BZ$16,1+E3052,0)-2,VLOOKUP('CEV-CEVE'!$E$10,$BN$7:$BZ$16,1+E3052,0)),1,0)),0)","v":0},{"$f":"+IFERROR(IF(T3052>VLOOKUP('CEV-CEVE'!$E$10,$BN$20:$BZ$29,1+E3052,0),1,0),0)","v":0}]
[null,null,null,null,null,null,null,null,null,null,null,null,null,null,null,null,null,null,null,null,null,null,null,null,null,null,null,null,null,null,null,null,null,null,null,null,null,null,null,null,null,null,null,null,null,null,null,null,null,null,null,null,null,null,null,null,null,5,"Caso Base 270° Sin Clima",{"$f":"+IFERROR(IF(BF3053=\"\",0,IF(T3053<IF(OR(BF3053<=$BP$3,BF3053>=$BO$3),VLOOKUP('CEV-CEVE'!$E$10,$BN$7:$BZ$16,1+E3053,0)-2,VLOOKUP('CEV-CEVE'!$E$10,$BN$7:$BZ$16,1+E3053,0)),1,0)),0)","v":0},{"$f":"+IFERROR(IF(T3053>VLOOKUP('CEV-CEVE'!$E$10,$BN$20:$BZ$29,1+E3053,0),1,0),0)","v":0}]
[null,null,null,null,null,null,null,null,null,null,null,null,null,null,null,null,null,null,null,null,null,null,null,null,null,null,null,null,null,null,null,null,null,null,null,null,null,null,null,null,null,null,null,null,null,null,null,null,null,null,null,null,null,null,null,null,null,6,"Caso Base 270° Sin Clima",{"$f":"+IFERROR(IF(BF3054=\"\",0,IF(T3054<IF(OR(BF3054<=$BP$3,BF3054>=$BO$3),VLOOKUP('CEV-CEVE'!$E$10,$BN$7:$BZ$16,1+E3054,0)-2,VLOOKUP('CEV-CEVE'!$E$10,$BN$7:$BZ$16,1+E3054,0)),1,0)),0)","v":0},{"$f":"+IFERROR(IF(T3054>VLOOKUP('CEV-CEVE'!$E$10,$BN$20:$BZ$29,1+E3054,0),1,0),0)","v":0}]
[null,null,null,null,null,null,null,null,null,null,null,null,null,null,null,null,null,null,null,null,null,null,null,null,null,null,null,null,null,null,null,null,null,null,null,null,null,null,null,null,null,null,null,null,null,null,null,null,null,null,null,null,null,null,null,null,null,7,"Caso Base 270° Sin Clima",{"$f":"+IFERROR(IF(BF3055=\"\",0,IF(T3055<IF(OR(BF3055<=$BP$3,BF3055>=$BO$3),VLOOKUP('CEV-CEVE'!$E$10,$BN$7:$BZ$16,1+E3055,0)-2,VLOOKUP('CEV-CEVE'!$E$10,$BN$7:$BZ$16,1+E3055,0)),1,0)),0)","v":0},{"$f":"+IFERROR(IF(T3055>VLOOKUP('CEV-CEVE'!$E$10,$BN$20:$BZ$29,1+E3055,0),1,0),0)","v":0}]
[null,null,null,null,null,null,null,null,null,null,null,null,null,null,null,null,null,null,null,null,null,null,null,null,null,null,null,null,null,null,null,null,null,null,null,null,null,null,null,null,null,null,null,null,null,null,null,null,null,null,null,null,null,null,null,null,null,8,"Caso Base 270° Sin Clima",{"$f":"+IFERROR(IF(BF3056=\"\",0,IF(T3056<IF(OR(BF3056<=$BP$3,BF3056>=$BO$3),VLOOKUP('CEV-CEVE'!$E$10,$BN$7:$BZ$16,1+E3056,0)-2,VLOOKUP('CEV-CEVE'!$E$10,$BN$7:$BZ$16,1+E3056,0)),1,0)),0)","v":0},{"$f":"+IFERROR(IF(T3056>VLOOKUP('CEV-CEVE'!$E$10,$BN$20:$BZ$29,1+E3056,0),1,0),0)","v":0}]
[null,null,null,null,null,null,null,null,null,null,null,null,null,null,null,null,null,null,null,null,null,null,null,null,null,null,null,null,null,null,null,null,null,null,null,null,null,null,null,null,null,null,null,null,null,null,null,null,null,null,null,null,null,null,null,null,null,9,"Caso Base 270° Sin Clima",{"$f":"+IFERROR(IF(BF3057=\"\",0,IF(T3057<IF(OR(BF3057<=$BP$3,BF3057>=$BO$3),VLOOKUP('CEV-CEVE'!$E$10,$BN$7:$BZ$16,1+E3057,0)-2,VLOOKUP('CEV-CEVE'!$E$10,$BN$7:$BZ$16,1+E3057,0)),1,0)),0)","v":0},{"$f":"+IFERROR(IF(T3057>VLOOKUP('CEV-CEVE'!$E$10,$BN$20:$BZ$29,1+E3057,0),1,0),0)","v":0}]
[null,null,null,null,null,null,null,null,null,null,null,null,null,null,null,null,null,null,null,null,null,null,null,null,null,null,null,null,null,null,null,null,null,null,null,null,null,null,null,null,null,null,null,null,null,null,null,null,null,null,null,null,null,null,null,null,null,10,"Caso Base 270° Sin Clima",{"$f":"+IFERROR(IF(BF3058=\"\",0,IF(T3058<IF(OR(BF3058<=$BP$3,BF3058>=$BO$3),VLOOKUP('CEV-CEVE'!$E$10,$BN$7:$BZ$16,1+E3058,0)-2,VLOOKUP('CEV-CEVE'!$E$10,$BN$7:$BZ$16,1+E3058,0)),1,0)),0)","v":0},{"$f":"+IFERROR(IF(T3058>VLOOKUP('CEV-CEVE'!$E$10,$BN$20:$BZ$29,1+E3058,0),1,0),0)","v":0}]
[null,null,null,null,null,null,null,null,null,null,null,null,null,null,null,null,null,null,null,null,null,null,null,null,null,null,null,null,null,null,null,null,null,null,null,null,null,null,null,null,null,null,null,null,null,null,null,null,null,null,null,null,null,null,null,null,null,11,"Caso Base 270° Sin Clima",{"$f":"+IFERROR(IF(BF3059=\"\",0,IF(T3059<IF(OR(BF3059<=$BP$3,BF3059>=$BO$3),VLOOKUP('CEV-CEVE'!$E$10,$BN$7:$BZ$16,1+E3059,0)-2,VLOOKUP('CEV-CEVE'!$E$10,$BN$7:$BZ$16,1+E3059,0)),1,0)),0)","v":0},{"$f":"+IFERROR(IF(T3059>VLOOKUP('CEV-CEVE'!$E$10,$BN$20:$BZ$29,1+E3059,0),1,0),0)","v":0}]
[null,null,null,null,null,null,null,null,null,null,null,null,null,null,null,null,null,null,null,null,null,null,null,null,null,null,null,null,null,null,null,null,null,null,null,null,null,null,null,null,null,null,null,null,null,null,null,null,null,null,null,null,null,null,null,null,null,12,"Caso Base 270° Sin Clima",{"$f":"+IFERROR(IF(BF3060=\"\",0,IF(T3060<IF(OR(BF3060<=$BP$3,BF3060>=$BO$3),VLOOKUP('CEV-CEVE'!$E$10,$BN$7:$BZ$16,1+E3060,0)-2,VLOOKUP('CEV-CEVE'!$E$10,$BN$7:$BZ$16,1+E3060,0)),1,0)),0)","v":0},{"$f":"+IFERROR(IF(T3060>VLOOKUP('CEV-CEVE'!$E$10,$BN$20:$BZ$29,1+E3060,0),1,0),0)","v":0}]
[null,null,null,null,null,null,null,null,null,null,null,null,null,null,null,null,null,null,null,null,null,null,null,null,null,null,null,null,null,null,null,null,null,null,null,null,null,null,null,null,null,null,null,null,null,null,null,null,null,null,null,null,null,null,null,null,null,13,"Caso Base 270° Sin Clima",{"$f":"+IFERROR(IF(BF3061=\"\",0,IF(T3061<IF(OR(BF3061<=$BP$3,BF3061>=$BO$3),VLOOKUP('CEV-CEVE'!$E$10,$BN$7:$BZ$16,1+E3061,0)-2,VLOOKUP('CEV-CEVE'!$E$10,$BN$7:$BZ$16,1+E3061,0)),1,0)),0)","v":0},{"$f":"+IFERROR(IF(T3061>VLOOKUP('CEV-CEVE'!$E$10,$BN$20:$BZ$29,1+E3061,0),1,0),0)","v":0}]
[null,null,null,null,null,null,null,null,null,null,null,null,null,null,null,null,null,null,null,null,null,null,null,null,null,null,null,null,null,null,null,null,null,null,null,null,null,null,null,null,null,null,null,null,null,null,null,null,null,null,null,null,null,null,null,null,null,14,"Caso Base 270° Sin Clima",{"$f":"+IFERROR(IF(BF3062=\"\",0,IF(T3062<IF(OR(BF3062<=$BP$3,BF3062>=$BO$3),VLOOKUP('CEV-CEVE'!$E$10,$BN$7:$BZ$16,1+E3062,0)-2,VLOOKUP('CEV-CEVE'!$E$10,$BN$7:$BZ$16,1+E3062,0)),1,0)),0)","v":0},{"$f":"+IFERROR(IF(T3062>VLOOKUP('CEV-CEVE'!$E$10,$BN$20:$BZ$29,1+E3062,0),1,0),0)","v":0}]
[null,null,null,null,null,null,null,null,null,null,null,null,null,null,null,null,null,null,null,null,null,null,null,null,null,null,null,null,null,null,null,null,null,null,null,null,null,null,null,null,null,null,null,null,null,null,null,null,null,null,null,null,null,null,null,null,null,15,"Caso Base 270° Sin Clima",{"$f":"+IFERROR(IF(BF3063=\"\",0,IF(T3063<IF(OR(BF3063<=$BP$3,BF3063>=$BO$3),VLOOKUP('CEV-CEVE'!$E$10,$BN$7:$BZ$16,1+E3063,0)-2,VLOOKUP('CEV-CEVE'!$E$10,$BN$7:$BZ$16,1+E3063,0)),1,0)),0)","v":0},{"$f":"+IFERROR(IF(T3063>VLOOKUP('CEV-CEVE'!$E$10,$BN$20:$BZ$29,1+E3063,0),1,0),0)","v":0}]
[null,null,null,null,null,null,null,null,null,null,null,null,null,null,null,null,null,null,null,null,null,null,null,null,null,null,null,null,null,null,null,null,null,null,null,null,null,null,null,null,null,null,null,null,null,null,null,null,null,null,null,null,null,null,null,null,null,16,"Caso Base 270° Sin Clima",{"$f":"+IFERROR(IF(BF3064=\"\",0,IF(T3064<IF(OR(BF3064<=$BP$3,BF3064>=$BO$3),VLOOKUP('CEV-CEVE'!$E$10,$BN$7:$BZ$16,1+E3064,0)-2,VLOOKUP('CEV-CEVE'!$E$10,$BN$7:$BZ$16,1+E3064,0)),1,0)),0)","v":0},{"$f":"+IFERROR(IF(T3064>VLOOKUP('CEV-CEVE'!$E$10,$BN$20:$BZ$29,1+E3064,0),1,0),0)","v":0}]
[null,null,null,null,null,null,null,null,null,null,null,null,null,null,null,null,null,null,null,null,null,null,null,null,null,null,null,null,null,null,null,null,null,null,null,null,null,null,null,null,null,null,null,null,null,null,null,null,null,null,null,null,null,null,null,null,null,17,"Caso Base 270° Sin Clima",{"$f":"+IFERROR(IF(BF3065=\"\",0,IF(T3065<IF(OR(BF3065<=$BP$3,BF3065>=$BO$3),VLOOKUP('CEV-CEVE'!$E$10,$BN$7:$BZ$16,1+E3065,0)-2,VLOOKUP('CEV-CEVE'!$E$10,$BN$7:$BZ$16,1+E3065,0)),1,0)),0)","v":0},{"$f":"+IFERROR(IF(T3065>VLOOKUP('CEV-CEVE'!$E$10,$BN$20:$BZ$29,1+E3065,0),1,0),0)","v":0}]
[null,null,null,null,null,null,null,null,null,null,null,null,null,null,null,null,null,null,null,null,null,null,null,null,null,null,null,null,null,null,null,null,null,null,null,null,null,null,null,null,null,null,null,null,null,null,null,null,null,null,null,null,null,null,null,null,null,18,"Caso Base 270° Sin Clima",{"$f":"+IFERROR(IF(BF3066=\"\",0,IF(T3066<IF(OR(BF3066<=$BP$3,BF3066>=$BO$3),VLOOKUP('CEV-CEVE'!$E$10,$BN$7:$BZ$16,1+E3066,0)-2,VLOOKUP('CEV-CEVE'!$E$10,$BN$7:$BZ$16,1+E3066,0)),1,0)),0)","v":0},{"$f":"+IFERROR(IF(T3066>VLOOKUP('CEV-CEVE'!$E$10,$BN$20:$BZ$29,1+E3066,0),1,0),0)","v":0}]
[null,null,null,null,null,null,null,null,null,null,null,null,null,null,null,null,null,null,null,null,null,null,null,null,null,null,null,null,null,null,null,null,null,null,null,null,null,null,null,null,null,null,null,null,null,null,null,null,null,null,null,null,null,null,null,null,null,19,"Caso Base 270° Sin Clima",{"$f":"+IFERROR(IF(BF3067=\"\",0,IF(T3067<IF(OR(BF3067<=$BP$3,BF3067>=$BO$3),VLOOKUP('CEV-CEVE'!$E$10,$BN$7:$BZ$16,1+E3067,0)-2,VLOOKUP('CEV-CEVE'!$E$10,$BN$7:$BZ$16,1+E3067,0)),1,0)),0)","v":0},{"$f":"+IFERROR(IF(T3067>VLOOKUP('CEV-CEVE'!$E$10,$BN$20:$BZ$29,1+E3067,0),1,0),0)","v":0}]
[null,null,null,null,null,null,null,null,null,null,null,null,null,null,null,null,null,null,null,null,null,null,null,null,null,null,null,null,null,null,null,null,null,null,null,null,null,null,null,null,null,null,null,null,null,null,null,null,null,null,null,null,null,null,null,null,null,20,"Caso Base 270° Sin Clima",{"$f":"+IFERROR(IF(BF3068=\"\",0,IF(T3068<IF(OR(BF3068<=$BP$3,BF3068>=$BO$3),VLOOKUP('CEV-CEVE'!$E$10,$BN$7:$BZ$16,1+E3068,0)-2,VLOOKUP('CEV-CEVE'!$E$10,$BN$7:$BZ$16,1+E3068,0)),1,0)),0)","v":0},{"$f":"+IFERROR(IF(T3068>VLOOKUP('CEV-CEVE'!$E$10,$BN$20:$BZ$29,1+E3068,0),1,0),0)","v":0}]
[null,null,null,null,null,null,null,null,null,null,null,null,null,null,null,null,null,null,null,null,null,null,null,null,null,null,null,null,null,null,null,null,null,null,null,null,null,null,null,null,null,null,null,null,null,null,null,null,null,null,null,null,null,null,null,null,null,21,"Caso Base 270° Sin Clima",{"$f":"+IFERROR(IF(BF3069=\"\",0,IF(T3069<IF(OR(BF3069<=$BP$3,BF3069>=$BO$3),VLOOKUP('CEV-CEVE'!$E$10,$BN$7:$BZ$16,1+E3069,0)-2,VLOOKUP('CEV-CEVE'!$E$10,$BN$7:$BZ$16,1+E3069,0)),1,0)),0)","v":0},{"$f":"+IFERROR(IF(T3069>VLOOKUP('CEV-CEVE'!$E$10,$BN$20:$BZ$29,1+E3069,0),1,0),0)","v":0}]
[null,null,null,null,null,null,null,null,null,null,null,null,null,null,null,null,null,null,null,null,null,null,null,null,null,null,null,null,null,null,null,null,null,null,null,null,null,null,null,null,null,null,null,null,null,null,null,null,null,null,null,null,null,null,null,null,null,22,"Caso Base 270° Sin Clima",{"$f":"+IFERROR(IF(BF3070=\"\",0,IF(T3070<IF(OR(BF3070<=$BP$3,BF3070>=$BO$3),VLOOKUP('CEV-CEVE'!$E$10,$BN$7:$BZ$16,1+E3070,0)-2,VLOOKUP('CEV-CEVE'!$E$10,$BN$7:$BZ$16,1+E3070,0)),1,0)),0)","v":0},{"$f":"+IFERROR(IF(T3070>VLOOKUP('CEV-CEVE'!$E$10,$BN$20:$BZ$29,1+E3070,0),1,0),0)","v":0}]
[null,null,null,null,null,null,null,null,null,null,null,null,null,null,null,null,null,null,null,null,null,null,null,null,null,null,null,null,null,null,null,null,null,null,null,null,null,null,null,null,null,null,null,null,null,null,null,null,null,null,null,null,null,null,null,null,null,23,"Caso Base 270° Sin Clima",{"$f":"+IFERROR(IF(BF3071=\"\",0,IF(T3071<IF(OR(BF3071<=$BP$3,BF3071>=$BO$3),VLOOKUP('CEV-CEVE'!$E$10,$BN$7:$BZ$16,1+E3071,0)-2,VLOOKUP('CEV-CEVE'!$E$10,$BN$7:$BZ$16,1+E3071,0)),1,0)),0)","v":0},{"$f":"+IFERROR(IF(T3071>VLOOKUP('CEV-CEVE'!$E$10,$BN$20:$BZ$29,1+E3071,0),1,0),0)","v":0}]
[null,null,null,null,null,null,null,null,null,null,null,null,null,null,null,null,null,null,null,null,null,null,null,null,null,null,null,null,null,null,null,null,null,null,null,null,null,null,null,null,null,null,null,null,null,null,null,null,null,null,null,null,null,null,null,null,null,null,"Caso Base 270° Sin Clima",{"$f":"+IFERROR(IF(BF3072=\"\",0,IF(T3072<IF(OR(BF3072<=$BP$3,BF3072>=$BO$3),VLOOKUP('CEV-CEVE'!$E$10,$BN$7:$BZ$16,1+E3072,0)-2,VLOOKUP('CEV-CEVE'!$E$10,$BN$7:$BZ$16,1+E3072,0)),1,0)),0)","v":0},{"$f":"+IFERROR(IF(T3072>VLOOKUP('CEV-CEVE'!$E$10,$BN$20:$BZ$29,1+E3072,0),1,0),0)","v":0}]
[null,null,null,null,null,null,null,null,null,null,null,null,null,null,null,null,null,null,null,null,null,null,null,null,null,null,null,null,null,null,null,null,null,null,null,null,null,null,null,null,null,null,null,null,null,null,null,null,null,null,null,null,null,null,null,null,null,null,"Caso Base 270° Sin Clima",{"$f":"+IFERROR(IF(BF3073=\"\",0,IF(T3073<IF(OR(BF3073<=$BP$3,BF3073>=$BO$3),VLOOKUP('CEV-CEVE'!$E$10,$BN$7:$BZ$16,1+E3073,0)-2,VLOOKUP('CEV-CEVE'!$E$10,$BN$7:$BZ$16,1+E3073,0)),1,0)),0)","v":0},{"$f":"+IFERROR(IF(T3073>VLOOKUP('CEV-CEVE'!$E$10,$BN$20:$BZ$29,1+E3073,0),1,0),0)","v":0}]
[null,null,null,null,null,null,null,null,null,null,null,null,null,null,null,null,null,null,null,null,null,null,null,null,null,null,null,null,null,null,null,null,null,null,null,null,null,null,null,null,null,null,null,null,null,null,null,null,null,null,null,null,null,null,null,null,null,0,"Caso Base 270° Sin Clima",{"$f":"+IFERROR(IF(BF3074=\"\",0,IF(T3074<IF(OR(BF3074<=$BP$3,BF3074>=$BO$3),VLOOKUP('CEV-CEVE'!$E$10,$BN$7:$BZ$16,1+E3074,0)-2,VLOOKUP('CEV-CEVE'!$E$10,$BN$7:$BZ$16,1+E3074,0)),1,0)),0)","v":0},{"$f":"+IFERROR(IF(T3074>VLOOKUP('CEV-CEVE'!$E$10,$BN$20:$BZ$29,1+E3074,0),1,0),0)","v":0}]
[null,null,null,null,null,null,null,null,null,null,null,null,null,null,null,null,null,null,null,null,null,null,null,null,null,null,null,null,null,null,null,null,null,null,null,null,null,null,null,null,null,null,null,null,null,null,null,null,null,null,null,null,null,null,null,null,null,{"$f":"+BF3074+1","v":1},"Caso Base 270° Sin Clima",{"$f":"+IFERROR(IF(BF3075=\"\",0,IF(T3075<IF(OR(BF3075<=$BP$3,BF3075>=$BO$3),VLOOKUP('CEV-CEVE'!$E$10,$BN$7:$BZ$16,1+E3075,0)-2,VLOOKUP('CEV-CEVE'!$E$10,$BN$7:$BZ$16,1+E3075,0)),1,0)),0)","v":0},{"$f":"+IFERROR(IF(T3075>VLOOKUP('CEV-CEVE'!$E$10,$BN$20:$BZ$29,1+E3075,0),1,0),0)","v":0}]
[null,null,null,null,null,null,null,null,null,null,null,null,null,null,null,null,null,null,null,null,null,null,null,null,null,null,null,null,null,null,null,null,null,null,null,null,null,null,null,null,null,null,null,null,null,null,null,null,null,null,null,null,null,null,null,null,null,{"$f":"+BF3075+1","v":2},"Caso Base 270° Sin Clima",{"$f":"+IFERROR(IF(BF3076=\"\",0,IF(T3076<IF(OR(BF3076<=$BP$3,BF3076>=$BO$3),VLOOKUP('CEV-CEVE'!$E$10,$BN$7:$BZ$16,1+E3076,0)-2,VLOOKUP('CEV-CEVE'!$E$10,$BN$7:$BZ$16,1+E3076,0)),1,0)),0)","v":0},{"$f":"+IFERROR(IF(T3076>VLOOKUP('CEV-CEVE'!$E$10,$BN$20:$BZ$29,1+E3076,0),1,0),0)","v":0}]
[null,null,null,null,null,null,null,null,null,null,null,null,null,null,null,null,null,null,null,null,null,null,null,null,null,null,null,null,null,null,null,null,null,null,null,null,null,null,null,null,null,null,null,null,null,null,null,null,null,null,null,null,null,null,null,null,null,3,"Caso Base 270° Sin Clima",{"$f":"+IFERROR(IF(BF3077=\"\",0,IF(T3077<IF(OR(BF3077<=$BP$3,BF3077>=$BO$3),VLOOKUP('CEV-CEVE'!$E$10,$BN$7:$BZ$16,1+E3077,0)-2,VLOOKUP('CEV-CEVE'!$E$10,$BN$7:$BZ$16,1+E3077,0)),1,0)),0)","v":0},{"$f":"+IFERROR(IF(T3077>VLOOKUP('CEV-CEVE'!$E$10,$BN$20:$BZ$29,1+E3077,0),1,0),0)","v":0}]
[null,null,null,null,null,null,null,null,null,null,null,null,null,null,null,null,null,null,null,null,null,null,null,null,null,null,null,null,null,null,null,null,null,null,null,null,null,null,null,null,null,null,null,null,null,null,null,null,null,null,null,null,null,null,null,null,null,4,"Caso Base 270° Sin Clima",{"$f":"+IFERROR(IF(BF3078=\"\",0,IF(T3078<IF(OR(BF3078<=$BP$3,BF3078>=$BO$3),VLOOKUP('CEV-CEVE'!$E$10,$BN$7:$BZ$16,1+E3078,0)-2,VLOOKUP('CEV-CEVE'!$E$10,$BN$7:$BZ$16,1+E3078,0)),1,0)),0)","v":0},{"$f":"+IFERROR(IF(T3078>VLOOKUP('CEV-CEVE'!$E$10,$BN$20:$BZ$29,1+E3078,0),1,0),0)","v":0}]
[null,null,null,null,null,null,null,null,null,null,null,null,null,null,null,null,null,null,null,null,null,null,null,null,null,null,null,null,null,null,null,null,null,null,null,null,null,null,null,null,null,null,null,null,null,null,null,null,null,null,null,null,null,null,null,null,null,5,"Caso Base 270° Sin Clima",{"$f":"+IFERROR(IF(BF3079=\"\",0,IF(T3079<IF(OR(BF3079<=$BP$3,BF3079>=$BO$3),VLOOKUP('CEV-CEVE'!$E$10,$BN$7:$BZ$16,1+E3079,0)-2,VLOOKUP('CEV-CEVE'!$E$10,$BN$7:$BZ$16,1+E3079,0)),1,0)),0)","v":0},{"$f":"+IFERROR(IF(T3079>VLOOKUP('CEV-CEVE'!$E$10,$BN$20:$BZ$29,1+E3079,0),1,0),0)","v":0}]
[null,null,null,null,null,null,null,null,null,null,null,null,null,null,null,null,null,null,null,null,null,null,null,null,null,null,null,null,null,null,null,null,null,null,null,null,null,null,null,null,null,null,null,null,null,null,null,null,null,null,null,null,null,null,null,null,null,6,"Caso Base 270° Sin Clima",{"$f":"+IFERROR(IF(BF3080=\"\",0,IF(T3080<IF(OR(BF3080<=$BP$3,BF3080>=$BO$3),VLOOKUP('CEV-CEVE'!$E$10,$BN$7:$BZ$16,1+E3080,0)-2,VLOOKUP('CEV-CEVE'!$E$10,$BN$7:$BZ$16,1+E3080,0)),1,0)),0)","v":0},{"$f":"+IFERROR(IF(T3080>VLOOKUP('CEV-CEVE'!$E$10,$BN$20:$BZ$29,1+E3080,0),1,0),0)","v":0}]
[null,null,null,null,null,null,null,null,null,null,null,null,null,null,null,null,null,null,null,null,null,null,null,null,null,null,null,null,null,null,null,null,null,null,null,null,null,null,null,null,null,null,null,null,null,null,null,null,null,null,null,null,null,null,null,null,null,7,"Caso Base 270° Sin Clima",{"$f":"+IFERROR(IF(BF3081=\"\",0,IF(T3081<IF(OR(BF3081<=$BP$3,BF3081>=$BO$3),VLOOKUP('CEV-CEVE'!$E$10,$BN$7:$BZ$16,1+E3081,0)-2,VLOOKUP('CEV-CEVE'!$E$10,$BN$7:$BZ$16,1+E3081,0)),1,0)),0)","v":0},{"$f":"+IFERROR(IF(T3081>VLOOKUP('CEV-CEVE'!$E$10,$BN$20:$BZ$29,1+E3081,0),1,0),0)","v":0}]
[null,null,null,null,null,null,null,null,null,null,null,null,null,null,null,null,null,null,null,null,null,null,null,null,null,null,null,null,null,null,null,null,null,null,null,null,null,null,null,null,null,null,null,null,null,null,null,null,null,null,null,null,null,null,null,null,null,8,"Caso Base 270° Sin Clima",{"$f":"+IFERROR(IF(BF3082=\"\",0,IF(T3082<IF(OR(BF3082<=$BP$3,BF3082>=$BO$3),VLOOKUP('CEV-CEVE'!$E$10,$BN$7:$BZ$16,1+E3082,0)-2,VLOOKUP('CEV-CEVE'!$E$10,$BN$7:$BZ$16,1+E3082,0)),1,0)),0)","v":0},{"$f":"+IFERROR(IF(T3082>VLOOKUP('CEV-CEVE'!$E$10,$BN$20:$BZ$29,1+E3082,0),1,0),0)","v":0}]
[null,null,null,null,null,null,null,null,null,null,null,null,null,null,null,null,null,null,null,null,null,null,null,null,null,null,null,null,null,null,null,null,null,null,null,null,null,null,null,null,null,null,null,null,null,null,null,null,null,null,null,null,null,null,null,null,null,9,"Caso Base 270° Sin Clima",{"$f":"+IFERROR(IF(BF3083=\"\",0,IF(T3083<IF(OR(BF3083<=$BP$3,BF3083>=$BO$3),VLOOKUP('CEV-CEVE'!$E$10,$BN$7:$BZ$16,1+E3083,0)-2,VLOOKUP('CEV-CEVE'!$E$10,$BN$7:$BZ$16,1+E3083,0)),1,0)),0)","v":0},{"$f":"+IFERROR(IF(T3083>VLOOKUP('CEV-CEVE'!$E$10,$BN$20:$BZ$29,1+E3083,0),1,0),0)","v":0}]
[null,null,null,null,null,null,null,null,null,null,null,null,null,null,null,null,null,null,null,null,null,null,null,null,null,null,null,null,null,null,null,null,null,null,null,null,null,null,null,null,null,null,null,null,null,null,null,null,null,null,null,null,null,null,null,null,null,10,"Caso Base 270° Sin Clima",{"$f":"+IFERROR(IF(BF3084=\"\",0,IF(T3084<IF(OR(BF3084<=$BP$3,BF3084>=$BO$3),VLOOKUP('CEV-CEVE'!$E$10,$BN$7:$BZ$16,1+E3084,0)-2,VLOOKUP('CEV-CEVE'!$E$10,$BN$7:$BZ$16,1+E3084,0)),1,0)),0)","v":0},{"$f":"+IFERROR(IF(T3084>VLOOKUP('CEV-CEVE'!$E$10,$BN$20:$BZ$29,1+E3084,0),1,0),0)","v":0}]
[null,null,null,null,null,null,null,null,null,null,null,null,null,null,null,null,null,null,null,null,null,null,null,null,null,null,null,null,null,null,null,null,null,null,null,null,null,null,null,null,null,null,null,null,null,null,null,null,null,null,null,null,null,null,null,null,null,11,"Caso Base 270° Sin Clima",{"$f":"+IFERROR(IF(BF3085=\"\",0,IF(T3085<IF(OR(BF3085<=$BP$3,BF3085>=$BO$3),VLOOKUP('CEV-CEVE'!$E$10,$BN$7:$BZ$16,1+E3085,0)-2,VLOOKUP('CEV-CEVE'!$E$10,$BN$7:$BZ$16,1+E3085,0)),1,0)),0)","v":0},{"$f":"+IFERROR(IF(T3085>VLOOKUP('CEV-CEVE'!$E$10,$BN$20:$BZ$29,1+E3085,0),1,0),0)","v":0}]
[null,null,null,null,null,null,null,null,null,null,null,null,null,null,null,null,null,null,null,null,null,null,null,null,null,null,null,null,null,null,null,null,null,null,null,null,null,null,null,null,null,null,null,null,null,null,null,null,null,null,null,null,null,null,null,null,null,12,"Caso Base 270° Sin Clima",{"$f":"+IFERROR(IF(BF3086=\"\",0,IF(T3086<IF(OR(BF3086<=$BP$3,BF3086>=$BO$3),VLOOKUP('CEV-CEVE'!$E$10,$BN$7:$BZ$16,1+E3086,0)-2,VLOOKUP('CEV-CEVE'!$E$10,$BN$7:$BZ$16,1+E3086,0)),1,0)),0)","v":0},{"$f":"+IFERROR(IF(T3086>VLOOKUP('CEV-CEVE'!$E$10,$BN$20:$BZ$29,1+E3086,0),1,0),0)","v":0}]
[null,null,null,null,null,null,null,null,null,null,null,null,null,null,null,null,null,null,null,null,null,null,null,null,null,null,null,null,null,null,null,null,null,null,null,null,null,null,null,null,null,null,null,null,null,null,null,null,null,null,null,null,null,null,null,null,null,13,"Caso Base 270° Sin Clima",{"$f":"+IFERROR(IF(BF3087=\"\",0,IF(T3087<IF(OR(BF3087<=$BP$3,BF3087>=$BO$3),VLOOKUP('CEV-CEVE'!$E$10,$BN$7:$BZ$16,1+E3087,0)-2,VLOOKUP('CEV-CEVE'!$E$10,$BN$7:$BZ$16,1+E3087,0)),1,0)),0)","v":0},{"$f":"+IFERROR(IF(T3087>VLOOKUP('CEV-CEVE'!$E$10,$BN$20:$BZ$29,1+E3087,0),1,0),0)","v":0}]
[null,null,null,null,null,null,null,null,null,null,null,null,null,null,null,null,null,null,null,null,null,null,null,null,null,null,null,null,null,null,null,null,null,null,null,null,null,null,null,null,null,null,null,null,null,null,null,null,null,null,null,null,null,null,null,null,null,14,"Caso Base 270° Sin Clima",{"$f":"+IFERROR(IF(BF3088=\"\",0,IF(T3088<IF(OR(BF3088<=$BP$3,BF3088>=$BO$3),VLOOKUP('CEV-CEVE'!$E$10,$BN$7:$BZ$16,1+E3088,0)-2,VLOOKUP('CEV-CEVE'!$E$10,$BN$7:$BZ$16,1+E3088,0)),1,0)),0)","v":0},{"$f":"+IFERROR(IF(T3088>VLOOKUP('CEV-CEVE'!$E$10,$BN$20:$BZ$29,1+E3088,0),1,0),0)","v":0}]
[null,null,null,null,null,null,null,null,null,null,null,null,null,null,null,null,null,null,null,null,null,null,null,null,null,null,null,null,null,null,null,null,null,null,null,null,null,null,null,null,null,null,null,null,null,null,null,null,null,null,null,null,null,null,null,null,null,15,"Caso Base 270° Sin Clima",{"$f":"+IFERROR(IF(BF3089=\"\",0,IF(T3089<IF(OR(BF3089<=$BP$3,BF3089>=$BO$3),VLOOKUP('CEV-CEVE'!$E$10,$BN$7:$BZ$16,1+E3089,0)-2,VLOOKUP('CEV-CEVE'!$E$10,$BN$7:$BZ$16,1+E3089,0)),1,0)),0)","v":0},{"$f":"+IFERROR(IF(T3089>VLOOKUP('CEV-CEVE'!$E$10,$BN$20:$BZ$29,1+E3089,0),1,0),0)","v":0}]
[null,null,null,null,null,null,null,null,null,null,null,null,null,null,null,null,null,null,null,null,null,null,null,null,null,null,null,null,null,null,null,null,null,null,null,null,null,null,null,null,null,null,null,null,null,null,null,null,null,null,null,null,null,null,null,null,null,16,"Caso Base 270° Sin Clima",{"$f":"+IFERROR(IF(BF3090=\"\",0,IF(T3090<IF(OR(BF3090<=$BP$3,BF3090>=$BO$3),VLOOKUP('CEV-CEVE'!$E$10,$BN$7:$BZ$16,1+E3090,0)-2,VLOOKUP('CEV-CEVE'!$E$10,$BN$7:$BZ$16,1+E3090,0)),1,0)),0)","v":0},{"$f":"+IFERROR(IF(T3090>VLOOKUP('CEV-CEVE'!$E$10,$BN$20:$BZ$29,1+E3090,0),1,0),0)","v":0}]
[null,null,null,null,null,null,null,null,null,null,null,null,null,null,null,null,null,null,null,null,null,null,null,null,null,null,null,null,null,null,null,null,null,null,null,null,null,null,null,null,null,null,null,null,null,null,null,null,null,null,null,null,null,null,null,null,null,17,"Caso Base 270° Sin Clima",{"$f":"+IFERROR(IF(BF3091=\"\",0,IF(T3091<IF(OR(BF3091<=$BP$3,BF3091>=$BO$3),VLOOKUP('CEV-CEVE'!$E$10,$BN$7:$BZ$16,1+E3091,0)-2,VLOOKUP('CEV-CEVE'!$E$10,$BN$7:$BZ$16,1+E3091,0)),1,0)),0)","v":0},{"$f":"+IFERROR(IF(T3091>VLOOKUP('CEV-CEVE'!$E$10,$BN$20:$BZ$29,1+E3091,0),1,0),0)","v":0}]
[null,null,null,null,null,null,null,null,null,null,null,null,null,null,null,null,null,null,null,null,null,null,null,null,null,null,null,null,null,null,null,null,null,null,null,null,null,null,null,null,null,null,null,null,null,null,null,null,null,null,null,null,null,null,null,null,null,18,"Caso Base 270° Sin Clima",{"$f":"+IFERROR(IF(BF3092=\"\",0,IF(T3092<IF(OR(BF3092<=$BP$3,BF3092>=$BO$3),VLOOKUP('CEV-CEVE'!$E$10,$BN$7:$BZ$16,1+E3092,0)-2,VLOOKUP('CEV-CEVE'!$E$10,$BN$7:$BZ$16,1+E3092,0)),1,0)),0)","v":0},{"$f":"+IFERROR(IF(T3092>VLOOKUP('CEV-CEVE'!$E$10,$BN$20:$BZ$29,1+E3092,0),1,0),0)","v":0}]
[null,null,null,null,null,null,null,null,null,null,null,null,null,null,null,null,null,null,null,null,null,null,null,null,null,null,null,null,null,null,null,null,null,null,null,null,null,null,null,null,null,null,null,null,null,null,null,null,null,null,null,null,null,null,null,null,null,19,"Caso Base 270° Sin Clima",{"$f":"+IFERROR(IF(BF3093=\"\",0,IF(T3093<IF(OR(BF3093<=$BP$3,BF3093>=$BO$3),VLOOKUP('CEV-CEVE'!$E$10,$BN$7:$BZ$16,1+E3093,0)-2,VLOOKUP('CEV-CEVE'!$E$10,$BN$7:$BZ$16,1+E3093,0)),1,0)),0)","v":0},{"$f":"+IFERROR(IF(T3093>VLOOKUP('CEV-CEVE'!$E$10,$BN$20:$BZ$29,1+E3093,0),1,0),0)","v":0}]
[null,null,null,null,null,null,null,null,null,null,null,null,null,null,null,null,null,null,null,null,null,null,null,null,null,null,null,null,null,null,null,null,null,null,null,null,null,null,null,null,null,null,null,null,null,null,null,null,null,null,null,null,null,null,null,null,null,20,"Caso Base 270° Sin Clima",{"$f":"+IFERROR(IF(BF3094=\"\",0,IF(T3094<IF(OR(BF3094<=$BP$3,BF3094>=$BO$3),VLOOKUP('CEV-CEVE'!$E$10,$BN$7:$BZ$16,1+E3094,0)-2,VLOOKUP('CEV-CEVE'!$E$10,$BN$7:$BZ$16,1+E3094,0)),1,0)),0)","v":0},{"$f":"+IFERROR(IF(T3094>VLOOKUP('CEV-CEVE'!$E$10,$BN$20:$BZ$29,1+E3094,0),1,0),0)","v":0}]
[null,null,null,null,null,null,null,null,null,null,null,null,null,null,null,null,null,null,null,null,null,null,null,null,null,null,null,null,null,null,null,null,null,null,null,null,null,null,null,null,null,null,null,null,null,null,null,null,null,null,null,null,null,null,null,null,null,21,"Caso Base 270° Sin Clima",{"$f":"+IFERROR(IF(BF3095=\"\",0,IF(T3095<IF(OR(BF3095<=$BP$3,BF3095>=$BO$3),VLOOKUP('CEV-CEVE'!$E$10,$BN$7:$BZ$16,1+E3095,0)-2,VLOOKUP('CEV-CEVE'!$E$10,$BN$7:$BZ$16,1+E3095,0)),1,0)),0)","v":0},{"$f":"+IFERROR(IF(T3095>VLOOKUP('CEV-CEVE'!$E$10,$BN$20:$BZ$29,1+E3095,0),1,0),0)","v":0}]
[null,null,null,null,null,null,null,null,null,null,null,null,null,null,null,null,null,null,null,null,null,null,null,null,null,null,null,null,null,null,null,null,null,null,null,null,null,null,null,null,null,null,null,null,null,null,null,null,null,null,null,null,null,null,null,null,null,22,"Caso Base 270° Sin Clima",{"$f":"+IFERROR(IF(BF3096=\"\",0,IF(T3096<IF(OR(BF3096<=$BP$3,BF3096>=$BO$3),VLOOKUP('CEV-CEVE'!$E$10,$BN$7:$BZ$16,1+E3096,0)-2,VLOOKUP('CEV-CEVE'!$E$10,$BN$7:$BZ$16,1+E3096,0)),1,0)),0)","v":0},{"$f":"+IFERROR(IF(T3096>VLOOKUP('CEV-CEVE'!$E$10,$BN$20:$BZ$29,1+E3096,0),1,0),0)","v":0}]
[null,null,null,null,null,null,null,null,null,null,null,null,null,null,null,null,null,null,null,null,null,null,null,null,null,null,null,null,null,null,null,null,null,null,null,null,null,null,null,null,null,null,null,null,null,null,null,null,null,null,null,null,null,null,null,null,null,23,"Caso Base 270° Sin Clima",{"$f":"+IFERROR(IF(BF3097=\"\",0,IF(T3097<IF(OR(BF3097<=$BP$3,BF3097>=$BO$3),VLOOKUP('CEV-CEVE'!$E$10,$BN$7:$BZ$16,1+E3097,0)-2,VLOOKUP('CEV-CEVE'!$E$10,$BN$7:$BZ$16,1+E3097,0)),1,0)),0)","v":0},{"$f":"+IFERROR(IF(T3097>VLOOKUP('CEV-CEVE'!$E$10,$BN$20:$BZ$29,1+E3097,0),1,0),0)","v":0}]
[null,null,null,null,null,null,null,null,null,null,null,null,null,null,null,null,null,null,null,null,null,null,null,null,null,null,null,null,null,null,null,null,null,null,null,null,null,null,null,null,null,null,null,null,null,null,null,null,null,null,null,null,null,null,null,null,null,null,"Caso Base 270° Sin Clima",{"$f":"+IFERROR(IF(BF3098=\"\",0,IF(T3098<IF(OR(BF3098<=$BP$3,BF3098>=$BO$3),VLOOKUP('CEV-CEVE'!$E$10,$BN$7:$BZ$16,1+E3098,0)-2,VLOOKUP('CEV-CEVE'!$E$10,$BN$7:$BZ$16,1+E3098,0)),1,0)),0)","v":0},{"$f":"+IFERROR(IF(T3098>VLOOKUP('CEV-CEVE'!$E$10,$BN$20:$BZ$29,1+E3098,0),1,0),0)","v":0}]
[null,null,null,null,null,null,null,null,null,null,null,null,null,null,null,null,null,null,null,null,null,null,null,null,null,null,null,null,null,null,null,null,null,null,null,null,null,null,null,null,null,null,null,null,null,null,null,null,null,null,null,null,null,null,null,null,null,null,"Caso Base 270° Sin Clima",{"$f":"+IFERROR(IF(BF3099=\"\",0,IF(T3099<IF(OR(BF3099<=$BP$3,BF3099>=$BO$3),VLOOKUP('CEV-CEVE'!$E$10,$BN$7:$BZ$16,1+E3099,0)-2,VLOOKUP('CEV-CEVE'!$E$10,$BN$7:$BZ$16,1+E3099,0)),1,0)),0)","v":0},{"$f":"+IFERROR(IF(T3099>VLOOKUP('CEV-CEVE'!$E$10,$BN$20:$BZ$29,1+E3099,0),1,0),0)","v":0}]
[null,null,null,null,null,null,null,null,null,null,null,null,null,null,null,null,null,null,null,null,null,null,null,null,null,null,null,null,null,null,null,null,null,null,null,null,null,null,null,null,null,null,null,null,null,null,null,null,null,null,null,null,null,null,null,null,null,0,"Caso Base 270° Sin Clima",{"$f":"+IFERROR(IF(BF3100=\"\",0,IF(T3100<IF(OR(BF3100<=$BP$3,BF3100>=$BO$3),VLOOKUP('CEV-CEVE'!$E$10,$BN$7:$BZ$16,1+E3100,0)-2,VLOOKUP('CEV-CEVE'!$E$10,$BN$7:$BZ$16,1+E3100,0)),1,0)),0)","v":0},{"$f":"+IFERROR(IF(T3100>VLOOKUP('CEV-CEVE'!$E$10,$BN$20:$BZ$29,1+E3100,0),1,0),0)","v":0}]
[null,null,null,null,null,null,null,null,null,null,null,null,null,null,null,null,null,null,null,null,null,null,null,null,null,null,null,null,null,null,null,null,null,null,null,null,null,null,null,null,null,null,null,null,null,null,null,null,null,null,null,null,null,null,null,null,null,{"$f":"+BF3100+1","v":1},"Caso Base 270° Sin Clima",{"$f":"+IFERROR(IF(BF3101=\"\",0,IF(T3101<IF(OR(BF3101<=$BP$3,BF3101>=$BO$3),VLOOKUP('CEV-CEVE'!$E$10,$BN$7:$BZ$16,1+E3101,0)-2,VLOOKUP('CEV-CEVE'!$E$10,$BN$7:$BZ$16,1+E3101,0)),1,0)),0)","v":0},{"$f":"+IFERROR(IF(T3101>VLOOKUP('CEV-CEVE'!$E$10,$BN$20:$BZ$29,1+E3101,0),1,0),0)","v":0}]
[null,null,null,null,null,null,null,null,null,null,null,null,null,null,null,null,null,null,null,null,null,null,null,null,null,null,null,null,null,null,null,null,null,null,null,null,null,null,null,null,null,null,null,null,null,null,null,null,null,null,null,null,null,null,null,null,null,{"$f":"+BF3101+1","v":2},"Caso Base 270° Sin Clima",{"$f":"+IFERROR(IF(BF3102=\"\",0,IF(T3102<IF(OR(BF3102<=$BP$3,BF3102>=$BO$3),VLOOKUP('CEV-CEVE'!$E$10,$BN$7:$BZ$16,1+E3102,0)-2,VLOOKUP('CEV-CEVE'!$E$10,$BN$7:$BZ$16,1+E3102,0)),1,0)),0)","v":0},{"$f":"+IFERROR(IF(T3102>VLOOKUP('CEV-CEVE'!$E$10,$BN$20:$BZ$29,1+E3102,0),1,0),0)","v":0}]
[null,null,null,null,null,null,null,null,null,null,null,null,null,null,null,null,null,null,null,null,null,null,null,null,null,null,null,null,null,null,null,null,null,null,null,null,null,null,null,null,null,null,null,null,null,null,null,null,null,null,null,null,null,null,null,null,null,3,"Caso Base 270° Sin Clima",{"$f":"+IFERROR(IF(BF3103=\"\",0,IF(T3103<IF(OR(BF3103<=$BP$3,BF3103>=$BO$3),VLOOKUP('CEV-CEVE'!$E$10,$BN$7:$BZ$16,1+E3103,0)-2,VLOOKUP('CEV-CEVE'!$E$10,$BN$7:$BZ$16,1+E3103,0)),1,0)),0)","v":0},{"$f":"+IFERROR(IF(T3103>VLOOKUP('CEV-CEVE'!$E$10,$BN$20:$BZ$29,1+E3103,0),1,0),0)","v":0}]
[null,null,null,null,null,null,null,null,null,null,null,null,null,null,null,null,null,null,null,null,null,null,null,null,null,null,null,null,null,null,null,null,null,null,null,null,null,null,null,null,null,null,null,null,null,null,null,null,null,null,null,null,null,null,null,null,null,4,"Caso Base 270° Sin Clima",{"$f":"+IFERROR(IF(BF3104=\"\",0,IF(T3104<IF(OR(BF3104<=$BP$3,BF3104>=$BO$3),VLOOKUP('CEV-CEVE'!$E$10,$BN$7:$BZ$16,1+E3104,0)-2,VLOOKUP('CEV-CEVE'!$E$10,$BN$7:$BZ$16,1+E3104,0)),1,0)),0)","v":0},{"$f":"+IFERROR(IF(T3104>VLOOKUP('CEV-CEVE'!$E$10,$BN$20:$BZ$29,1+E3104,0),1,0),0)","v":0}]
[null,null,null,null,null,null,null,null,null,null,null,null,null,null,null,null,null,null,null,null,null,null,null,null,null,null,null,null,null,null,null,null,null,null,null,null,null,null,null,null,null,null,null,null,null,null,null,null,null,null,null,null,null,null,null,null,null,5,"Caso Base 270° Sin Clima",{"$f":"+IFERROR(IF(BF3105=\"\",0,IF(T3105<IF(OR(BF3105<=$BP$3,BF3105>=$BO$3),VLOOKUP('CEV-CEVE'!$E$10,$BN$7:$BZ$16,1+E3105,0)-2,VLOOKUP('CEV-CEVE'!$E$10,$BN$7:$BZ$16,1+E3105,0)),1,0)),0)","v":0},{"$f":"+IFERROR(IF(T3105>VLOOKUP('CEV-CEVE'!$E$10,$BN$20:$BZ$29,1+E3105,0),1,0),0)","v":0}]
[null,null,null,null,null,null,null,null,null,null,null,null,null,null,null,null,null,null,null,null,null,null,null,null,null,null,null,null,null,null,null,null,null,null,null,null,null,null,null,null,null,null,null,null,null,null,null,null,null,null,null,null,null,null,null,null,null,6,"Caso Base 270° Sin Clima",{"$f":"+IFERROR(IF(BF3106=\"\",0,IF(T3106<IF(OR(BF3106<=$BP$3,BF3106>=$BO$3),VLOOKUP('CEV-CEVE'!$E$10,$BN$7:$BZ$16,1+E3106,0)-2,VLOOKUP('CEV-CEVE'!$E$10,$BN$7:$BZ$16,1+E3106,0)),1,0)),0)","v":0},{"$f":"+IFERROR(IF(T3106>VLOOKUP('CEV-CEVE'!$E$10,$BN$20:$BZ$29,1+E3106,0),1,0),0)","v":0}]
[null,null,null,null,null,null,null,null,null,null,null,null,null,null,null,null,null,null,null,null,null,null,null,null,null,null,null,null,null,null,null,null,null,null,null,null,null,null,null,null,null,null,null,null,null,null,null,null,null,null,null,null,null,null,null,null,null,7,"Caso Base 270° Sin Clima",{"$f":"+IFERROR(IF(BF3107=\"\",0,IF(T3107<IF(OR(BF3107<=$BP$3,BF3107>=$BO$3),VLOOKUP('CEV-CEVE'!$E$10,$BN$7:$BZ$16,1+E3107,0)-2,VLOOKUP('CEV-CEVE'!$E$10,$BN$7:$BZ$16,1+E3107,0)),1,0)),0)","v":0},{"$f":"+IFERROR(IF(T3107>VLOOKUP('CEV-CEVE'!$E$10,$BN$20:$BZ$29,1+E3107,0),1,0),0)","v":0}]
[null,null,null,null,null,null,null,null,null,null,null,null,null,null,null,null,null,null,null,null,null,null,null,null,null,null,null,null,null,null,null,null,null,null,null,null,null,null,null,null,null,null,null,null,null,null,null,null,null,null,null,null,null,null,null,null,null,8,"Caso Base 270° Sin Clima",{"$f":"+IFERROR(IF(BF3108=\"\",0,IF(T3108<IF(OR(BF3108<=$BP$3,BF3108>=$BO$3),VLOOKUP('CEV-CEVE'!$E$10,$BN$7:$BZ$16,1+E3108,0)-2,VLOOKUP('CEV-CEVE'!$E$10,$BN$7:$BZ$16,1+E3108,0)),1,0)),0)","v":0},{"$f":"+IFERROR(IF(T3108>VLOOKUP('CEV-CEVE'!$E$10,$BN$20:$BZ$29,1+E3108,0),1,0),0)","v":0}]
[null,null,null,null,null,null,null,null,null,null,null,null,null,null,null,null,null,null,null,null,null,null,null,null,null,null,null,null,null,null,null,null,null,null,null,null,null,null,null,null,null,null,null,null,null,null,null,null,null,null,null,null,null,null,null,null,null,9,"Caso Base 270° Sin Clima",{"$f":"+IFERROR(IF(BF3109=\"\",0,IF(T3109<IF(OR(BF3109<=$BP$3,BF3109>=$BO$3),VLOOKUP('CEV-CEVE'!$E$10,$BN$7:$BZ$16,1+E3109,0)-2,VLOOKUP('CEV-CEVE'!$E$10,$BN$7:$BZ$16,1+E3109,0)),1,0)),0)","v":0},{"$f":"+IFERROR(IF(T3109>VLOOKUP('CEV-CEVE'!$E$10,$BN$20:$BZ$29,1+E3109,0),1,0),0)","v":0}]
[null,null,null,null,null,null,null,null,null,null,null,null,null,null,null,null,null,null,null,null,null,null,null,null,null,null,null,null,null,null,null,null,null,null,null,null,null,null,null,null,null,null,null,null,null,null,null,null,null,null,null,null,null,null,null,null,null,10,"Caso Base 270° Sin Clima",{"$f":"+IFERROR(IF(BF3110=\"\",0,IF(T3110<IF(OR(BF3110<=$BP$3,BF3110>=$BO$3),VLOOKUP('CEV-CEVE'!$E$10,$BN$7:$BZ$16,1+E3110,0)-2,VLOOKUP('CEV-CEVE'!$E$10,$BN$7:$BZ$16,1+E3110,0)),1,0)),0)","v":0},{"$f":"+IFERROR(IF(T3110>VLOOKUP('CEV-CEVE'!$E$10,$BN$20:$BZ$29,1+E3110,0),1,0),0)","v":0}]
[null,null,null,null,null,null,null,null,null,null,null,null,null,null,null,null,null,null,null,null,null,null,null,null,null,null,null,null,null,null,null,null,null,null,null,null,null,null,null,null,null,null,null,null,null,null,null,null,null,null,null,null,null,null,null,null,null,11,"Caso Base 270° Sin Clima",{"$f":"+IFERROR(IF(BF3111=\"\",0,IF(T3111<IF(OR(BF3111<=$BP$3,BF3111>=$BO$3),VLOOKUP('CEV-CEVE'!$E$10,$BN$7:$BZ$16,1+E3111,0)-2,VLOOKUP('CEV-CEVE'!$E$10,$BN$7:$BZ$16,1+E3111,0)),1,0)),0)","v":0},{"$f":"+IFERROR(IF(T3111>VLOOKUP('CEV-CEVE'!$E$10,$BN$20:$BZ$29,1+E3111,0),1,0),0)","v":0}]
[null,null,null,null,null,null,null,null,null,null,null,null,null,null,null,null,null,null,null,null,null,null,null,null,null,null,null,null,null,null,null,null,null,null,null,null,null,null,null,null,null,null,null,null,null,null,null,null,null,null,null,null,null,null,null,null,null,12,"Caso Base 270° Sin Clima",{"$f":"+IFERROR(IF(BF3112=\"\",0,IF(T3112<IF(OR(BF3112<=$BP$3,BF3112>=$BO$3),VLOOKUP('CEV-CEVE'!$E$10,$BN$7:$BZ$16,1+E3112,0)-2,VLOOKUP('CEV-CEVE'!$E$10,$BN$7:$BZ$16,1+E3112,0)),1,0)),0)","v":0},{"$f":"+IFERROR(IF(T3112>VLOOKUP('CEV-CEVE'!$E$10,$BN$20:$BZ$29,1+E3112,0),1,0),0)","v":0}]
[null,null,null,null,null,null,null,null,null,null,null,null,null,null,null,null,null,null,null,null,null,null,null,null,null,null,null,null,null,null,null,null,null,null,null,null,null,null,null,null,null,null,null,null,null,null,null,null,null,null,null,null,null,null,null,null,null,13,"Caso Base 270° Sin Clima",{"$f":"+IFERROR(IF(BF3113=\"\",0,IF(T3113<IF(OR(BF3113<=$BP$3,BF3113>=$BO$3),VLOOKUP('CEV-CEVE'!$E$10,$BN$7:$BZ$16,1+E3113,0)-2,VLOOKUP('CEV-CEVE'!$E$10,$BN$7:$BZ$16,1+E3113,0)),1,0)),0)","v":0},{"$f":"+IFERROR(IF(T3113>VLOOKUP('CEV-CEVE'!$E$10,$BN$20:$BZ$29,1+E3113,0),1,0),0)","v":0}]
[null,null,null,null,null,null,null,null,null,null,null,null,null,null,null,null,null,null,null,null,null,null,null,null,null,null,null,null,null,null,null,null,null,null,null,null,null,null,null,null,null,null,null,null,null,null,null,null,null,null,null,null,null,null,null,null,null,14,"Caso Base 270° Sin Clima",{"$f":"+IFERROR(IF(BF3114=\"\",0,IF(T3114<IF(OR(BF3114<=$BP$3,BF3114>=$BO$3),VLOOKUP('CEV-CEVE'!$E$10,$BN$7:$BZ$16,1+E3114,0)-2,VLOOKUP('CEV-CEVE'!$E$10,$BN$7:$BZ$16,1+E3114,0)),1,0)),0)","v":0},{"$f":"+IFERROR(IF(T3114>VLOOKUP('CEV-CEVE'!$E$10,$BN$20:$BZ$29,1+E3114,0),1,0),0)","v":0}]
[null,null,null,null,null,null,null,null,null,null,null,null,null,null,null,null,null,null,null,null,null,null,null,null,null,null,null,null,null,null,null,null,null,null,null,null,null,null,null,null,null,null,null,null,null,null,null,null,null,null,null,null,null,null,null,null,null,15,"Caso Base 270° Sin Clima",{"$f":"+IFERROR(IF(BF3115=\"\",0,IF(T3115<IF(OR(BF3115<=$BP$3,BF3115>=$BO$3),VLOOKUP('CEV-CEVE'!$E$10,$BN$7:$BZ$16,1+E3115,0)-2,VLOOKUP('CEV-CEVE'!$E$10,$BN$7:$BZ$16,1+E3115,0)),1,0)),0)","v":0},{"$f":"+IFERROR(IF(T3115>VLOOKUP('CEV-CEVE'!$E$10,$BN$20:$BZ$29,1+E3115,0),1,0),0)","v":0}]
[null,null,null,null,null,null,null,null,null,null,null,null,null,null,null,null,null,null,null,null,null,null,null,null,null,null,null,null,null,null,null,null,null,null,null,null,null,null,null,null,null,null,null,null,null,null,null,null,null,null,null,null,null,null,null,null,null,16,"Caso Base 270° Sin Clima",{"$f":"+IFERROR(IF(BF3116=\"\",0,IF(T3116<IF(OR(BF3116<=$BP$3,BF3116>=$BO$3),VLOOKUP('CEV-CEVE'!$E$10,$BN$7:$BZ$16,1+E3116,0)-2,VLOOKUP('CEV-CEVE'!$E$10,$BN$7:$BZ$16,1+E3116,0)),1,0)),0)","v":0},{"$f":"+IFERROR(IF(T3116>VLOOKUP('CEV-CEVE'!$E$10,$BN$20:$BZ$29,1+E3116,0),1,0),0)","v":0}]
[null,null,null,null,null,null,null,null,null,null,null,null,null,null,null,null,null,null,null,null,null,null,null,null,null,null,null,null,null,null,null,null,null,null,null,null,null,null,null,null,null,null,null,null,null,null,null,null,null,null,null,null,null,null,null,null,null,17,"Caso Base 270° Sin Clima",{"$f":"+IFERROR(IF(BF3117=\"\",0,IF(T3117<IF(OR(BF3117<=$BP$3,BF3117>=$BO$3),VLOOKUP('CEV-CEVE'!$E$10,$BN$7:$BZ$16,1+E3117,0)-2,VLOOKUP('CEV-CEVE'!$E$10,$BN$7:$BZ$16,1+E3117,0)),1,0)),0)","v":0},{"$f":"+IFERROR(IF(T3117>VLOOKUP('CEV-CEVE'!$E$10,$BN$20:$BZ$29,1+E3117,0),1,0),0)","v":0}]
[null,null,null,null,null,null,null,null,null,null,null,null,null,null,null,null,null,null,null,null,null,null,null,null,null,null,null,null,null,null,null,null,null,null,null,null,null,null,null,null,null,null,null,null,null,null,null,null,null,null,null,null,null,null,null,null,null,18,"Caso Base 270° Sin Clima",{"$f":"+IFERROR(IF(BF3118=\"\",0,IF(T3118<IF(OR(BF3118<=$BP$3,BF3118>=$BO$3),VLOOKUP('CEV-CEVE'!$E$10,$BN$7:$BZ$16,1+E3118,0)-2,VLOOKUP('CEV-CEVE'!$E$10,$BN$7:$BZ$16,1+E3118,0)),1,0)),0)","v":0},{"$f":"+IFERROR(IF(T3118>VLOOKUP('CEV-CEVE'!$E$10,$BN$20:$BZ$29,1+E3118,0),1,0),0)","v":0}]
[null,null,null,null,null,null,null,null,null,null,null,null,null,null,null,null,null,null,null,null,null,null,null,null,null,null,null,null,null,null,null,null,null,null,null,null,null,null,null,null,null,null,null,null,null,null,null,null,null,null,null,null,null,null,null,null,null,19,"Caso Base 270° Sin Clima",{"$f":"+IFERROR(IF(BF3119=\"\",0,IF(T3119<IF(OR(BF3119<=$BP$3,BF3119>=$BO$3),VLOOKUP('CEV-CEVE'!$E$10,$BN$7:$BZ$16,1+E3119,0)-2,VLOOKUP('CEV-CEVE'!$E$10,$BN$7:$BZ$16,1+E3119,0)),1,0)),0)","v":0},{"$f":"+IFERROR(IF(T3119>VLOOKUP('CEV-CEVE'!$E$10,$BN$20:$BZ$29,1+E3119,0),1,0),0)","v":0}]
[null,null,null,null,null,null,null,null,null,null,null,null,null,null,null,null,null,null,null,null,null,null,null,null,null,null,null,null,null,null,null,null,null,null,null,null,null,null,null,null,null,null,null,null,null,null,null,null,null,null,null,null,null,null,null,null,null,20,"Caso Base 270° Sin Clima",{"$f":"+IFERROR(IF(BF3120=\"\",0,IF(T3120<IF(OR(BF3120<=$BP$3,BF3120>=$BO$3),VLOOKUP('CEV-CEVE'!$E$10,$BN$7:$BZ$16,1+E3120,0)-2,VLOOKUP('CEV-CEVE'!$E$10,$BN$7:$BZ$16,1+E3120,0)),1,0)),0)","v":0},{"$f":"+IFERROR(IF(T3120>VLOOKUP('CEV-CEVE'!$E$10,$BN$20:$BZ$29,1+E3120,0),1,0),0)","v":0}]
[null,null,null,null,null,null,null,null,null,null,null,null,null,null,null,null,null,null,null,null,null,null,null,null,null,null,null,null,null,null,null,null,null,null,null,null,null,null,null,null,null,null,null,null,null,null,null,null,null,null,null,null,null,null,null,null,null,21,"Caso Base 270° Sin Clima",{"$f":"+IFERROR(IF(BF3121=\"\",0,IF(T3121<IF(OR(BF3121<=$BP$3,BF3121>=$BO$3),VLOOKUP('CEV-CEVE'!$E$10,$BN$7:$BZ$16,1+E3121,0)-2,VLOOKUP('CEV-CEVE'!$E$10,$BN$7:$BZ$16,1+E3121,0)),1,0)),0)","v":0},{"$f":"+IFERROR(IF(T3121>VLOOKUP('CEV-CEVE'!$E$10,$BN$20:$BZ$29,1+E3121,0),1,0),0)","v":0}]
[null,null,null,null,null,null,null,null,null,null,null,null,null,null,null,null,null,null,null,null,null,null,null,null,null,null,null,null,null,null,null,null,null,null,null,null,null,null,null,null,null,null,null,null,null,null,null,null,null,null,null,null,null,null,null,null,null,22,"Caso Base 270° Sin Clima",{"$f":"+IFERROR(IF(BF3122=\"\",0,IF(T3122<IF(OR(BF3122<=$BP$3,BF3122>=$BO$3),VLOOKUP('CEV-CEVE'!$E$10,$BN$7:$BZ$16,1+E3122,0)-2,VLOOKUP('CEV-CEVE'!$E$10,$BN$7:$BZ$16,1+E3122,0)),1,0)),0)","v":0},{"$f":"+IFERROR(IF(T3122>VLOOKUP('CEV-CEVE'!$E$10,$BN$20:$BZ$29,1+E3122,0),1,0),0)","v":0}]
[null,null,null,null,null,null,null,null,null,null,null,null,null,null,null,null,null,null,null,null,null,null,null,null,null,null,null,null,null,null,null,null,null,null,null,null,null,null,null,null,null,null,null,null,null,null,null,null,null,null,null,null,null,null,null,null,null,23,"Caso Base 270° Sin Clima",{"$f":"+IFERROR(IF(BF3123=\"\",0,IF(T3123<IF(OR(BF3123<=$BP$3,BF3123>=$BO$3),VLOOKUP('CEV-CEVE'!$E$10,$BN$7:$BZ$16,1+E3123,0)-2,VLOOKUP('CEV-CEVE'!$E$10,$BN$7:$BZ$16,1+E3123,0)),1,0)),0)","v":0},{"$f":"+IFERROR(IF(T3123>VLOOKUP('CEV-CEVE'!$E$10,$BN$20:$BZ$29,1+E3123,0),1,0),0)","v":0}]
[null,null,null,null,null,null,null,null,null,null,null,null,null,null,null,null,null,null,null,null,null,null,null,null,null,null,null,null,null,null,null,null,null,null,null,null,null,null,null,null,null,null,null,null,null,null,null,null,null,null,null,null,null,null,null,null,null,null,"Caso Base 270° Sin Clima",{"$f":"+IFERROR(IF(BF3124=\"\",0,IF(T3124<IF(OR(BF3124<=$BP$3,BF3124>=$BO$3),VLOOKUP('CEV-CEVE'!$E$10,$BN$7:$BZ$16,1+E3124,0)-2,VLOOKUP('CEV-CEVE'!$E$10,$BN$7:$BZ$16,1+E3124,0)),1,0)),0)","v":0},{"$f":"+IFERROR(IF(T3124>VLOOKUP('CEV-CEVE'!$E$10,$BN$20:$BZ$29,1+E3124,0),1,0),0)","v":0}]
[null,null,null,null,null,null,null,null,null,null,null,null,null,null,null,null,null,null,null,null,null,null,null,null,null,null,null,null,null,null,null,null,null,null,null,null,null,null,null,null,null,null,null,null,null,null,null,null,null,null,null,null,null,null,null,null,null,null,"Caso Base 270° Sin Clima",{"$f":"+IFERROR(IF(BF3125=\"\",0,IF(T3125<IF(OR(BF3125<=$BP$3,BF3125>=$BO$3),VLOOKUP('CEV-CEVE'!$E$10,$BN$7:$BZ$16,1+E3125,0)-2,VLOOKUP('CEV-CEVE'!$E$10,$BN$7:$BZ$16,1+E3125,0)),1,0)),0)","v":0},{"$f":"+IFERROR(IF(T3125>VLOOKUP('CEV-CEVE'!$E$10,$BN$20:$BZ$29,1+E3125,0),1,0),0)","v":0}]

{"sheet":"CEV-CEVE","index":13,"n_rows":0,"n_cols":0,"rows_kept":0,"cut":false,"hidden":false,"merged":[]}

{"sheet":"Gráfico1","index":14,"n_rows":10,"n_cols":7,"rows_kept":10,"cut":false,"hidden":false,"merged":[]}
[]
[]
[]
[]
[]
[]
[]
[]
[]
[null,null,null,null,null,null,"Demanda calefacción mensual"]

{"sheet":"Gráfico2","index":15,"n_rows":6,"n_cols":7,"rows_kept":6,"cut":false,"hidden":false,"merged":[]}
[]
[]
[]
[]
[]
[null,null,null,null,null,null,"Demanda enfriamiento mensual"]

{"sheet":"Gráfico3","index":16,"n_rows":11,"n_cols":10,"rows_kept":11,"cut":false,"hidden":false,"merged":[]}
[]
[]
[]
[]
[]
[]
[]
[]
[]
[]
[null,null,null,null,null,null,null,null,null,"Flujos energéticos acumulados mensuales"]

{"sheet":"Gráfico4","index":17,"n_rows":11,"n_cols":10,"rows_kept":11,"cut":false,"hidden":false,"merged":[]}
[]
[]
[]
[]
[]
[]
[]
[]
[]
[]
[null,null,null,null,null,null,null,null,null,"Flujos energéticos en una vivienda en enero"]

{"sheet":"Gráfico5","index":18,"n_rows":11,"n_cols":10,"rows_kept":11,"cut":false,"hidden":false,"merged":[]}
[]
[]
[]
[]
[]
[]
[]
[]
[]
[]
[null,null,null,null,null,null,null,null,null,"Flujos energéticos en una vivienda en Julio"]

{"sheet":"Gráfico6","index":19,"n_rows":0,"n_cols":0,"rows_kept":0,"cut":false,"hidden":false,"merged":[]}

{"sheet":"Gráfico7","index":20,"n_rows":0,"n_cols":0,"rows_kept":0,"cut":false,"hidden":false,"merged":[]}

{"sheet":"Gráfico8","index":21,"n_rows":0,"n_cols":0,"rows_kept":0,"cut":false,"hidden":false,"merged":[]}

{"sheet":"Gráfico9","index":22,"n_rows":0,"n_cols":0,"rows_kept":0,"cut":false,"hidden":false,"merged":[]}

{"sheet":"CO2eq","index":23,"n_rows":23,"n_cols":9,"rows_kept":23,"cut":false,"hidden":true,"merged":[]}
[]
[null,"Edificio Objeto"]
[null,"Consumos por fuente de energía","KWh/año","factor emisión","kgCO2año","Calefacción ","ACS","Iluminación","Ventiladores"]
[null,"Electricidad",{"$f":"SUM(F4:I4)","v":{"$error":"#N/A"}},0.307,{"$f":"C4*D4","v":{"$error":"#N/A"}},{"$f":"IF('R2'!$C$37=1,'R2'!$H$302,0)","v":0},{"$f":"IF('R2'!$C$50=1,'R2'!$H$303,0)","v":0},{"$f":"'R2'!I304","v":0},{"$f":"'R2'!I305","v":{"$error":"#N/A"}}]
[null,"Petróleo",{"$f":"SUM(F5:I5)","v":0},0.24,{"$f":"C5*D5","v":0},{"$f":"IF('R2'!$C$37=2,'R2'!$H$302,0)","v":0},{"$f":"IF('R2'!$C$50=2,'R2'!$H$303,0)","v":0}]
[null,"Gas natural",0,0.20200000000000001,0,{"$f":"IF('R2'!$C$37=3,'R2'!$H$302,0)","v":0},{"$f":"IF('R2'!$C$50=3,'R2'!$H$303,0)","v":0}]
[null,"Gas licuado",{"$error":"#DIV/0!"},0.22800000000000001,{"$error":"#DIV/0!"},{"$f":"IF('R2'!$C$37=4,'R2'!$H$302,0)","v":{"$error":"#DIV/0!"}},{"$f":"IF('R2'!$C$50=4,'R2'!$H$303,0)","v":{"$error":"#DIV/0!"}}]
[null,"Kerosene domestico",0,0.26,0,{"$f":"IF('R2'!$C$37=5,'R2'!$H$302,0)","v":0},{"$f":"IF('R2'!$C$50=5,'R2'!$H$303,0)","v":0}]
[null,"Leña",0,0,0,{"$f":"IF('R2'!$C$37=6,'R2'!$H$302,0)","v":0},{"$f":"IF('R2'!$C$50=6,'R2'!$H$303,0)","v":0}]
[null,"Pellets de madera",0,0,0,{"$f":"IF('R2'!$C$37=7,'R2'!$H$302,0)","v":0},{"$f":"IF('R2'!$C$50=7,'R2'!$H$303,0)","v":0}]
[null,"Carbón",0,0.5,0,{"$f":"IF('R2'!$C$37=8,'R2'!$H$302,0)","v":0},{"$f":"IF('R2'!$C$50=8,'R2'!$H$303,0)","v":0}]
[null,"Total considerando disminución por aporte solar térmico",{"$f":"SUM(C4:C11)","v":{"$error":"#N/A"}}]
[null,"Aporte solar térmico",{"$f":"SUM(F13:G13)","v":{"$error":"#DIV/0!"}},null,null,{"$f":"'R2'!C302","v":{"$error":"#DIV/0!"}},{"$f":"'R2'!C303","v":{"$error":"#DIV/0!"}}]
[null,"Aporte solar FV",{"$f":"'R2'!H314","v":{"$error":"#N/A"}}]
[null,null,null,null,"kgCO2año","kgCO2/m2año"]
[null,null,null,"Edificio Objeto",{"$f":"SUM(E4:E11)","v":{"$error":"#N/A"}},{"$f":"E16/'CEV CEVE'!I15","v":{"$error":"#N/A"}}]
[null,null,null,"Edificio de referencia",{"$f":"SUM(E21:E22)","v":{"$error":"#VALUE!"}},{"$f":"E17/'CEV CEVE'!I15","v":{"$error":"#VALUE!"}}]
[]
[null,"Edificio de referencia"]
[null,"Consumos por fuente de energía","KWh/año","factor emisión","kgCO2año","Calefacción ","ACS","Iluminación"]
[null,"Electricidad",{"$f":"SUM(F21:I21)","v":0},{"$f":"D4","v":0.307},{"$f":"C21*D21","v":0},null,null,{"$f":"'R2'!O304","v":0}]
[null,"Gas licuado",{"$f":"SUM(F22:I22)","v":{"$error":"#VALUE!"}},{"$f":"D7","v":0.22800000000000001},{"$f":"C22*D22","v":{"$error":"#VALUE!"}},{"$f":"'R2'!O302","v":{"$error":"#VALUE!"}},{"$f":"'R2'!O303","v":0}]
[null,"Total",{"$f":"SUM(C21:C22)","v":{"$error":"#VALUE!"}}]

{"sheet":"Zona","index":24,"n_rows":348,"n_cols":21,"rows_kept":348,"cut":false,"hidden":true,"merged":[[0,1,0,3],[0,4,0,6],[1,4,1,6]]}
["Comunas Chile","Zonas térmicas",null,null,"Zonas térmicas"]
["Comuna",null,null,null,"OGUC 2007"]
["Alto Hospicio","A",0,0,1,null,null,null,null,{"$f":"'CEV-CEVE'!E9","v":0},{"$f":"'CEV-CEVE'!E10","v":0},null,null,null,null,"Muro","Cielo","Piso Ventilado","Vidrio Simple","DVH normal","DVH Low E"]
["Camiña","B","H",0,1,5,null,null,null,null,null,null,null,null,1,4,0.84,3.6,0.5,0.6,0.8]
["Colchane","H",0,0,7,null,null,null,null,null,null,null,null,null,2,3,0.6,0.87,0.4,0.6,0.8]
["Huara","A","B","H",1,1,5,null,null,{"$f":"IF(K3=I7,I8,IF(K3=J7,J8,IF(K3=K7,K8)))","v":{"$error":"#N/A"}},null,null,null,null,3,1.9,0.47,0.7,0.25,0.6,0.8]
["Iquique","A",0,0,1,null,null,null,{"$f":"VLOOKUP(J3,A3:G348,2,FALSE)","v":{"$error":"#N/A"}},{"$f":"VLOOKUP(J3,A3:G348,3,FALSE)","v":{"$error":"#N/A"}},{"$f":"VLOOKUP(J3,A3:G348,4,FALSE)","v":{"$error":"#N/A"}},null,null,null,4,1.7,0.38,0.6,0.21,0.6,0.75]
["Pica","B","H",0,1,5,7,null,{"$f":"VLOOKUP(J3,A3:G348,5,FALSE)","v":{"$error":"#N/A"}},{"$f":"VLOOKUP(J3,A3:G348,6,FALSE)","v":{"$error":"#N/A"}},{"$f":"VLOOKUP(J3,A3:G348,7,FALSE)","v":{"$error":"#N/A"}},null,null,null,5,1.6,0.33,0.5,0.18,0.51,0.7]
["Pozo Almonte","B","H",0,1,5,null,null,null,null,null,null,null,null,6,1.1000000000000001,0.28000000000000003,0.39,0.14000000000000001,0.37,0.55000000000000004]
["Antofagasta","A","B","H",1,1,5,null,null,null,null,null,null,null,7,0.6,0.25,0.32,0.12,0.28000000000000003,0.37]
["Calama","B","H ",0,2,5,7]
["María Elena","B",0,0,1,null,null,null,"Muro",{"$f":"VLOOKUP(J6,O4:U10,2,FALSE)","v":{"$error":"#N/A"}},{"$f":"CONCATENATE(J12,\"  [W/m2K]\")","v":{"$error":"#N/A"}}]
["Mejillones","A",0,0,1,null,null,null,"Cielo",{"$f":"VLOOKUP(J6,O4:U10,3,FALSE)","v":{"$error":"#N/A"}},{"$f":"CONCATENATE(J13,\"  [W/m2K]\")","v":{"$error":"#N/A"}}]
["Ollagüe","H",0,0,7,null,null,null,"Piso Ventilado",{"$f":"VLOOKUP(J6,O4:U10,4,FALSE)","v":{"$error":"#N/A"}},{"$error":"#N/A"}]
["San Pedro de Atacama","B","H",0,2,5,7,null,"Vidrio ",{"$f":"IF(K19>3.6,N21,IF(K19<2.4,N22,N23))","v":{"$error":"#DIV/0!"}},{"$f":"CONCATENATE(\"% máximo = \",RIGHT(J15,2),\"%\")","v":{"$error":"#DIV/0!"}}]
["Sierra Gorda","B",0,0,1,2]
["Taltal","A","B","H",1,1,5]
["Tocopilla","A",0,0,1]
["Alto del Carmen","B","H",0,3,7,null,null,null,"Upond",{"$f":"SUM(K23:K31)/SUM(I23:I31)","v":{"$error":"#DIV/0!"}}]
["Caldera","A",0,0,1]
["Chañaral","A",0,0,1,null,null,null,{"$f":"'CEV-CEVE'!H167","v":0},{"$f":"'CEV-CEVE'!I167","v":0},"UxA",null,"Vidio Simple",{"$f":"VLOOKUP(J6,O4:U10,5,FALSE)","v":{"$error":"#N/A"}}]
["Copiapó","A","B","H",1,1,4,null,null,null,null,null,"DVH normal",{"$f":"VLOOKUP(J6,O4:U10,6,FALSE)","v":{"$error":"#N/A"}}]
["Diego de Almagro","B","H",0,1,4,null,null,{"$f":"'CEV-CEVE'!H168","v":0},{"$f":"'CEV-CEVE'!I168","v":0},{"$f":"J23*I23","v":0},null,"DVH Low E",{"$f":"VLOOKUP(J6,O4:U10,7,FALSE)","v":{"$error":"#N/A"}}]
["Freirina","A",0,0,1,null,null,null,{"$f":"'CEV-CEVE'!H169","v":0},{"$f":"'CEV-CEVE'!I169","v":0},{"$f":"J24*I24","v":0}]
["Huasco","A",0,0,1,7,null,null,{"$f":"'CEV-CEVE'!H170","v":0},{"$f":"'CEV-CEVE'!I170","v":0},0]
["Tierra Amarilla","B","H",0,1,4,7,null,{"$f":"'CEV-CEVE'!H171","v":0},{"$f":"'CEV-CEVE'!I171","v":0},0]
["Vallenar","B",0,0,1,3,null,null,{"$f":"'CEV-CEVE'!H172","v":0},{"$f":"'CEV-CEVE'!I172","v":0},0]
["Andacollo","B",0,0,2,null,null,null,{"$f":"'CEV-CEVE'!H173","v":0},{"$f":"'CEV-CEVE'!I173","v":0},0]
["Canela","C",0,0,2,null,null,null,{"$f":"'CEV-CEVE'!H174","v":0},{"$f":"'CEV-CEVE'!I174","v":0},0]
["Combarbalá","B","H",0,2,5,null,null,{"$f":"'CEV-CEVE'!H175","v":0},{"$f":"'CEV-CEVE'!I175","v":0},0]
["Coquimbo","C",0,0,1,null,null,null,{"$f":"'CEV-CEVE'!H176","v":0},{"$f":"'CEV-CEVE'!I176","v":0},0]
["Illapel","B","H",0,2,5,7]
["La Higuera","C","B",0,1,3]
["La Serena","C","B",0,1,3]
["Los Vilos","C",0,0,2]
["Monte Patria","B","H",0,2,5,7]
["Ovalle","C","B",0,2,2]
["Paiguano","B","H",0,3,7]
["Punitaqui","B",0,0,2]
["Río Hurtado","B","H",0,2,7]
["Salamanca","B","H",0,2,5,7]
["Vicuña","B","H",0,2,3,7]
["Angol","F",0,0,4]
["Carahue","E",0,0,5]
["Cholchol","F",0,0,5]
["Collipulli","F",0,0,5]
["Cunco","F",0,0,5]
["Curacautín","F",0,0,5]
["Curarrehue","H",0,0,6]
["Ercilla","F",0,0,5]
["Freire","F",0,0,5]
["Galvarino","F",0,0,5]
["Gorbea","F",0,0,5]
["Lautaro","F",0,0,5]
["Loncoche","F",0,0,5]
["Lonquimay","H",0,0,6]
["Los Sauces","F",0,0,4]
["Lumaco","F",0,0,5]
["Melipeuco","H",0,0,6]
["Nueva Imperial","F",0,0,5]
["Padre Las Casas","F",0,0,5]
["Perquenco","F",0,0,5]
["Pitrufquén","F",0,0,5]
["Pucón","H",0,0,6]
["Purén","F",0,0,4]
["Renaico","F",0,0,4]
["Saavedra","E",0,0,5]
["Temuco","F",0,0,5]
["Teodoro Schmidt","E",0,0,5]
["Toltén","E",0,0,5]
["Traiguén","F",0,0,5]
["Victoria","F",0,0,5]
["Vilcún","F",0,0,5]
["Villarrica","F",0,0,5]
["Alhué","D",0,0,3]
["Buin","D",0,0,3]
["Calera de Tango","D",0,0,3]
["Cerrillos","D",0,0,3]
["Cerro Navia","D",0,0,3]
["Colina","D","H",0,3,5,7]
["Conchalí","D",0,0,3]
["Curacaví","D",0,0,3]
["El Bosque","D",0,0,3]
["El Monte","D",0,0,3]
["Estación Central","D",0,0,3]
["Huechuraba","D",0,0,3]
["Independencia","D",0,0,3]
["Isla de Maipo","D",0,0,3]
["La Cisterna","D",0,0,3]
["La Florida","D",0,0,3,5]
["La Granja","D",0,0,3]
["La Pintana","D",0,0,3]
["La Reina","D",0,0,3,5]
["Lampa","D",0,0,3]
["Las Condes","D",0,0,3,5,7]
["Lo Barnechea","D","H",0,3,5,7]
["Lo Espejo","D",0,0,3]
["Lo Prado","D",0,0,3]
["Macul","D",0,0,3]
["Maipú","D",0,0,3]
["María Pinto","D",0,0,3]
["Melipilla","D",0,0,3]
["Ñuñoa","D",0,0,3]
["Padre Hurtado","D",0,0,3]
["Paine","D",0,0,3,5]
["Pedro Aguirre Cerda","D",0,0,3]
["Peñaflor","D",0,0,3]
["Peñalolén","D",0,0,3,5,7]
["Pirque","D",0,0,3,5]
["Providencia","D",0,0,3]
["Pudahuel","D",0,0,3]
["Puente Alto","D",0,0,3,5]
["Quilicura","D",0,0,3]
["Quinta Normal","D",0,0,3]
["Recoleta","D",0,0,3]
["Renca","D",0,0,3]
["San Bernardo","D",0,0,3]
["San Joaquín","D",0,0,3]
["San José de Maipo","D","H",0,3,5,7]
["San Miguel","D",0,0,3]
["San Pedro","D",0,0,3]
["San Ramón","D",0,0,3]
["Santiago","D",0,0,3]
["Talagante","D",0,0,3]
["Tiltil","D",0,0,3]
["Vitacura","D",0,0,3]
["Algarrobo","C",0,0,2]
["Cabildo","D","H",0,2,5]
["Calera","D",0,0,2]
["Calle Larga","D",0,0,3,5]
["Cartagena","C",0,0,2]
["Casablanca","C",0,0,2]
["Catemu","D",0,0,2]
["Concón","C",0,0,2]
["El Quisco","C",0,0,2]
["El Tabo","C",0,0,2]
["Hijuelas","D",0,0,2]
["Isla  de Pascua","A",0,0,1]
["Juan Fernández","C",0,0,2]
["La Cruz","D",0,0,2]
["La Ligua","C","D",0,2,2]
["Limache","D",0,0,2]
["Llaillay","D",0,0,2]
["Los Andes","D","H",0,3,5,7]
["Nogales","D",0,0,2]
["Olmué","D",0,0,2]
["Panquehue","D",0,0,2]
["Papudo","C",0,0,2]
["Petorca","D","H",0,2,5]
["Puchuncaví","C",0,0,2]
["Putaendo","D","H",0,2,5,7]
["Quillota","D",0,0,2]
["Quilpué","D",0,0,2]
["Quintero","C",0,0,2]
["Rinconada","D",0,0,3]
["San Antonio","C",0,0,2]
["San Esteban","D","H",0,2,5,7]
["San Felipe","D",0,0,2]
["Santa María","D",0,0,2]
["Santo Domingo","C",0,0,2]
["Valparaíso","C",0,0,2]
["Villa Alemana","D",0,0,2]
["Viña del Mar","C",0,0,2]
["Zapallar","C",0,0,2]
["Chépica","D",0,0,3]
["Chimbarongo","D",0,0,3]
["Codegua","D","H",0,3,5,7]
["Coinco","D",0,0,3]
["Coltauco","D",0,0,3]
["Doñihue","D",0,0,3]
["Graneros","D",0,0,3]
["La Estrella","D",0,0,3]
["Las Cabras","D",0,0,3]
["Litueche","C",0,0,3]
["Lolol","D",0,0,3]
["Machalí","D","H",0,3,5,7]
["Malloa","D","H",0,3,5]
["Marchihue","D",0,0,3]
["Mostazal","D","H",0,3,5,7]
["Nancagua","D",0,0,3]
["Navidad","C",0,0,3]
["Olivar","D",0,0,3]
["Palmilla","D",0,0,3]
["Paredones","C",0,0,3]
["Peralillo","D",0,0,3]
["Peumo","D",0,0,3]
["Pichidegua","D",0,0,3]
["Pichilemu","C",0,0,3]
["Placilla","D",0,0,3]
["Pumanque","D",0,0,3]
["Quinta de Tilcoco","D",0,0,3]
["Rancagua","D",0,0,3]
["Rengo","D","H",0,3,5,7]
["Requínoa","D","H",0,3,5,7]
["San Fernando","D","H",0,3,5,7]
["San Vicente","D",0,0,3]
["Santa Cruz","D",0,0,3]
["Cauquenes","E",0,0,4]
["Chanco","E",0,0,4]
["Colbún","D","H",0,4,6,7]
["Constitución","E",0,0,4]
["Curepto","E",0,0,4]
["Curicó","D","H",0,4,5,7]
["Empedrado","E",0,0,4]
["Hualañé","D",0,0,3]
["Licantén","C",0,0,3]
["Linares","D","H",0,4,6,7]
["Longaví","D","H",0,4,6]
["Maule","D",0,0,4]
["Molina","D","H",0,3,5,7]
["Parral","D","H",0,4,6]
["Pelarco","D",0,0,4]
["Pelluhue","E",0,0,4]
["Pencahue","D",0,0,4]
["Rauco","D",0,0,3]
["Retiro","D",0,0,4]
["Río Claro","D",0,0,4]
["Romeral","D","H",0,4,5,7]
["Sagrada Familia","D",0,0,4]
["San Clemente","D","H",0,4,5,7]
["San Javier","D",0,0,4]
["San Rafael","D",0,0,4]
["Talca","D",0,0,4]
["Teno","D","H",0,3,4]
["Vichuquén","C",0,0,3]
["Villa Alegre","D",0,0,4]
["Yerbas Buenas","D",0,0,4]
["Alto Biobío","F","H",0,4,5]
["Antuco","F","H",0,5,6]
["Arauco","E",0,0,4]
["Bulnes","F",0,0,4]
["Cabrero","F",0,0,4]
["Cañete","E",0,0,4]
["Chiguayante","E",0,0,4]
["Chillán","F",0,0,4]
["Chillán Viejo","F",0,0,4]
["Cobquecura","E",0,0,4]
["Coelemu","E",0,0,4]
["Coihueco","F","H",0,4,6]
["Concepción","E",0,0,4]
["Contulmo","E",0,0,4]
["Coronel","E",0,0,4]
["Curanilahue","E",0,0,4]
["El Carmen","F",0,0,4]
["Florida","F",0,0,4]
["Hualpén","E",0,0,4]
["Hualqui","E",0,0,4]
["Laja","F",0,0,4]
["Lebu","E",0,0,4]
["Los Álamos","E",0,0,4]
["Los Ángeles","F",0,0,4]
["Lota","E",0,0,4]
["Mulchén","F",0,0,4,5]
["Nacimiento","F",0,0,4]
["Negrete","F",0,0,4]
["Ninhue","F",0,0,4]
["Ñiquén","F",0,0,4]
["Pemuco","F",0,0,4]
["Penco","E",0,0,4]
["Pinto","F","H",0,4,6]
["Portezuelo","F",0,0,4]
["Quilaco","F",0,0,4,5]
["Quilleco","F","H",0,4,5,6]
["Quillón","F",0,0,4]
["Quirihue","E",0,0,4]
["Ránquil","F",0,0,4]
["San Carlos","F",0,0,4]
["San Fabián","F","H",0,4,6]
["San Ignacio","F",0,0,4]
["San Nicolás","F",0,0,4]
["San Pedro de la Paz","E",0,0,4]
["San Rosendo","F",0,0,4]
["Santa Bárbara","F","H",0,4,5]
["Santa Juana","E",0,0,4]
["Talcahuano","E",0,0,4]
["Tirúa","E",0,0,4]
["Tomé","E",0,0,4]
["Treguaco","E",0,0,4]
["Tucapel","F","H",0,4,5,6]
["Yumbel","F",0,0,4]
["Yungay","F","H",0,4,6]
["Ancud","G",0,0,6]
["Calbuco","G",0,0,6]
["Castro","G",0,0,6]
["Chaitén","G",0,0,6]
["Chonchi","G",0,0,6]
["Cochamó","G",0,0,6]
["Curaco de Vélez","G",0,0,6]
["Dalcahue","G",0,0,6]
["Fresia","G",0,0,6]
["Frutillar","G",0,0,6]
["Futaleufú","I",0,0,7]
["Hualaihué","G",0,0,6]
["Llanquihue","G",0,0,6]
["Los Muermos","G",0,0,6]
["Maullín","G",0,0,6]
["Osorno","G",0,0,5]
["Palena","I",0,0,7]
["Puerto Montt","G",0,0,6]
["Puerto Octay","G",0,0,6]
["Puerto Varas","G",0,0,6]
["Puqueldón","G",0,0,6]
["Purranque","G",0,0,6]
["Puyehue","G",0,0,6]
["Queilén","G",0,0,6]
["Quellón","G",0,0,6]
["Quemchi","G",0,0,6]
["Quinchao","G",0,0,6]
["Río Negro","G",0,0,6]
["San Juan de la Costa","G",0,0,6]
["San Pablo","G",0,0,5]
["Aisén","I",0,0,7]
["Chile Chico","I",0,0,7]
["Cisnes","I",0,0,7]
["Cochrane","I",0,0,7]
["Coihaique","I",0,0,7]
["Guaitecas","I",0,0,7]
["Lago Verde","I",0,0,7]
["O'Higgins","I",0,0,7]
["Río Ibáñez","I",0,0,7]
["Tortel","I",0,0,7]
["Cabo de Hornos","I",0,0,7]
["Antártica","I",0,0,7]
["Laguna Blanca","I",0,0,7]
["Natales","I",0,0,7]
["Porvenir","I",0,0,7]
["Primavera","I",0,0,7]
["Punta Arenas","I",0,0,7]
["Río Verde","I",0,0,7]
["San Gregorio","I",0,0,7]
["Timaukel","I",0,0,7]
["Torres del Paine","I",0,0,7]
["Corral","G",0,0,5]
["Futrono","F",0,0,5,6]
["La Unión","G","F",0,5,5]
["Lago Ranco","F",0,0,6]
["Lanco","F",0,0,5]
["Los Lagos","F",0,0,5]
["Máfil","G",0,0,5]
["Mariquina","G",0,0,5]
["Paillaco","F",0,0,5]
["Panguipulli","F",0,0,5,6]
["Río Bueno","F",0,0,5,6]
["Valdivia","G",0,0,5]
["Arica","A","B","H",1,1,5]
["Camarones","A","B","H",1,1,5]
["General Lagos","H",0,0,7]
["Putre","H",0,0,7]